{"text_format":"1","workbook":"xlsx","n_sheets":13,"sheets":["Matrices","Behavior Log","BehaviorLogEntries","Dashboard","Settings","SetData","ClassActData","ConData","AntData","Data","ObData","Observations","Printable"],"not_rendered":{"charts":7,"images":0,"macros":1,"external_links":0,"defined_names":16,"comments":0,"pivot_tables":0},"unopened":[],"bounds":{"document_bytes":16777216,"sheet_cells":100000,"rows_first":2000,"rows_last":500,"rows_between":2000,"halvings":0,"cell_chars":16384,"cell_head_chars":4096},"cells_cut":0,"cells_raw":0,"read":"whole","date_system":"1900"}

{"sheet":"Matrices","index":0,"n_rows":311,"n_cols":13,"rows_kept":311,"cut":false,"hidden":true,"merged":[]}
["Hour",{"$f":"'Behavior Log'!D11","v":"refusal to follow directions "},null,{"$f":"'Behavior Log'!D12","v":"disengage from classroom activities "},{"$f":"'Behavior Log'!D13","v":"non-compliance  (verbal)"}]
["Escape Adult Attention",{"$f":"COUNTIFS(Data!$I:$I,$A2,Data!$B:$B,Matrices!B$1)","v":0},{"$f":"COUNTIFS(Data!$I:$I,$A2,Data!$B:$B,Matrices!D$1)","v":0},{"$f":"COUNTIFS(Data!$I:$I,$A2,Data!$B:$B,Matrices!E$1)","v":0}]
["Escape Peer Attention",{"$f":"COUNTIFS(Data!$I:$I,$A3,Data!$B:$B,Matrices!B$1)","v":0},{"$f":"COUNTIFS(Data!$I:$I,$A3,Data!$B:$B,Matrices!D$1)","v":0},{"$f":"COUNTIFS(Data!$I:$I,$A3,Data!$B:$B,Matrices!E$1)","v":0}]
["Escape Activity/Item",{"$f":"COUNTIFS(Data!$I:$I,$A4,Data!$B:$B,Matrices!B$1)","v":0},{"$f":"COUNTIFS(Data!$I:$I,$A4,Data!$B:$B,Matrices!D$1)","v":0},{"$f":"COUNTIFS(Data!$I:$I,$A4,Data!$B:$B,Matrices!E$1)","v":0}]
["Get Adult Attention",{"$f":"COUNTIFS(Data!$I:$I,$A5,Data!$B:$B,Matrices!B$1)","v":0},{"$f":"COUNTIFS(Data!$I:$I,$A5,Data!$B:$B,Matrices!D$1)","v":0},{"$f":"COUNTIFS(Data!$I:$I,$A5,Data!$B:$B,Matrices!E$1)","v":0}]
["Get Peer Attention",{"$f":"COUNTIFS(Data!$I:$I,$A6,Data!$B:$B,Matrices!B$1)","v":0},{"$f":"COUNTIFS(Data!$I:$I,$A6,Data!$B:$B,Matrices!D$1)","v":0},{"$f":"COUNTIFS(Data!$I:$I,$A6,Data!$B:$B,Matrices!E$1)","v":0}]
["Get Activity/ Item",{"$f":"COUNTIFS(Data!$I:$I,$A7,Data!$B:$B,Matrices!B$1)","v":0},{"$f":"COUNTIFS(Data!$I:$I,$A7,Data!$B:$B,Matrices!D$1)","v":0},{"$f":"COUNTIFS(Data!$I:$I,$A7,Data!$B:$B,Matrices!E$1)","v":0}]
["Self Stimulation",{"$f":"COUNTIFS(Data!$I:$I,$A8,Data!$B:$B,Matrices!B$1)","v":0},{"$f":"COUNTIFS(Data!$I:$I,$A8,Data!$B:$B,Matrices!D$1)","v":0},{"$f":"COUNTIFS(Data!$I:$I,$A8,Data!$B:$B,Matrices!E$1)","v":0}]
[]
[]
[]
["Counter","Observation","Date","Chart Code",{"$f":"'Behavior Log'!$D$11","v":"refusal to follow directions "},{"$f":"'Behavior Log'!$D$12","v":"disengage from classroom activities "},{"$f":"'Behavior Log'!$D$13","v":"non-compliance  (verbal)"},{"$f":"'Behavior Log'!$D$11","v":"refusal to follow directions "},{"$f":"'Behavior Log'!$D$12","v":"disengage from classroom activities "},{"$f":"'Behavior Log'!$D$13","v":"non-compliance  (verbal)"},{"$f":"'Behavior Log'!$D$11","v":"refusal to follow directions "},{"$f":"'Behavior Log'!$D$12","v":"disengage from classroom activities "},{"$f":"'Behavior Log'!$D$13","v":"non-compliance  (verbal)"}]
[{"$f":"IF(B13<>\"\",1,\"\")","v":{"$error":"#VALUE!"}},{"$f":"Observations!B2","v":{"$error":"#VALUE!"}},{"$f":"IF(A13=1,VLOOKUP($B13,ObData!$A$1:$J$300,3,0),\"\")","v":{"$error":"#VALUE!"}},{"$f":"IF(A13=1,B13&\": \"&TEXT(C13,\"mm/dd/yy\")&\"- \"&VLOOKUP(B13,ObData!$A$1:$J$300,5,0),\"\")","v":{"$error":"#VALUE!"}},{"$f":"IF($B13=\"\",\"\",IF(COUNTIFS(Data!$B:$B,E$12,Data!$A:$A,Matrices!$B13)=0,\"\",COUNTIFS(Data!$B:$B,E$12,Data!$A:$A,Matrices!$B13)))","v":{"$error":"#VALUE!"}},{"$f":"IF($B13=\"\",\"\",IF(COUNTIFS(Data!$B:$B,F$12,Data!$A:$A,Matrices!$B13)=0,\"\",COUNTIFS(Data!$B:$B,F$12,Data!$A:$A,Matrices!$B13)))","v":{"$error":"#VALUE!"}},{"$f":"IF($B13=\"\",\"\",IF(COUNTIFS(Data!$B:$B,G$12,Data!$A:$A,Matrices!$B13)=0,\"\",COUNTIFS(Data!$B:$B,G$12,Data!$A:$A,Matrices!$B13)))","v":{"$error":"#VALUE!"}},{"$f":"IFERROR(AVERAGEIFS(Data!$E:$E,Data!$B:$B,H$12,Data!$A:$A,$B13),\"N/A\")","v":"N/A"},{"$f":"IFERROR(AVERAGEIFS(Data!$E:$E,Data!$B:$B,I$12,Data!$A:$A,$B13),\"N/A\")","v":"N/A"},{"$f":"IFERROR(AVERAGEIFS(Data!$E:$E,Data!$B:$B,J$12,Data!$A:$A,$B13),\"N/A\")","v":"N/A"},{"$f":"IFERROR(AVERAGEIFS(Data!$Q:$Q,Data!$B:$B,K$12,Data!$A:$A,$B13),\"N/A\")","v":"N/A"},{"$f":"IFERROR(AVERAGEIFS(Data!$Q:$Q,Data!$B:$B,L$12,Data!$A:$A,$B13),\"N/A\")","v":"N/A"},{"$f":"IFERROR(AVERAGEIFS(Data!$Q:$Q,Data!$B:$B,M$12,Data!$A:$A,$B13),\"N/A\")","v":"N/A"}]
[{"$f":"IF(B14<>\"\",1,\"\")","v":""},{"$f":"Observations!B3","v":""},{"$f":"IF(A14=1,VLOOKUP($B14,ObData!$A$1:$J$300,3,0),\"\")","v":""},{"$f":"IF(A14=1,B14&\": \"&TEXT(C14,\"mm/dd/yy\")&\"- \"&VLOOKUP(B14,ObData!$A$1:$J$300,5,0),\"\")","v":""},{"$f":"IF($B14=\"\",\"\",IF(COUNTIFS(Data!$B:$B,E$12,Data!$A:$A,Matrices!$B14)=0,\"\",COUNTIFS(Data!$B:$B,E$12,Data!$A:$A,Matrices!$B14)))","v":""},{"$f":"IF($B14=\"\",\"\",IF(COUNTIFS(Data!$B:$B,F$12,Data!$A:$A,Matrices!$B14)=0,\"\",COUNTIFS(Data!$B:$B,F$12,Data!$A:$A,Matrices!$B14)))","v":""},{"$f":"IF($B14=\"\",\"\",IF(COUNTIFS(Data!$B:$B,G$12,Data!$A:$A,Matrices!$B14)=0,\"\",COUNTIFS(Data!$B:$B,G$12,Data!$A:$A,Matrices!$B14)))","v":""},{"$f":"IFERROR(AVERAGEIFS(Data!$E:$E,Data!$B:$B,H$12,Data!$A:$A,$B14),\"N/A\")","v":"N/A"},{"$f":"IFERROR(AVERAGEIFS(Data!$E:$E,Data!$B:$B,I$12,Data!$A:$A,$B14),\"N/A\")","v":"N/A"},{"$f":"IFERROR(AVERAGEIFS(Data!$E:$E,Data!$B:$B,J$12,Data!$A:$A,$B14),\"N/A\")","v":"N/A"},{"$f":"IFERROR(AVERAGEIFS(Data!$Q:$Q,Data!$B:$B,K$12,Data!$A:$A,$B14),\"N/A\")","v":"N/A"},{"$f":"IFERROR(AVERAGEIFS(Data!$Q:$Q,Data!$B:$B,L$12,Data!$A:$A,$B14),\"N/A\")","v":"N/A"},{"$f":"IFERROR(AVERAGEIFS(Data!$Q:$Q,Data!$B:$B,M$12,Data!$A:$A,$B14),\"N/A\")","v":"N/A"}]
["",{"$f":"Observations!B4","v":""},{"$f":"IF(A15=1,VLOOKUP($B15,ObData!$A$1:$J$300,3,0),\"\")","v":""},{"$f":"IF(A15=1,B15&\": \"&TEXT(C15,\"mm/dd/yy\")&\"- \"&VLOOKUP(B15,ObData!$A$1:$J$300,5,0),\"\")","v":""},{"$f":"IF($B15=\"\",\"\",IF(COUNTIFS(Data!$B:$B,E$12,Data!$A:$A,Matrices!$B15)=0,\"\",COUNTIFS(Data!$B:$B,E$12,Data!$A:$A,Matrices!$B15)))","v":""},{"$f":"IF($B15=\"\",\"\",IF(COUNTIFS(Data!$B:$B,F$12,Data!$A:$A,Matrices!$B15)=0,\"\",COUNTIFS(Data!$B:$B,F$12,Data!$A:$A,Matrices!$B15)))","v":""},{"$f":"IF($B15=\"\",\"\",IF(COUNTIFS(Data!$B:$B,G$12,Data!$A:$A,Matrices!$B15)=0,\"\",COUNTIFS(Data!$B:$B,G$12,Data!$A:$A,Matrices!$B15)))","v":""},{"$f":"IFERROR(AVERAGEIFS(Data!$E:$E,Data!$B:$B,H$12,Data!$A:$A,$B15),\"N/A\")","v":"N/A"},{"$f":"IFERROR(AVERAGEIFS(Data!$E:$E,Data!$B:$B,I$12,Data!$A:$A,$B15),\"N/A\")","v":"N/A"},{"$f":"IFERROR(AVERAGEIFS(Data!$E:$E,Data!$B:$B,J$12,Data!$A:$A,$B15),\"N/A\")","v":"N/A"},{"$f":"IFERROR(AVERAGEIFS(Data!$Q:$Q,Data!$B:$B,K$12,Data!$A:$A,$B15),\"N/A\")","v":"N/A"},{"$f":"IFERROR(AVERAGEIFS(Data!$Q:$Q,Data!$B:$B,L$12,Data!$A:$A,$B15),\"N/A\")","v":"N/A"},{"$f":"IFERROR(AVERAGEIFS(Data!$Q:$Q,Data!$B:$B,M$12,Data!$A:$A,$B15),\"N/A\")","v":"N/A"}]
["",{"$f":"Observations!B5","v":""},{"$f":"IF(A16=1,VLOOKUP($B16,ObData!$A$1:$J$300,3,0),\"\")","v":""},{"$f":"IF(A16=1,B16&\": \"&TEXT(C16,\"mm/dd/yy\")&\"- \"&VLOOKUP(B16,ObData!$A$1:$J$300,5,0),\"\")","v":""},{"$f":"IF($B16=\"\",\"\",IF(COUNTIFS(Data!$B:$B,E$12,Data!$A:$A,Matrices!$B16)=0,\"\",COUNTIFS(Data!$B:$B,E$12,Data!$A:$A,Matrices!$B16)))","v":""},{"$f":"IF($B16=\"\",\"\",IF(COUNTIFS(Data!$B:$B,F$12,Data!$A:$A,Matrices!$B16)=0,\"\",COUNTIFS(Data!$B:$B,F$12,Data!$A:$A,Matrices!$B16)))","v":""},{"$f":"IF($B16=\"\",\"\",IF(COUNTIFS(Data!$B:$B,G$12,Data!$A:$A,Matrices!$B16)=0,\"\",COUNTIFS(Data!$B:$B,G$12,Data!$A:$A,Matrices!$B16)))","v":""},{"$f":"IFERROR(AVERAGEIFS(Data!$E:$E,Data!$B:$B,H$12,Data!$A:$A,$B16),\"N/A\")","v":"N/A"},{"$f":"IFERROR(AVERAGEIFS(Data!$E:$E,Data!$B:$B,I$12,Data!$A:$A,$B16),\"N/A\")","v":"N/A"},{"$f":"IFERROR(AVERAGEIFS(Data!$E:$E,Data!$B:$B,J$12,Data!$A:$A,$B16),\"N/A\")","v":"N/A"},{"$f":"IFERROR(AVERAGEIFS(Data!$Q:$Q,Data!$B:$B,K$12,Data!$A:$A,$B16),\"N/A\")","v":"N/A"},{"$f":"IFERROR(AVERAGEIFS(Data!$Q:$Q,Data!$B:$B,L$12,Data!$A:$A,$B16),\"N/A\")","v":"N/A"},{"$f":"IFERROR(AVERAGEIFS(Data!$Q:$Q,Data!$B:$B,M$12,Data!$A:$A,$B16),\"N/A\")","v":"N/A"}]
["",{"$f":"Observations!B6","v":""},{"$f":"IF(A17=1,VLOOKUP($B17,ObData!$A$1:$J$300,3,0),\"\")","v":""},{"$f":"IF(A17=1,B17&\": \"&TEXT(C17,\"mm/dd/yy\")&\"- \"&VLOOKUP(B17,ObData!$A$1:$J$300,5,0),\"\")","v":""},{"$f":"IF($B17=\"\",\"\",IF(COUNTIFS(Data!$B:$B,E$12,Data!$A:$A,Matrices!$B17)=0,\"\",COUNTIFS(Data!$B:$B,E$12,Data!$A:$A,Matrices!$B17)))","v":""},{"$f":"IF($B17=\"\",\"\",IF(COUNTIFS(Data!$B:$B,F$12,Data!$A:$A,Matrices!$B17)=0,\"\",COUNTIFS(Data!$B:$B,F$12,Data!$A:$A,Matrices!$B17)))","v":""},{"$f":"IF($B17=\"\",\"\",IF(COUNTIFS(Data!$B:$B,G$12,Data!$A:$A,Matrices!$B17)=0,\"\",COUNTIFS(Data!$B:$B,G$12,Data!$A:$A,Matrices!$B17)))","v":""},{"$f":"IFERROR(AVERAGEIFS(Data!$E:$E,Data!$B:$B,H$12,Data!$A:$A,$B17),\"N/A\")","v":"N/A"},{"$f":"IFERROR(AVERAGEIFS(Data!$E:$E,Data!$B:$B,I$12,Data!$A:$A,$B17),\"N/A\")","v":"N/A"},{"$f":"IFERROR(AVERAGEIFS(Data!$E:$E,Data!$B:$B,J$12,Data!$A:$A,$B17),\"N/A\")","v":"N/A"},{"$f":"IFERROR(AVERAGEIFS(Data!$Q:$Q,Data!$B:$B,K$12,Data!$A:$A,$B17),\"N/A\")","v":"N/A"},{"$f":"IFERROR(AVERAGEIFS(Data!$Q:$Q,Data!$B:$B,L$12,Data!$A:$A,$B17),\"N/A\")","v":"N/A"},{"$f":"IFERROR(AVERAGEIFS(Data!$Q:$Q,Data!$B:$B,M$12,Data!$A:$A,$B17),\"N/A\")","v":"N/A"}]
["",{"$f":"Observations!B7","v":""},{"$f":"IF(A18=1,VLOOKUP($B18,ObData!$A$1:$J$300,3,0),\"\")","v":""},{"$f":"IF(A18=1,B18&\": \"&TEXT(C18,\"mm/dd/yy\")&\"- \"&VLOOKUP(B18,ObData!$A$1:$J$300,5,0),\"\")","v":""},{"$f":"IF($B18=\"\",\"\",IF(COUNTIFS(Data!$B:$B,E$12,Data!$A:$A,Matrices!$B18)=0,\"\",COUNTIFS(Data!$B:$B,E$12,Data!$A:$A,Matrices!$B18)))","v":""},{"$f":"IF($B18=\"\",\"\",IF(COUNTIFS(Data!$B:$B,F$12,Data!$A:$A,Matrices!$B18)=0,\"\",COUNTIFS(Data!$B:$B,F$12,Data!$A:$A,Matrices!$B18)))","v":""},{"$f":"IF($B18=\"\",\"\",IF(COUNTIFS(Data!$B:$B,G$12,Data!$A:$A,Matrices!$B18)=0,\"\",COUNTIFS(Data!$B:$B,G$12,Data!$A:$A,Matrices!$B18)))","v":""},{"$f":"IFERROR(AVERAGEIFS(Data!$E:$E,Data!$B:$B,H$12,Data!$A:$A,$B18),\"N/A\")","v":"N/A"},{"$f":"IFERROR(AVERAGEIFS(Data!$E:$E,Data!$B:$B,I$12,Data!$A:$A,$B18),\"N/A\")","v":"N/A"},{"$f":"IFERROR(AVERAGEIFS(Data!$E:$E,Data!$B:$B,J$12,Data!$A:$A,$B18),\"N/A\")","v":"N/A"},{"$f":"IFERROR(AVERAGEIFS(Data!$Q:$Q,Data!$B:$B,K$12,Data!$A:$A,$B18),\"N/A\")","v":"N/A"},{"$f":"IFERROR(AVERAGEIFS(Data!$Q:$Q,Data!$B:$B,L$12,Data!$A:$A,$B18),\"N/A\")","v":"N/A"},{"$f":"IFERROR(AVERAGEIFS(Data!$Q:$Q,Data!$B:$B,M$12,Data!$A:$A,$B18),\"N/A\")","v":"N/A"}]
["",{"$f":"Observations!B8","v":""},{"$f":"IF(A19=1,VLOOKUP($B19,ObData!$A$1:$J$300,3,0),\"\")","v":""},{"$f":"IF(A19=1,B19&\": \"&TEXT(C19,\"mm/dd/yy\")&\"- \"&VLOOKUP(B19,ObData!$A$1:$J$300,5,0),\"\")","v":""},{"$f":"IF($B19=\"\",\"\",IF(COUNTIFS(Data!$B:$B,E$12,Data!$A:$A,Matrices!$B19)=0,\"\",COUNTIFS(Data!$B:$B,E$12,Data!$A:$A,Matrices!$B19)))","v":""},{"$f":"IF($B19=\"\",\"\",IF(COUNTIFS(Data!$B:$B,F$12,Data!$A:$A,Matrices!$B19)=0,\"\",COUNTIFS(Data!$B:$B,F$12,Data!$A:$A,Matrices!$B19)))","v":""},{"$f":"IF($B19=\"\",\"\",IF(COUNTIFS(Data!$B:$B,G$12,Data!$A:$A,Matrices!$B19)=0,\"\",COUNTIFS(Data!$B:$B,G$12,Data!$A:$A,Matrices!$B19)))","v":""},{"$f":"IFERROR(AVERAGEIFS(Data!$E:$E,Data!$B:$B,H$12,Data!$A:$A,$B19),\"N/A\")","v":"N/A"},{"$f":"IFERROR(AVERAGEIFS(Data!$E:$E,Data!$B:$B,I$12,Data!$A:$A,$B19),\"N/A\")","v":"N/A"},{"$f":"IFERROR(AVERAGEIFS(Data!$E:$E,Data!$B:$B,J$12,Data!$A:$A,$B19),\"N/A\")","v":"N/A"},{"$f":"IFERROR(AVERAGEIFS(Data!$Q:$Q,Data!$B:$B,K$12,Data!$A:$A,$B19),\"N/A\")","v":"N/A"},{"$f":"IFERROR(AVERAGEIFS(Data!$Q:$Q,Data!$B:$B,L$12,Data!$A:$A,$B19),\"N/A\")","v":"N/A"},{"$f":"IFERROR(AVERAGEIFS(Data!$Q:$Q,Data!$B:$B,M$12,Data!$A:$A,$B19),\"N/A\")","v":"N/A"}]
["",{"$f":"Observations!B9","v":""},{"$f":"IF(A20=1,VLOOKUP($B20,ObData!$A$1:$J$300,3,0),\"\")","v":""},{"$f":"IF(A20=1,B20&\": \"&TEXT(C20,\"mm/dd/yy\")&\"- \"&VLOOKUP(B20,ObData!$A$1:$J$300,5,0),\"\")","v":""},{"$f":"IF($B20=\"\",\"\",IF(COUNTIFS(Data!$B:$B,E$12,Data!$A:$A,Matrices!$B20)=0,\"\",COUNTIFS(Data!$B:$B,E$12,Data!$A:$A,Matrices!$B20)))","v":""},{"$f":"IF($B20=\"\",\"\",IF(COUNTIFS(Data!$B:$B,F$12,Data!$A:$A,Matrices!$B20)=0,\"\",COUNTIFS(Data!$B:$B,F$12,Data!$A:$A,Matrices!$B20)))","v":""},{"$f":"IF($B20=\"\",\"\",IF(COUNTIFS(Data!$B:$B,G$12,Data!$A:$A,Matrices!$B20)=0,\"\",COUNTIFS(Data!$B:$B,G$12,Data!$A:$A,Matrices!$B20)))","v":""},{"$f":"IFERROR(AVERAGEIFS(Data!$E:$E,Data!$B:$B,H$12,Data!$A:$A,$B20),\"N/A\")","v":"N/A"},{"$f":"IFERROR(AVERAGEIFS(Data!$E:$E,Data!$B:$B,I$12,Data!$A:$A,$B20),\"N/A\")","v":"N/A"},{"$f":"IFERROR(AVERAGEIFS(Data!$E:$E,Data!$B:$B,J$12,Data!$A:$A,$B20),\"N/A\")","v":"N/A"},{"$f":"IFERROR(AVERAGEIFS(Data!$Q:$Q,Data!$B:$B,K$12,Data!$A:$A,$B20),\"N/A\")","v":"N/A"},{"$f":"IFERROR(AVERAGEIFS(Data!$Q:$Q,Data!$B:$B,L$12,Data!$A:$A,$B20),\"N/A\")","v":"N/A"},{"$f":"IFERROR(AVERAGEIFS(Data!$Q:$Q,Data!$B:$B,M$12,Data!$A:$A,$B20),\"N/A\")","v":"N/A"}]
["",{"$f":"Observations!B10","v":""},{"$f":"IF(A21=1,VLOOKUP($B21,ObData!$A$1:$J$300,3,0),\"\")","v":""},{"$f":"IF(A21=1,B21&\": \"&TEXT(C21,\"mm/dd/yy\")&\"- \"&VLOOKUP(B21,ObData!$A$1:$J$300,5,0),\"\")","v":""},{"$f":"IF($B21=\"\",\"\",IF(COUNTIFS(Data!$B:$B,E$12,Data!$A:$A,Matrices!$B21)=0,\"\",COUNTIFS(Data!$B:$B,E$12,Data!$A:$A,Matrices!$B21)))","v":""},{"$f":"IF($B21=\"\",\"\",IF(COUNTIFS(Data!$B:$B,F$12,Data!$A:$A,Matrices!$B21)=0,\"\",COUNTIFS(Data!$B:$B,F$12,Data!$A:$A,Matrices!$B21)))","v":""},{"$f":"IF($B21=\"\",\"\",IF(COUNTIFS(Data!$B:$B,G$12,Data!$A:$A,Matrices!$B21)=0,\"\",COUNTIFS(Data!$B:$B,G$12,Data!$A:$A,Matrices!$B21)))","v":""},{"$f":"IFERROR(AVERAGEIFS(Data!$E:$E,Data!$B:$B,H$12,Data!$A:$A,$B21),\"N/A\")","v":"N/A"},{"$f":"IFERROR(AVERAGEIFS(Data!$E:$E,Data!$B:$B,I$12,Data!$A:$A,$B21),\"N/A\")","v":"N/A"},{"$f":"IFERROR(AVERAGEIFS(Data!$E:$E,Data!$B:$B,J$12,Data!$A:$A,$B21),\"N/A\")","v":"N/A"},{"$f":"IFERROR(AVERAGEIFS(Data!$Q:$Q,Data!$B:$B,K$12,Data!$A:$A,$B21),\"N/A\")","v":"N/A"},{"$f":"IFERROR(AVERAGEIFS(Data!$Q:$Q,Data!$B:$B,L$12,Data!$A:$A,$B21),\"N/A\")","v":"N/A"},{"$f":"IFERROR(AVERAGEIFS(Data!$Q:$Q,Data!$B:$B,M$12,Data!$A:$A,$B21),\"N/A\")","v":"N/A"}]
["",{"$f":"Observations!B11","v":""},{"$f":"IF(A22=1,VLOOKUP($B22,ObData!$A$1:$J$300,3,0),\"\")","v":""},{"$f":"IF(A22=1,B22&\": \"&TEXT(C22,\"mm/dd/yy\")&\"- \"&VLOOKUP(B22,ObData!$A$1:$J$300,5,0),\"\")","v":""},{"$f":"IF($B22=\"\",\"\",IF(COUNTIFS(Data!$B:$B,E$12,Data!$A:$A,Matrices!$B22)=0,\"\",COUNTIFS(Data!$B:$B,E$12,Data!$A:$A,Matrices!$B22)))","v":""},{"$f":"IF($B22=\"\",\"\",IF(COUNTIFS(Data!$B:$B,F$12,Data!$A:$A,Matrices!$B22)=0,\"\",COUNTIFS(Data!$B:$B,F$12,Data!$A:$A,Matrices!$B22)))","v":""},{"$f":"IF($B22=\"\",\"\",IF(COUNTIFS(Data!$B:$B,G$12,Data!$A:$A,Matrices!$B22)=0,\"\",COUNTIFS(Data!$B:$B,G$12,Data!$A:$A,Matrices!$B22)))","v":""},{"$f":"IFERROR(AVERAGEIFS(Data!$E:$E,Data!$B:$B,H$12,Data!$A:$A,$B22),\"N/A\")","v":"N/A"},{"$f":"IFERROR(AVERAGEIFS(Data!$E:$E,Data!$B:$B,I$12,Data!$A:$A,$B22),\"N/A\")","v":"N/A"},{"$f":"IFERROR(AVERAGEIFS(Data!$E:$E,Data!$B:$B,J$12,Data!$A:$A,$B22),\"N/A\")","v":"N/A"},{"$f":"IFERROR(AVERAGEIFS(Data!$Q:$Q,Data!$B:$B,K$12,Data!$A:$A,$B22),\"N/A\")","v":"N/A"},{"$f":"IFERROR(AVERAGEIFS(Data!$Q:$Q,Data!$B:$B,L$12,Data!$A:$A,$B22),\"N/A\")","v":"N/A"},{"$f":"IFERROR(AVERAGEIFS(Data!$Q:$Q,Data!$B:$B,M$12,Data!$A:$A,$B22),\"N/A\")","v":"N/A"}]
["",{"$f":"Observations!B12","v":""},{"$f":"IF(A23=1,VLOOKUP($B23,ObData!$A$1:$J$300,3,0),\"\")","v":""},{"$f":"IF(A23=1,B23&\": \"&TEXT(C23,\"mm/dd/yy\")&\"- \"&VLOOKUP(B23,ObData!$A$1:$J$300,5,0),\"\")","v":""},{"$f":"IF($B23=\"\",\"\",IF(COUNTIFS(Data!$B:$B,E$12,Data!$A:$A,Matrices!$B23)=0,\"\",COUNTIFS(Data!$B:$B,E$12,Data!$A:$A,Matrices!$B23)))","v":""},{"$f":"IF($B23=\"\",\"\",IF(COUNTIFS(Data!$B:$B,F$12,Data!$A:$A,Matrices!$B23)=0,\"\",COUNTIFS(Data!$B:$B,F$12,Data!$A:$A,Matrices!$B23)))","v":""},{"$f":"IF($B23=\"\",\"\",IF(COUNTIFS(Data!$B:$B,G$12,Data!$A:$A,Matrices!$B23)=0,\"\",COUNTIFS(Data!$B:$B,G$12,Data!$A:$A,Matrices!$B23)))","v":""},{"$f":"IFERROR(AVERAGEIFS(Data!$E:$E,Data!$B:$B,H$12,Data!$A:$A,$B23),\"N/A\")","v":"N/A"},{"$f":"IFERROR(AVERAGEIFS(Data!$E:$E,Data!$B:$B,I$12,Data!$A:$A,$B23),\"N/A\")","v":"N/A"},{"$f":"IFERROR(AVERAGEIFS(Data!$E:$E,Data!$B:$B,J$12,Data!$A:$A,$B23),\"N/A\")","v":"N/A"},{"$f":"IFERROR(AVERAGEIFS(Data!$Q:$Q,Data!$B:$B,K$12,Data!$A:$A,$B23),\"N/A\")","v":"N/A"},{"$f":"IFERROR(AVERAGEIFS(Data!$Q:$Q,Data!$B:$B,L$12,Data!$A:$A,$B23),\"N/A\")","v":"N/A"},{"$f":"IFERROR(AVERAGEIFS(Data!$Q:$Q,Data!$B:$B,M$12,Data!$A:$A,$B23),\"N/A\")","v":"N/A"}]
["",{"$f":"Observations!B13","v":""},{"$f":"IF(A24=1,VLOOKUP($B24,ObData!$A$1:$J$300,3,0),\"\")","v":""},{"$f":"IF(A24=1,B24&\": \"&TEXT(C24,\"mm/dd/yy\")&\"- \"&VLOOKUP(B24,ObData!$A$1:$J$300,5,0),\"\")","v":""},{"$f":"IF($B24=\"\",\"\",IF(COUNTIFS(Data!$B:$B,E$12,Data!$A:$A,Matrices!$B24)=0,\"\",COUNTIFS(Data!$B:$B,E$12,Data!$A:$A,Matrices!$B24)))","v":""},{"$f":"IF($B24=\"\",\"\",IF(COUNTIFS(Data!$B:$B,F$12,Data!$A:$A,Matrices!$B24)=0,\"\",COUNTIFS(Data!$B:$B,F$12,Data!$A:$A,Matrices!$B24)))","v":""},{"$f":"IF($B24=\"\",\"\",IF(COUNTIFS(Data!$B:$B,G$12,Data!$A:$A,Matrices!$B24)=0,\"\",COUNTIFS(Data!$B:$B,G$12,Data!$A:$A,Matrices!$B24)))","v":""},{"$f":"IFERROR(AVERAGEIFS(Data!$E:$E,Data!$B:$B,H$12,Data!$A:$A,$B24),\"N/A\")","v":"N/A"},{"$f":"IFERROR(AVERAGEIFS(Data!$E:$E,Data!$B:$B,I$12,Data!$A:$A,$B24),\"N/A\")","v":"N/A"},{"$f":"IFERROR(AVERAGEIFS(Data!$E:$E,Data!$B:$B,J$12,Data!$A:$A,$B24),\"N/A\")","v":"N/A"},{"$f":"IFERROR(AVERAGEIFS(Data!$Q:$Q,Data!$B:$B,K$12,Data!$A:$A,$B24),\"N/A\")","v":"N/A"},{"$f":"IFERROR(AVERAGEIFS(Data!$Q:$Q,Data!$B:$B,L$12,Data!$A:$A,$B24),\"N/A\")","v":"N/A"},{"$f":"IFERROR(AVERAGEIFS(Data!$Q:$Q,Data!$B:$B,M$12,Data!$A:$A,$B24),\"N/A\")","v":"N/A"}]
["",{"$f":"Observations!B14","v":""},{"$f":"IF(A25=1,VLOOKUP($B25,ObData!$A$1:$J$300,3,0),\"\")","v":""},{"$f":"IF(A25=1,B25&\": \"&TEXT(C25,\"mm/dd/yy\")&\"- \"&VLOOKUP(B25,ObData!$A$1:$J$300,5,0),\"\")","v":""},{"$f":"IF($B25=\"\",\"\",IF(COUNTIFS(Data!$B:$B,E$12,Data!$A:$A,Matrices!$B25)=0,\"\",COUNTIFS(Data!$B:$B,E$12,Data!$A:$A,Matrices!$B25)))","v":""},{"$f":"IF($B25=\"\",\"\",IF(COUNTIFS(Data!$B:$B,F$12,Data!$A:$A,Matrices!$B25)=0,\"\",COUNTIFS(Data!$B:$B,F$12,Data!$A:$A,Matrices!$B25)))","v":""},{"$f":"IF($B25=\"\",\"\",IF(COUNTIFS(Data!$B:$B,G$12,Data!$A:$A,Matrices!$B25)=0,\"\",COUNTIFS(Data!$B:$B,G$12,Data!$A:$A,Matrices!$B25)))","v":""},{"$f":"IFERROR(AVERAGEIFS(Data!$E:$E,Data!$B:$B,H$12,Data!$A:$A,$B25),\"N/A\")","v":"N/A"},{"$f":"IFERROR(AVERAGEIFS(Data!$E:$E,Data!$B:$B,I$12,Data!$A:$A,$B25),\"N/A\")","v":"N/A"},{"$f":"IFERROR(AVERAGEIFS(Data!$E:$E,Data!$B:$B,J$12,Data!$A:$A,$B25),\"N/A\")","v":"N/A"},{"$f":"IFERROR(AVERAGEIFS(Data!$Q:$Q,Data!$B:$B,K$12,Data!$A:$A,$B25),\"N/A\")","v":"N/A"},{"$f":"IFERROR(AVERAGEIFS(Data!$Q:$Q,Data!$B:$B,L$12,Data!$A:$A,$B25),\"N/A\")","v":"N/A"},{"$f":"IFERROR(AVERAGEIFS(Data!$Q:$Q,Data!$B:$B,M$12,Data!$A:$A,$B25),\"N/A\")","v":"N/A"}]
["",{"$f":"Observations!B15","v":""},{"$f":"IF(A26=1,VLOOKUP($B26,ObData!$A$1:$J$300,3,0),\"\")","v":""},{"$f":"IF(A26=1,B26&\": \"&TEXT(C26,\"mm/dd/yy\")&\"- \"&VLOOKUP(B26,ObData!$A$1:$J$300,5,0),\"\")","v":""},{"$f":"IF($B26=\"\",\"\",IF(COUNTIFS(Data!$B:$B,E$12,Data!$A:$A,Matrices!$B26)=0,\"\",COUNTIFS(Data!$B:$B,E$12,Data!$A:$A,Matrices!$B26)))","v":""},{"$f":"IF($B26=\"\",\"\",IF(COUNTIFS(Data!$B:$B,F$12,Data!$A:$A,Matrices!$B26)=0,\"\",COUNTIFS(Data!$B:$B,F$12,Data!$A:$A,Matrices!$B26)))","v":""},{"$f":"IF($B26=\"\",\"\",IF(COUNTIFS(Data!$B:$B,G$12,Data!$A:$A,Matrices!$B26)=0,\"\",COUNTIFS(Data!$B:$B,G$12,Data!$A:$A,Matrices!$B26)))","v":""},{"$f":"IFERROR(AVERAGEIFS(Data!$E:$E,Data!$B:$B,H$12,Data!$A:$A,$B26),\"N/A\")","v":"N/A"},{"$f":"IFERROR(AVERAGEIFS(Data!$E:$E,Data!$B:$B,I$12,Data!$A:$A,$B26),\"N/A\")","v":"N/A"},{"$f":"IFERROR(AVERAGEIFS(Data!$E:$E,Data!$B:$B,J$12,Data!$A:$A,$B26),\"N/A\")","v":"N/A"},{"$f":"IFERROR(AVERAGEIFS(Data!$Q:$Q,Data!$B:$B,K$12,Data!$A:$A,$B26),\"N/A\")","v":"N/A"},{"$f":"IFERROR(AVERAGEIFS(Data!$Q:$Q,Data!$B:$B,L$12,Data!$A:$A,$B26),\"N/A\")","v":"N/A"},{"$f":"IFERROR(AVERAGEIFS(Data!$Q:$Q,Data!$B:$B,M$12,Data!$A:$A,$B26),\"N/A\")","v":"N/A"}]
["",{"$f":"Observations!B16","v":""},{"$f":"IF(A27=1,VLOOKUP($B27,ObData!$A$1:$J$300,3,0),\"\")","v":""},{"$f":"IF(A27=1,B27&\": \"&TEXT(C27,\"mm/dd/yy\")&\"- \"&VLOOKUP(B27,ObData!$A$1:$J$300,5,0),\"\")","v":""},{"$f":"IF($B27=\"\",\"\",IF(COUNTIFS(Data!$B:$B,E$12,Data!$A:$A,Matrices!$B27)=0,\"\",COUNTIFS(Data!$B:$B,E$12,Data!$A:$A,Matrices!$B27)))","v":""},{"$f":"IF($B27=\"\",\"\",IF(COUNTIFS(Data!$B:$B,F$12,Data!$A:$A,Matrices!$B27)=0,\"\",COUNTIFS(Data!$B:$B,F$12,Data!$A:$A,Matrices!$B27)))","v":""},{"$f":"IF($B27=\"\",\"\",IF(COUNTIFS(Data!$B:$B,G$12,Data!$A:$A,Matrices!$B27)=0,\"\",COUNTIFS(Data!$B:$B,G$12,Data!$A:$A,Matrices!$B27)))","v":""},{"$f":"IFERROR(AVERAGEIFS(Data!$E:$E,Data!$B:$B,H$12,Data!$A:$A,$B27),\"N/A\")","v":"N/A"},{"$f":"IFERROR(AVERAGEIFS(Data!$E:$E,Data!$B:$B,I$12,Data!$A:$A,$B27),\"N/A\")","v":"N/A"},{"$f":"IFERROR(AVERAGEIFS(Data!$E:$E,Data!$B:$B,J$12,Data!$A:$A,$B27),\"N/A\")","v":"N/A"},{"$f":"IFERROR(AVERAGEIFS(Data!$Q:$Q,Data!$B:$B,K$12,Data!$A:$A,$B27),\"N/A\")","v":"N/A"},{"$f":"IFERROR(AVERAGEIFS(Data!$Q:$Q,Data!$B:$B,L$12,Data!$A:$A,$B27),\"N/A\")","v":"N/A"},{"$f":"IFERROR(AVERAGEIFS(Data!$Q:$Q,Data!$B:$B,M$12,Data!$A:$A,$B27),\"N/A\")","v":"N/A"}]
["",{"$f":"Observations!B17","v":""},{"$f":"IF(A28=1,VLOOKUP($B28,ObData!$A$1:$J$300,3,0),\"\")","v":""},{"$f":"IF(A28=1,B28&\": \"&TEXT(C28,\"mm/dd/yy\")&\"- \"&VLOOKUP(B28,ObData!$A$1:$J$300,5,0),\"\")","v":""},{"$f":"IF($B28=\"\",\"\",IF(COUNTIFS(Data!$B:$B,E$12,Data!$A:$A,Matrices!$B28)=0,\"\",COUNTIFS(Data!$B:$B,E$12,Data!$A:$A,Matrices!$B28)))","v":""},{"$f":"IF($B28=\"\",\"\",IF(COUNTIFS(Data!$B:$B,F$12,Data!$A:$A,Matrices!$B28)=0,\"\",COUNTIFS(Data!$B:$B,F$12,Data!$A:$A,Matrices!$B28)))","v":""},{"$f":"IF($B28=\"\",\"\",IF(COUNTIFS(Data!$B:$B,G$12,Data!$A:$A,Matrices!$B28)=0,\"\",COUNTIFS(Data!$B:$B,G$12,Data!$A:$A,Matrices!$B28)))","v":""},{"$f":"IFERROR(AVERAGEIFS(Data!$E:$E,Data!$B:$B,H$12,Data!$A:$A,$B28),\"N/A\")","v":"N/A"},{"$f":"IFERROR(AVERAGEIFS(Data!$E:$E,Data!$B:$B,I$12,Data!$A:$A,$B28),\"N/A\")","v":"N/A"},{"$f":"IFERROR(AVERAGEIFS(Data!$E:$E,Data!$B:$B,J$12,Data!$A:$A,$B28),\"N/A\")","v":"N/A"},{"$f":"IFERROR(AVERAGEIFS(Data!$Q:$Q,Data!$B:$B,K$12,Data!$A:$A,$B28),\"N/A\")","v":"N/A"},{"$f":"IFERROR(AVERAGEIFS(Data!$Q:$Q,Data!$B:$B,L$12,Data!$A:$A,$B28),\"N/A\")","v":"N/A"},{"$f":"IFERROR(AVERAGEIFS(Data!$Q:$Q,Data!$B:$B,M$12,Data!$A:$A,$B28),\"N/A\")","v":"N/A"}]
["",{"$f":"Observations!B18","v":""},{"$f":"IF(A29=1,VLOOKUP($B29,ObData!$A$1:$J$300,3,0),\"\")","v":""},{"$f":"IF(A29=1,B29&\": \"&TEXT(C29,\"mm/dd/yy\")&\"- \"&VLOOKUP(B29,ObData!$A$1:$J$300,5,0),\"\")","v":""},{"$f":"IF($B29=\"\",\"\",IF(COUNTIFS(Data!$B:$B,E$12,Data!$A:$A,Matrices!$B29)=0,\"\",COUNTIFS(Data!$B:$B,E$12,Data!$A:$A,Matrices!$B29)))","v":""},{"$f":"IF($B29=\"\",\"\",IF(COUNTIFS(Data!$B:$B,F$12,Data!$A:$A,Matrices!$B29)=0,\"\",COUNTIFS(Data!$B:$B,F$12,Data!$A:$A,Matrices!$B29)))","v":""},{"$f":"IF($B29=\"\",\"\",IF(COUNTIFS(Data!$B:$B,G$12,Data!$A:$A,Matrices!$B29)=0,\"\",COUNTIFS(Data!$B:$B,G$12,Data!$A:$A,Matrices!$B29)))","v":""},{"$f":"IFERROR(AVERAGEIFS(Data!$E:$E,Data!$B:$B,H$12,Data!$A:$A,$B29),\"N/A\")","v":"N/A"},{"$f":"IFERROR(AVERAGEIFS(Data!$E:$E,Data!$B:$B,I$12,Data!$A:$A,$B29),\"N/A\")","v":"N/A"},{"$f":"IFERROR(AVERAGEIFS(Data!$E:$E,Data!$B:$B,J$12,Data!$A:$A,$B29),\"N/A\")","v":"N/A"},{"$f":"IFERROR(AVERAGEIFS(Data!$Q:$Q,Data!$B:$B,K$12,Data!$A:$A,$B29),\"N/A\")","v":"N/A"},{"$f":"IFERROR(AVERAGEIFS(Data!$Q:$Q,Data!$B:$B,L$12,Data!$A:$A,$B29),\"N/A\")","v":"N/A"},{"$f":"IFERROR(AVERAGEIFS(Data!$Q:$Q,Data!$B:$B,M$12,Data!$A:$A,$B29),\"N/A\")","v":"N/A"}]
["",{"$f":"Observations!B19","v":""},{"$f":"IF(A30=1,VLOOKUP($B30,ObData!$A$1:$J$300,3,0),\"\")","v":""},{"$f":"IF(A30=1,B30&\": \"&TEXT(C30,\"mm/dd/yy\")&\"- \"&VLOOKUP(B30,ObData!$A$1:$J$300,5,0),\"\")","v":""},{"$f":"IF($B30=\"\",\"\",IF(COUNTIFS(Data!$B:$B,E$12,Data!$A:$A,Matrices!$B30)=0,\"\",COUNTIFS(Data!$B:$B,E$12,Data!$A:$A,Matrices!$B30)))","v":""},{"$f":"IF($B30=\"\",\"\",IF(COUNTIFS(Data!$B:$B,F$12,Data!$A:$A,Matrices!$B30)=0,\"\",COUNTIFS(Data!$B:$B,F$12,Data!$A:$A,Matrices!$B30)))","v":""},{"$f":"IF($B30=\"\",\"\",IF(COUNTIFS(Data!$B:$B,G$12,Data!$A:$A,Matrices!$B30)=0,\"\",COUNTIFS(Data!$B:$B,G$12,Data!$A:$A,Matrices!$B30)))","v":""},{"$f":"IFERROR(AVERAGEIFS(Data!$E:$E,Data!$B:$B,H$12,Data!$A:$A,$B30),\"N/A\")","v":"N/A"},{"$f":"IFERROR(AVERAGEIFS(Data!$E:$E,Data!$B:$B,I$12,Data!$A:$A,$B30),\"N/A\")","v":"N/A"},{"$f":"IFERROR(AVERAGEIFS(Data!$E:$E,Data!$B:$B,J$12,Data!$A:$A,$B30),\"N/A\")","v":"N/A"},{"$f":"IFERROR(AVERAGEIFS(Data!$Q:$Q,Data!$B:$B,K$12,Data!$A:$A,$B30),\"N/A\")","v":"N/A"},{"$f":"IFERROR(AVERAGEIFS(Data!$Q:$Q,Data!$B:$B,L$12,Data!$A:$A,$B30),\"N/A\")","v":"N/A"},{"$f":"IFERROR(AVERAGEIFS(Data!$Q:$Q,Data!$B:$B,M$12,Data!$A:$A,$B30),\"N/A\")","v":"N/A"}]
["",{"$f":"Observations!B20","v":""},{"$f":"IF(A31=1,VLOOKUP($B31,ObData!$A$1:$J$300,3,0),\"\")","v":""},{"$f":"IF(A31=1,B31&\": \"&TEXT(C31,\"mm/dd/yy\")&\"- \"&VLOOKUP(B31,ObData!$A$1:$J$300,5,0),\"\")","v":""},{"$f":"IF($B31=\"\",\"\",IF(COUNTIFS(Data!$B:$B,E$12,Data!$A:$A,Matrices!$B31)=0,\"\",COUNTIFS(Data!$B:$B,E$12,Data!$A:$A,Matrices!$B31)))","v":""},{"$f":"IF($B31=\"\",\"\",IF(COUNTIFS(Data!$B:$B,F$12,Data!$A:$A,Matrices!$B31)=0,\"\",COUNTIFS(Data!$B:$B,F$12,Data!$A:$A,Matrices!$B31)))","v":""},{"$f":"IF($B31=\"\",\"\",IF(COUNTIFS(Data!$B:$B,G$12,Data!$A:$A,Matrices!$B31)=0,\"\",COUNTIFS(Data!$B:$B,G$12,Data!$A:$A,Matrices!$B31)))","v":""},{"$f":"IFERROR(AVERAGEIFS(Data!$E:$E,Data!$B:$B,H$12,Data!$A:$A,$B31),\"N/A\")","v":"N/A"},{"$f":"IFERROR(AVERAGEIFS(Data!$E:$E,Data!$B:$B,I$12,Data!$A:$A,$B31),\"N/A\")","v":"N/A"},{"$f":"IFERROR(AVERAGEIFS(Data!$E:$E,Data!$B:$B,J$12,Data!$A:$A,$B31),\"N/A\")","v":"N/A"},{"$f":"IFERROR(AVERAGEIFS(Data!$Q:$Q,Data!$B:$B,K$12,Data!$A:$A,$B31),\"N/A\")","v":"N/A"},{"$f":"IFERROR(AVERAGEIFS(Data!$Q:$Q,Data!$B:$B,L$12,Data!$A:$A,$B31),\"N/A\")","v":"N/A"},{"$f":"IFERROR(AVERAGEIFS(Data!$Q:$Q,Data!$B:$B,M$12,Data!$A:$A,$B31),\"N/A\")","v":"N/A"}]
["",{"$f":"Observations!B21","v":""},{"$f":"IF(A32=1,VLOOKUP($B32,ObData!$A$1:$J$300,3,0),\"\")","v":""},{"$f":"IF(A32=1,B32&\": \"&TEXT(C32,\"mm/dd/yy\")&\"- \"&VLOOKUP(B32,ObData!$A$1:$J$300,5,0),\"\")","v":""},{"$f":"IF($B32=\"\",\"\",IF(COUNTIFS(Data!$B:$B,E$12,Data!$A:$A,Matrices!$B32)=0,\"\",COUNTIFS(Data!$B:$B,E$12,Data!$A:$A,Matrices!$B32)))","v":""},{"$f":"IF($B32=\"\",\"\",IF(COUNTIFS(Data!$B:$B,F$12,Data!$A:$A,Matrices!$B32)=0,\"\",COUNTIFS(Data!$B:$B,F$12,Data!$A:$A,Matrices!$B32)))","v":""},{"$f":"IF($B32=\"\",\"\",IF(COUNTIFS(Data!$B:$B,G$12,Data!$A:$A,Matrices!$B32)=0,\"\",COUNTIFS(Data!$B:$B,G$12,Data!$A:$A,Matrices!$B32)))","v":""},{"$f":"IFERROR(AVERAGEIFS(Data!$E:$E,Data!$B:$B,H$12,Data!$A:$A,$B32),\"N/A\")","v":"N/A"},{"$f":"IFERROR(AVERAGEIFS(Data!$E:$E,Data!$B:$B,I$12,Data!$A:$A,$B32),\"N/A\")","v":"N/A"},{"$f":"IFERROR(AVERAGEIFS(Data!$E:$E,Data!$B:$B,J$12,Data!$A:$A,$B32),\"N/A\")","v":"N/A"},{"$f":"IFERROR(AVERAGEIFS(Data!$Q:$Q,Data!$B:$B,K$12,Data!$A:$A,$B32),\"N/A\")","v":"N/A"},{"$f":"IFERROR(AVERAGEIFS(Data!$Q:$Q,Data!$B:$B,L$12,Data!$A:$A,$B32),\"N/A\")","v":"N/A"},{"$f":"IFERROR(AVERAGEIFS(Data!$Q:$Q,Data!$B:$B,M$12,Data!$A:$A,$B32),\"N/A\")","v":"N/A"}]
["",{"$f":"Observations!B22","v":""},{"$f":"IF(A33=1,VLOOKUP($B33,ObData!$A$1:$J$300,3,0),\"\")","v":""},{"$f":"IF(A33=1,B33&\": \"&TEXT(C33,\"mm/dd/yy\")&\"- \"&VLOOKUP(B33,ObData!$A$1:$J$300,5,0),\"\")","v":""},{"$f":"IF($B33=\"\",\"\",IF(COUNTIFS(Data!$B:$B,E$12,Data!$A:$A,Matrices!$B33)=0,\"\",COUNTIFS(Data!$B:$B,E$12,Data!$A:$A,Matrices!$B33)))","v":""},{"$f":"IF($B33=\"\",\"\",IF(COUNTIFS(Data!$B:$B,F$12,Data!$A:$A,Matrices!$B33)=0,\"\",COUNTIFS(Data!$B:$B,F$12,Data!$A:$A,Matrices!$B33)))","v":""},{"$f":"IF($B33=\"\",\"\",IF(COUNTIFS(Data!$B:$B,G$12,Data!$A:$A,Matrices!$B33)=0,\"\",COUNTIFS(Data!$B:$B,G$12,Data!$A:$A,Matrices!$B33)))","v":""},{"$f":"IFERROR(AVERAGEIFS(Data!$E:$E,Data!$B:$B,H$12,Data!$A:$A,$B33),\"N/A\")","v":"N/A"},{"$f":"IFERROR(AVERAGEIFS(Data!$E:$E,Data!$B:$B,I$12,Data!$A:$A,$B33),\"N/A\")","v":"N/A"},{"$f":"IFERROR(AVERAGEIFS(Data!$E:$E,Data!$B:$B,J$12,Data!$A:$A,$B33),\"N/A\")","v":"N/A"},{"$f":"IFERROR(AVERAGEIFS(Data!$Q:$Q,Data!$B:$B,K$12,Data!$A:$A,$B33),\"N/A\")","v":"N/A"},{"$f":"IFERROR(AVERAGEIFS(Data!$Q:$Q,Data!$B:$B,L$12,Data!$A:$A,$B33),\"N/A\")","v":"N/A"},{"$f":"IFERROR(AVERAGEIFS(Data!$Q:$Q,Data!$B:$B,M$12,Data!$A:$A,$B33),\"N/A\")","v":"N/A"}]
["",{"$f":"Observations!B23","v":""},{"$f":"IF(A34=1,VLOOKUP($B34,ObData!$A$1:$J$300,3,0),\"\")","v":""},{"$f":"IF(A34=1,B34&\": \"&TEXT(C34,\"mm/dd/yy\")&\"- \"&VLOOKUP(B34,ObData!$A$1:$J$300,5,0),\"\")","v":""},{"$f":"IF($B34=\"\",\"\",IF(COUNTIFS(Data!$B:$B,E$12,Data!$A:$A,Matrices!$B34)=0,\"\",COUNTIFS(Data!$B:$B,E$12,Data!$A:$A,Matrices!$B34)))","v":""},{"$f":"IF($B34=\"\",\"\",IF(COUNTIFS(Data!$B:$B,F$12,Data!$A:$A,Matrices!$B34)=0,\"\",COUNTIFS(Data!$B:$B,F$12,Data!$A:$A,Matrices!$B34)))","v":""},{"$f":"IF($B34=\"\",\"\",IF(COUNTIFS(Data!$B:$B,G$12,Data!$A:$A,Matrices!$B34)=0,\"\",COUNTIFS(Data!$B:$B,G$12,Data!$A:$A,Matrices!$B34)))","v":""},{"$f":"IFERROR(AVERAGEIFS(Data!$E:$E,Data!$B:$B,H$12,Data!$A:$A,$B34),\"N/A\")","v":"N/A"},{"$f":"IFERROR(AVERAGEIFS(Data!$E:$E,Data!$B:$B,I$12,Data!$A:$A,$B34),\"N/A\")","v":"N/A"},{"$f":"IFERROR(AVERAGEIFS(Data!$E:$E,Data!$B:$B,J$12,Data!$A:$A,$B34),\"N/A\")","v":"N/A"},{"$f":"IFERROR(AVERAGEIFS(Data!$Q:$Q,Data!$B:$B,K$12,Data!$A:$A,$B34),\"N/A\")","v":"N/A"},{"$f":"IFERROR(AVERAGEIFS(Data!$Q:$Q,Data!$B:$B,L$12,Data!$A:$A,$B34),\"N/A\")","v":"N/A"},{"$f":"IFERROR(AVERAGEIFS(Data!$Q:$Q,Data!$B:$B,M$12,Data!$A:$A,$B34),\"N/A\")","v":"N/A"}]
["",{"$f":"Observations!B24","v":""},{"$f":"IF(A35=1,VLOOKUP($B35,ObData!$A$1:$J$300,3,0),\"\")","v":""},{"$f":"IF(A35=1,B35&\": \"&TEXT(C35,\"mm/dd/yy\")&\"- \"&VLOOKUP(B35,ObData!$A$1:$J$300,5,0),\"\")","v":""},{"$f":"IF($B35=\"\",\"\",IF(COUNTIFS(Data!$B:$B,E$12,Data!$A:$A,Matrices!$B35)=0,\"\",COUNTIFS(Data!$B:$B,E$12,Data!$A:$A,Matrices!$B35)))","v":""},{"$f":"IF($B35=\"\",\"\",IF(COUNTIFS(Data!$B:$B,F$12,Data!$A:$A,Matrices!$B35)=0,\"\",COUNTIFS(Data!$B:$B,F$12,Data!$A:$A,Matrices!$B35)))","v":""},{"$f":"IF($B35=\"\",\"\",IF(COUNTIFS(Data!$B:$B,G$12,Data!$A:$A,Matrices!$B35)=0,\"\",COUNTIFS(Data!$B:$B,G$12,Data!$A:$A,Matrices!$B35)))","v":""},{"$f":"IFERROR(AVERAGEIFS(Data!$E:$E,Data!$B:$B,H$12,Data!$A:$A,$B35),\"N/A\")","v":"N/A"},{"$f":"IFERROR(AVERAGEIFS(Data!$E:$E,Data!$B:$B,I$12,Data!$A:$A,$B35),\"N/A\")","v":"N/A"},{"$f":"IFERROR(AVERAGEIFS(Data!$E:$E,Data!$B:$B,J$12,Data!$A:$A,$B35),\"N/A\")","v":"N/A"},{"$f":"IFERROR(AVERAGEIFS(Data!$Q:$Q,Data!$B:$B,K$12,Data!$A:$A,$B35),\"N/A\")","v":"N/A"},{"$f":"IFERROR(AVERAGEIFS(Data!$Q:$Q,Data!$B:$B,L$12,Data!$A:$A,$B35),\"N/A\")","v":"N/A"},{"$f":"IFERROR(AVERAGEIFS(Data!$Q:$Q,Data!$B:$B,M$12,Data!$A:$A,$B35),\"N/A\")","v":"N/A"}]
["",{"$f":"Observations!B25","v":""},{"$f":"IF(A36=1,VLOOKUP($B36,ObData!$A$1:$J$300,3,0),\"\")","v":""},{"$f":"IF(A36=1,B36&\": \"&TEXT(C36,\"mm/dd/yy\")&\"- \"&VLOOKUP(B36,ObData!$A$1:$J$300,5,0),\"\")","v":""},{"$f":"IF($B36=\"\",\"\",IF(COUNTIFS(Data!$B:$B,E$12,Data!$A:$A,Matrices!$B36)=0,\"\",COUNTIFS(Data!$B:$B,E$12,Data!$A:$A,Matrices!$B36)))","v":""},{"$f":"IF($B36=\"\",\"\",IF(COUNTIFS(Data!$B:$B,F$12,Data!$A:$A,Matrices!$B36)=0,\"\",COUNTIFS(Data!$B:$B,F$12,Data!$A:$A,Matrices!$B36)))","v":""},{"$f":"IF($B36=\"\",\"\",IF(COUNTIFS(Data!$B:$B,G$12,Data!$A:$A,Matrices!$B36)=0,\"\",COUNTIFS(Data!$B:$B,G$12,Data!$A:$A,Matrices!$B36)))","v":""},{"$f":"IFERROR(AVERAGEIFS(Data!$E:$E,Data!$B:$B,H$12,Data!$A:$A,$B36),\"N/A\")","v":"N/A"},{"$f":"IFERROR(AVERAGEIFS(Data!$E:$E,Data!$B:$B,I$12,Data!$A:$A,$B36),\"N/A\")","v":"N/A"},{"$f":"IFERROR(AVERAGEIFS(Data!$E:$E,Data!$B:$B,J$12,Data!$A:$A,$B36),\"N/A\")","v":"N/A"},{"$f":"IFERROR(AVERAGEIFS(Data!$Q:$Q,Data!$B:$B,K$12,Data!$A:$A,$B36),\"N/A\")","v":"N/A"},{"$f":"IFERROR(AVERAGEIFS(Data!$Q:$Q,Data!$B:$B,L$12,Data!$A:$A,$B36),\"N/A\")","v":"N/A"},{"$f":"IFERROR(AVERAGEIFS(Data!$Q:$Q,Data!$B:$B,M$12,Data!$A:$A,$B36),\"N/A\")","v":"N/A"}]
["",{"$f":"Observations!B26","v":""},{"$f":"IF(A37=1,VLOOKUP($B37,ObData!$A$1:$J$300,3,0),\"\")","v":""},{"$f":"IF(A37=1,B37&\": \"&TEXT(C37,\"mm/dd/yy\")&\"- \"&VLOOKUP(B37,ObData!$A$1:$J$300,5,0),\"\")","v":""},{"$f":"IF($B37=\"\",\"\",IF(COUNTIFS(Data!$B:$B,E$12,Data!$A:$A,Matrices!$B37)=0,\"\",COUNTIFS(Data!$B:$B,E$12,Data!$A:$A,Matrices!$B37)))","v":""},{"$f":"IF($B37=\"\",\"\",IF(COUNTIFS(Data!$B:$B,F$12,Data!$A:$A,Matrices!$B37)=0,\"\",COUNTIFS(Data!$B:$B,F$12,Data!$A:$A,Matrices!$B37)))","v":""},{"$f":"IF($B37=\"\",\"\",IF(COUNTIFS(Data!$B:$B,G$12,Data!$A:$A,Matrices!$B37)=0,\"\",COUNTIFS(Data!$B:$B,G$12,Data!$A:$A,Matrices!$B37)))","v":""},{"$f":"IFERROR(AVERAGEIFS(Data!$E:$E,Data!$B:$B,H$12,Data!$A:$A,$B37),\"N/A\")","v":"N/A"},{"$f":"IFERROR(AVERAGEIFS(Data!$E:$E,Data!$B:$B,I$12,Data!$A:$A,$B37),\"N/A\")","v":"N/A"},{"$f":"IFERROR(AVERAGEIFS(Data!$E:$E,Data!$B:$B,J$12,Data!$A:$A,$B37),\"N/A\")","v":"N/A"},{"$f":"IFERROR(AVERAGEIFS(Data!$Q:$Q,Data!$B:$B,K$12,Data!$A:$A,$B37),\"N/A\")","v":"N/A"},{"$f":"IFERROR(AVERAGEIFS(Data!$Q:$Q,Data!$B:$B,L$12,Data!$A:$A,$B37),\"N/A\")","v":"N/A"},{"$f":"IFERROR(AVERAGEIFS(Data!$Q:$Q,Data!$B:$B,M$12,Data!$A:$A,$B37),\"N/A\")","v":"N/A"}]
["",{"$f":"Observations!B27","v":""},{"$f":"IF(A38=1,VLOOKUP($B38,ObData!$A$1:$J$300,3,0),\"\")","v":""},{"$f":"IF(A38=1,B38&\": \"&TEXT(C38,\"mm/dd/yy\")&\"- \"&VLOOKUP(B38,ObData!$A$1:$J$300,5,0),\"\")","v":""},{"$f":"IF($B38=\"\",\"\",IF(COUNTIFS(Data!$B:$B,E$12,Data!$A:$A,Matrices!$B38)=0,\"\",COUNTIFS(Data!$B:$B,E$12,Data!$A:$A,Matrices!$B38)))","v":""},{"$f":"IF($B38=\"\",\"\",IF(COUNTIFS(Data!$B:$B,F$12,Data!$A:$A,Matrices!$B38)=0,\"\",COUNTIFS(Data!$B:$B,F$12,Data!$A:$A,Matrices!$B38)))","v":""},{"$f":"IF($B38=\"\",\"\",IF(COUNTIFS(Data!$B:$B,G$12,Data!$A:$A,Matrices!$B38)=0,\"\",COUNTIFS(Data!$B:$B,G$12,Data!$A:$A,Matrices!$B38)))","v":""},{"$f":"IFERROR(AVERAGEIFS(Data!$E:$E,Data!$B:$B,H$12,Data!$A:$A,$B38),\"N/A\")","v":"N/A"},{"$f":"IFERROR(AVERAGEIFS(Data!$E:$E,Data!$B:$B,I$12,Data!$A:$A,$B38),\"N/A\")","v":"N/A"},{"$f":"IFERROR(AVERAGEIFS(Data!$E:$E,Data!$B:$B,J$12,Data!$A:$A,$B38),\"N/A\")","v":"N/A"},{"$f":"IFERROR(AVERAGEIFS(Data!$Q:$Q,Data!$B:$B,K$12,Data!$A:$A,$B38),\"N/A\")","v":"N/A"},{"$f":"IFERROR(AVERAGEIFS(Data!$Q:$Q,Data!$B:$B,L$12,Data!$A:$A,$B38),\"N/A\")","v":"N/A"},{"$f":"IFERROR(AVERAGEIFS(Data!$Q:$Q,Data!$B:$B,M$12,Data!$A:$A,$B38),\"N/A\")","v":"N/A"}]
["",{"$f":"Observations!B28","v":""},{"$f":"IF(A39=1,VLOOKUP($B39,ObData!$A$1:$J$300,3,0),\"\")","v":""},{"$f":"IF(A39=1,B39&\": \"&TEXT(C39,\"mm/dd/yy\")&\"- \"&VLOOKUP(B39,ObData!$A$1:$J$300,5,0),\"\")","v":""},{"$f":"IF($B39=\"\",\"\",IF(COUNTIFS(Data!$B:$B,E$12,Data!$A:$A,Matrices!$B39)=0,\"\",COUNTIFS(Data!$B:$B,E$12,Data!$A:$A,Matrices!$B39)))","v":""},{"$f":"IF($B39=\"\",\"\",IF(COUNTIFS(Data!$B:$B,F$12,Data!$A:$A,Matrices!$B39)=0,\"\",COUNTIFS(Data!$B:$B,F$12,Data!$A:$A,Matrices!$B39)))","v":""},{"$f":"IF($B39=\"\",\"\",IF(COUNTIFS(Data!$B:$B,G$12,Data!$A:$A,Matrices!$B39)=0,\"\",COUNTIFS(Data!$B:$B,G$12,Data!$A:$A,Matrices!$B39)))","v":""},{"$f":"IFERROR(AVERAGEIFS(Data!$E:$E,Data!$B:$B,H$12,Data!$A:$A,$B39),\"N/A\")","v":"N/A"},{"$f":"IFERROR(AVERAGEIFS(Data!$E:$E,Data!$B:$B,I$12,Data!$A:$A,$B39),\"N/A\")","v":"N/A"},{"$f":"IFERROR(AVERAGEIFS(Data!$E:$E,Data!$B:$B,J$12,Data!$A:$A,$B39),\"N/A\")","v":"N/A"},{"$f":"IFERROR(AVERAGEIFS(Data!$Q:$Q,Data!$B:$B,K$12,Data!$A:$A,$B39),\"N/A\")","v":"N/A"},{"$f":"IFERROR(AVERAGEIFS(Data!$Q:$Q,Data!$B:$B,L$12,Data!$A:$A,$B39),\"N/A\")","v":"N/A"},{"$f":"IFERROR(AVERAGEIFS(Data!$Q:$Q,Data!$B:$B,M$12,Data!$A:$A,$B39),\"N/A\")","v":"N/A"}]
["",{"$f":"Observations!B29","v":""},{"$f":"IF(A40=1,VLOOKUP($B40,ObData!$A$1:$J$300,3,0),\"\")","v":""},{"$f":"IF(A40=1,B40&\": \"&TEXT(C40,\"mm/dd/yy\")&\"- \"&VLOOKUP(B40,ObData!$A$1:$J$300,5,0),\"\")","v":""},{"$f":"IF($B40=\"\",\"\",IF(COUNTIFS(Data!$B:$B,E$12,Data!$A:$A,Matrices!$B40)=0,\"\",COUNTIFS(Data!$B:$B,E$12,Data!$A:$A,Matrices!$B40)))","v":""},{"$f":"IF($B40=\"\",\"\",IF(COUNTIFS(Data!$B:$B,F$12,Data!$A:$A,Matrices!$B40)=0,\"\",COUNTIFS(Data!$B:$B,F$12,Data!$A:$A,Matrices!$B40)))","v":""},{"$f":"IF($B40=\"\",\"\",IF(COUNTIFS(Data!$B:$B,G$12,Data!$A:$A,Matrices!$B40)=0,\"\",COUNTIFS(Data!$B:$B,G$12,Data!$A:$A,Matrices!$B40)))","v":""},{"$f":"IFERROR(AVERAGEIFS(Data!$E:$E,Data!$B:$B,H$12,Data!$A:$A,$B40),\"N/A\")","v":"N/A"},{"$f":"IFERROR(AVERAGEIFS(Data!$E:$E,Data!$B:$B,I$12,Data!$A:$A,$B40),\"N/A\")","v":"N/A"},{"$f":"IFERROR(AVERAGEIFS(Data!$E:$E,Data!$B:$B,J$12,Data!$A:$A,$B40),\"N/A\")","v":"N/A"},{"$f":"IFERROR(AVERAGEIFS(Data!$Q:$Q,Data!$B:$B,K$12,Data!$A:$A,$B40),\"N/A\")","v":"N/A"},{"$f":"IFERROR(AVERAGEIFS(Data!$Q:$Q,Data!$B:$B,L$12,Data!$A:$A,$B40),\"N/A\")","v":"N/A"},{"$f":"IFERROR(AVERAGEIFS(Data!$Q:$Q,Data!$B:$B,M$12,Data!$A:$A,$B40),\"N/A\")","v":"N/A"}]
["",{"$f":"Observations!B30","v":""},{"$f":"IF(A41=1,VLOOKUP($B41,ObData!$A$1:$J$300,3,0),\"\")","v":""},{"$f":"IF(A41=1,B41&\": \"&TEXT(C41,\"mm/dd/yy\")&\"- \"&VLOOKUP(B41,ObData!$A$1:$J$300,5,0),\"\")","v":""},{"$f":"IF($B41=\"\",\"\",IF(COUNTIFS(Data!$B:$B,E$12,Data!$A:$A,Matrices!$B41)=0,\"\",COUNTIFS(Data!$B:$B,E$12,Data!$A:$A,Matrices!$B41)))","v":""},{"$f":"IF($B41=\"\",\"\",IF(COUNTIFS(Data!$B:$B,F$12,Data!$A:$A,Matrices!$B41)=0,\"\",COUNTIFS(Data!$B:$B,F$12,Data!$A:$A,Matrices!$B41)))","v":""},{"$f":"IF($B41=\"\",\"\",IF(COUNTIFS(Data!$B:$B,G$12,Data!$A:$A,Matrices!$B41)=0,\"\",COUNTIFS(Data!$B:$B,G$12,Data!$A:$A,Matrices!$B41)))","v":""},{"$f":"IFERROR(AVERAGEIFS(Data!$E:$E,Data!$B:$B,H$12,Data!$A:$A,$B41),\"N/A\")","v":"N/A"},{"$f":"IFERROR(AVERAGEIFS(Data!$E:$E,Data!$B:$B,I$12,Data!$A:$A,$B41),\"N/A\")","v":"N/A"},{"$f":"IFERROR(AVERAGEIFS(Data!$E:$E,Data!$B:$B,J$12,Data!$A:$A,$B41),\"N/A\")","v":"N/A"},{"$f":"IFERROR(AVERAGEIFS(Data!$Q:$Q,Data!$B:$B,K$12,Data!$A:$A,$B41),\"N/A\")","v":"N/A"},{"$f":"IFERROR(AVERAGEIFS(Data!$Q:$Q,Data!$B:$B,L$12,Data!$A:$A,$B41),\"N/A\")","v":"N/A"},{"$f":"IFERROR(AVERAGEIFS(Data!$Q:$Q,Data!$B:$B,M$12,Data!$A:$A,$B41),\"N/A\")","v":"N/A"}]
["",{"$f":"Observations!B31","v":""},{"$f":"IF(A42=1,VLOOKUP($B42,ObData!$A$1:$J$300,3,0),\"\")","v":""},{"$f":"IF(A42=1,B42&\": \"&TEXT(C42,\"mm/dd/yy\")&\"- \"&VLOOKUP(B42,ObData!$A$1:$J$300,5,0),\"\")","v":""},{"$f":"IF($B42=\"\",\"\",IF(COUNTIFS(Data!$B:$B,E$12,Data!$A:$A,Matrices!$B42)=0,\"\",COUNTIFS(Data!$B:$B,E$12,Data!$A:$A,Matrices!$B42)))","v":""},{"$f":"IF($B42=\"\",\"\",IF(COUNTIFS(Data!$B:$B,F$12,Data!$A:$A,Matrices!$B42)=0,\"\",COUNTIFS(Data!$B:$B,F$12,Data!$A:$A,Matrices!$B42)))","v":""},{"$f":"IF($B42=\"\",\"\",IF(COUNTIFS(Data!$B:$B,G$12,Data!$A:$A,Matrices!$B42)=0,\"\",COUNTIFS(Data!$B:$B,G$12,Data!$A:$A,Matrices!$B42)))","v":""},{"$f":"IFERROR(AVERAGEIFS(Data!$E:$E,Data!$B:$B,H$12,Data!$A:$A,$B42),\"N/A\")","v":"N/A"},{"$f":"IFERROR(AVERAGEIFS(Data!$E:$E,Data!$B:$B,I$12,Data!$A:$A,$B42),\"N/A\")","v":"N/A"},{"$f":"IFERROR(AVERAGEIFS(Data!$E:$E,Data!$B:$B,J$12,Data!$A:$A,$B42),\"N/A\")","v":"N/A"},{"$f":"IFERROR(AVERAGEIFS(Data!$Q:$Q,Data!$B:$B,K$12,Data!$A:$A,$B42),\"N/A\")","v":"N/A"},{"$f":"IFERROR(AVERAGEIFS(Data!$Q:$Q,Data!$B:$B,L$12,Data!$A:$A,$B42),\"N/A\")","v":"N/A"},{"$f":"IFERROR(AVERAGEIFS(Data!$Q:$Q,Data!$B:$B,M$12,Data!$A:$A,$B42),\"N/A\")","v":"N/A"}]
["",{"$f":"Observations!B32","v":""},{"$f":"IF(A43=1,VLOOKUP($B43,ObData!$A$1:$J$300,3,0),\"\")","v":""},{"$f":"IF(A43=1,B43&\": \"&TEXT(C43,\"mm/dd/yy\")&\"- \"&VLOOKUP(B43,ObData!$A$1:$J$300,5,0),\"\")","v":""},{"$f":"IF($B43=\"\",\"\",IF(COUNTIFS(Data!$B:$B,E$12,Data!$A:$A,Matrices!$B43)=0,\"\",COUNTIFS(Data!$B:$B,E$12,Data!$A:$A,Matrices!$B43)))","v":""},{"$f":"IF($B43=\"\",\"\",IF(COUNTIFS(Data!$B:$B,F$12,Data!$A:$A,Matrices!$B43)=0,\"\",COUNTIFS(Data!$B:$B,F$12,Data!$A:$A,Matrices!$B43)))","v":""},{"$f":"IF($B43=\"\",\"\",IF(COUNTIFS(Data!$B:$B,G$12,Data!$A:$A,Matrices!$B43)=0,\"\",COUNTIFS(Data!$B:$B,G$12,Data!$A:$A,Matrices!$B43)))","v":""},{"$f":"IFERROR(AVERAGEIFS(Data!$E:$E,Data!$B:$B,H$12,Data!$A:$A,$B43),\"N/A\")","v":"N/A"},{"$f":"IFERROR(AVERAGEIFS(Data!$E:$E,Data!$B:$B,I$12,Data!$A:$A,$B43),\"N/A\")","v":"N/A"},{"$f":"IFERROR(AVERAGEIFS(Data!$E:$E,Data!$B:$B,J$12,Data!$A:$A,$B43),\"N/A\")","v":"N/A"},{"$f":"IFERROR(AVERAGEIFS(Data!$Q:$Q,Data!$B:$B,K$12,Data!$A:$A,$B43),\"N/A\")","v":"N/A"},{"$f":"IFERROR(AVERAGEIFS(Data!$Q:$Q,Data!$B:$B,L$12,Data!$A:$A,$B43),\"N/A\")","v":"N/A"},{"$f":"IFERROR(AVERAGEIFS(Data!$Q:$Q,Data!$B:$B,M$12,Data!$A:$A,$B43),\"N/A\")","v":"N/A"}]
["",{"$f":"Observations!B33","v":""},{"$f":"IF(A44=1,VLOOKUP($B44,ObData!$A$1:$J$300,3,0),\"\")","v":""},{"$f":"IF(A44=1,B44&\": \"&TEXT(C44,\"mm/dd/yy\")&\"- \"&VLOOKUP(B44,ObData!$A$1:$J$300,5,0),\"\")","v":""},{"$f":"IF($B44=\"\",\"\",IF(COUNTIFS(Data!$B:$B,E$12,Data!$A:$A,Matrices!$B44)=0,\"\",COUNTIFS(Data!$B:$B,E$12,Data!$A:$A,Matrices!$B44)))","v":""},{"$f":"IF($B44=\"\",\"\",IF(COUNTIFS(Data!$B:$B,F$12,Data!$A:$A,Matrices!$B44)=0,\"\",COUNTIFS(Data!$B:$B,F$12,Data!$A:$A,Matrices!$B44)))","v":""},{"$f":"IF($B44=\"\",\"\",IF(COUNTIFS(Data!$B:$B,G$12,Data!$A:$A,Matrices!$B44)=0,\"\",COUNTIFS(Data!$B:$B,G$12,Data!$A:$A,Matrices!$B44)))","v":""},{"$f":"IFERROR(AVERAGEIFS(Data!$E:$E,Data!$B:$B,H$12,Data!$A:$A,$B44),\"N/A\")","v":"N/A"},{"$f":"IFERROR(AVERAGEIFS(Data!$E:$E,Data!$B:$B,I$12,Data!$A:$A,$B44),\"N/A\")","v":"N/A"},{"$f":"IFERROR(AVERAGEIFS(Data!$E:$E,Data!$B:$B,J$12,Data!$A:$A,$B44),\"N/A\")","v":"N/A"},{"$f":"IFERROR(AVERAGEIFS(Data!$Q:$Q,Data!$B:$B,K$12,Data!$A:$A,$B44),\"N/A\")","v":"N/A"},{"$f":"IFERROR(AVERAGEIFS(Data!$Q:$Q,Data!$B:$B,L$12,Data!$A:$A,$B44),\"N/A\")","v":"N/A"},{"$f":"IFERROR(AVERAGEIFS(Data!$Q:$Q,Data!$B:$B,M$12,Data!$A:$A,$B44),\"N/A\")","v":"N/A"}]
["",{"$f":"Observations!B34","v":""},{"$f":"IF(A45=1,VLOOKUP($B45,ObData!$A$1:$J$300,3,0),\"\")","v":""},{"$f":"IF(A45=1,B45&\": \"&TEXT(C45,\"mm/dd/yy\")&\"- \"&VLOOKUP(B45,ObData!$A$1:$J$300,5,0),\"\")","v":""},{"$f":"IF($B45=\"\",\"\",IF(COUNTIFS(Data!$B:$B,E$12,Data!$A:$A,Matrices!$B45)=0,\"\",COUNTIFS(Data!$B:$B,E$12,Data!$A:$A,Matrices!$B45)))","v":""},{"$f":"IF($B45=\"\",\"\",IF(COUNTIFS(Data!$B:$B,F$12,Data!$A:$A,Matrices!$B45)=0,\"\",COUNTIFS(Data!$B:$B,F$12,Data!$A:$A,Matrices!$B45)))","v":""},{"$f":"IF($B45=\"\",\"\",IF(COUNTIFS(Data!$B:$B,G$12,Data!$A:$A,Matrices!$B45)=0,\"\",COUNTIFS(Data!$B:$B,G$12,Data!$A:$A,Matrices!$B45)))","v":""},{"$f":"IFERROR(AVERAGEIFS(Data!$E:$E,Data!$B:$B,H$12,Data!$A:$A,$B45),\"N/A\")","v":"N/A"},{"$f":"IFERROR(AVERAGEIFS(Data!$E:$E,Data!$B:$B,I$12,Data!$A:$A,$B45),\"N/A\")","v":"N/A"},{"$f":"IFERROR(AVERAGEIFS(Data!$E:$E,Data!$B:$B,J$12,Data!$A:$A,$B45),\"N/A\")","v":"N/A"},{"$f":"IFERROR(AVERAGEIFS(Data!$Q:$Q,Data!$B:$B,K$12,Data!$A:$A,$B45),\"N/A\")","v":"N/A"},{"$f":"IFERROR(AVERAGEIFS(Data!$Q:$Q,Data!$B:$B,L$12,Data!$A:$A,$B45),\"N/A\")","v":"N/A"},{"$f":"IFERROR(AVERAGEIFS(Data!$Q:$Q,Data!$B:$B,M$12,Data!$A:$A,$B45),\"N/A\")","v":"N/A"}]
["",{"$f":"Observations!B35","v":""},{"$f":"IF(A46=1,VLOOKUP($B46,ObData!$A$1:$J$300,3,0),\"\")","v":""},{"$f":"IF(A46=1,B46&\": \"&TEXT(C46,\"mm/dd/yy\")&\"- \"&VLOOKUP(B46,ObData!$A$1:$J$300,5,0),\"\")","v":""},{"$f":"IF($B46=\"\",\"\",IF(COUNTIFS(Data!$B:$B,E$12,Data!$A:$A,Matrices!$B46)=0,\"\",COUNTIFS(Data!$B:$B,E$12,Data!$A:$A,Matrices!$B46)))","v":""},{"$f":"IF($B46=\"\",\"\",IF(COUNTIFS(Data!$B:$B,F$12,Data!$A:$A,Matrices!$B46)=0,\"\",COUNTIFS(Data!$B:$B,F$12,Data!$A:$A,Matrices!$B46)))","v":""},{"$f":"IF($B46=\"\",\"\",IF(COUNTIFS(Data!$B:$B,G$12,Data!$A:$A,Matrices!$B46)=0,\"\",COUNTIFS(Data!$B:$B,G$12,Data!$A:$A,Matrices!$B46)))","v":""},{"$f":"IFERROR(AVERAGEIFS(Data!$E:$E,Data!$B:$B,H$12,Data!$A:$A,$B46),\"N/A\")","v":"N/A"},{"$f":"IFERROR(AVERAGEIFS(Data!$E:$E,Data!$B:$B,I$12,Data!$A:$A,$B46),\"N/A\")","v":"N/A"},{"$f":"IFERROR(AVERAGEIFS(Data!$E:$E,Data!$B:$B,J$12,Data!$A:$A,$B46),\"N/A\")","v":"N/A"},{"$f":"IFERROR(AVERAGEIFS(Data!$Q:$Q,Data!$B:$B,K$12,Data!$A:$A,$B46),\"N/A\")","v":"N/A"},{"$f":"IFERROR(AVERAGEIFS(Data!$Q:$Q,Data!$B:$B,L$12,Data!$A:$A,$B46),\"N/A\")","v":"N/A"},{"$f":"IFERROR(AVERAGEIFS(Data!$Q:$Q,Data!$B:$B,M$12,Data!$A:$A,$B46),\"N/A\")","v":"N/A"}]
["",{"$f":"Observations!B36","v":""},{"$f":"IF(A47=1,VLOOKUP($B47,ObData!$A$1:$J$300,3,0),\"\")","v":""},{"$f":"IF(A47=1,B47&\": \"&TEXT(C47,\"mm/dd/yy\")&\"- \"&VLOOKUP(B47,ObData!$A$1:$J$300,5,0),\"\")","v":""},{"$f":"IF($B47=\"\",\"\",IF(COUNTIFS(Data!$B:$B,E$12,Data!$A:$A,Matrices!$B47)=0,\"\",COUNTIFS(Data!$B:$B,E$12,Data!$A:$A,Matrices!$B47)))","v":""},{"$f":"IF($B47=\"\",\"\",IF(COUNTIFS(Data!$B:$B,F$12,Data!$A:$A,Matrices!$B47)=0,\"\",COUNTIFS(Data!$B:$B,F$12,Data!$A:$A,Matrices!$B47)))","v":""},{"$f":"IF($B47=\"\",\"\",IF(COUNTIFS(Data!$B:$B,G$12,Data!$A:$A,Matrices!$B47)=0,\"\",COUNTIFS(Data!$B:$B,G$12,Data!$A:$A,Matrices!$B47)))","v":""},{"$f":"IFERROR(AVERAGEIFS(Data!$E:$E,Data!$B:$B,H$12,Data!$A:$A,$B47),\"N/A\")","v":"N/A"},{"$f":"IFERROR(AVERAGEIFS(Data!$E:$E,Data!$B:$B,I$12,Data!$A:$A,$B47),\"N/A\")","v":"N/A"},{"$f":"IFERROR(AVERAGEIFS(Data!$E:$E,Data!$B:$B,J$12,Data!$A:$A,$B47),\"N/A\")","v":"N/A"},{"$f":"IFERROR(AVERAGEIFS(Data!$Q:$Q,Data!$B:$B,K$12,Data!$A:$A,$B47),\"N/A\")","v":"N/A"},{"$f":"IFERROR(AVERAGEIFS(Data!$Q:$Q,Data!$B:$B,L$12,Data!$A:$A,$B47),\"N/A\")","v":"N/A"},{"$f":"IFERROR(AVERAGEIFS(Data!$Q:$Q,Data!$B:$B,M$12,Data!$A:$A,$B47),\"N/A\")","v":"N/A"}]
["",{"$f":"Observations!B37","v":""},{"$f":"IF(A48=1,VLOOKUP($B48,ObData!$A$1:$J$300,3,0),\"\")","v":""},{"$f":"IF(A48=1,B48&\": \"&TEXT(C48,\"mm/dd/yy\")&\"- \"&VLOOKUP(B48,ObData!$A$1:$J$300,5,0),\"\")","v":""},{"$f":"IF($B48=\"\",\"\",IF(COUNTIFS(Data!$B:$B,E$12,Data!$A:$A,Matrices!$B48)=0,\"\",COUNTIFS(Data!$B:$B,E$12,Data!$A:$A,Matrices!$B48)))","v":""},{"$f":"IF($B48=\"\",\"\",IF(COUNTIFS(Data!$B:$B,F$12,Data!$A:$A,Matrices!$B48)=0,\"\",COUNTIFS(Data!$B:$B,F$12,Data!$A:$A,Matrices!$B48)))","v":""},{"$f":"IF($B48=\"\",\"\",IF(COUNTIFS(Data!$B:$B,G$12,Data!$A:$A,Matrices!$B48)=0,\"\",COUNTIFS(Data!$B:$B,G$12,Data!$A:$A,Matrices!$B48)))","v":""},{"$f":"IFERROR(AVERAGEIFS(Data!$E:$E,Data!$B:$B,H$12,Data!$A:$A,$B48),\"N/A\")","v":"N/A"},{"$f":"IFERROR(AVERAGEIFS(Data!$E:$E,Data!$B:$B,I$12,Data!$A:$A,$B48),\"N/A\")","v":"N/A"},{"$f":"IFERROR(AVERAGEIFS(Data!$E:$E,Data!$B:$B,J$12,Data!$A:$A,$B48),\"N/A\")","v":"N/A"},{"$f":"IFERROR(AVERAGEIFS(Data!$Q:$Q,Data!$B:$B,K$12,Data!$A:$A,$B48),\"N/A\")","v":"N/A"},{"$f":"IFERROR(AVERAGEIFS(Data!$Q:$Q,Data!$B:$B,L$12,Data!$A:$A,$B48),\"N/A\")","v":"N/A"},{"$f":"IFERROR(AVERAGEIFS(Data!$Q:$Q,Data!$B:$B,M$12,Data!$A:$A,$B48),\"N/A\")","v":"N/A"}]
["",{"$f":"Observations!B38","v":""},{"$f":"IF(A49=1,VLOOKUP($B49,ObData!$A$1:$J$300,3,0),\"\")","v":""},{"$f":"IF(A49=1,B49&\": \"&TEXT(C49,\"mm/dd/yy\")&\"- \"&VLOOKUP(B49,ObData!$A$1:$J$300,5,0),\"\")","v":""},{"$f":"IF($B49=\"\",\"\",IF(COUNTIFS(Data!$B:$B,E$12,Data!$A:$A,Matrices!$B49)=0,\"\",COUNTIFS(Data!$B:$B,E$12,Data!$A:$A,Matrices!$B49)))","v":""},{"$f":"IF($B49=\"\",\"\",IF(COUNTIFS(Data!$B:$B,F$12,Data!$A:$A,Matrices!$B49)=0,\"\",COUNTIFS(Data!$B:$B,F$12,Data!$A:$A,Matrices!$B49)))","v":""},{"$f":"IF($B49=\"\",\"\",IF(COUNTIFS(Data!$B:$B,G$12,Data!$A:$A,Matrices!$B49)=0,\"\",COUNTIFS(Data!$B:$B,G$12,Data!$A:$A,Matrices!$B49)))","v":""},{"$f":"IFERROR(AVERAGEIFS(Data!$E:$E,Data!$B:$B,H$12,Data!$A:$A,$B49),\"N/A\")","v":"N/A"},{"$f":"IFERROR(AVERAGEIFS(Data!$E:$E,Data!$B:$B,I$12,Data!$A:$A,$B49),\"N/A\")","v":"N/A"},{"$f":"IFERROR(AVERAGEIFS(Data!$E:$E,Data!$B:$B,J$12,Data!$A:$A,$B49),\"N/A\")","v":"N/A"},{"$f":"IFERROR(AVERAGEIFS(Data!$Q:$Q,Data!$B:$B,K$12,Data!$A:$A,$B49),\"N/A\")","v":"N/A"},{"$f":"IFERROR(AVERAGEIFS(Data!$Q:$Q,Data!$B:$B,L$12,Data!$A:$A,$B49),\"N/A\")","v":"N/A"},{"$f":"IFERROR(AVERAGEIFS(Data!$Q:$Q,Data!$B:$B,M$12,Data!$A:$A,$B49),\"N/A\")","v":"N/A"}]
["",{"$f":"Observations!B39","v":""},{"$f":"IF(A50=1,VLOOKUP($B50,ObData!$A$1:$J$300,3,0),\"\")","v":""},{"$f":"IF(A50=1,B50&\": \"&TEXT(C50,\"mm/dd/yy\")&\"- \"&VLOOKUP(B50,ObData!$A$1:$J$300,5,0),\"\")","v":""},{"$f":"IF($B50=\"\",\"\",IF(COUNTIFS(Data!$B:$B,E$12,Data!$A:$A,Matrices!$B50)=0,\"\",COUNTIFS(Data!$B:$B,E$12,Data!$A:$A,Matrices!$B50)))","v":""},{"$f":"IF($B50=\"\",\"\",IF(COUNTIFS(Data!$B:$B,F$12,Data!$A:$A,Matrices!$B50)=0,\"\",COUNTIFS(Data!$B:$B,F$12,Data!$A:$A,Matrices!$B50)))","v":""},{"$f":"IF($B50=\"\",\"\",IF(COUNTIFS(Data!$B:$B,G$12,Data!$A:$A,Matrices!$B50)=0,\"\",COUNTIFS(Data!$B:$B,G$12,Data!$A:$A,Matrices!$B50)))","v":""},{"$f":"IFERROR(AVERAGEIFS(Data!$E:$E,Data!$B:$B,H$12,Data!$A:$A,$B50),\"N/A\")","v":"N/A"},{"$f":"IFERROR(AVERAGEIFS(Data!$E:$E,Data!$B:$B,I$12,Data!$A:$A,$B50),\"N/A\")","v":"N/A"},{"$f":"IFERROR(AVERAGEIFS(Data!$E:$E,Data!$B:$B,J$12,Data!$A:$A,$B50),\"N/A\")","v":"N/A"},{"$f":"IFERROR(AVERAGEIFS(Data!$Q:$Q,Data!$B:$B,K$12,Data!$A:$A,$B50),\"N/A\")","v":"N/A"},{"$f":"IFERROR(AVERAGEIFS(Data!$Q:$Q,Data!$B:$B,L$12,Data!$A:$A,$B50),\"N/A\")","v":"N/A"},{"$f":"IFERROR(AVERAGEIFS(Data!$Q:$Q,Data!$B:$B,M$12,Data!$A:$A,$B50),\"N/A\")","v":"N/A"}]
["",{"$f":"Observations!B40","v":""},{"$f":"IF(A51=1,VLOOKUP($B51,ObData!$A$1:$J$300,3,0),\"\")","v":""},{"$f":"IF(A51=1,B51&\": \"&TEXT(C51,\"mm/dd/yy\")&\"- \"&VLOOKUP(B51,ObData!$A$1:$J$300,5,0),\"\")","v":""},{"$f":"IF($B51=\"\",\"\",IF(COUNTIFS(Data!$B:$B,E$12,Data!$A:$A,Matrices!$B51)=0,\"\",COUNTIFS(Data!$B:$B,E$12,Data!$A:$A,Matrices!$B51)))","v":""},{"$f":"IF($B51=\"\",\"\",IF(COUNTIFS(Data!$B:$B,F$12,Data!$A:$A,Matrices!$B51)=0,\"\",COUNTIFS(Data!$B:$B,F$12,Data!$A:$A,Matrices!$B51)))","v":""},{"$f":"IF($B51=\"\",\"\",IF(COUNTIFS(Data!$B:$B,G$12,Data!$A:$A,Matrices!$B51)=0,\"\",COUNTIFS(Data!$B:$B,G$12,Data!$A:$A,Matrices!$B51)))","v":""},{"$f":"IFERROR(AVERAGEIFS(Data!$E:$E,Data!$B:$B,H$12,Data!$A:$A,$B51),\"N/A\")","v":"N/A"},{"$f":"IFERROR(AVERAGEIFS(Data!$E:$E,Data!$B:$B,I$12,Data!$A:$A,$B51),\"N/A\")","v":"N/A"},{"$f":"IFERROR(AVERAGEIFS(Data!$E:$E,Data!$B:$B,J$12,Data!$A:$A,$B51),\"N/A\")","v":"N/A"},{"$f":"IFERROR(AVERAGEIFS(Data!$Q:$Q,Data!$B:$B,K$12,Data!$A:$A,$B51),\"N/A\")","v":"N/A"},{"$f":"IFERROR(AVERAGEIFS(Data!$Q:$Q,Data!$B:$B,L$12,Data!$A:$A,$B51),\"N/A\")","v":"N/A"},{"$f":"IFERROR(AVERAGEIFS(Data!$Q:$Q,Data!$B:$B,M$12,Data!$A:$A,$B51),\"N/A\")","v":"N/A"}]
["",{"$f":"Observations!B41","v":""},{"$f":"IF(A52=1,VLOOKUP($B52,ObData!$A$1:$J$300,3,0),\"\")","v":""},{"$f":"IF(A52=1,B52&\": \"&TEXT(C52,\"mm/dd/yy\")&\"- \"&VLOOKUP(B52,ObData!$A$1:$J$300,5,0),\"\")","v":""},{"$f":"IF($B52=\"\",\"\",IF(COUNTIFS(Data!$B:$B,E$12,Data!$A:$A,Matrices!$B52)=0,\"\",COUNTIFS(Data!$B:$B,E$12,Data!$A:$A,Matrices!$B52)))","v":""},{"$f":"IF($B52=\"\",\"\",IF(COUNTIFS(Data!$B:$B,F$12,Data!$A:$A,Matrices!$B52)=0,\"\",COUNTIFS(Data!$B:$B,F$12,Data!$A:$A,Matrices!$B52)))","v":""},{"$f":"IF($B52=\"\",\"\",IF(COUNTIFS(Data!$B:$B,G$12,Data!$A:$A,Matrices!$B52)=0,\"\",COUNTIFS(Data!$B:$B,G$12,Data!$A:$A,Matrices!$B52)))","v":""},{"$f":"IFERROR(AVERAGEIFS(Data!$E:$E,Data!$B:$B,H$12,Data!$A:$A,$B52),\"N/A\")","v":"N/A"},{"$f":"IFERROR(AVERAGEIFS(Data!$E:$E,Data!$B:$B,I$12,Data!$A:$A,$B52),\"N/A\")","v":"N/A"},{"$f":"IFERROR(AVERAGEIFS(Data!$E:$E,Data!$B:$B,J$12,Data!$A:$A,$B52),\"N/A\")","v":"N/A"},{"$f":"IFERROR(AVERAGEIFS(Data!$Q:$Q,Data!$B:$B,K$12,Data!$A:$A,$B52),\"N/A\")","v":"N/A"},{"$f":"IFERROR(AVERAGEIFS(Data!$Q:$Q,Data!$B:$B,L$12,Data!$A:$A,$B52),\"N/A\")","v":"N/A"},{"$f":"IFERROR(AVERAGEIFS(Data!$Q:$Q,Data!$B:$B,M$12,Data!$A:$A,$B52),\"N/A\")","v":"N/A"}]
["",{"$f":"Observations!B42","v":""},{"$f":"IF(A53=1,VLOOKUP($B53,ObData!$A$1:$J$300,3,0),\"\")","v":""},{"$f":"IF(A53=1,B53&\": \"&TEXT(C53,\"mm/dd/yy\")&\"- \"&VLOOKUP(B53,ObData!$A$1:$J$300,5,0),\"\")","v":""},{"$f":"IF($B53=\"\",\"\",IF(COUNTIFS(Data!$B:$B,E$12,Data!$A:$A,Matrices!$B53)=0,\"\",COUNTIFS(Data!$B:$B,E$12,Data!$A:$A,Matrices!$B53)))","v":""},{"$f":"IF($B53=\"\",\"\",IF(COUNTIFS(Data!$B:$B,F$12,Data!$A:$A,Matrices!$B53)=0,\"\",COUNTIFS(Data!$B:$B,F$12,Data!$A:$A,Matrices!$B53)))","v":""},{"$f":"IF($B53=\"\",\"\",IF(COUNTIFS(Data!$B:$B,G$12,Data!$A:$A,Matrices!$B53)=0,\"\",COUNTIFS(Data!$B:$B,G$12,Data!$A:$A,Matrices!$B53)))","v":""},{"$f":"IFERROR(AVERAGEIFS(Data!$E:$E,Data!$B:$B,H$12,Data!$A:$A,$B53),\"N/A\")","v":"N/A"},{"$f":"IFERROR(AVERAGEIFS(Data!$E:$E,Data!$B:$B,I$12,Data!$A:$A,$B53),\"N/A\")","v":"N/A"},{"$f":"IFERROR(AVERAGEIFS(Data!$E:$E,Data!$B:$B,J$12,Data!$A:$A,$B53),\"N/A\")","v":"N/A"},{"$f":"IFERROR(AVERAGEIFS(Data!$Q:$Q,Data!$B:$B,K$12,Data!$A:$A,$B53),\"N/A\")","v":"N/A"},{"$f":"IFERROR(AVERAGEIFS(Data!$Q:$Q,Data!$B:$B,L$12,Data!$A:$A,$B53),\"N/A\")","v":"N/A"},{"$f":"IFERROR(AVERAGEIFS(Data!$Q:$Q,Data!$B:$B,M$12,Data!$A:$A,$B53),\"N/A\")","v":"N/A"}]
["",{"$f":"Observations!B43","v":""},{"$f":"IF(A54=1,VLOOKUP($B54,ObData!$A$1:$J$300,3,0),\"\")","v":""},{"$f":"IF(A54=1,B54&\": \"&TEXT(C54,\"mm/dd/yy\")&\"- \"&VLOOKUP(B54,ObData!$A$1:$J$300,5,0),\"\")","v":""},{"$f":"IF($B54=\"\",\"\",IF(COUNTIFS(Data!$B:$B,E$12,Data!$A:$A,Matrices!$B54)=0,\"\",COUNTIFS(Data!$B:$B,E$12,Data!$A:$A,Matrices!$B54)))","v":""},{"$f":"IF($B54=\"\",\"\",IF(COUNTIFS(Data!$B:$B,F$12,Data!$A:$A,Matrices!$B54)=0,\"\",COUNTIFS(Data!$B:$B,F$12,Data!$A:$A,Matrices!$B54)))","v":""},{"$f":"IF($B54=\"\",\"\",IF(COUNTIFS(Data!$B:$B,G$12,Data!$A:$A,Matrices!$B54)=0,\"\",COUNTIFS(Data!$B:$B,G$12,Data!$A:$A,Matrices!$B54)))","v":""},{"$f":"IFERROR(AVERAGEIFS(Data!$E:$E,Data!$B:$B,H$12,Data!$A:$A,$B54),\"N/A\")","v":"N/A"},{"$f":"IFERROR(AVERAGEIFS(Data!$E:$E,Data!$B:$B,I$12,Data!$A:$A,$B54),\"N/A\")","v":"N/A"},{"$f":"IFERROR(AVERAGEIFS(Data!$E:$E,Data!$B:$B,J$12,Data!$A:$A,$B54),\"N/A\")","v":"N/A"},{"$f":"IFERROR(AVERAGEIFS(Data!$Q:$Q,Data!$B:$B,K$12,Data!$A:$A,$B54),\"N/A\")","v":"N/A"},{"$f":"IFERROR(AVERAGEIFS(Data!$Q:$Q,Data!$B:$B,L$12,Data!$A:$A,$B54),\"N/A\")","v":"N/A"},{"$f":"IFERROR(AVERAGEIFS(Data!$Q:$Q,Data!$B:$B,M$12,Data!$A:$A,$B54),\"N/A\")","v":"N/A"}]
["",{"$f":"Observations!B44","v":""},{"$f":"IF(A55=1,VLOOKUP($B55,ObData!$A$1:$J$300,3,0),\"\")","v":""},{"$f":"IF(A55=1,B55&\": \"&TEXT(C55,\"mm/dd/yy\")&\"- \"&VLOOKUP(B55,ObData!$A$1:$J$300,5,0),\"\")","v":""},{"$f":"IF($B55=\"\",\"\",IF(COUNTIFS(Data!$B:$B,E$12,Data!$A:$A,Matrices!$B55)=0,\"\",COUNTIFS(Data!$B:$B,E$12,Data!$A:$A,Matrices!$B55)))","v":""},{"$f":"IF($B55=\"\",\"\",IF(COUNTIFS(Data!$B:$B,F$12,Data!$A:$A,Matrices!$B55)=0,\"\",COUNTIFS(Data!$B:$B,F$12,Data!$A:$A,Matrices!$B55)))","v":""},{"$f":"IF($B55=\"\",\"\",IF(COUNTIFS(Data!$B:$B,G$12,Data!$A:$A,Matrices!$B55)=0,\"\",COUNTIFS(Data!$B:$B,G$12,Data!$A:$A,Matrices!$B55)))","v":""},{"$f":"IFERROR(AVERAGEIFS(Data!$E:$E,Data!$B:$B,H$12,Data!$A:$A,$B55),\"N/A\")","v":"N/A"},{"$f":"IFERROR(AVERAGEIFS(Data!$E:$E,Data!$B:$B,I$12,Data!$A:$A,$B55),\"N/A\")","v":"N/A"},{"$f":"IFERROR(AVERAGEIFS(Data!$E:$E,Data!$B:$B,J$12,Data!$A:$A,$B55),\"N/A\")","v":"N/A"},{"$f":"IFERROR(AVERAGEIFS(Data!$Q:$Q,Data!$B:$B,K$12,Data!$A:$A,$B55),\"N/A\")","v":"N/A"},{"$f":"IFERROR(AVERAGEIFS(Data!$Q:$Q,Data!$B:$B,L$12,Data!$A:$A,$B55),\"N/A\")","v":"N/A"},{"$f":"IFERROR(AVERAGEIFS(Data!$Q:$Q,Data!$B:$B,M$12,Data!$A:$A,$B55),\"N/A\")","v":"N/A"}]
["",{"$f":"Observations!B45","v":""},{"$f":"IF(A56=1,VLOOKUP($B56,ObData!$A$1:$J$300,3,0),\"\")","v":""},{"$f":"IF(A56=1,B56&\": \"&TEXT(C56,\"mm/dd/yy\")&\"- \"&VLOOKUP(B56,ObData!$A$1:$J$300,5,0),\"\")","v":""},{"$f":"IF($B56=\"\",\"\",IF(COUNTIFS(Data!$B:$B,E$12,Data!$A:$A,Matrices!$B56)=0,\"\",COUNTIFS(Data!$B:$B,E$12,Data!$A:$A,Matrices!$B56)))","v":""},{"$f":"IF($B56=\"\",\"\",IF(COUNTIFS(Data!$B:$B,F$12,Data!$A:$A,Matrices!$B56)=0,\"\",COUNTIFS(Data!$B:$B,F$12,Data!$A:$A,Matrices!$B56)))","v":""},{"$f":"IF($B56=\"\",\"\",IF(COUNTIFS(Data!$B:$B,G$12,Data!$A:$A,Matrices!$B56)=0,\"\",COUNTIFS(Data!$B:$B,G$12,Data!$A:$A,Matrices!$B56)))","v":""},{"$f":"IFERROR(AVERAGEIFS(Data!$E:$E,Data!$B:$B,H$12,Data!$A:$A,$B56),\"N/A\")","v":"N/A"},{"$f":"IFERROR(AVERAGEIFS(Data!$E:$E,Data!$B:$B,I$12,Data!$A:$A,$B56),\"N/A\")","v":"N/A"},{"$f":"IFERROR(AVERAGEIFS(Data!$E:$E,Data!$B:$B,J$12,Data!$A:$A,$B56),\"N/A\")","v":"N/A"},{"$f":"IFERROR(AVERAGEIFS(Data!$Q:$Q,Data!$B:$B,K$12,Data!$A:$A,$B56),\"N/A\")","v":"N/A"},{"$f":"IFERROR(AVERAGEIFS(Data!$Q:$Q,Data!$B:$B,L$12,Data!$A:$A,$B56),\"N/A\")","v":"N/A"},{"$f":"IFERROR(AVERAGEIFS(Data!$Q:$Q,Data!$B:$B,M$12,Data!$A:$A,$B56),\"N/A\")","v":"N/A"}]
["",{"$f":"Observations!B46","v":""},{"$f":"IF(A57=1,VLOOKUP($B57,ObData!$A$1:$J$300,3,0),\"\")","v":""},{"$f":"IF(A57=1,B57&\": \"&TEXT(C57,\"mm/dd/yy\")&\"- \"&VLOOKUP(B57,ObData!$A$1:$J$300,5,0),\"\")","v":""},{"$f":"IF($B57=\"\",\"\",IF(COUNTIFS(Data!$B:$B,E$12,Data!$A:$A,Matrices!$B57)=0,\"\",COUNTIFS(Data!$B:$B,E$12,Data!$A:$A,Matrices!$B57)))","v":""},{"$f":"IF($B57=\"\",\"\",IF(COUNTIFS(Data!$B:$B,F$12,Data!$A:$A,Matrices!$B57)=0,\"\",COUNTIFS(Data!$B:$B,F$12,Data!$A:$A,Matrices!$B57)))","v":""},{"$f":"IF($B57=\"\",\"\",IF(COUNTIFS(Data!$B:$B,G$12,Data!$A:$A,Matrices!$B57)=0,\"\",COUNTIFS(Data!$B:$B,G$12,Data!$A:$A,Matrices!$B57)))","v":""},{"$f":"IFERROR(AVERAGEIFS(Data!$E:$E,Data!$B:$B,H$12,Data!$A:$A,$B57),\"N/A\")","v":"N/A"},{"$f":"IFERROR(AVERAGEIFS(Data!$E:$E,Data!$B:$B,I$12,Data!$A:$A,$B57),\"N/A\")","v":"N/A"},{"$f":"IFERROR(AVERAGEIFS(Data!$E:$E,Data!$B:$B,J$12,Data!$A:$A,$B57),\"N/A\")","v":"N/A"},{"$f":"IFERROR(AVERAGEIFS(Data!$Q:$Q,Data!$B:$B,K$12,Data!$A:$A,$B57),\"N/A\")","v":"N/A"},{"$f":"IFERROR(AVERAGEIFS(Data!$Q:$Q,Data!$B:$B,L$12,Data!$A:$A,$B57),\"N/A\")","v":"N/A"},{"$f":"IFERROR(AVERAGEIFS(Data!$Q:$Q,Data!$B:$B,M$12,Data!$A:$A,$B57),\"N/A\")","v":"N/A"}]
["",{"$f":"Observations!B47","v":""},{"$f":"IF(A58=1,VLOOKUP($B58,ObData!$A$1:$J$300,3,0),\"\")","v":""},{"$f":"IF(A58=1,B58&\": \"&TEXT(C58,\"mm/dd/yy\")&\"- \"&VLOOKUP(B58,ObData!$A$1:$J$300,5,0),\"\")","v":""},{"$f":"IF($B58=\"\",\"\",IF(COUNTIFS(Data!$B:$B,E$12,Data!$A:$A,Matrices!$B58)=0,\"\",COUNTIFS(Data!$B:$B,E$12,Data!$A:$A,Matrices!$B58)))","v":""},{"$f":"IF($B58=\"\",\"\",IF(COUNTIFS(Data!$B:$B,F$12,Data!$A:$A,Matrices!$B58)=0,\"\",COUNTIFS(Data!$B:$B,F$12,Data!$A:$A,Matrices!$B58)))","v":""},{"$f":"IF($B58=\"\",\"\",IF(COUNTIFS(Data!$B:$B,G$12,Data!$A:$A,Matrices!$B58)=0,\"\",COUNTIFS(Data!$B:$B,G$12,Data!$A:$A,Matrices!$B58)))","v":""},{"$f":"IFERROR(AVERAGEIFS(Data!$E:$E,Data!$B:$B,H$12,Data!$A:$A,$B58),\"N/A\")","v":"N/A"},{"$f":"IFERROR(AVERAGEIFS(Data!$E:$E,Data!$B:$B,I$12,Data!$A:$A,$B58),\"N/A\")","v":"N/A"},{"$f":"IFERROR(AVERAGEIFS(Data!$E:$E,Data!$B:$B,J$12,Data!$A:$A,$B58),\"N/A\")","v":"N/A"},{"$f":"IFERROR(AVERAGEIFS(Data!$Q:$Q,Data!$B:$B,K$12,Data!$A:$A,$B58),\"N/A\")","v":"N/A"},{"$f":"IFERROR(AVERAGEIFS(Data!$Q:$Q,Data!$B:$B,L$12,Data!$A:$A,$B58),\"N/A\")","v":"N/A"},{"$f":"IFERROR(AVERAGEIFS(Data!$Q:$Q,Data!$B:$B,M$12,Data!$A:$A,$B58),\"N/A\")","v":"N/A"}]
["",{"$f":"Observations!B48","v":""},{"$f":"IF(A59=1,VLOOKUP($B59,ObData!$A$1:$J$300,3,0),\"\")","v":""},{"$f":"IF(A59=1,B59&\": \"&TEXT(C59,\"mm/dd/yy\")&\"- \"&VLOOKUP(B59,ObData!$A$1:$J$300,5,0),\"\")","v":""},{"$f":"IF($B59=\"\",\"\",IF(COUNTIFS(Data!$B:$B,E$12,Data!$A:$A,Matrices!$B59)=0,\"\",COUNTIFS(Data!$B:$B,E$12,Data!$A:$A,Matrices!$B59)))","v":""},{"$f":"IF($B59=\"\",\"\",IF(COUNTIFS(Data!$B:$B,F$12,Data!$A:$A,Matrices!$B59)=0,\"\",COUNTIFS(Data!$B:$B,F$12,Data!$A:$A,Matrices!$B59)))","v":""},{"$f":"IF($B59=\"\",\"\",IF(COUNTIFS(Data!$B:$B,G$12,Data!$A:$A,Matrices!$B59)=0,\"\",COUNTIFS(Data!$B:$B,G$12,Data!$A:$A,Matrices!$B59)))","v":""},{"$f":"IFERROR(AVERAGEIFS(Data!$E:$E,Data!$B:$B,H$12,Data!$A:$A,$B59),\"N/A\")","v":"N/A"},{"$f":"IFERROR(AVERAGEIFS(Data!$E:$E,Data!$B:$B,I$12,Data!$A:$A,$B59),\"N/A\")","v":"N/A"},{"$f":"IFERROR(AVERAGEIFS(Data!$E:$E,Data!$B:$B,J$12,Data!$A:$A,$B59),\"N/A\")","v":"N/A"},{"$f":"IFERROR(AVERAGEIFS(Data!$Q:$Q,Data!$B:$B,K$12,Data!$A:$A,$B59),\"N/A\")","v":"N/A"},{"$f":"IFERROR(AVERAGEIFS(Data!$Q:$Q,Data!$B:$B,L$12,Data!$A:$A,$B59),\"N/A\")","v":"N/A"},{"$f":"IFERROR(AVERAGEIFS(Data!$Q:$Q,Data!$B:$B,M$12,Data!$A:$A,$B59),\"N/A\")","v":"N/A"}]
["",{"$f":"Observations!B49","v":""},{"$f":"IF(A60=1,VLOOKUP($B60,ObData!$A$1:$J$300,3,0),\"\")","v":""},{"$f":"IF(A60=1,B60&\": \"&TEXT(C60,\"mm/dd/yy\")&\"- \"&VLOOKUP(B60,ObData!$A$1:$J$300,5,0),\"\")","v":""},{"$f":"IF($B60=\"\",\"\",IF(COUNTIFS(Data!$B:$B,E$12,Data!$A:$A,Matrices!$B60)=0,\"\",COUNTIFS(Data!$B:$B,E$12,Data!$A:$A,Matrices!$B60)))","v":""},{"$f":"IF($B60=\"\",\"\",IF(COUNTIFS(Data!$B:$B,F$12,Data!$A:$A,Matrices!$B60)=0,\"\",COUNTIFS(Data!$B:$B,F$12,Data!$A:$A,Matrices!$B60)))","v":""},{"$f":"IF($B60=\"\",\"\",IF(COUNTIFS(Data!$B:$B,G$12,Data!$A:$A,Matrices!$B60)=0,\"\",COUNTIFS(Data!$B:$B,G$12,Data!$A:$A,Matrices!$B60)))","v":""},{"$f":"IFERROR(AVERAGEIFS(Data!$E:$E,Data!$B:$B,H$12,Data!$A:$A,$B60),\"N/A\")","v":"N/A"},{"$f":"IFERROR(AVERAGEIFS(Data!$E:$E,Data!$B:$B,I$12,Data!$A:$A,$B60),\"N/A\")","v":"N/A"},{"$f":"IFERROR(AVERAGEIFS(Data!$E:$E,Data!$B:$B,J$12,Data!$A:$A,$B60),\"N/A\")","v":"N/A"},{"$f":"IFERROR(AVERAGEIFS(Data!$Q:$Q,Data!$B:$B,K$12,Data!$A:$A,$B60),\"N/A\")","v":"N/A"},{"$f":"IFERROR(AVERAGEIFS(Data!$Q:$Q,Data!$B:$B,L$12,Data!$A:$A,$B60),\"N/A\")","v":"N/A"},{"$f":"IFERROR(AVERAGEIFS(Data!$Q:$Q,Data!$B:$B,M$12,Data!$A:$A,$B60),\"N/A\")","v":"N/A"}]
["",{"$f":"Observations!B50","v":""},{"$f":"IF(A61=1,VLOOKUP($B61,ObData!$A$1:$J$300,3,0),\"\")","v":""},{"$f":"IF(A61=1,B61&\": \"&TEXT(C61,\"mm/dd/yy\")&\"- \"&VLOOKUP(B61,ObData!$A$1:$J$300,5,0),\"\")","v":""},{"$f":"IF($B61=\"\",\"\",IF(COUNTIFS(Data!$B:$B,E$12,Data!$A:$A,Matrices!$B61)=0,\"\",COUNTIFS(Data!$B:$B,E$12,Data!$A:$A,Matrices!$B61)))","v":""},{"$f":"IF($B61=\"\",\"\",IF(COUNTIFS(Data!$B:$B,F$12,Data!$A:$A,Matrices!$B61)=0,\"\",COUNTIFS(Data!$B:$B,F$12,Data!$A:$A,Matrices!$B61)))","v":""},{"$f":"IF($B61=\"\",\"\",IF(COUNTIFS(Data!$B:$B,G$12,Data!$A:$A,Matrices!$B61)=0,\"\",COUNTIFS(Data!$B:$B,G$12,Data!$A:$A,Matrices!$B61)))","v":""},{"$f":"IFERROR(AVERAGEIFS(Data!$E:$E,Data!$B:$B,H$12,Data!$A:$A,$B61),\"N/A\")","v":"N/A"},{"$f":"IFERROR(AVERAGEIFS(Data!$E:$E,Data!$B:$B,I$12,Data!$A:$A,$B61),\"N/A\")","v":"N/A"},{"$f":"IFERROR(AVERAGEIFS(Data!$E:$E,Data!$B:$B,J$12,Data!$A:$A,$B61),\"N/A\")","v":"N/A"},{"$f":"IFERROR(AVERAGEIFS(Data!$Q:$Q,Data!$B:$B,K$12,Data!$A:$A,$B61),\"N/A\")","v":"N/A"},{"$f":"IFERROR(AVERAGEIFS(Data!$Q:$Q,Data!$B:$B,L$12,Data!$A:$A,$B61),\"N/A\")","v":"N/A"},{"$f":"IFERROR(AVERAGEIFS(Data!$Q:$Q,Data!$B:$B,M$12,Data!$A:$A,$B61),\"N/A\")","v":"N/A"}]
["",{"$f":"Observations!B51","v":""},{"$f":"IF(A62=1,VLOOKUP($B62,ObData!$A$1:$J$300,3,0),\"\")","v":""},{"$f":"IF(A62=1,B62&\": \"&TEXT(C62,\"mm/dd/yy\")&\"- \"&VLOOKUP(B62,ObData!$A$1:$J$300,5,0),\"\")","v":""},{"$f":"IF($B62=\"\",\"\",IF(COUNTIFS(Data!$B:$B,E$12,Data!$A:$A,Matrices!$B62)=0,\"\",COUNTIFS(Data!$B:$B,E$12,Data!$A:$A,Matrices!$B62)))","v":""},{"$f":"IF($B62=\"\",\"\",IF(COUNTIFS(Data!$B:$B,F$12,Data!$A:$A,Matrices!$B62)=0,\"\",COUNTIFS(Data!$B:$B,F$12,Data!$A:$A,Matrices!$B62)))","v":""},{"$f":"IF($B62=\"\",\"\",IF(COUNTIFS(Data!$B:$B,G$12,Data!$A:$A,Matrices!$B62)=0,\"\",COUNTIFS(Data!$B:$B,G$12,Data!$A:$A,Matrices!$B62)))","v":""},{"$f":"IFERROR(AVERAGEIFS(Data!$E:$E,Data!$B:$B,H$12,Data!$A:$A,$B62),\"N/A\")","v":"N/A"},{"$f":"IFERROR(AVERAGEIFS(Data!$E:$E,Data!$B:$B,I$12,Data!$A:$A,$B62),\"N/A\")","v":"N/A"},{"$f":"IFERROR(AVERAGEIFS(Data!$E:$E,Data!$B:$B,J$12,Data!$A:$A,$B62),\"N/A\")","v":"N/A"},{"$f":"IFERROR(AVERAGEIFS(Data!$Q:$Q,Data!$B:$B,K$12,Data!$A:$A,$B62),\"N/A\")","v":"N/A"},{"$f":"IFERROR(AVERAGEIFS(Data!$Q:$Q,Data!$B:$B,L$12,Data!$A:$A,$B62),\"N/A\")","v":"N/A"},{"$f":"IFERROR(AVERAGEIFS(Data!$Q:$Q,Data!$B:$B,M$12,Data!$A:$A,$B62),\"N/A\")","v":"N/A"}]
["",{"$f":"Observations!B52","v":""},{"$f":"IF(A63=1,VLOOKUP($B63,ObData!$A$1:$J$300,3,0),\"\")","v":""},{"$f":"IF(A63=1,B63&\": \"&TEXT(C63,\"mm/dd/yy\")&\"- \"&VLOOKUP(B63,ObData!$A$1:$J$300,5,0),\"\")","v":""},{"$f":"IF($B63=\"\",\"\",IF(COUNTIFS(Data!$B:$B,E$12,Data!$A:$A,Matrices!$B63)=0,\"\",COUNTIFS(Data!$B:$B,E$12,Data!$A:$A,Matrices!$B63)))","v":""},{"$f":"IF($B63=\"\",\"\",IF(COUNTIFS(Data!$B:$B,F$12,Data!$A:$A,Matrices!$B63)=0,\"\",COUNTIFS(Data!$B:$B,F$12,Data!$A:$A,Matrices!$B63)))","v":""},{"$f":"IF($B63=\"\",\"\",IF(COUNTIFS(Data!$B:$B,G$12,Data!$A:$A,Matrices!$B63)=0,\"\",COUNTIFS(Data!$B:$B,G$12,Data!$A:$A,Matrices!$B63)))","v":""},{"$f":"IFERROR(AVERAGEIFS(Data!$E:$E,Data!$B:$B,H$12,Data!$A:$A,$B63),\"N/A\")","v":"N/A"},{"$f":"IFERROR(AVERAGEIFS(Data!$E:$E,Data!$B:$B,I$12,Data!$A:$A,$B63),\"N/A\")","v":"N/A"},{"$f":"IFERROR(AVERAGEIFS(Data!$E:$E,Data!$B:$B,J$12,Data!$A:$A,$B63),\"N/A\")","v":"N/A"},{"$f":"IFERROR(AVERAGEIFS(Data!$Q:$Q,Data!$B:$B,K$12,Data!$A:$A,$B63),\"N/A\")","v":"N/A"},{"$f":"IFERROR(AVERAGEIFS(Data!$Q:$Q,Data!$B:$B,L$12,Data!$A:$A,$B63),\"N/A\")","v":"N/A"},{"$f":"IFERROR(AVERAGEIFS(Data!$Q:$Q,Data!$B:$B,M$12,Data!$A:$A,$B63),\"N/A\")","v":"N/A"}]
["",{"$f":"Observations!B53","v":""},{"$f":"IF(A64=1,VLOOKUP($B64,ObData!$A$1:$J$300,3,0),\"\")","v":""},{"$f":"IF(A64=1,B64&\": \"&TEXT(C64,\"mm/dd/yy\")&\"- \"&VLOOKUP(B64,ObData!$A$1:$J$300,5,0),\"\")","v":""},{"$f":"IF($B64=\"\",\"\",IF(COUNTIFS(Data!$B:$B,E$12,Data!$A:$A,Matrices!$B64)=0,\"\",COUNTIFS(Data!$B:$B,E$12,Data!$A:$A,Matrices!$B64)))","v":""},{"$f":"IF($B64=\"\",\"\",IF(COUNTIFS(Data!$B:$B,F$12,Data!$A:$A,Matrices!$B64)=0,\"\",COUNTIFS(Data!$B:$B,F$12,Data!$A:$A,Matrices!$B64)))","v":""},{"$f":"IF($B64=\"\",\"\",IF(COUNTIFS(Data!$B:$B,G$12,Data!$A:$A,Matrices!$B64)=0,\"\",COUNTIFS(Data!$B:$B,G$12,Data!$A:$A,Matrices!$B64)))","v":""},{"$f":"IFERROR(AVERAGEIFS(Data!$E:$E,Data!$B:$B,H$12,Data!$A:$A,$B64),\"N/A\")","v":"N/A"},{"$f":"IFERROR(AVERAGEIFS(Data!$E:$E,Data!$B:$B,I$12,Data!$A:$A,$B64),\"N/A\")","v":"N/A"},{"$f":"IFERROR(AVERAGEIFS(Data!$E:$E,Data!$B:$B,J$12,Data!$A:$A,$B64),\"N/A\")","v":"N/A"},{"$f":"IFERROR(AVERAGEIFS(Data!$Q:$Q,Data!$B:$B,K$12,Data!$A:$A,$B64),\"N/A\")","v":"N/A"},{"$f":"IFERROR(AVERAGEIFS(Data!$Q:$Q,Data!$B:$B,L$12,Data!$A:$A,$B64),\"N/A\")","v":"N/A"},{"$f":"IFERROR(AVERAGEIFS(Data!$Q:$Q,Data!$B:$B,M$12,Data!$A:$A,$B64),\"N/A\")","v":"N/A"}]
["",{"$f":"Observations!B54","v":""},{"$f":"IF(A65=1,VLOOKUP($B65,ObData!$A$1:$J$300,3,0),\"\")","v":""},{"$f":"IF(A65=1,B65&\": \"&TEXT(C65,\"mm/dd/yy\")&\"- \"&VLOOKUP(B65,ObData!$A$1:$J$300,5,0),\"\")","v":""},{"$f":"IF($B65=\"\",\"\",IF(COUNTIFS(Data!$B:$B,E$12,Data!$A:$A,Matrices!$B65)=0,\"\",COUNTIFS(Data!$B:$B,E$12,Data!$A:$A,Matrices!$B65)))","v":""},{"$f":"IF($B65=\"\",\"\",IF(COUNTIFS(Data!$B:$B,F$12,Data!$A:$A,Matrices!$B65)=0,\"\",COUNTIFS(Data!$B:$B,F$12,Data!$A:$A,Matrices!$B65)))","v":""},{"$f":"IF($B65=\"\",\"\",IF(COUNTIFS(Data!$B:$B,G$12,Data!$A:$A,Matrices!$B65)=0,\"\",COUNTIFS(Data!$B:$B,G$12,Data!$A:$A,Matrices!$B65)))","v":""},{"$f":"IFERROR(AVERAGEIFS(Data!$E:$E,Data!$B:$B,H$12,Data!$A:$A,$B65),\"N/A\")","v":"N/A"},{"$f":"IFERROR(AVERAGEIFS(Data!$E:$E,Data!$B:$B,I$12,Data!$A:$A,$B65),\"N/A\")","v":"N/A"},{"$f":"IFERROR(AVERAGEIFS(Data!$E:$E,Data!$B:$B,J$12,Data!$A:$A,$B65),\"N/A\")","v":"N/A"},{"$f":"IFERROR(AVERAGEIFS(Data!$Q:$Q,Data!$B:$B,K$12,Data!$A:$A,$B65),\"N/A\")","v":"N/A"},{"$f":"IFERROR(AVERAGEIFS(Data!$Q:$Q,Data!$B:$B,L$12,Data!$A:$A,$B65),\"N/A\")","v":"N/A"},{"$f":"IFERROR(AVERAGEIFS(Data!$Q:$Q,Data!$B:$B,M$12,Data!$A:$A,$B65),\"N/A\")","v":"N/A"}]
["",{"$f":"Observations!B55","v":""},{"$f":"IF(A66=1,VLOOKUP($B66,ObData!$A$1:$J$300,3,0),\"\")","v":""},{"$f":"IF(A66=1,B66&\": \"&TEXT(C66,\"mm/dd/yy\")&\"- \"&VLOOKUP(B66,ObData!$A$1:$J$300,5,0),\"\")","v":""},{"$f":"IF($B66=\"\",\"\",IF(COUNTIFS(Data!$B:$B,E$12,Data!$A:$A,Matrices!$B66)=0,\"\",COUNTIFS(Data!$B:$B,E$12,Data!$A:$A,Matrices!$B66)))","v":""},{"$f":"IF($B66=\"\",\"\",IF(COUNTIFS(Data!$B:$B,F$12,Data!$A:$A,Matrices!$B66)=0,\"\",COUNTIFS(Data!$B:$B,F$12,Data!$A:$A,Matrices!$B66)))","v":""},{"$f":"IF($B66=\"\",\"\",IF(COUNTIFS(Data!$B:$B,G$12,Data!$A:$A,Matrices!$B66)=0,\"\",COUNTIFS(Data!$B:$B,G$12,Data!$A:$A,Matrices!$B66)))","v":""},{"$f":"IFERROR(AVERAGEIFS(Data!$E:$E,Data!$B:$B,H$12,Data!$A:$A,$B66),\"N/A\")","v":"N/A"},{"$f":"IFERROR(AVERAGEIFS(Data!$E:$E,Data!$B:$B,I$12,Data!$A:$A,$B66),\"N/A\")","v":"N/A"},{"$f":"IFERROR(AVERAGEIFS(Data!$E:$E,Data!$B:$B,J$12,Data!$A:$A,$B66),\"N/A\")","v":"N/A"},{"$f":"IFERROR(AVERAGEIFS(Data!$Q:$Q,Data!$B:$B,K$12,Data!$A:$A,$B66),\"N/A\")","v":"N/A"},{"$f":"IFERROR(AVERAGEIFS(Data!$Q:$Q,Data!$B:$B,L$12,Data!$A:$A,$B66),\"N/A\")","v":"N/A"},{"$f":"IFERROR(AVERAGEIFS(Data!$Q:$Q,Data!$B:$B,M$12,Data!$A:$A,$B66),\"N/A\")","v":"N/A"}]
["",{"$f":"Observations!B56","v":""},{"$f":"IF(A67=1,VLOOKUP($B67,ObData!$A$1:$J$300,3,0),\"\")","v":""},{"$f":"IF(A67=1,B67&\": \"&TEXT(C67,\"mm/dd/yy\")&\"- \"&VLOOKUP(B67,ObData!$A$1:$J$300,5,0),\"\")","v":""},{"$f":"IF($B67=\"\",\"\",IF(COUNTIFS(Data!$B:$B,E$12,Data!$A:$A,Matrices!$B67)=0,\"\",COUNTIFS(Data!$B:$B,E$12,Data!$A:$A,Matrices!$B67)))","v":""},{"$f":"IF($B67=\"\",\"\",IF(COUNTIFS(Data!$B:$B,F$12,Data!$A:$A,Matrices!$B67)=0,\"\",COUNTIFS(Data!$B:$B,F$12,Data!$A:$A,Matrices!$B67)))","v":""},{"$f":"IF($B67=\"\",\"\",IF(COUNTIFS(Data!$B:$B,G$12,Data!$A:$A,Matrices!$B67)=0,\"\",COUNTIFS(Data!$B:$B,G$12,Data!$A:$A,Matrices!$B67)))","v":""},{"$f":"IFERROR(AVERAGEIFS(Data!$E:$E,Data!$B:$B,H$12,Data!$A:$A,$B67),\"N/A\")","v":"N/A"},{"$f":"IFERROR(AVERAGEIFS(Data!$E:$E,Data!$B:$B,I$12,Data!$A:$A,$B67),\"N/A\")","v":"N/A"},{"$f":"IFERROR(AVERAGEIFS(Data!$E:$E,Data!$B:$B,J$12,Data!$A:$A,$B67),\"N/A\")","v":"N/A"},{"$f":"IFERROR(AVERAGEIFS(Data!$Q:$Q,Data!$B:$B,K$12,Data!$A:$A,$B67),\"N/A\")","v":"N/A"},{"$f":"IFERROR(AVERAGEIFS(Data!$Q:$Q,Data!$B:$B,L$12,Data!$A:$A,$B67),\"N/A\")","v":"N/A"},{"$f":"IFERROR(AVERAGEIFS(Data!$Q:$Q,Data!$B:$B,M$12,Data!$A:$A,$B67),\"N/A\")","v":"N/A"}]
["",{"$f":"Observations!B57","v":""},{"$f":"IF(A68=1,VLOOKUP($B68,ObData!$A$1:$J$300,3,0),\"\")","v":""},{"$f":"IF(A68=1,B68&\": \"&TEXT(C68,\"mm/dd/yy\")&\"- \"&VLOOKUP(B68,ObData!$A$1:$J$300,5,0),\"\")","v":""},{"$f":"IF($B68=\"\",\"\",IF(COUNTIFS(Data!$B:$B,E$12,Data!$A:$A,Matrices!$B68)=0,\"\",COUNTIFS(Data!$B:$B,E$12,Data!$A:$A,Matrices!$B68)))","v":""},{"$f":"IF($B68=\"\",\"\",IF(COUNTIFS(Data!$B:$B,F$12,Data!$A:$A,Matrices!$B68)=0,\"\",COUNTIFS(Data!$B:$B,F$12,Data!$A:$A,Matrices!$B68)))","v":""},{"$f":"IF($B68=\"\",\"\",IF(COUNTIFS(Data!$B:$B,G$12,Data!$A:$A,Matrices!$B68)=0,\"\",COUNTIFS(Data!$B:$B,G$12,Data!$A:$A,Matrices!$B68)))","v":""},{"$f":"IFERROR(AVERAGEIFS(Data!$E:$E,Data!$B:$B,H$12,Data!$A:$A,$B68),\"N/A\")","v":"N/A"},{"$f":"IFERROR(AVERAGEIFS(Data!$E:$E,Data!$B:$B,I$12,Data!$A:$A,$B68),\"N/A\")","v":"N/A"},{"$f":"IFERROR(AVERAGEIFS(Data!$E:$E,Data!$B:$B,J$12,Data!$A:$A,$B68),\"N/A\")","v":"N/A"},{"$f":"IFERROR(AVERAGEIFS(Data!$Q:$Q,Data!$B:$B,K$12,Data!$A:$A,$B68),\"N/A\")","v":"N/A"},{"$f":"IFERROR(AVERAGEIFS(Data!$Q:$Q,Data!$B:$B,L$12,Data!$A:$A,$B68),\"N/A\")","v":"N/A"},{"$f":"IFERROR(AVERAGEIFS(Data!$Q:$Q,Data!$B:$B,M$12,Data!$A:$A,$B68),\"N/A\")","v":"N/A"}]
["",{"$f":"Observations!B58","v":""},{"$f":"IF(A69=1,VLOOKUP($B69,ObData!$A$1:$J$300,3,0),\"\")","v":""},{"$f":"IF(A69=1,B69&\": \"&TEXT(C69,\"mm/dd/yy\")&\"- \"&VLOOKUP(B69,ObData!$A$1:$J$300,5,0),\"\")","v":""},{"$f":"IF($B69=\"\",\"\",IF(COUNTIFS(Data!$B:$B,E$12,Data!$A:$A,Matrices!$B69)=0,\"\",COUNTIFS(Data!$B:$B,E$12,Data!$A:$A,Matrices!$B69)))","v":""},{"$f":"IF($B69=\"\",\"\",IF(COUNTIFS(Data!$B:$B,F$12,Data!$A:$A,Matrices!$B69)=0,\"\",COUNTIFS(Data!$B:$B,F$12,Data!$A:$A,Matrices!$B69)))","v":""},{"$f":"IF($B69=\"\",\"\",IF(COUNTIFS(Data!$B:$B,G$12,Data!$A:$A,Matrices!$B69)=0,\"\",COUNTIFS(Data!$B:$B,G$12,Data!$A:$A,Matrices!$B69)))","v":""},{"$f":"IFERROR(AVERAGEIFS(Data!$E:$E,Data!$B:$B,H$12,Data!$A:$A,$B69),\"N/A\")","v":"N/A"},{"$f":"IFERROR(AVERAGEIFS(Data!$E:$E,Data!$B:$B,I$12,Data!$A:$A,$B69),\"N/A\")","v":"N/A"},{"$f":"IFERROR(AVERAGEIFS(Data!$E:$E,Data!$B:$B,J$12,Data!$A:$A,$B69),\"N/A\")","v":"N/A"},{"$f":"IFERROR(AVERAGEIFS(Data!$Q:$Q,Data!$B:$B,K$12,Data!$A:$A,$B69),\"N/A\")","v":"N/A"},{"$f":"IFERROR(AVERAGEIFS(Data!$Q:$Q,Data!$B:$B,L$12,Data!$A:$A,$B69),\"N/A\")","v":"N/A"},{"$f":"IFERROR(AVERAGEIFS(Data!$Q:$Q,Data!$B:$B,M$12,Data!$A:$A,$B69),\"N/A\")","v":"N/A"}]
["",{"$f":"Observations!B59","v":""},{"$f":"IF(A70=1,VLOOKUP($B70,ObData!$A$1:$J$300,3,0),\"\")","v":""},{"$f":"IF(A70=1,B70&\": \"&TEXT(C70,\"mm/dd/yy\")&\"- \"&VLOOKUP(B70,ObData!$A$1:$J$300,5,0),\"\")","v":""},{"$f":"IF($B70=\"\",\"\",IF(COUNTIFS(Data!$B:$B,E$12,Data!$A:$A,Matrices!$B70)=0,\"\",COUNTIFS(Data!$B:$B,E$12,Data!$A:$A,Matrices!$B70)))","v":""},{"$f":"IF($B70=\"\",\"\",IF(COUNTIFS(Data!$B:$B,F$12,Data!$A:$A,Matrices!$B70)=0,\"\",COUNTIFS(Data!$B:$B,F$12,Data!$A:$A,Matrices!$B70)))","v":""},{"$f":"IF($B70=\"\",\"\",IF(COUNTIFS(Data!$B:$B,G$12,Data!$A:$A,Matrices!$B70)=0,\"\",COUNTIFS(Data!$B:$B,G$12,Data!$A:$A,Matrices!$B70)))","v":""},{"$f":"IFERROR(AVERAGEIFS(Data!$E:$E,Data!$B:$B,H$12,Data!$A:$A,$B70),\"N/A\")","v":"N/A"},{"$f":"IFERROR(AVERAGEIFS(Data!$E:$E,Data!$B:$B,I$12,Data!$A:$A,$B70),\"N/A\")","v":"N/A"},{"$f":"IFERROR(AVERAGEIFS(Data!$E:$E,Data!$B:$B,J$12,Data!$A:$A,$B70),\"N/A\")","v":"N/A"},{"$f":"IFERROR(AVERAGEIFS(Data!$Q:$Q,Data!$B:$B,K$12,Data!$A:$A,$B70),\"N/A\")","v":"N/A"},{"$f":"IFERROR(AVERAGEIFS(Data!$Q:$Q,Data!$B:$B,L$12,Data!$A:$A,$B70),\"N/A\")","v":"N/A"},{"$f":"IFERROR(AVERAGEIFS(Data!$Q:$Q,Data!$B:$B,M$12,Data!$A:$A,$B70),\"N/A\")","v":"N/A"}]
["",{"$f":"Observations!B60","v":""},{"$f":"IF(A71=1,VLOOKUP($B71,ObData!$A$1:$J$300,3,0),\"\")","v":""},{"$f":"IF(A71=1,B71&\": \"&TEXT(C71,\"mm/dd/yy\")&\"- \"&VLOOKUP(B71,ObData!$A$1:$J$300,5,0),\"\")","v":""},{"$f":"IF($B71=\"\",\"\",IF(COUNTIFS(Data!$B:$B,E$12,Data!$A:$A,Matrices!$B71)=0,\"\",COUNTIFS(Data!$B:$B,E$12,Data!$A:$A,Matrices!$B71)))","v":""},{"$f":"IF($B71=\"\",\"\",IF(COUNTIFS(Data!$B:$B,F$12,Data!$A:$A,Matrices!$B71)=0,\"\",COUNTIFS(Data!$B:$B,F$12,Data!$A:$A,Matrices!$B71)))","v":""},{"$f":"IF($B71=\"\",\"\",IF(COUNTIFS(Data!$B:$B,G$12,Data!$A:$A,Matrices!$B71)=0,\"\",COUNTIFS(Data!$B:$B,G$12,Data!$A:$A,Matrices!$B71)))","v":""},{"$f":"IFERROR(AVERAGEIFS(Data!$E:$E,Data!$B:$B,H$12,Data!$A:$A,$B71),\"N/A\")","v":"N/A"},{"$f":"IFERROR(AVERAGEIFS(Data!$E:$E,Data!$B:$B,I$12,Data!$A:$A,$B71),\"N/A\")","v":"N/A"},{"$f":"IFERROR(AVERAGEIFS(Data!$E:$E,Data!$B:$B,J$12,Data!$A:$A,$B71),\"N/A\")","v":"N/A"},{"$f":"IFERROR(AVERAGEIFS(Data!$Q:$Q,Data!$B:$B,K$12,Data!$A:$A,$B71),\"N/A\")","v":"N/A"},{"$f":"IFERROR(AVERAGEIFS(Data!$Q:$Q,Data!$B:$B,L$12,Data!$A:$A,$B71),\"N/A\")","v":"N/A"},{"$f":"IFERROR(AVERAGEIFS(Data!$Q:$Q,Data!$B:$B,M$12,Data!$A:$A,$B71),\"N/A\")","v":"N/A"}]
["",{"$f":"Observations!B61","v":""},{"$f":"IF(A72=1,VLOOKUP($B72,ObData!$A$1:$J$300,3,0),\"\")","v":""},{"$f":"IF(A72=1,B72&\": \"&TEXT(C72,\"mm/dd/yy\")&\"- \"&VLOOKUP(B72,ObData!$A$1:$J$300,5,0),\"\")","v":""},{"$f":"IF($B72=\"\",\"\",IF(COUNTIFS(Data!$B:$B,E$12,Data!$A:$A,Matrices!$B72)=0,\"\",COUNTIFS(Data!$B:$B,E$12,Data!$A:$A,Matrices!$B72)))","v":""},{"$f":"IF($B72=\"\",\"\",IF(COUNTIFS(Data!$B:$B,F$12,Data!$A:$A,Matrices!$B72)=0,\"\",COUNTIFS(Data!$B:$B,F$12,Data!$A:$A,Matrices!$B72)))","v":""},{"$f":"IF($B72=\"\",\"\",IF(COUNTIFS(Data!$B:$B,G$12,Data!$A:$A,Matrices!$B72)=0,\"\",COUNTIFS(Data!$B:$B,G$12,Data!$A:$A,Matrices!$B72)))","v":""},{"$f":"IFERROR(AVERAGEIFS(Data!$E:$E,Data!$B:$B,H$12,Data!$A:$A,$B72),\"N/A\")","v":"N/A"},{"$f":"IFERROR(AVERAGEIFS(Data!$E:$E,Data!$B:$B,I$12,Data!$A:$A,$B72),\"N/A\")","v":"N/A"},{"$f":"IFERROR(AVERAGEIFS(Data!$E:$E,Data!$B:$B,J$12,Data!$A:$A,$B72),\"N/A\")","v":"N/A"},{"$f":"IFERROR(AVERAGEIFS(Data!$Q:$Q,Data!$B:$B,K$12,Data!$A:$A,$B72),\"N/A\")","v":"N/A"},{"$f":"IFERROR(AVERAGEIFS(Data!$Q:$Q,Data!$B:$B,L$12,Data!$A:$A,$B72),\"N/A\")","v":"N/A"},{"$f":"IFERROR(AVERAGEIFS(Data!$Q:$Q,Data!$B:$B,M$12,Data!$A:$A,$B72),\"N/A\")","v":"N/A"}]
["",{"$f":"Observations!B62","v":""},{"$f":"IF(A73=1,VLOOKUP($B73,ObData!$A$1:$J$300,3,0),\"\")","v":""},{"$f":"IF(A73=1,B73&\": \"&TEXT(C73,\"mm/dd/yy\")&\"- \"&VLOOKUP(B73,ObData!$A$1:$J$300,5,0),\"\")","v":""},{"$f":"IF($B73=\"\",\"\",IF(COUNTIFS(Data!$B:$B,E$12,Data!$A:$A,Matrices!$B73)=0,\"\",COUNTIFS(Data!$B:$B,E$12,Data!$A:$A,Matrices!$B73)))","v":""},{"$f":"IF($B73=\"\",\"\",IF(COUNTIFS(Data!$B:$B,F$12,Data!$A:$A,Matrices!$B73)=0,\"\",COUNTIFS(Data!$B:$B,F$12,Data!$A:$A,Matrices!$B73)))","v":""},{"$f":"IF($B73=\"\",\"\",IF(COUNTIFS(Data!$B:$B,G$12,Data!$A:$A,Matrices!$B73)=0,\"\",COUNTIFS(Data!$B:$B,G$12,Data!$A:$A,Matrices!$B73)))","v":""},{"$f":"IFERROR(AVERAGEIFS(Data!$E:$E,Data!$B:$B,H$12,Data!$A:$A,$B73),\"N/A\")","v":"N/A"},{"$f":"IFERROR(AVERAGEIFS(Data!$E:$E,Data!$B:$B,I$12,Data!$A:$A,$B73),\"N/A\")","v":"N/A"},{"$f":"IFERROR(AVERAGEIFS(Data!$E:$E,Data!$B:$B,J$12,Data!$A:$A,$B73),\"N/A\")","v":"N/A"},{"$f":"IFERROR(AVERAGEIFS(Data!$Q:$Q,Data!$B:$B,K$12,Data!$A:$A,$B73),\"N/A\")","v":"N/A"},{"$f":"IFERROR(AVERAGEIFS(Data!$Q:$Q,Data!$B:$B,L$12,Data!$A:$A,$B73),\"N/A\")","v":"N/A"},{"$f":"IFERROR(AVERAGEIFS(Data!$Q:$Q,Data!$B:$B,M$12,Data!$A:$A,$B73),\"N/A\")","v":"N/A"}]
["",{"$f":"Observations!B63","v":""},{"$f":"IF(A74=1,VLOOKUP($B74,ObData!$A$1:$J$300,3,0),\"\")","v":""},{"$f":"IF(A74=1,B74&\": \"&TEXT(C74,\"mm/dd/yy\")&\"- \"&VLOOKUP(B74,ObData!$A$1:$J$300,5,0),\"\")","v":""},{"$f":"IF($B74=\"\",\"\",IF(COUNTIFS(Data!$B:$B,E$12,Data!$A:$A,Matrices!$B74)=0,\"\",COUNTIFS(Data!$B:$B,E$12,Data!$A:$A,Matrices!$B74)))","v":""},{"$f":"IF($B74=\"\",\"\",IF(COUNTIFS(Data!$B:$B,F$12,Data!$A:$A,Matrices!$B74)=0,\"\",COUNTIFS(Data!$B:$B,F$12,Data!$A:$A,Matrices!$B74)))","v":""},{"$f":"IF($B74=\"\",\"\",IF(COUNTIFS(Data!$B:$B,G$12,Data!$A:$A,Matrices!$B74)=0,\"\",COUNTIFS(Data!$B:$B,G$12,Data!$A:$A,Matrices!$B74)))","v":""},{"$f":"IFERROR(AVERAGEIFS(Data!$E:$E,Data!$B:$B,H$12,Data!$A:$A,$B74),\"N/A\")","v":"N/A"},{"$f":"IFERROR(AVERAGEIFS(Data!$E:$E,Data!$B:$B,I$12,Data!$A:$A,$B74),\"N/A\")","v":"N/A"},{"$f":"IFERROR(AVERAGEIFS(Data!$E:$E,Data!$B:$B,J$12,Data!$A:$A,$B74),\"N/A\")","v":"N/A"},{"$f":"IFERROR(AVERAGEIFS(Data!$Q:$Q,Data!$B:$B,K$12,Data!$A:$A,$B74),\"N/A\")","v":"N/A"},{"$f":"IFERROR(AVERAGEIFS(Data!$Q:$Q,Data!$B:$B,L$12,Data!$A:$A,$B74),\"N/A\")","v":"N/A"},{"$f":"IFERROR(AVERAGEIFS(Data!$Q:$Q,Data!$B:$B,M$12,Data!$A:$A,$B74),\"N/A\")","v":"N/A"}]
["",{"$f":"Observations!B64","v":""},{"$f":"IF(A75=1,VLOOKUP($B75,ObData!$A$1:$J$300,3,0),\"\")","v":""},{"$f":"IF(A75=1,B75&\": \"&TEXT(C75,\"mm/dd/yy\")&\"- \"&VLOOKUP(B75,ObData!$A$1:$J$300,5,0),\"\")","v":""},{"$f":"IF($B75=\"\",\"\",IF(COUNTIFS(Data!$B:$B,E$12,Data!$A:$A,Matrices!$B75)=0,\"\",COUNTIFS(Data!$B:$B,E$12,Data!$A:$A,Matrices!$B75)))","v":""},{"$f":"IF($B75=\"\",\"\",IF(COUNTIFS(Data!$B:$B,F$12,Data!$A:$A,Matrices!$B75)=0,\"\",COUNTIFS(Data!$B:$B,F$12,Data!$A:$A,Matrices!$B75)))","v":""},{"$f":"IF($B75=\"\",\"\",IF(COUNTIFS(Data!$B:$B,G$12,Data!$A:$A,Matrices!$B75)=0,\"\",COUNTIFS(Data!$B:$B,G$12,Data!$A:$A,Matrices!$B75)))","v":""},{"$f":"IFERROR(AVERAGEIFS(Data!$E:$E,Data!$B:$B,H$12,Data!$A:$A,$B75),\"N/A\")","v":"N/A"},{"$f":"IFERROR(AVERAGEIFS(Data!$E:$E,Data!$B:$B,I$12,Data!$A:$A,$B75),\"N/A\")","v":"N/A"},{"$f":"IFERROR(AVERAGEIFS(Data!$E:$E,Data!$B:$B,J$12,Data!$A:$A,$B75),\"N/A\")","v":"N/A"},{"$f":"IFERROR(AVERAGEIFS(Data!$Q:$Q,Data!$B:$B,K$12,Data!$A:$A,$B75),\"N/A\")","v":"N/A"},{"$f":"IFERROR(AVERAGEIFS(Data!$Q:$Q,Data!$B:$B,L$12,Data!$A:$A,$B75),\"N/A\")","v":"N/A"},{"$f":"IFERROR(AVERAGEIFS(Data!$Q:$Q,Data!$B:$B,M$12,Data!$A:$A,$B75),\"N/A\")","v":"N/A"}]
["",{"$f":"Observations!B65","v":""},{"$f":"IF(A76=1,VLOOKUP($B76,ObData!$A$1:$J$300,3,0),\"\")","v":""},{"$f":"IF(A76=1,B76&\": \"&TEXT(C76,\"mm/dd/yy\")&\"- \"&VLOOKUP(B76,ObData!$A$1:$J$300,5,0),\"\")","v":""},{"$f":"IF($B76=\"\",\"\",IF(COUNTIFS(Data!$B:$B,E$12,Data!$A:$A,Matrices!$B76)=0,\"\",COUNTIFS(Data!$B:$B,E$12,Data!$A:$A,Matrices!$B76)))","v":""},{"$f":"IF($B76=\"\",\"\",IF(COUNTIFS(Data!$B:$B,F$12,Data!$A:$A,Matrices!$B76)=0,\"\",COUNTIFS(Data!$B:$B,F$12,Data!$A:$A,Matrices!$B76)))","v":""},{"$f":"IF($B76=\"\",\"\",IF(COUNTIFS(Data!$B:$B,G$12,Data!$A:$A,Matrices!$B76)=0,\"\",COUNTIFS(Data!$B:$B,G$12,Data!$A:$A,Matrices!$B76)))","v":""},{"$f":"IFERROR(AVERAGEIFS(Data!$E:$E,Data!$B:$B,H$12,Data!$A:$A,$B76),\"N/A\")","v":"N/A"},{"$f":"IFERROR(AVERAGEIFS(Data!$E:$E,Data!$B:$B,I$12,Data!$A:$A,$B76),\"N/A\")","v":"N/A"},{"$f":"IFERROR(AVERAGEIFS(Data!$E:$E,Data!$B:$B,J$12,Data!$A:$A,$B76),\"N/A\")","v":"N/A"},{"$f":"IFERROR(AVERAGEIFS(Data!$Q:$Q,Data!$B:$B,K$12,Data!$A:$A,$B76),\"N/A\")","v":"N/A"},{"$f":"IFERROR(AVERAGEIFS(Data!$Q:$Q,Data!$B:$B,L$12,Data!$A:$A,$B76),\"N/A\")","v":"N/A"},{"$f":"IFERROR(AVERAGEIFS(Data!$Q:$Q,Data!$B:$B,M$12,Data!$A:$A,$B76),\"N/A\")","v":"N/A"}]
["",{"$f":"Observations!B66","v":""},{"$f":"IF(A77=1,VLOOKUP($B77,ObData!$A$1:$J$300,3,0),\"\")","v":""},{"$f":"IF(A77=1,B77&\": \"&TEXT(C77,\"mm/dd/yy\")&\"- \"&VLOOKUP(B77,ObData!$A$1:$J$300,5,0),\"\")","v":""},{"$f":"IF($B77=\"\",\"\",IF(COUNTIFS(Data!$B:$B,E$12,Data!$A:$A,Matrices!$B77)=0,\"\",COUNTIFS(Data!$B:$B,E$12,Data!$A:$A,Matrices!$B77)))","v":""},{"$f":"IF($B77=\"\",\"\",IF(COUNTIFS(Data!$B:$B,F$12,Data!$A:$A,Matrices!$B77)=0,\"\",COUNTIFS(Data!$B:$B,F$12,Data!$A:$A,Matrices!$B77)))","v":""},{"$f":"IF($B77=\"\",\"\",IF(COUNTIFS(Data!$B:$B,G$12,Data!$A:$A,Matrices!$B77)=0,\"\",COUNTIFS(Data!$B:$B,G$12,Data!$A:$A,Matrices!$B77)))","v":""},{"$f":"IFERROR(AVERAGEIFS(Data!$E:$E,Data!$B:$B,H$12,Data!$A:$A,$B77),\"N/A\")","v":"N/A"},{"$f":"IFERROR(AVERAGEIFS(Data!$E:$E,Data!$B:$B,I$12,Data!$A:$A,$B77),\"N/A\")","v":"N/A"},{"$f":"IFERROR(AVERAGEIFS(Data!$E:$E,Data!$B:$B,J$12,Data!$A:$A,$B77),\"N/A\")","v":"N/A"},{"$f":"IFERROR(AVERAGEIFS(Data!$Q:$Q,Data!$B:$B,K$12,Data!$A:$A,$B77),\"N/A\")","v":"N/A"},{"$f":"IFERROR(AVERAGEIFS(Data!$Q:$Q,Data!$B:$B,L$12,Data!$A:$A,$B77),\"N/A\")","v":"N/A"},{"$f":"IFERROR(AVERAGEIFS(Data!$Q:$Q,Data!$B:$B,M$12,Data!$A:$A,$B77),\"N/A\")","v":"N/A"}]
[{"$f":"IF(B78<>\"\",1,\"\")","v":""},{"$f":"Observations!B67","v":""},{"$f":"IF(A78=1,VLOOKUP($B78,ObData!$A$1:$J$300,3,0),\"\")","v":""},{"$f":"IF(A78=1,B78&\": \"&TEXT(C78,\"mm/dd/yy\")&\"- \"&VLOOKUP(B78,ObData!$A$1:$J$300,5,0),\"\")","v":""},{"$f":"IF($B78=\"\",\"\",IF(COUNTIFS(Data!$B:$B,E$12,Data!$A:$A,Matrices!$B78)=0,\"\",COUNTIFS(Data!$B:$B,E$12,Data!$A:$A,Matrices!$B78)))","v":""},{"$f":"IF($B78=\"\",\"\",IF(COUNTIFS(Data!$B:$B,F$12,Data!$A:$A,Matrices!$B78)=0,\"\",COUNTIFS(Data!$B:$B,F$12,Data!$A:$A,Matrices!$B78)))","v":""},{"$f":"IF($B78=\"\",\"\",IF(COUNTIFS(Data!$B:$B,G$12,Data!$A:$A,Matrices!$B78)=0,\"\",COUNTIFS(Data!$B:$B,G$12,Data!$A:$A,Matrices!$B78)))","v":""},{"$f":"IFERROR(AVERAGEIFS(Data!$E:$E,Data!$B:$B,H$12,Data!$A:$A,$B78),\"N/A\")","v":"N/A"},{"$f":"IFERROR(AVERAGEIFS(Data!$E:$E,Data!$B:$B,I$12,Data!$A:$A,$B78),\"N/A\")","v":"N/A"},{"$f":"IFERROR(AVERAGEIFS(Data!$E:$E,Data!$B:$B,J$12,Data!$A:$A,$B78),\"N/A\")","v":"N/A"},{"$f":"IFERROR(AVERAGEIFS(Data!$Q:$Q,Data!$B:$B,K$12,Data!$A:$A,$B78),\"N/A\")","v":"N/A"},{"$f":"IFERROR(AVERAGEIFS(Data!$Q:$Q,Data!$B:$B,L$12,Data!$A:$A,$B78),\"N/A\")","v":"N/A"},{"$f":"IFERROR(AVERAGEIFS(Data!$Q:$Q,Data!$B:$B,M$12,Data!$A:$A,$B78),\"N/A\")","v":"N/A"}]
["",{"$f":"Observations!B68","v":""},{"$f":"IF(A79=1,VLOOKUP($B79,ObData!$A$1:$J$300,3,0),\"\")","v":""},{"$f":"IF(A79=1,B79&\": \"&TEXT(C79,\"mm/dd/yy\")&\"- \"&VLOOKUP(B79,ObData!$A$1:$J$300,5,0),\"\")","v":""},{"$f":"IF($B79=\"\",\"\",IF(COUNTIFS(Data!$B:$B,E$12,Data!$A:$A,Matrices!$B79)=0,\"\",COUNTIFS(Data!$B:$B,E$12,Data!$A:$A,Matrices!$B79)))","v":""},{"$f":"IF($B79=\"\",\"\",IF(COUNTIFS(Data!$B:$B,F$12,Data!$A:$A,Matrices!$B79)=0,\"\",COUNTIFS(Data!$B:$B,F$12,Data!$A:$A,Matrices!$B79)))","v":""},{"$f":"IF($B79=\"\",\"\",IF(COUNTIFS(Data!$B:$B,G$12,Data!$A:$A,Matrices!$B79)=0,\"\",COUNTIFS(Data!$B:$B,G$12,Data!$A:$A,Matrices!$B79)))","v":""},{"$f":"IFERROR(AVERAGEIFS(Data!$E:$E,Data!$B:$B,H$12,Data!$A:$A,$B79),\"N/A\")","v":"N/A"},{"$f":"IFERROR(AVERAGEIFS(Data!$E:$E,Data!$B:$B,I$12,Data!$A:$A,$B79),\"N/A\")","v":"N/A"},{"$f":"IFERROR(AVERAGEIFS(Data!$E:$E,Data!$B:$B,J$12,Data!$A:$A,$B79),\"N/A\")","v":"N/A"},{"$f":"IFERROR(AVERAGEIFS(Data!$Q:$Q,Data!$B:$B,K$12,Data!$A:$A,$B79),\"N/A\")","v":"N/A"},{"$f":"IFERROR(AVERAGEIFS(Data!$Q:$Q,Data!$B:$B,L$12,Data!$A:$A,$B79),\"N/A\")","v":"N/A"},{"$f":"IFERROR(AVERAGEIFS(Data!$Q:$Q,Data!$B:$B,M$12,Data!$A:$A,$B79),\"N/A\")","v":"N/A"}]
["",{"$f":"Observations!B69","v":""},{"$f":"IF(A80=1,VLOOKUP($B80,ObData!$A$1:$J$300,3,0),\"\")","v":""},{"$f":"IF(A80=1,B80&\": \"&TEXT(C80,\"mm/dd/yy\")&\"- \"&VLOOKUP(B80,ObData!$A$1:$J$300,5,0),\"\")","v":""},{"$f":"IF($B80=\"\",\"\",IF(COUNTIFS(Data!$B:$B,E$12,Data!$A:$A,Matrices!$B80)=0,\"\",COUNTIFS(Data!$B:$B,E$12,Data!$A:$A,Matrices!$B80)))","v":""},{"$f":"IF($B80=\"\",\"\",IF(COUNTIFS(Data!$B:$B,F$12,Data!$A:$A,Matrices!$B80)=0,\"\",COUNTIFS(Data!$B:$B,F$12,Data!$A:$A,Matrices!$B80)))","v":""},{"$f":"IF($B80=\"\",\"\",IF(COUNTIFS(Data!$B:$B,G$12,Data!$A:$A,Matrices!$B80)=0,\"\",COUNTIFS(Data!$B:$B,G$12,Data!$A:$A,Matrices!$B80)))","v":""},{"$f":"IFERROR(AVERAGEIFS(Data!$E:$E,Data!$B:$B,H$12,Data!$A:$A,$B80),\"N/A\")","v":"N/A"},{"$f":"IFERROR(AVERAGEIFS(Data!$E:$E,Data!$B:$B,I$12,Data!$A:$A,$B80),\"N/A\")","v":"N/A"},{"$f":"IFERROR(AVERAGEIFS(Data!$E:$E,Data!$B:$B,J$12,Data!$A:$A,$B80),\"N/A\")","v":"N/A"},{"$f":"IFERROR(AVERAGEIFS(Data!$Q:$Q,Data!$B:$B,K$12,Data!$A:$A,$B80),\"N/A\")","v":"N/A"},{"$f":"IFERROR(AVERAGEIFS(Data!$Q:$Q,Data!$B:$B,L$12,Data!$A:$A,$B80),\"N/A\")","v":"N/A"},{"$f":"IFERROR(AVERAGEIFS(Data!$Q:$Q,Data!$B:$B,M$12,Data!$A:$A,$B80),\"N/A\")","v":"N/A"}]
["",{"$f":"Observations!B70","v":""},{"$f":"IF(A81=1,VLOOKUP($B81,ObData!$A$1:$J$300,3,0),\"\")","v":""},{"$f":"IF(A81=1,B81&\": \"&TEXT(C81,\"mm/dd/yy\")&\"- \"&VLOOKUP(B81,ObData!$A$1:$J$300,5,0),\"\")","v":""},{"$f":"IF($B81=\"\",\"\",IF(COUNTIFS(Data!$B:$B,E$12,Data!$A:$A,Matrices!$B81)=0,\"\",COUNTIFS(Data!$B:$B,E$12,Data!$A:$A,Matrices!$B81)))","v":""},{"$f":"IF($B81=\"\",\"\",IF(COUNTIFS(Data!$B:$B,F$12,Data!$A:$A,Matrices!$B81)=0,\"\",COUNTIFS(Data!$B:$B,F$12,Data!$A:$A,Matrices!$B81)))","v":""},{"$f":"IF($B81=\"\",\"\",IF(COUNTIFS(Data!$B:$B,G$12,Data!$A:$A,Matrices!$B81)=0,\"\",COUNTIFS(Data!$B:$B,G$12,Data!$A:$A,Matrices!$B81)))","v":""},{"$f":"IFERROR(AVERAGEIFS(Data!$E:$E,Data!$B:$B,H$12,Data!$A:$A,$B81),\"N/A\")","v":"N/A"},{"$f":"IFERROR(AVERAGEIFS(Data!$E:$E,Data!$B:$B,I$12,Data!$A:$A,$B81),\"N/A\")","v":"N/A"},{"$f":"IFERROR(AVERAGEIFS(Data!$E:$E,Data!$B:$B,J$12,Data!$A:$A,$B81),\"N/A\")","v":"N/A"},{"$f":"IFERROR(AVERAGEIFS(Data!$Q:$Q,Data!$B:$B,K$12,Data!$A:$A,$B81),\"N/A\")","v":"N/A"},{"$f":"IFERROR(AVERAGEIFS(Data!$Q:$Q,Data!$B:$B,L$12,Data!$A:$A,$B81),\"N/A\")","v":"N/A"},{"$f":"IFERROR(AVERAGEIFS(Data!$Q:$Q,Data!$B:$B,M$12,Data!$A:$A,$B81),\"N/A\")","v":"N/A"}]
["",{"$f":"Observations!B71","v":""},{"$f":"IF(A82=1,VLOOKUP($B82,ObData!$A$1:$J$300,3,0),\"\")","v":""},{"$f":"IF(A82=1,B82&\": \"&TEXT(C82,\"mm/dd/yy\")&\"- \"&VLOOKUP(B82,ObData!$A$1:$J$300,5,0),\"\")","v":""},{"$f":"IF($B82=\"\",\"\",IF(COUNTIFS(Data!$B:$B,E$12,Data!$A:$A,Matrices!$B82)=0,\"\",COUNTIFS(Data!$B:$B,E$12,Data!$A:$A,Matrices!$B82)))","v":""},{"$f":"IF($B82=\"\",\"\",IF(COUNTIFS(Data!$B:$B,F$12,Data!$A:$A,Matrices!$B82)=0,\"\",COUNTIFS(Data!$B:$B,F$12,Data!$A:$A,Matrices!$B82)))","v":""},{"$f":"IF($B82=\"\",\"\",IF(COUNTIFS(Data!$B:$B,G$12,Data!$A:$A,Matrices!$B82)=0,\"\",COUNTIFS(Data!$B:$B,G$12,Data!$A:$A,Matrices!$B82)))","v":""},{"$f":"IFERROR(AVERAGEIFS(Data!$E:$E,Data!$B:$B,H$12,Data!$A:$A,$B82),\"N/A\")","v":"N/A"},{"$f":"IFERROR(AVERAGEIFS(Data!$E:$E,Data!$B:$B,I$12,Data!$A:$A,$B82),\"N/A\")","v":"N/A"},{"$f":"IFERROR(AVERAGEIFS(Data!$E:$E,Data!$B:$B,J$12,Data!$A:$A,$B82),\"N/A\")","v":"N/A"},{"$f":"IFERROR(AVERAGEIFS(Data!$Q:$Q,Data!$B:$B,K$12,Data!$A:$A,$B82),\"N/A\")","v":"N/A"},{"$f":"IFERROR(AVERAGEIFS(Data!$Q:$Q,Data!$B:$B,L$12,Data!$A:$A,$B82),\"N/A\")","v":"N/A"},{"$f":"IFERROR(AVERAGEIFS(Data!$Q:$Q,Data!$B:$B,M$12,Data!$A:$A,$B82),\"N/A\")","v":"N/A"}]
["",{"$f":"Observations!B72","v":""},{"$f":"IF(A83=1,VLOOKUP($B83,ObData!$A$1:$J$300,3,0),\"\")","v":""},{"$f":"IF(A83=1,B83&\": \"&TEXT(C83,\"mm/dd/yy\")&\"- \"&VLOOKUP(B83,ObData!$A$1:$J$300,5,0),\"\")","v":""},{"$f":"IF($B83=\"\",\"\",IF(COUNTIFS(Data!$B:$B,E$12,Data!$A:$A,Matrices!$B83)=0,\"\",COUNTIFS(Data!$B:$B,E$12,Data!$A:$A,Matrices!$B83)))","v":""},{"$f":"IF($B83=\"\",\"\",IF(COUNTIFS(Data!$B:$B,F$12,Data!$A:$A,Matrices!$B83)=0,\"\",COUNTIFS(Data!$B:$B,F$12,Data!$A:$A,Matrices!$B83)))","v":""},{"$f":"IF($B83=\"\",\"\",IF(COUNTIFS(Data!$B:$B,G$12,Data!$A:$A,Matrices!$B83)=0,\"\",COUNTIFS(Data!$B:$B,G$12,Data!$A:$A,Matrices!$B83)))","v":""},{"$f":"IFERROR(AVERAGEIFS(Data!$E:$E,Data!$B:$B,H$12,Data!$A:$A,$B83),\"N/A\")","v":"N/A"},{"$f":"IFERROR(AVERAGEIFS(Data!$E:$E,Data!$B:$B,I$12,Data!$A:$A,$B83),\"N/A\")","v":"N/A"},{"$f":"IFERROR(AVERAGEIFS(Data!$E:$E,Data!$B:$B,J$12,Data!$A:$A,$B83),\"N/A\")","v":"N/A"},{"$f":"IFERROR(AVERAGEIFS(Data!$Q:$Q,Data!$B:$B,K$12,Data!$A:$A,$B83),\"N/A\")","v":"N/A"},{"$f":"IFERROR(AVERAGEIFS(Data!$Q:$Q,Data!$B:$B,L$12,Data!$A:$A,$B83),\"N/A\")","v":"N/A"},{"$f":"IFERROR(AVERAGEIFS(Data!$Q:$Q,Data!$B:$B,M$12,Data!$A:$A,$B83),\"N/A\")","v":"N/A"}]
["",{"$f":"Observations!B73","v":""},{"$f":"IF(A84=1,VLOOKUP($B84,ObData!$A$1:$J$300,3,0),\"\")","v":""},{"$f":"IF(A84=1,B84&\": \"&TEXT(C84,\"mm/dd/yy\")&\"- \"&VLOOKUP(B84,ObData!$A$1:$J$300,5,0),\"\")","v":""},{"$f":"IF($B84=\"\",\"\",IF(COUNTIFS(Data!$B:$B,E$12,Data!$A:$A,Matrices!$B84)=0,\"\",COUNTIFS(Data!$B:$B,E$12,Data!$A:$A,Matrices!$B84)))","v":""},{"$f":"IF($B84=\"\",\"\",IF(COUNTIFS(Data!$B:$B,F$12,Data!$A:$A,Matrices!$B84)=0,\"\",COUNTIFS(Data!$B:$B,F$12,Data!$A:$A,Matrices!$B84)))","v":""},{"$f":"IF($B84=\"\",\"\",IF(COUNTIFS(Data!$B:$B,G$12,Data!$A:$A,Matrices!$B84)=0,\"\",COUNTIFS(Data!$B:$B,G$12,Data!$A:$A,Matrices!$B84)))","v":""},{"$f":"IFERROR(AVERAGEIFS(Data!$E:$E,Data!$B:$B,H$12,Data!$A:$A,$B84),\"N/A\")","v":"N/A"},{"$f":"IFERROR(AVERAGEIFS(Data!$E:$E,Data!$B:$B,I$12,Data!$A:$A,$B84),\"N/A\")","v":"N/A"},{"$f":"IFERROR(AVERAGEIFS(Data!$E:$E,Data!$B:$B,J$12,Data!$A:$A,$B84),\"N/A\")","v":"N/A"},{"$f":"IFERROR(AVERAGEIFS(Data!$Q:$Q,Data!$B:$B,K$12,Data!$A:$A,$B84),\"N/A\")","v":"N/A"},{"$f":"IFERROR(AVERAGEIFS(Data!$Q:$Q,Data!$B:$B,L$12,Data!$A:$A,$B84),\"N/A\")","v":"N/A"},{"$f":"IFERROR(AVERAGEIFS(Data!$Q:$Q,Data!$B:$B,M$12,Data!$A:$A,$B84),\"N/A\")","v":"N/A"}]
["",{"$f":"Observations!B74","v":""},{"$f":"IF(A85=1,VLOOKUP($B85,ObData!$A$1:$J$300,3,0),\"\")","v":""},{"$f":"IF(A85=1,B85&\": \"&TEXT(C85,\"mm/dd/yy\")&\"- \"&VLOOKUP(B85,ObData!$A$1:$J$300,5,0),\"\")","v":""},{"$f":"IF($B85=\"\",\"\",IF(COUNTIFS(Data!$B:$B,E$12,Data!$A:$A,Matrices!$B85)=0,\"\",COUNTIFS(Data!$B:$B,E$12,Data!$A:$A,Matrices!$B85)))","v":""},{"$f":"IF($B85=\"\",\"\",IF(COUNTIFS(Data!$B:$B,F$12,Data!$A:$A,Matrices!$B85)=0,\"\",COUNTIFS(Data!$B:$B,F$12,Data!$A:$A,Matrices!$B85)))","v":""},{"$f":"IF($B85=\"\",\"\",IF(COUNTIFS(Data!$B:$B,G$12,Data!$A:$A,Matrices!$B85)=0,\"\",COUNTIFS(Data!$B:$B,G$12,Data!$A:$A,Matrices!$B85)))","v":""},{"$f":"IFERROR(AVERAGEIFS(Data!$E:$E,Data!$B:$B,H$12,Data!$A:$A,$B85),\"N/A\")","v":"N/A"},{"$f":"IFERROR(AVERAGEIFS(Data!$E:$E,Data!$B:$B,I$12,Data!$A:$A,$B85),\"N/A\")","v":"N/A"},{"$f":"IFERROR(AVERAGEIFS(Data!$E:$E,Data!$B:$B,J$12,Data!$A:$A,$B85),\"N/A\")","v":"N/A"},{"$f":"IFERROR(AVERAGEIFS(Data!$Q:$Q,Data!$B:$B,K$12,Data!$A:$A,$B85),\"N/A\")","v":"N/A"},{"$f":"IFERROR(AVERAGEIFS(Data!$Q:$Q,Data!$B:$B,L$12,Data!$A:$A,$B85),\"N/A\")","v":"N/A"},{"$f":"IFERROR(AVERAGEIFS(Data!$Q:$Q,Data!$B:$B,M$12,Data!$A:$A,$B85),\"N/A\")","v":"N/A"}]
["",{"$f":"Observations!B75","v":""},{"$f":"IF(A86=1,VLOOKUP($B86,ObData!$A$1:$J$300,3,0),\"\")","v":""},{"$f":"IF(A86=1,B86&\": \"&TEXT(C86,\"mm/dd/yy\")&\"- \"&VLOOKUP(B86,ObData!$A$1:$J$300,5,0),\"\")","v":""},{"$f":"IF($B86=\"\",\"\",IF(COUNTIFS(Data!$B:$B,E$12,Data!$A:$A,Matrices!$B86)=0,\"\",COUNTIFS(Data!$B:$B,E$12,Data!$A:$A,Matrices!$B86)))","v":""},{"$f":"IF($B86=\"\",\"\",IF(COUNTIFS(Data!$B:$B,F$12,Data!$A:$A,Matrices!$B86)=0,\"\",COUNTIFS(Data!$B:$B,F$12,Data!$A:$A,Matrices!$B86)))","v":""},{"$f":"IF($B86=\"\",\"\",IF(COUNTIFS(Data!$B:$B,G$12,Data!$A:$A,Matrices!$B86)=0,\"\",COUNTIFS(Data!$B:$B,G$12,Data!$A:$A,Matrices!$B86)))","v":""},{"$f":"IFERROR(AVERAGEIFS(Data!$E:$E,Data!$B:$B,H$12,Data!$A:$A,$B86),\"N/A\")","v":"N/A"},{"$f":"IFERROR(AVERAGEIFS(Data!$E:$E,Data!$B:$B,I$12,Data!$A:$A,$B86),\"N/A\")","v":"N/A"},{"$f":"IFERROR(AVERAGEIFS(Data!$E:$E,Data!$B:$B,J$12,Data!$A:$A,$B86),\"N/A\")","v":"N/A"},{"$f":"IFERROR(AVERAGEIFS(Data!$Q:$Q,Data!$B:$B,K$12,Data!$A:$A,$B86),\"N/A\")","v":"N/A"},{"$f":"IFERROR(AVERAGEIFS(Data!$Q:$Q,Data!$B:$B,L$12,Data!$A:$A,$B86),\"N/A\")","v":"N/A"},{"$f":"IFERROR(AVERAGEIFS(Data!$Q:$Q,Data!$B:$B,M$12,Data!$A:$A,$B86),\"N/A\")","v":"N/A"}]
["",{"$f":"Observations!B76","v":""},{"$f":"IF(A87=1,VLOOKUP($B87,ObData!$A$1:$J$300,3,0),\"\")","v":""},{"$f":"IF(A87=1,B87&\": \"&TEXT(C87,\"mm/dd/yy\")&\"- \"&VLOOKUP(B87,ObData!$A$1:$J$300,5,0),\"\")","v":""},{"$f":"IF($B87=\"\",\"\",IF(COUNTIFS(Data!$B:$B,E$12,Data!$A:$A,Matrices!$B87)=0,\"\",COUNTIFS(Data!$B:$B,E$12,Data!$A:$A,Matrices!$B87)))","v":""},{"$f":"IF($B87=\"\",\"\",IF(COUNTIFS(Data!$B:$B,F$12,Data!$A:$A,Matrices!$B87)=0,\"\",COUNTIFS(Data!$B:$B,F$12,Data!$A:$A,Matrices!$B87)))","v":""},{"$f":"IF($B87=\"\",\"\",IF(COUNTIFS(Data!$B:$B,G$12,Data!$A:$A,Matrices!$B87)=0,\"\",COUNTIFS(Data!$B:$B,G$12,Data!$A:$A,Matrices!$B87)))","v":""},{"$f":"IFERROR(AVERAGEIFS(Data!$E:$E,Data!$B:$B,H$12,Data!$A:$A,$B87),\"N/A\")","v":"N/A"},{"$f":"IFERROR(AVERAGEIFS(Data!$E:$E,Data!$B:$B,I$12,Data!$A:$A,$B87),\"N/A\")","v":"N/A"},{"$f":"IFERROR(AVERAGEIFS(Data!$E:$E,Data!$B:$B,J$12,Data!$A:$A,$B87),\"N/A\")","v":"N/A"},{"$f":"IFERROR(AVERAGEIFS(Data!$Q:$Q,Data!$B:$B,K$12,Data!$A:$A,$B87),\"N/A\")","v":"N/A"},{"$f":"IFERROR(AVERAGEIFS(Data!$Q:$Q,Data!$B:$B,L$12,Data!$A:$A,$B87),\"N/A\")","v":"N/A"},{"$f":"IFERROR(AVERAGEIFS(Data!$Q:$Q,Data!$B:$B,M$12,Data!$A:$A,$B87),\"N/A\")","v":"N/A"}]
["",{"$f":"Observations!B77","v":""},{"$f":"IF(A88=1,VLOOKUP($B88,ObData!$A$1:$J$300,3,0),\"\")","v":""},{"$f":"IF(A88=1,B88&\": \"&TEXT(C88,\"mm/dd/yy\")&\"- \"&VLOOKUP(B88,ObData!$A$1:$J$300,5,0),\"\")","v":""},{"$f":"IF($B88=\"\",\"\",IF(COUNTIFS(Data!$B:$B,E$12,Data!$A:$A,Matrices!$B88)=0,\"\",COUNTIFS(Data!$B:$B,E$12,Data!$A:$A,Matrices!$B88)))","v":""},{"$f":"IF($B88=\"\",\"\",IF(COUNTIFS(Data!$B:$B,F$12,Data!$A:$A,Matrices!$B88)=0,\"\",COUNTIFS(Data!$B:$B,F$12,Data!$A:$A,Matrices!$B88)))","v":""},{"$f":"IF($B88=\"\",\"\",IF(COUNTIFS(Data!$B:$B,G$12,Data!$A:$A,Matrices!$B88)=0,\"\",COUNTIFS(Data!$B:$B,G$12,Data!$A:$A,Matrices!$B88)))","v":""},{"$f":"IFERROR(AVERAGEIFS(Data!$E:$E,Data!$B:$B,H$12,Data!$A:$A,$B88),\"N/A\")","v":"N/A"},{"$f":"IFERROR(AVERAGEIFS(Data!$E:$E,Data!$B:$B,I$12,Data!$A:$A,$B88),\"N/A\")","v":"N/A"},{"$f":"IFERROR(AVERAGEIFS(Data!$E:$E,Data!$B:$B,J$12,Data!$A:$A,$B88),\"N/A\")","v":"N/A"},{"$f":"IFERROR(AVERAGEIFS(Data!$Q:$Q,Data!$B:$B,K$12,Data!$A:$A,$B88),\"N/A\")","v":"N/A"},{"$f":"IFERROR(AVERAGEIFS(Data!$Q:$Q,Data!$B:$B,L$12,Data!$A:$A,$B88),\"N/A\")","v":"N/A"},{"$f":"IFERROR(AVERAGEIFS(Data!$Q:$Q,Data!$B:$B,M$12,Data!$A:$A,$B88),\"N/A\")","v":"N/A"}]
["",{"$f":"Observations!B78","v":""},{"$f":"IF(A89=1,VLOOKUP($B89,ObData!$A$1:$J$300,3,0),\"\")","v":""},{"$f":"IF(A89=1,B89&\": \"&TEXT(C89,\"mm/dd/yy\")&\"- \"&VLOOKUP(B89,ObData!$A$1:$J$300,5,0),\"\")","v":""},{"$f":"IF($B89=\"\",\"\",IF(COUNTIFS(Data!$B:$B,E$12,Data!$A:$A,Matrices!$B89)=0,\"\",COUNTIFS(Data!$B:$B,E$12,Data!$A:$A,Matrices!$B89)))","v":""},{"$f":"IF($B89=\"\",\"\",IF(COUNTIFS(Data!$B:$B,F$12,Data!$A:$A,Matrices!$B89)=0,\"\",COUNTIFS(Data!$B:$B,F$12,Data!$A:$A,Matrices!$B89)))","v":""},{"$f":"IF($B89=\"\",\"\",IF(COUNTIFS(Data!$B:$B,G$12,Data!$A:$A,Matrices!$B89)=0,\"\",COUNTIFS(Data!$B:$B,G$12,Data!$A:$A,Matrices!$B89)))","v":""},{"$f":"IFERROR(AVERAGEIFS(Data!$E:$E,Data!$B:$B,H$12,Data!$A:$A,$B89),\"N/A\")","v":"N/A"},{"$f":"IFERROR(AVERAGEIFS(Data!$E:$E,Data!$B:$B,I$12,Data!$A:$A,$B89),\"N/A\")","v":"N/A"},{"$f":"IFERROR(AVERAGEIFS(Data!$E:$E,Data!$B:$B,J$12,Data!$A:$A,$B89),\"N/A\")","v":"N/A"},{"$f":"IFERROR(AVERAGEIFS(Data!$Q:$Q,Data!$B:$B,K$12,Data!$A:$A,$B89),\"N/A\")","v":"N/A"},{"$f":"IFERROR(AVERAGEIFS(Data!$Q:$Q,Data!$B:$B,L$12,Data!$A:$A,$B89),\"N/A\")","v":"N/A"},{"$f":"IFERROR(AVERAGEIFS(Data!$Q:$Q,Data!$B:$B,M$12,Data!$A:$A,$B89),\"N/A\")","v":"N/A"}]
["",{"$f":"Observations!B79","v":""},{"$f":"IF(A90=1,VLOOKUP($B90,ObData!$A$1:$J$300,3,0),\"\")","v":""},{"$f":"IF(A90=1,B90&\": \"&TEXT(C90,\"mm/dd/yy\")&\"- \"&VLOOKUP(B90,ObData!$A$1:$J$300,5,0),\"\")","v":""},{"$f":"IF($B90=\"\",\"\",IF(COUNTIFS(Data!$B:$B,E$12,Data!$A:$A,Matrices!$B90)=0,\"\",COUNTIFS(Data!$B:$B,E$12,Data!$A:$A,Matrices!$B90)))","v":""},{"$f":"IF($B90=\"\",\"\",IF(COUNTIFS(Data!$B:$B,F$12,Data!$A:$A,Matrices!$B90)=0,\"\",COUNTIFS(Data!$B:$B,F$12,Data!$A:$A,Matrices!$B90)))","v":""},{"$f":"IF($B90=\"\",\"\",IF(COUNTIFS(Data!$B:$B,G$12,Data!$A:$A,Matrices!$B90)=0,\"\",COUNTIFS(Data!$B:$B,G$12,Data!$A:$A,Matrices!$B90)))","v":""},{"$f":"IFERROR(AVERAGEIFS(Data!$E:$E,Data!$B:$B,H$12,Data!$A:$A,$B90),\"N/A\")","v":"N/A"},{"$f":"IFERROR(AVERAGEIFS(Data!$E:$E,Data!$B:$B,I$12,Data!$A:$A,$B90),\"N/A\")","v":"N/A"},{"$f":"IFERROR(AVERAGEIFS(Data!$E:$E,Data!$B:$B,J$12,Data!$A:$A,$B90),\"N/A\")","v":"N/A"},{"$f":"IFERROR(AVERAGEIFS(Data!$Q:$Q,Data!$B:$B,K$12,Data!$A:$A,$B90),\"N/A\")","v":"N/A"},{"$f":"IFERROR(AVERAGEIFS(Data!$Q:$Q,Data!$B:$B,L$12,Data!$A:$A,$B90),\"N/A\")","v":"N/A"},{"$f":"IFERROR(AVERAGEIFS(Data!$Q:$Q,Data!$B:$B,M$12,Data!$A:$A,$B90),\"N/A\")","v":"N/A"}]
["",{"$f":"Observations!B80","v":""},{"$f":"IF(A91=1,VLOOKUP($B91,ObData!$A$1:$J$300,3,0),\"\")","v":""},{"$f":"IF(A91=1,B91&\": \"&TEXT(C91,\"mm/dd/yy\")&\"- \"&VLOOKUP(B91,ObData!$A$1:$J$300,5,0),\"\")","v":""},{"$f":"IF($B91=\"\",\"\",IF(COUNTIFS(Data!$B:$B,E$12,Data!$A:$A,Matrices!$B91)=0,\"\",COUNTIFS(Data!$B:$B,E$12,Data!$A:$A,Matrices!$B91)))","v":""},{"$f":"IF($B91=\"\",\"\",IF(COUNTIFS(Data!$B:$B,F$12,Data!$A:$A,Matrices!$B91)=0,\"\",COUNTIFS(Data!$B:$B,F$12,Data!$A:$A,Matrices!$B91)))","v":""},{"$f":"IF($B91=\"\",\"\",IF(COUNTIFS(Data!$B:$B,G$12,Data!$A:$A,Matrices!$B91)=0,\"\",COUNTIFS(Data!$B:$B,G$12,Data!$A:$A,Matrices!$B91)))","v":""},{"$f":"IFERROR(AVERAGEIFS(Data!$E:$E,Data!$B:$B,H$12,Data!$A:$A,$B91),\"N/A\")","v":"N/A"},{"$f":"IFERROR(AVERAGEIFS(Data!$E:$E,Data!$B:$B,I$12,Data!$A:$A,$B91),\"N/A\")","v":"N/A"},{"$f":"IFERROR(AVERAGEIFS(Data!$E:$E,Data!$B:$B,J$12,Data!$A:$A,$B91),\"N/A\")","v":"N/A"},{"$f":"IFERROR(AVERAGEIFS(Data!$Q:$Q,Data!$B:$B,K$12,Data!$A:$A,$B91),\"N/A\")","v":"N/A"},{"$f":"IFERROR(AVERAGEIFS(Data!$Q:$Q,Data!$B:$B,L$12,Data!$A:$A,$B91),\"N/A\")","v":"N/A"},{"$f":"IFERROR(AVERAGEIFS(Data!$Q:$Q,Data!$B:$B,M$12,Data!$A:$A,$B91),\"N/A\")","v":"N/A"}]
["",{"$f":"Observations!B81","v":""},{"$f":"IF(A92=1,VLOOKUP($B92,ObData!$A$1:$J$300,3,0),\"\")","v":""},{"$f":"IF(A92=1,B92&\": \"&TEXT(C92,\"mm/dd/yy\")&\"- \"&VLOOKUP(B92,ObData!$A$1:$J$300,5,0),\"\")","v":""},{"$f":"IF($B92=\"\",\"\",IF(COUNTIFS(Data!$B:$B,E$12,Data!$A:$A,Matrices!$B92)=0,\"\",COUNTIFS(Data!$B:$B,E$12,Data!$A:$A,Matrices!$B92)))","v":""},{"$f":"IF($B92=\"\",\"\",IF(COUNTIFS(Data!$B:$B,F$12,Data!$A:$A,Matrices!$B92)=0,\"\",COUNTIFS(Data!$B:$B,F$12,Data!$A:$A,Matrices!$B92)))","v":""},{"$f":"IF($B92=\"\",\"\",IF(COUNTIFS(Data!$B:$B,G$12,Data!$A:$A,Matrices!$B92)=0,\"\",COUNTIFS(Data!$B:$B,G$12,Data!$A:$A,Matrices!$B92)))","v":""},{"$f":"IFERROR(AVERAGEIFS(Data!$E:$E,Data!$B:$B,H$12,Data!$A:$A,$B92),\"N/A\")","v":"N/A"},{"$f":"IFERROR(AVERAGEIFS(Data!$E:$E,Data!$B:$B,I$12,Data!$A:$A,$B92),\"N/A\")","v":"N/A"},{"$f":"IFERROR(AVERAGEIFS(Data!$E:$E,Data!$B:$B,J$12,Data!$A:$A,$B92),\"N/A\")","v":"N/A"},{"$f":"IFERROR(AVERAGEIFS(Data!$Q:$Q,Data!$B:$B,K$12,Data!$A:$A,$B92),\"N/A\")","v":"N/A"},{"$f":"IFERROR(AVERAGEIFS(Data!$Q:$Q,Data!$B:$B,L$12,Data!$A:$A,$B92),\"N/A\")","v":"N/A"},{"$f":"IFERROR(AVERAGEIFS(Data!$Q:$Q,Data!$B:$B,M$12,Data!$A:$A,$B92),\"N/A\")","v":"N/A"}]
["",{"$f":"Observations!B82","v":""},{"$f":"IF(A93=1,VLOOKUP($B93,ObData!$A$1:$J$300,3,0),\"\")","v":""},{"$f":"IF(A93=1,B93&\": \"&TEXT(C93,\"mm/dd/yy\")&\"- \"&VLOOKUP(B93,ObData!$A$1:$J$300,5,0),\"\")","v":""},{"$f":"IF($B93=\"\",\"\",IF(COUNTIFS(Data!$B:$B,E$12,Data!$A:$A,Matrices!$B93)=0,\"\",COUNTIFS(Data!$B:$B,E$12,Data!$A:$A,Matrices!$B93)))","v":""},{"$f":"IF($B93=\"\",\"\",IF(COUNTIFS(Data!$B:$B,F$12,Data!$A:$A,Matrices!$B93)=0,\"\",COUNTIFS(Data!$B:$B,F$12,Data!$A:$A,Matrices!$B93)))","v":""},{"$f":"IF($B93=\"\",\"\",IF(COUNTIFS(Data!$B:$B,G$12,Data!$A:$A,Matrices!$B93)=0,\"\",COUNTIFS(Data!$B:$B,G$12,Data!$A:$A,Matrices!$B93)))","v":""},{"$f":"IFERROR(AVERAGEIFS(Data!$E:$E,Data!$B:$B,H$12,Data!$A:$A,$B93),\"N/A\")","v":"N/A"},{"$f":"IFERROR(AVERAGEIFS(Data!$E:$E,Data!$B:$B,I$12,Data!$A:$A,$B93),\"N/A\")","v":"N/A"},{"$f":"IFERROR(AVERAGEIFS(Data!$E:$E,Data!$B:$B,J$12,Data!$A:$A,$B93),\"N/A\")","v":"N/A"},{"$f":"IFERROR(AVERAGEIFS(Data!$Q:$Q,Data!$B:$B,K$12,Data!$A:$A,$B93),\"N/A\")","v":"N/A"},{"$f":"IFERROR(AVERAGEIFS(Data!$Q:$Q,Data!$B:$B,L$12,Data!$A:$A,$B93),\"N/A\")","v":"N/A"},{"$f":"IFERROR(AVERAGEIFS(Data!$Q:$Q,Data!$B:$B,M$12,Data!$A:$A,$B93),\"N/A\")","v":"N/A"}]
["",{"$f":"Observations!B83","v":""},{"$f":"IF(A94=1,VLOOKUP($B94,ObData!$A$1:$J$300,3,0),\"\")","v":""},{"$f":"IF(A94=1,B94&\": \"&TEXT(C94,\"mm/dd/yy\")&\"- \"&VLOOKUP(B94,ObData!$A$1:$J$300,5,0),\"\")","v":""},{"$f":"IF($B94=\"\",\"\",IF(COUNTIFS(Data!$B:$B,E$12,Data!$A:$A,Matrices!$B94)=0,\"\",COUNTIFS(Data!$B:$B,E$12,Data!$A:$A,Matrices!$B94)))","v":""},{"$f":"IF($B94=\"\",\"\",IF(COUNTIFS(Data!$B:$B,F$12,Data!$A:$A,Matrices!$B94)=0,\"\",COUNTIFS(Data!$B:$B,F$12,Data!$A:$A,Matrices!$B94)))","v":""},{"$f":"IF($B94=\"\",\"\",IF(COUNTIFS(Data!$B:$B,G$12,Data!$A:$A,Matrices!$B94)=0,\"\",COUNTIFS(Data!$B:$B,G$12,Data!$A:$A,Matrices!$B94)))","v":""},{"$f":"IFERROR(AVERAGEIFS(Data!$E:$E,Data!$B:$B,H$12,Data!$A:$A,$B94),\"N/A\")","v":"N/A"},{"$f":"IFERROR(AVERAGEIFS(Data!$E:$E,Data!$B:$B,I$12,Data!$A:$A,$B94),\"N/A\")","v":"N/A"},{"$f":"IFERROR(AVERAGEIFS(Data!$E:$E,Data!$B:$B,J$12,Data!$A:$A,$B94),\"N/A\")","v":"N/A"},{"$f":"IFERROR(AVERAGEIFS(Data!$Q:$Q,Data!$B:$B,K$12,Data!$A:$A,$B94),\"N/A\")","v":"N/A"},{"$f":"IFERROR(AVERAGEIFS(Data!$Q:$Q,Data!$B:$B,L$12,Data!$A:$A,$B94),\"N/A\")","v":"N/A"},{"$f":"IFERROR(AVERAGEIFS(Data!$Q:$Q,Data!$B:$B,M$12,Data!$A:$A,$B94),\"N/A\")","v":"N/A"}]
["",{"$f":"Observations!B84","v":""},{"$f":"IF(A95=1,VLOOKUP($B95,ObData!$A$1:$J$300,3,0),\"\")","v":""},{"$f":"IF(A95=1,B95&\": \"&TEXT(C95,\"mm/dd/yy\")&\"- \"&VLOOKUP(B95,ObData!$A$1:$J$300,5,0),\"\")","v":""},{"$f":"IF($B95=\"\",\"\",IF(COUNTIFS(Data!$B:$B,E$12,Data!$A:$A,Matrices!$B95)=0,\"\",COUNTIFS(Data!$B:$B,E$12,Data!$A:$A,Matrices!$B95)))","v":""},{"$f":"IF($B95=\"\",\"\",IF(COUNTIFS(Data!$B:$B,F$12,Data!$A:$A,Matrices!$B95)=0,\"\",COUNTIFS(Data!$B:$B,F$12,Data!$A:$A,Matrices!$B95)))","v":""},{"$f":"IF($B95=\"\",\"\",IF(COUNTIFS(Data!$B:$B,G$12,Data!$A:$A,Matrices!$B95)=0,\"\",COUNTIFS(Data!$B:$B,G$12,Data!$A:$A,Matrices!$B95)))","v":""},{"$f":"IFERROR(AVERAGEIFS(Data!$E:$E,Data!$B:$B,H$12,Data!$A:$A,$B95),\"N/A\")","v":"N/A"},{"$f":"IFERROR(AVERAGEIFS(Data!$E:$E,Data!$B:$B,I$12,Data!$A:$A,$B95),\"N/A\")","v":"N/A"},{"$f":"IFERROR(AVERAGEIFS(Data!$E:$E,Data!$B:$B,J$12,Data!$A:$A,$B95),\"N/A\")","v":"N/A"},{"$f":"IFERROR(AVERAGEIFS(Data!$Q:$Q,Data!$B:$B,K$12,Data!$A:$A,$B95),\"N/A\")","v":"N/A"},{"$f":"IFERROR(AVERAGEIFS(Data!$Q:$Q,Data!$B:$B,L$12,Data!$A:$A,$B95),\"N/A\")","v":"N/A"},{"$f":"IFERROR(AVERAGEIFS(Data!$Q:$Q,Data!$B:$B,M$12,Data!$A:$A,$B95),\"N/A\")","v":"N/A"}]
["",{"$f":"Observations!B85","v":""},{"$f":"IF(A96=1,VLOOKUP($B96,ObData!$A$1:$J$300,3,0),\"\")","v":""},{"$f":"IF(A96=1,B96&\": \"&TEXT(C96,\"mm/dd/yy\")&\"- \"&VLOOKUP(B96,ObData!$A$1:$J$300,5,0),\"\")","v":""},{"$f":"IF($B96=\"\",\"\",IF(COUNTIFS(Data!$B:$B,E$12,Data!$A:$A,Matrices!$B96)=0,\"\",COUNTIFS(Data!$B:$B,E$12,Data!$A:$A,Matrices!$B96)))","v":""},{"$f":"IF($B96=\"\",\"\",IF(COUNTIFS(Data!$B:$B,F$12,Data!$A:$A,Matrices!$B96)=0,\"\",COUNTIFS(Data!$B:$B,F$12,Data!$A:$A,Matrices!$B96)))","v":""},{"$f":"IF($B96=\"\",\"\",IF(COUNTIFS(Data!$B:$B,G$12,Data!$A:$A,Matrices!$B96)=0,\"\",COUNTIFS(Data!$B:$B,G$12,Data!$A:$A,Matrices!$B96)))","v":""},{"$f":"IFERROR(AVERAGEIFS(Data!$E:$E,Data!$B:$B,H$12,Data!$A:$A,$B96),\"N/A\")","v":"N/A"},{"$f":"IFERROR(AVERAGEIFS(Data!$E:$E,Data!$B:$B,I$12,Data!$A:$A,$B96),\"N/A\")","v":"N/A"},{"$f":"IFERROR(AVERAGEIFS(Data!$E:$E,Data!$B:$B,J$12,Data!$A:$A,$B96),\"N/A\")","v":"N/A"},{"$f":"IFERROR(AVERAGEIFS(Data!$Q:$Q,Data!$B:$B,K$12,Data!$A:$A,$B96),\"N/A\")","v":"N/A"},{"$f":"IFERROR(AVERAGEIFS(Data!$Q:$Q,Data!$B:$B,L$12,Data!$A:$A,$B96),\"N/A\")","v":"N/A"},{"$f":"IFERROR(AVERAGEIFS(Data!$Q:$Q,Data!$B:$B,M$12,Data!$A:$A,$B96),\"N/A\")","v":"N/A"}]
["",{"$f":"Observations!B86","v":""},{"$f":"IF(A97=1,VLOOKUP($B97,ObData!$A$1:$J$300,3,0),\"\")","v":""},{"$f":"IF(A97=1,B97&\": \"&TEXT(C97,\"mm/dd/yy\")&\"- \"&VLOOKUP(B97,ObData!$A$1:$J$300,5,0),\"\")","v":""},{"$f":"IF($B97=\"\",\"\",IF(COUNTIFS(Data!$B:$B,E$12,Data!$A:$A,Matrices!$B97)=0,\"\",COUNTIFS(Data!$B:$B,E$12,Data!$A:$A,Matrices!$B97)))","v":""},{"$f":"IF($B97=\"\",\"\",IF(COUNTIFS(Data!$B:$B,F$12,Data!$A:$A,Matrices!$B97)=0,\"\",COUNTIFS(Data!$B:$B,F$12,Data!$A:$A,Matrices!$B97)))","v":""},{"$f":"IF($B97=\"\",\"\",IF(COUNTIFS(Data!$B:$B,G$12,Data!$A:$A,Matrices!$B97)=0,\"\",COUNTIFS(Data!$B:$B,G$12,Data!$A:$A,Matrices!$B97)))","v":""},{"$f":"IFERROR(AVERAGEIFS(Data!$E:$E,Data!$B:$B,H$12,Data!$A:$A,$B97),\"N/A\")","v":"N/A"},{"$f":"IFERROR(AVERAGEIFS(Data!$E:$E,Data!$B:$B,I$12,Data!$A:$A,$B97),\"N/A\")","v":"N/A"},{"$f":"IFERROR(AVERAGEIFS(Data!$E:$E,Data!$B:$B,J$12,Data!$A:$A,$B97),\"N/A\")","v":"N/A"},{"$f":"IFERROR(AVERAGEIFS(Data!$Q:$Q,Data!$B:$B,K$12,Data!$A:$A,$B97),\"N/A\")","v":"N/A"},{"$f":"IFERROR(AVERAGEIFS(Data!$Q:$Q,Data!$B:$B,L$12,Data!$A:$A,$B97),\"N/A\")","v":"N/A"},{"$f":"IFERROR(AVERAGEIFS(Data!$Q:$Q,Data!$B:$B,M$12,Data!$A:$A,$B97),\"N/A\")","v":"N/A"}]
["",{"$f":"Observations!B87","v":""},{"$f":"IF(A98=1,VLOOKUP($B98,ObData!$A$1:$J$300,3,0),\"\")","v":""},{"$f":"IF(A98=1,B98&\": \"&TEXT(C98,\"mm/dd/yy\")&\"- \"&VLOOKUP(B98,ObData!$A$1:$J$300,5,0),\"\")","v":""},{"$f":"IF($B98=\"\",\"\",IF(COUNTIFS(Data!$B:$B,E$12,Data!$A:$A,Matrices!$B98)=0,\"\",COUNTIFS(Data!$B:$B,E$12,Data!$A:$A,Matrices!$B98)))","v":""},{"$f":"IF($B98=\"\",\"\",IF(COUNTIFS(Data!$B:$B,F$12,Data!$A:$A,Matrices!$B98)=0,\"\",COUNTIFS(Data!$B:$B,F$12,Data!$A:$A,Matrices!$B98)))","v":""},{"$f":"IF($B98=\"\",\"\",IF(COUNTIFS(Data!$B:$B,G$12,Data!$A:$A,Matrices!$B98)=0,\"\",COUNTIFS(Data!$B:$B,G$12,Data!$A:$A,Matrices!$B98)))","v":""},{"$f":"IFERROR(AVERAGEIFS(Data!$E:$E,Data!$B:$B,H$12,Data!$A:$A,$B98),\"N/A\")","v":"N/A"},{"$f":"IFERROR(AVERAGEIFS(Data!$E:$E,Data!$B:$B,I$12,Data!$A:$A,$B98),\"N/A\")","v":"N/A"},{"$f":"IFERROR(AVERAGEIFS(Data!$E:$E,Data!$B:$B,J$12,Data!$A:$A,$B98),\"N/A\")","v":"N/A"},{"$f":"IFERROR(AVERAGEIFS(Data!$Q:$Q,Data!$B:$B,K$12,Data!$A:$A,$B98),\"N/A\")","v":"N/A"},{"$f":"IFERROR(AVERAGEIFS(Data!$Q:$Q,Data!$B:$B,L$12,Data!$A:$A,$B98),\"N/A\")","v":"N/A"},{"$f":"IFERROR(AVERAGEIFS(Data!$Q:$Q,Data!$B:$B,M$12,Data!$A:$A,$B98),\"N/A\")","v":"N/A"}]
["",{"$f":"Observations!B88","v":""},{"$f":"IF(A99=1,VLOOKUP($B99,ObData!$A$1:$J$300,3,0),\"\")","v":""},{"$f":"IF(A99=1,B99&\": \"&TEXT(C99,\"mm/dd/yy\")&\"- \"&VLOOKUP(B99,ObData!$A$1:$J$300,5,0),\"\")","v":""},{"$f":"IF($B99=\"\",\"\",IF(COUNTIFS(Data!$B:$B,E$12,Data!$A:$A,Matrices!$B99)=0,\"\",COUNTIFS(Data!$B:$B,E$12,Data!$A:$A,Matrices!$B99)))","v":""},{"$f":"IF($B99=\"\",\"\",IF(COUNTIFS(Data!$B:$B,F$12,Data!$A:$A,Matrices!$B99)=0,\"\",COUNTIFS(Data!$B:$B,F$12,Data!$A:$A,Matrices!$B99)))","v":""},{"$f":"IF($B99=\"\",\"\",IF(COUNTIFS(Data!$B:$B,G$12,Data!$A:$A,Matrices!$B99)=0,\"\",COUNTIFS(Data!$B:$B,G$12,Data!$A:$A,Matrices!$B99)))","v":""},{"$f":"IFERROR(AVERAGEIFS(Data!$E:$E,Data!$B:$B,H$12,Data!$A:$A,$B99),\"N/A\")","v":"N/A"},{"$f":"IFERROR(AVERAGEIFS(Data!$E:$E,Data!$B:$B,I$12,Data!$A:$A,$B99),\"N/A\")","v":"N/A"},{"$f":"IFERROR(AVERAGEIFS(Data!$E:$E,Data!$B:$B,J$12,Data!$A:$A,$B99),\"N/A\")","v":"N/A"},{"$f":"IFERROR(AVERAGEIFS(Data!$Q:$Q,Data!$B:$B,K$12,Data!$A:$A,$B99),\"N/A\")","v":"N/A"},{"$f":"IFERROR(AVERAGEIFS(Data!$Q:$Q,Data!$B:$B,L$12,Data!$A:$A,$B99),\"N/A\")","v":"N/A"},{"$f":"IFERROR(AVERAGEIFS(Data!$Q:$Q,Data!$B:$B,M$12,Data!$A:$A,$B99),\"N/A\")","v":"N/A"}]
["",{"$f":"Observations!B89","v":""},{"$f":"IF(A100=1,VLOOKUP($B100,ObData!$A$1:$J$300,3,0),\"\")","v":""},{"$f":"IF(A100=1,B100&\": \"&TEXT(C100,\"mm/dd/yy\")&\"- \"&VLOOKUP(B100,ObData!$A$1:$J$300,5,0),\"\")","v":""},{"$f":"IF($B100=\"\",\"\",IF(COUNTIFS(Data!$B:$B,E$12,Data!$A:$A,Matrices!$B100)=0,\"\",COUNTIFS(Data!$B:$B,E$12,Data!$A:$A,Matrices!$B100)))","v":""},{"$f":"IF($B100=\"\",\"\",IF(COUNTIFS(Data!$B:$B,F$12,Data!$A:$A,Matrices!$B100)=0,\"\",COUNTIFS(Data!$B:$B,F$12,Data!$A:$A,Matrices!$B100)))","v":""},{"$f":"IF($B100=\"\",\"\",IF(COUNTIFS(Data!$B:$B,G$12,Data!$A:$A,Matrices!$B100)=0,\"\",COUNTIFS(Data!$B:$B,G$12,Data!$A:$A,Matrices!$B100)))","v":""},{"$f":"IFERROR(AVERAGEIFS(Data!$E:$E,Data!$B:$B,H$12,Data!$A:$A,$B100),\"N/A\")","v":"N/A"},{"$f":"IFERROR(AVERAGEIFS(Data!$E:$E,Data!$B:$B,I$12,Data!$A:$A,$B100),\"N/A\")","v":"N/A"},{"$f":"IFERROR(AVERAGEIFS(Data!$E:$E,Data!$B:$B,J$12,Data!$A:$A,$B100),\"N/A\")","v":"N/A"},{"$f":"IFERROR(AVERAGEIFS(Data!$Q:$Q,Data!$B:$B,K$12,Data!$A:$A,$B100),\"N/A\")","v":"N/A"},{"$f":"IFERROR(AVERAGEIFS(Data!$Q:$Q,Data!$B:$B,L$12,Data!$A:$A,$B100),\"N/A\")","v":"N/A"},{"$f":"IFERROR(AVERAGEIFS(Data!$Q:$Q,Data!$B:$B,M$12,Data!$A:$A,$B100),\"N/A\")","v":"N/A"}]
["",{"$f":"Observations!B90","v":""},{"$f":"IF(A101=1,VLOOKUP($B101,ObData!$A$1:$J$300,3,0),\"\")","v":""},{"$f":"IF(A101=1,B101&\": \"&TEXT(C101,\"mm/dd/yy\")&\"- \"&VLOOKUP(B101,ObData!$A$1:$J$300,5,0),\"\")","v":""},{"$f":"IF($B101=\"\",\"\",IF(COUNTIFS(Data!$B:$B,E$12,Data!$A:$A,Matrices!$B101)=0,\"\",COUNTIFS(Data!$B:$B,E$12,Data!$A:$A,Matrices!$B101)))","v":""},{"$f":"IF($B101=\"\",\"\",IF(COUNTIFS(Data!$B:$B,F$12,Data!$A:$A,Matrices!$B101)=0,\"\",COUNTIFS(Data!$B:$B,F$12,Data!$A:$A,Matrices!$B101)))","v":""},{"$f":"IF($B101=\"\",\"\",IF(COUNTIFS(Data!$B:$B,G$12,Data!$A:$A,Matrices!$B101)=0,\"\",COUNTIFS(Data!$B:$B,G$12,Data!$A:$A,Matrices!$B101)))","v":""},{"$f":"IFERROR(AVERAGEIFS(Data!$E:$E,Data!$B:$B,H$12,Data!$A:$A,$B101),\"N/A\")","v":"N/A"},{"$f":"IFERROR(AVERAGEIFS(Data!$E:$E,Data!$B:$B,I$12,Data!$A:$A,$B101),\"N/A\")","v":"N/A"},{"$f":"IFERROR(AVERAGEIFS(Data!$E:$E,Data!$B:$B,J$12,Data!$A:$A,$B101),\"N/A\")","v":"N/A"},{"$f":"IFERROR(AVERAGEIFS(Data!$Q:$Q,Data!$B:$B,K$12,Data!$A:$A,$B101),\"N/A\")","v":"N/A"},{"$f":"IFERROR(AVERAGEIFS(Data!$Q:$Q,Data!$B:$B,L$12,Data!$A:$A,$B101),\"N/A\")","v":"N/A"},{"$f":"IFERROR(AVERAGEIFS(Data!$Q:$Q,Data!$B:$B,M$12,Data!$A:$A,$B101),\"N/A\")","v":"N/A"}]
["",{"$f":"Observations!B91","v":""},{"$f":"IF(A102=1,VLOOKUP($B102,ObData!$A$1:$J$300,3,0),\"\")","v":""},{"$f":"IF(A102=1,B102&\": \"&TEXT(C102,\"mm/dd/yy\")&\"- \"&VLOOKUP(B102,ObData!$A$1:$J$300,5,0),\"\")","v":""},{"$f":"IF($B102=\"\",\"\",IF(COUNTIFS(Data!$B:$B,E$12,Data!$A:$A,Matrices!$B102)=0,\"\",COUNTIFS(Data!$B:$B,E$12,Data!$A:$A,Matrices!$B102)))","v":""},{"$f":"IF($B102=\"\",\"\",IF(COUNTIFS(Data!$B:$B,F$12,Data!$A:$A,Matrices!$B102)=0,\"\",COUNTIFS(Data!$B:$B,F$12,Data!$A:$A,Matrices!$B102)))","v":""},{"$f":"IF($B102=\"\",\"\",IF(COUNTIFS(Data!$B:$B,G$12,Data!$A:$A,Matrices!$B102)=0,\"\",COUNTIFS(Data!$B:$B,G$12,Data!$A:$A,Matrices!$B102)))","v":""},{"$f":"IFERROR(AVERAGEIFS(Data!$E:$E,Data!$B:$B,H$12,Data!$A:$A,$B102),\"N/A\")","v":"N/A"},{"$f":"IFERROR(AVERAGEIFS(Data!$E:$E,Data!$B:$B,I$12,Data!$A:$A,$B102),\"N/A\")","v":"N/A"},{"$f":"IFERROR(AVERAGEIFS(Data!$E:$E,Data!$B:$B,J$12,Data!$A:$A,$B102),\"N/A\")","v":"N/A"},{"$f":"IFERROR(AVERAGEIFS(Data!$Q:$Q,Data!$B:$B,K$12,Data!$A:$A,$B102),\"N/A\")","v":"N/A"},{"$f":"IFERROR(AVERAGEIFS(Data!$Q:$Q,Data!$B:$B,L$12,Data!$A:$A,$B102),\"N/A\")","v":"N/A"},{"$f":"IFERROR(AVERAGEIFS(Data!$Q:$Q,Data!$B:$B,M$12,Data!$A:$A,$B102),\"N/A\")","v":"N/A"}]
["",{"$f":"Observations!B92","v":""},{"$f":"IF(A103=1,VLOOKUP($B103,ObData!$A$1:$J$300,3,0),\"\")","v":""},{"$f":"IF(A103=1,B103&\": \"&TEXT(C103,\"mm/dd/yy\")&\"- \"&VLOOKUP(B103,ObData!$A$1:$J$300,5,0),\"\")","v":""},{"$f":"IF($B103=\"\",\"\",IF(COUNTIFS(Data!$B:$B,E$12,Data!$A:$A,Matrices!$B103)=0,\"\",COUNTIFS(Data!$B:$B,E$12,Data!$A:$A,Matrices!$B103)))","v":""},{"$f":"IF($B103=\"\",\"\",IF(COUNTIFS(Data!$B:$B,F$12,Data!$A:$A,Matrices!$B103)=0,\"\",COUNTIFS(Data!$B:$B,F$12,Data!$A:$A,Matrices!$B103)))","v":""},{"$f":"IF($B103=\"\",\"\",IF(COUNTIFS(Data!$B:$B,G$12,Data!$A:$A,Matrices!$B103)=0,\"\",COUNTIFS(Data!$B:$B,G$12,Data!$A:$A,Matrices!$B103)))","v":""},{"$f":"IFERROR(AVERAGEIFS(Data!$E:$E,Data!$B:$B,H$12,Data!$A:$A,$B103),\"N/A\")","v":"N/A"},{"$f":"IFERROR(AVERAGEIFS(Data!$E:$E,Data!$B:$B,I$12,Data!$A:$A,$B103),\"N/A\")","v":"N/A"},{"$f":"IFERROR(AVERAGEIFS(Data!$E:$E,Data!$B:$B,J$12,Data!$A:$A,$B103),\"N/A\")","v":"N/A"},{"$f":"IFERROR(AVERAGEIFS(Data!$Q:$Q,Data!$B:$B,K$12,Data!$A:$A,$B103),\"N/A\")","v":"N/A"},{"$f":"IFERROR(AVERAGEIFS(Data!$Q:$Q,Data!$B:$B,L$12,Data!$A:$A,$B103),\"N/A\")","v":"N/A"},{"$f":"IFERROR(AVERAGEIFS(Data!$Q:$Q,Data!$B:$B,M$12,Data!$A:$A,$B103),\"N/A\")","v":"N/A"}]
["",{"$f":"Observations!B93","v":""},{"$f":"IF(A104=1,VLOOKUP($B104,ObData!$A$1:$J$300,3,0),\"\")","v":""},{"$f":"IF(A104=1,B104&\": \"&TEXT(C104,\"mm/dd/yy\")&\"- \"&VLOOKUP(B104,ObData!$A$1:$J$300,5,0),\"\")","v":""},{"$f":"IF($B104=\"\",\"\",IF(COUNTIFS(Data!$B:$B,E$12,Data!$A:$A,Matrices!$B104)=0,\"\",COUNTIFS(Data!$B:$B,E$12,Data!$A:$A,Matrices!$B104)))","v":""},{"$f":"IF($B104=\"\",\"\",IF(COUNTIFS(Data!$B:$B,F$12,Data!$A:$A,Matrices!$B104)=0,\"\",COUNTIFS(Data!$B:$B,F$12,Data!$A:$A,Matrices!$B104)))","v":""},{"$f":"IF($B104=\"\",\"\",IF(COUNTIFS(Data!$B:$B,G$12,Data!$A:$A,Matrices!$B104)=0,\"\",COUNTIFS(Data!$B:$B,G$12,Data!$A:$A,Matrices!$B104)))","v":""},{"$f":"IFERROR(AVERAGEIFS(Data!$E:$E,Data!$B:$B,H$12,Data!$A:$A,$B104),\"N/A\")","v":"N/A"},{"$f":"IFERROR(AVERAGEIFS(Data!$E:$E,Data!$B:$B,I$12,Data!$A:$A,$B104),\"N/A\")","v":"N/A"},{"$f":"IFERROR(AVERAGEIFS(Data!$E:$E,Data!$B:$B,J$12,Data!$A:$A,$B104),\"N/A\")","v":"N/A"},{"$f":"IFERROR(AVERAGEIFS(Data!$Q:$Q,Data!$B:$B,K$12,Data!$A:$A,$B104),\"N/A\")","v":"N/A"},{"$f":"IFERROR(AVERAGEIFS(Data!$Q:$Q,Data!$B:$B,L$12,Data!$A:$A,$B104),\"N/A\")","v":"N/A"},{"$f":"IFERROR(AVERAGEIFS(Data!$Q:$Q,Data!$B:$B,M$12,Data!$A:$A,$B104),\"N/A\")","v":"N/A"}]
["",{"$f":"Observations!B94","v":""},{"$f":"IF(A105=1,VLOOKUP($B105,ObData!$A$1:$J$300,3,0),\"\")","v":""},{"$f":"IF(A105=1,B105&\": \"&TEXT(C105,\"mm/dd/yy\")&\"- \"&VLOOKUP(B105,ObData!$A$1:$J$300,5,0),\"\")","v":""},{"$f":"IF($B105=\"\",\"\",IF(COUNTIFS(Data!$B:$B,E$12,Data!$A:$A,Matrices!$B105)=0,\"\",COUNTIFS(Data!$B:$B,E$12,Data!$A:$A,Matrices!$B105)))","v":""},{"$f":"IF($B105=\"\",\"\",IF(COUNTIFS(Data!$B:$B,F$12,Data!$A:$A,Matrices!$B105)=0,\"\",COUNTIFS(Data!$B:$B,F$12,Data!$A:$A,Matrices!$B105)))","v":""},{"$f":"IF($B105=\"\",\"\",IF(COUNTIFS(Data!$B:$B,G$12,Data!$A:$A,Matrices!$B105)=0,\"\",COUNTIFS(Data!$B:$B,G$12,Data!$A:$A,Matrices!$B105)))","v":""},{"$f":"IFERROR(AVERAGEIFS(Data!$E:$E,Data!$B:$B,H$12,Data!$A:$A,$B105),\"N/A\")","v":"N/A"},{"$f":"IFERROR(AVERAGEIFS(Data!$E:$E,Data!$B:$B,I$12,Data!$A:$A,$B105),\"N/A\")","v":"N/A"},{"$f":"IFERROR(AVERAGEIFS(Data!$E:$E,Data!$B:$B,J$12,Data!$A:$A,$B105),\"N/A\")","v":"N/A"},{"$f":"IFERROR(AVERAGEIFS(Data!$Q:$Q,Data!$B:$B,K$12,Data!$A:$A,$B105),\"N/A\")","v":"N/A"},{"$f":"IFERROR(AVERAGEIFS(Data!$Q:$Q,Data!$B:$B,L$12,Data!$A:$A,$B105),\"N/A\")","v":"N/A"},{"$f":"IFERROR(AVERAGEIFS(Data!$Q:$Q,Data!$B:$B,M$12,Data!$A:$A,$B105),\"N/A\")","v":"N/A"}]
["",{"$f":"Observations!B95","v":""},{"$f":"IF(A106=1,VLOOKUP($B106,ObData!$A$1:$J$300,3,0),\"\")","v":""},{"$f":"IF(A106=1,B106&\": \"&TEXT(C106,\"mm/dd/yy\")&\"- \"&VLOOKUP(B106,ObData!$A$1:$J$300,5,0),\"\")","v":""},{"$f":"IF($B106=\"\",\"\",IF(COUNTIFS(Data!$B:$B,E$12,Data!$A:$A,Matrices!$B106)=0,\"\",COUNTIFS(Data!$B:$B,E$12,Data!$A:$A,Matrices!$B106)))","v":""},{"$f":"IF($B106=\"\",\"\",IF(COUNTIFS(Data!$B:$B,F$12,Data!$A:$A,Matrices!$B106)=0,\"\",COUNTIFS(Data!$B:$B,F$12,Data!$A:$A,Matrices!$B106)))","v":""},{"$f":"IF($B106=\"\",\"\",IF(COUNTIFS(Data!$B:$B,G$12,Data!$A:$A,Matrices!$B106)=0,\"\",COUNTIFS(Data!$B:$B,G$12,Data!$A:$A,Matrices!$B106)))","v":""},{"$f":"IFERROR(AVERAGEIFS(Data!$E:$E,Data!$B:$B,H$12,Data!$A:$A,$B106),\"N/A\")","v":"N/A"},{"$f":"IFERROR(AVERAGEIFS(Data!$E:$E,Data!$B:$B,I$12,Data!$A:$A,$B106),\"N/A\")","v":"N/A"},{"$f":"IFERROR(AVERAGEIFS(Data!$E:$E,Data!$B:$B,J$12,Data!$A:$A,$B106),\"N/A\")","v":"N/A"},{"$f":"IFERROR(AVERAGEIFS(Data!$Q:$Q,Data!$B:$B,K$12,Data!$A:$A,$B106),\"N/A\")","v":"N/A"},{"$f":"IFERROR(AVERAGEIFS(Data!$Q:$Q,Data!$B:$B,L$12,Data!$A:$A,$B106),\"N/A\")","v":"N/A"},{"$f":"IFERROR(AVERAGEIFS(Data!$Q:$Q,Data!$B:$B,M$12,Data!$A:$A,$B106),\"N/A\")","v":"N/A"}]
["",{"$f":"Observations!B96","v":""},{"$f":"IF(A107=1,VLOOKUP($B107,ObData!$A$1:$J$300,3,0),\"\")","v":""},{"$f":"IF(A107=1,B107&\": \"&TEXT(C107,\"mm/dd/yy\")&\"- \"&VLOOKUP(B107,ObData!$A$1:$J$300,5,0),\"\")","v":""},{"$f":"IF($B107=\"\",\"\",IF(COUNTIFS(Data!$B:$B,E$12,Data!$A:$A,Matrices!$B107)=0,\"\",COUNTIFS(Data!$B:$B,E$12,Data!$A:$A,Matrices!$B107)))","v":""},{"$f":"IF($B107=\"\",\"\",IF(COUNTIFS(Data!$B:$B,F$12,Data!$A:$A,Matrices!$B107)=0,\"\",COUNTIFS(Data!$B:$B,F$12,Data!$A:$A,Matrices!$B107)))","v":""},{"$f":"IF($B107=\"\",\"\",IF(COUNTIFS(Data!$B:$B,G$12,Data!$A:$A,Matrices!$B107)=0,\"\",COUNTIFS(Data!$B:$B,G$12,Data!$A:$A,Matrices!$B107)))","v":""},{"$f":"IFERROR(AVERAGEIFS(Data!$E:$E,Data!$B:$B,H$12,Data!$A:$A,$B107),\"N/A\")","v":"N/A"},{"$f":"IFERROR(AVERAGEIFS(Data!$E:$E,Data!$B:$B,I$12,Data!$A:$A,$B107),\"N/A\")","v":"N/A"},{"$f":"IFERROR(AVERAGEIFS(Data!$E:$E,Data!$B:$B,J$12,Data!$A:$A,$B107),\"N/A\")","v":"N/A"},{"$f":"IFERROR(AVERAGEIFS(Data!$Q:$Q,Data!$B:$B,K$12,Data!$A:$A,$B107),\"N/A\")","v":"N/A"},{"$f":"IFERROR(AVERAGEIFS(Data!$Q:$Q,Data!$B:$B,L$12,Data!$A:$A,$B107),\"N/A\")","v":"N/A"},{"$f":"IFERROR(AVERAGEIFS(Data!$Q:$Q,Data!$B:$B,M$12,Data!$A:$A,$B107),\"N/A\")","v":"N/A"}]
["",{"$f":"Observations!B97","v":""},{"$f":"IF(A108=1,VLOOKUP($B108,ObData!$A$1:$J$300,3,0),\"\")","v":""},{"$f":"IF(A108=1,B108&\": \"&TEXT(C108,\"mm/dd/yy\")&\"- \"&VLOOKUP(B108,ObData!$A$1:$J$300,5,0),\"\")","v":""},{"$f":"IF($B108=\"\",\"\",IF(COUNTIFS(Data!$B:$B,E$12,Data!$A:$A,Matrices!$B108)=0,\"\",COUNTIFS(Data!$B:$B,E$12,Data!$A:$A,Matrices!$B108)))","v":""},{"$f":"IF($B108=\"\",\"\",IF(COUNTIFS(Data!$B:$B,F$12,Data!$A:$A,Matrices!$B108)=0,\"\",COUNTIFS(Data!$B:$B,F$12,Data!$A:$A,Matrices!$B108)))","v":""},{"$f":"IF($B108=\"\",\"\",IF(COUNTIFS(Data!$B:$B,G$12,Data!$A:$A,Matrices!$B108)=0,\"\",COUNTIFS(Data!$B:$B,G$12,Data!$A:$A,Matrices!$B108)))","v":""},{"$f":"IFERROR(AVERAGEIFS(Data!$E:$E,Data!$B:$B,H$12,Data!$A:$A,$B108),\"N/A\")","v":"N/A"},{"$f":"IFERROR(AVERAGEIFS(Data!$E:$E,Data!$B:$B,I$12,Data!$A:$A,$B108),\"N/A\")","v":"N/A"},{"$f":"IFERROR(AVERAGEIFS(Data!$E:$E,Data!$B:$B,J$12,Data!$A:$A,$B108),\"N/A\")","v":"N/A"},{"$f":"IFERROR(AVERAGEIFS(Data!$Q:$Q,Data!$B:$B,K$12,Data!$A:$A,$B108),\"N/A\")","v":"N/A"},{"$f":"IFERROR(AVERAGEIFS(Data!$Q:$Q,Data!$B:$B,L$12,Data!$A:$A,$B108),\"N/A\")","v":"N/A"},{"$f":"IFERROR(AVERAGEIFS(Data!$Q:$Q,Data!$B:$B,M$12,Data!$A:$A,$B108),\"N/A\")","v":"N/A"}]
["",{"$f":"Observations!B98","v":""},{"$f":"IF(A109=1,VLOOKUP($B109,ObData!$A$1:$J$300,3,0),\"\")","v":""},{"$f":"IF(A109=1,B109&\": \"&TEXT(C109,\"mm/dd/yy\")&\"- \"&VLOOKUP(B109,ObData!$A$1:$J$300,5,0),\"\")","v":""},{"$f":"IF($B109=\"\",\"\",IF(COUNTIFS(Data!$B:$B,E$12,Data!$A:$A,Matrices!$B109)=0,\"\",COUNTIFS(Data!$B:$B,E$12,Data!$A:$A,Matrices!$B109)))","v":""},{"$f":"IF($B109=\"\",\"\",IF(COUNTIFS(Data!$B:$B,F$12,Data!$A:$A,Matrices!$B109)=0,\"\",COUNTIFS(Data!$B:$B,F$12,Data!$A:$A,Matrices!$B109)))","v":""},{"$f":"IF($B109=\"\",\"\",IF(COUNTIFS(Data!$B:$B,G$12,Data!$A:$A,Matrices!$B109)=0,\"\",COUNTIFS(Data!$B:$B,G$12,Data!$A:$A,Matrices!$B109)))","v":""},{"$f":"IFERROR(AVERAGEIFS(Data!$E:$E,Data!$B:$B,H$12,Data!$A:$A,$B109),\"N/A\")","v":"N/A"},{"$f":"IFERROR(AVERAGEIFS(Data!$E:$E,Data!$B:$B,I$12,Data!$A:$A,$B109),\"N/A\")","v":"N/A"},{"$f":"IFERROR(AVERAGEIFS(Data!$E:$E,Data!$B:$B,J$12,Data!$A:$A,$B109),\"N/A\")","v":"N/A"},{"$f":"IFERROR(AVERAGEIFS(Data!$Q:$Q,Data!$B:$B,K$12,Data!$A:$A,$B109),\"N/A\")","v":"N/A"},{"$f":"IFERROR(AVERAGEIFS(Data!$Q:$Q,Data!$B:$B,L$12,Data!$A:$A,$B109),\"N/A\")","v":"N/A"},{"$f":"IFERROR(AVERAGEIFS(Data!$Q:$Q,Data!$B:$B,M$12,Data!$A:$A,$B109),\"N/A\")","v":"N/A"}]
["",{"$f":"Observations!B99","v":""},{"$f":"IF(A110=1,VLOOKUP($B110,ObData!$A$1:$J$300,3,0),\"\")","v":""},{"$f":"IF(A110=1,B110&\": \"&TEXT(C110,\"mm/dd/yy\")&\"- \"&VLOOKUP(B110,ObData!$A$1:$J$300,5,0),\"\")","v":""},{"$f":"IF($B110=\"\",\"\",IF(COUNTIFS(Data!$B:$B,E$12,Data!$A:$A,Matrices!$B110)=0,\"\",COUNTIFS(Data!$B:$B,E$12,Data!$A:$A,Matrices!$B110)))","v":""},{"$f":"IF($B110=\"\",\"\",IF(COUNTIFS(Data!$B:$B,F$12,Data!$A:$A,Matrices!$B110)=0,\"\",COUNTIFS(Data!$B:$B,F$12,Data!$A:$A,Matrices!$B110)))","v":""},{"$f":"IF($B110=\"\",\"\",IF(COUNTIFS(Data!$B:$B,G$12,Data!$A:$A,Matrices!$B110)=0,\"\",COUNTIFS(Data!$B:$B,G$12,Data!$A:$A,Matrices!$B110)))","v":""},{"$f":"IFERROR(AVERAGEIFS(Data!$E:$E,Data!$B:$B,H$12,Data!$A:$A,$B110),\"N/A\")","v":"N/A"},{"$f":"IFERROR(AVERAGEIFS(Data!$E:$E,Data!$B:$B,I$12,Data!$A:$A,$B110),\"N/A\")","v":"N/A"},{"$f":"IFERROR(AVERAGEIFS(Data!$E:$E,Data!$B:$B,J$12,Data!$A:$A,$B110),\"N/A\")","v":"N/A"},{"$f":"IFERROR(AVERAGEIFS(Data!$Q:$Q,Data!$B:$B,K$12,Data!$A:$A,$B110),\"N/A\")","v":"N/A"},{"$f":"IFERROR(AVERAGEIFS(Data!$Q:$Q,Data!$B:$B,L$12,Data!$A:$A,$B110),\"N/A\")","v":"N/A"},{"$f":"IFERROR(AVERAGEIFS(Data!$Q:$Q,Data!$B:$B,M$12,Data!$A:$A,$B110),\"N/A\")","v":"N/A"}]
["",{"$f":"Observations!B100","v":""},{"$f":"IF(A111=1,VLOOKUP($B111,ObData!$A$1:$J$300,3,0),\"\")","v":""},{"$f":"IF(A111=1,B111&\": \"&TEXT(C111,\"mm/dd/yy\")&\"- \"&VLOOKUP(B111,ObData!$A$1:$J$300,5,0),\"\")","v":""},{"$f":"IF($B111=\"\",\"\",IF(COUNTIFS(Data!$B:$B,E$12,Data!$A:$A,Matrices!$B111)=0,\"\",COUNTIFS(Data!$B:$B,E$12,Data!$A:$A,Matrices!$B111)))","v":""},{"$f":"IF($B111=\"\",\"\",IF(COUNTIFS(Data!$B:$B,F$12,Data!$A:$A,Matrices!$B111)=0,\"\",COUNTIFS(Data!$B:$B,F$12,Data!$A:$A,Matrices!$B111)))","v":""},{"$f":"IF($B111=\"\",\"\",IF(COUNTIFS(Data!$B:$B,G$12,Data!$A:$A,Matrices!$B111)=0,\"\",COUNTIFS(Data!$B:$B,G$12,Data!$A:$A,Matrices!$B111)))","v":""},{"$f":"IFERROR(AVERAGEIFS(Data!$E:$E,Data!$B:$B,H$12,Data!$A:$A,$B111),\"N/A\")","v":"N/A"},{"$f":"IFERROR(AVERAGEIFS(Data!$E:$E,Data!$B:$B,I$12,Data!$A:$A,$B111),\"N/A\")","v":"N/A"},{"$f":"IFERROR(AVERAGEIFS(Data!$E:$E,Data!$B:$B,J$12,Data!$A:$A,$B111),\"N/A\")","v":"N/A"},{"$f":"IFERROR(AVERAGEIFS(Data!$Q:$Q,Data!$B:$B,K$12,Data!$A:$A,$B111),\"N/A\")","v":"N/A"},{"$f":"IFERROR(AVERAGEIFS(Data!$Q:$Q,Data!$B:$B,L$12,Data!$A:$A,$B111),\"N/A\")","v":"N/A"},{"$f":"IFERROR(AVERAGEIFS(Data!$Q:$Q,Data!$B:$B,M$12,Data!$A:$A,$B111),\"N/A\")","v":"N/A"}]
["",{"$f":"Observations!B101","v":""},{"$f":"IF(A112=1,VLOOKUP($B112,ObData!$A$1:$J$300,3,0),\"\")","v":""},{"$f":"IF(A112=1,B112&\": \"&TEXT(C112,\"mm/dd/yy\")&\"- \"&VLOOKUP(B112,ObData!$A$1:$J$300,5,0),\"\")","v":""},{"$f":"IF($B112=\"\",\"\",IF(COUNTIFS(Data!$B:$B,E$12,Data!$A:$A,Matrices!$B112)=0,\"\",COUNTIFS(Data!$B:$B,E$12,Data!$A:$A,Matrices!$B112)))","v":""},{"$f":"IF($B112=\"\",\"\",IF(COUNTIFS(Data!$B:$B,F$12,Data!$A:$A,Matrices!$B112)=0,\"\",COUNTIFS(Data!$B:$B,F$12,Data!$A:$A,Matrices!$B112)))","v":""},{"$f":"IF($B112=\"\",\"\",IF(COUNTIFS(Data!$B:$B,G$12,Data!$A:$A,Matrices!$B112)=0,\"\",COUNTIFS(Data!$B:$B,G$12,Data!$A:$A,Matrices!$B112)))","v":""},{"$f":"IFERROR(AVERAGEIFS(Data!$E:$E,Data!$B:$B,H$12,Data!$A:$A,$B112),\"N/A\")","v":"N/A"},{"$f":"IFERROR(AVERAGEIFS(Data!$E:$E,Data!$B:$B,I$12,Data!$A:$A,$B112),\"N/A\")","v":"N/A"},{"$f":"IFERROR(AVERAGEIFS(Data!$E:$E,Data!$B:$B,J$12,Data!$A:$A,$B112),\"N/A\")","v":"N/A"},{"$f":"IFERROR(AVERAGEIFS(Data!$Q:$Q,Data!$B:$B,K$12,Data!$A:$A,$B112),\"N/A\")","v":"N/A"},{"$f":"IFERROR(AVERAGEIFS(Data!$Q:$Q,Data!$B:$B,L$12,Data!$A:$A,$B112),\"N/A\")","v":"N/A"},{"$f":"IFERROR(AVERAGEIFS(Data!$Q:$Q,Data!$B:$B,M$12,Data!$A:$A,$B112),\"N/A\")","v":"N/A"}]
["",{"$f":"Observations!B102","v":""},{"$f":"IF(A113=1,VLOOKUP($B113,ObData!$A$1:$J$300,3,0),\"\")","v":""},{"$f":"IF(A113=1,B113&\": \"&TEXT(C113,\"mm/dd/yy\")&\"- \"&VLOOKUP(B113,ObData!$A$1:$J$300,5,0),\"\")","v":""},{"$f":"IF($B113=\"\",\"\",IF(COUNTIFS(Data!$B:$B,E$12,Data!$A:$A,Matrices!$B113)=0,\"\",COUNTIFS(Data!$B:$B,E$12,Data!$A:$A,Matrices!$B113)))","v":""},{"$f":"IF($B113=\"\",\"\",IF(COUNTIFS(Data!$B:$B,F$12,Data!$A:$A,Matrices!$B113)=0,\"\",COUNTIFS(Data!$B:$B,F$12,Data!$A:$A,Matrices!$B113)))","v":""},{"$f":"IF($B113=\"\",\"\",IF(COUNTIFS(Data!$B:$B,G$12,Data!$A:$A,Matrices!$B113)=0,\"\",COUNTIFS(Data!$B:$B,G$12,Data!$A:$A,Matrices!$B113)))","v":""},{"$f":"IFERROR(AVERAGEIFS(Data!$E:$E,Data!$B:$B,H$12,Data!$A:$A,$B113),\"N/A\")","v":"N/A"},{"$f":"IFERROR(AVERAGEIFS(Data!$E:$E,Data!$B:$B,I$12,Data!$A:$A,$B113),\"N/A\")","v":"N/A"},{"$f":"IFERROR(AVERAGEIFS(Data!$E:$E,Data!$B:$B,J$12,Data!$A:$A,$B113),\"N/A\")","v":"N/A"},{"$f":"IFERROR(AVERAGEIFS(Data!$Q:$Q,Data!$B:$B,K$12,Data!$A:$A,$B113),\"N/A\")","v":"N/A"},{"$f":"IFERROR(AVERAGEIFS(Data!$Q:$Q,Data!$B:$B,L$12,Data!$A:$A,$B113),\"N/A\")","v":"N/A"},{"$f":"IFERROR(AVERAGEIFS(Data!$Q:$Q,Data!$B:$B,M$12,Data!$A:$A,$B113),\"N/A\")","v":"N/A"}]
["",{"$f":"Observations!B103","v":""},{"$f":"IF(A114=1,VLOOKUP($B114,ObData!$A$1:$J$300,3,0),\"\")","v":""},{"$f":"IF(A114=1,B114&\": \"&TEXT(C114,\"mm/dd/yy\")&\"- \"&VLOOKUP(B114,ObData!$A$1:$J$300,5,0),\"\")","v":""},{"$f":"IF($B114=\"\",\"\",IF(COUNTIFS(Data!$B:$B,E$12,Data!$A:$A,Matrices!$B114)=0,\"\",COUNTIFS(Data!$B:$B,E$12,Data!$A:$A,Matrices!$B114)))","v":""},{"$f":"IF($B114=\"\",\"\",IF(COUNTIFS(Data!$B:$B,F$12,Data!$A:$A,Matrices!$B114)=0,\"\",COUNTIFS(Data!$B:$B,F$12,Data!$A:$A,Matrices!$B114)))","v":""},{"$f":"IF($B114=\"\",\"\",IF(COUNTIFS(Data!$B:$B,G$12,Data!$A:$A,Matrices!$B114)=0,\"\",COUNTIFS(Data!$B:$B,G$12,Data!$A:$A,Matrices!$B114)))","v":""},{"$f":"IFERROR(AVERAGEIFS(Data!$E:$E,Data!$B:$B,H$12,Data!$A:$A,$B114),\"N/A\")","v":"N/A"},{"$f":"IFERROR(AVERAGEIFS(Data!$E:$E,Data!$B:$B,I$12,Data!$A:$A,$B114),\"N/A\")","v":"N/A"},{"$f":"IFERROR(AVERAGEIFS(Data!$E:$E,Data!$B:$B,J$12,Data!$A:$A,$B114),\"N/A\")","v":"N/A"},{"$f":"IFERROR(AVERAGEIFS(Data!$Q:$Q,Data!$B:$B,K$12,Data!$A:$A,$B114),\"N/A\")","v":"N/A"},{"$f":"IFERROR(AVERAGEIFS(Data!$Q:$Q,Data!$B:$B,L$12,Data!$A:$A,$B114),\"N/A\")","v":"N/A"},{"$f":"IFERROR(AVERAGEIFS(Data!$Q:$Q,Data!$B:$B,M$12,Data!$A:$A,$B114),\"N/A\")","v":"N/A"}]
["",{"$f":"Observations!B104","v":""},{"$f":"IF(A115=1,VLOOKUP($B115,ObData!$A$1:$J$300,3,0),\"\")","v":""},{"$f":"IF(A115=1,B115&\": \"&TEXT(C115,\"mm/dd/yy\")&\"- \"&VLOOKUP(B115,ObData!$A$1:$J$300,5,0),\"\")","v":""},{"$f":"IF($B115=\"\",\"\",IF(COUNTIFS(Data!$B:$B,E$12,Data!$A:$A,Matrices!$B115)=0,\"\",COUNTIFS(Data!$B:$B,E$12,Data!$A:$A,Matrices!$B115)))","v":""},{"$f":"IF($B115=\"\",\"\",IF(COUNTIFS(Data!$B:$B,F$12,Data!$A:$A,Matrices!$B115)=0,\"\",COUNTIFS(Data!$B:$B,F$12,Data!$A:$A,Matrices!$B115)))","v":""},{"$f":"IF($B115=\"\",\"\",IF(COUNTIFS(Data!$B:$B,G$12,Data!$A:$A,Matrices!$B115)=0,\"\",COUNTIFS(Data!$B:$B,G$12,Data!$A:$A,Matrices!$B115)))","v":""},{"$f":"IFERROR(AVERAGEIFS(Data!$E:$E,Data!$B:$B,H$12,Data!$A:$A,$B115),\"N/A\")","v":"N/A"},{"$f":"IFERROR(AVERAGEIFS(Data!$E:$E,Data!$B:$B,I$12,Data!$A:$A,$B115),\"N/A\")","v":"N/A"},{"$f":"IFERROR(AVERAGEIFS(Data!$E:$E,Data!$B:$B,J$12,Data!$A:$A,$B115),\"N/A\")","v":"N/A"},{"$f":"IFERROR(AVERAGEIFS(Data!$Q:$Q,Data!$B:$B,K$12,Data!$A:$A,$B115),\"N/A\")","v":"N/A"},{"$f":"IFERROR(AVERAGEIFS(Data!$Q:$Q,Data!$B:$B,L$12,Data!$A:$A,$B115),\"N/A\")","v":"N/A"},{"$f":"IFERROR(AVERAGEIFS(Data!$Q:$Q,Data!$B:$B,M$12,Data!$A:$A,$B115),\"N/A\")","v":"N/A"}]
["",{"$f":"Observations!B105","v":""},{"$f":"IF(A116=1,VLOOKUP($B116,ObData!$A$1:$J$300,3,0),\"\")","v":""},{"$f":"IF(A116=1,B116&\": \"&TEXT(C116,\"mm/dd/yy\")&\"- \"&VLOOKUP(B116,ObData!$A$1:$J$300,5,0),\"\")","v":""},{"$f":"IF($B116=\"\",\"\",IF(COUNTIFS(Data!$B:$B,E$12,Data!$A:$A,Matrices!$B116)=0,\"\",COUNTIFS(Data!$B:$B,E$12,Data!$A:$A,Matrices!$B116)))","v":""},{"$f":"IF($B116=\"\",\"\",IF(COUNTIFS(Data!$B:$B,F$12,Data!$A:$A,Matrices!$B116)=0,\"\",COUNTIFS(Data!$B:$B,F$12,Data!$A:$A,Matrices!$B116)))","v":""},{"$f":"IF($B116=\"\",\"\",IF(COUNTIFS(Data!$B:$B,G$12,Data!$A:$A,Matrices!$B116)=0,\"\",COUNTIFS(Data!$B:$B,G$12,Data!$A:$A,Matrices!$B116)))","v":""},{"$f":"IFERROR(AVERAGEIFS(Data!$E:$E,Data!$B:$B,H$12,Data!$A:$A,$B116),\"N/A\")","v":"N/A"},{"$f":"IFERROR(AVERAGEIFS(Data!$E:$E,Data!$B:$B,I$12,Data!$A:$A,$B116),\"N/A\")","v":"N/A"},{"$f":"IFERROR(AVERAGEIFS(Data!$E:$E,Data!$B:$B,J$12,Data!$A:$A,$B116),\"N/A\")","v":"N/A"},{"$f":"IFERROR(AVERAGEIFS(Data!$Q:$Q,Data!$B:$B,K$12,Data!$A:$A,$B116),\"N/A\")","v":"N/A"},{"$f":"IFERROR(AVERAGEIFS(Data!$Q:$Q,Data!$B:$B,L$12,Data!$A:$A,$B116),\"N/A\")","v":"N/A"},{"$f":"IFERROR(AVERAGEIFS(Data!$Q:$Q,Data!$B:$B,M$12,Data!$A:$A,$B116),\"N/A\")","v":"N/A"}]
["",{"$f":"Observations!B106","v":""},{"$f":"IF(A117=1,VLOOKUP($B117,ObData!$A$1:$J$300,3,0),\"\")","v":""},{"$f":"IF(A117=1,B117&\": \"&TEXT(C117,\"mm/dd/yy\")&\"- \"&VLOOKUP(B117,ObData!$A$1:$J$300,5,0),\"\")","v":""},{"$f":"IF($B117=\"\",\"\",IF(COUNTIFS(Data!$B:$B,E$12,Data!$A:$A,Matrices!$B117)=0,\"\",COUNTIFS(Data!$B:$B,E$12,Data!$A:$A,Matrices!$B117)))","v":""},{"$f":"IF($B117=\"\",\"\",IF(COUNTIFS(Data!$B:$B,F$12,Data!$A:$A,Matrices!$B117)=0,\"\",COUNTIFS(Data!$B:$B,F$12,Data!$A:$A,Matrices!$B117)))","v":""},{"$f":"IF($B117=\"\",\"\",IF(COUNTIFS(Data!$B:$B,G$12,Data!$A:$A,Matrices!$B117)=0,\"\",COUNTIFS(Data!$B:$B,G$12,Data!$A:$A,Matrices!$B117)))","v":""},{"$f":"IFERROR(AVERAGEIFS(Data!$E:$E,Data!$B:$B,H$12,Data!$A:$A,$B117),\"N/A\")","v":"N/A"},{"$f":"IFERROR(AVERAGEIFS(Data!$E:$E,Data!$B:$B,I$12,Data!$A:$A,$B117),\"N/A\")","v":"N/A"},{"$f":"IFERROR(AVERAGEIFS(Data!$E:$E,Data!$B:$B,J$12,Data!$A:$A,$B117),\"N/A\")","v":"N/A"},{"$f":"IFERROR(AVERAGEIFS(Data!$Q:$Q,Data!$B:$B,K$12,Data!$A:$A,$B117),\"N/A\")","v":"N/A"},{"$f":"IFERROR(AVERAGEIFS(Data!$Q:$Q,Data!$B:$B,L$12,Data!$A:$A,$B117),\"N/A\")","v":"N/A"},{"$f":"IFERROR(AVERAGEIFS(Data!$Q:$Q,Data!$B:$B,M$12,Data!$A:$A,$B117),\"N/A\")","v":"N/A"}]
["",{"$f":"Observations!B107","v":""},{"$f":"IF(A118=1,VLOOKUP($B118,ObData!$A$1:$J$300,3,0),\"\")","v":""},{"$f":"IF(A118=1,B118&\": \"&TEXT(C118,\"mm/dd/yy\")&\"- \"&VLOOKUP(B118,ObData!$A$1:$J$300,5,0),\"\")","v":""},{"$f":"IF($B118=\"\",\"\",IF(COUNTIFS(Data!$B:$B,E$12,Data!$A:$A,Matrices!$B118)=0,\"\",COUNTIFS(Data!$B:$B,E$12,Data!$A:$A,Matrices!$B118)))","v":""},{"$f":"IF($B118=\"\",\"\",IF(COUNTIFS(Data!$B:$B,F$12,Data!$A:$A,Matrices!$B118)=0,\"\",COUNTIFS(Data!$B:$B,F$12,Data!$A:$A,Matrices!$B118)))","v":""},{"$f":"IF($B118=\"\",\"\",IF(COUNTIFS(Data!$B:$B,G$12,Data!$A:$A,Matrices!$B118)=0,\"\",COUNTIFS(Data!$B:$B,G$12,Data!$A:$A,Matrices!$B118)))","v":""},{"$f":"IFERROR(AVERAGEIFS(Data!$E:$E,Data!$B:$B,H$12,Data!$A:$A,$B118),\"N/A\")","v":"N/A"},{"$f":"IFERROR(AVERAGEIFS(Data!$E:$E,Data!$B:$B,I$12,Data!$A:$A,$B118),\"N/A\")","v":"N/A"},{"$f":"IFERROR(AVERAGEIFS(Data!$E:$E,Data!$B:$B,J$12,Data!$A:$A,$B118),\"N/A\")","v":"N/A"},{"$f":"IFERROR(AVERAGEIFS(Data!$Q:$Q,Data!$B:$B,K$12,Data!$A:$A,$B118),\"N/A\")","v":"N/A"},{"$f":"IFERROR(AVERAGEIFS(Data!$Q:$Q,Data!$B:$B,L$12,Data!$A:$A,$B118),\"N/A\")","v":"N/A"},{"$f":"IFERROR(AVERAGEIFS(Data!$Q:$Q,Data!$B:$B,M$12,Data!$A:$A,$B118),\"N/A\")","v":"N/A"}]
["",{"$f":"Observations!B108","v":""},{"$f":"IF(A119=1,VLOOKUP($B119,ObData!$A$1:$J$300,3,0),\"\")","v":""},{"$f":"IF(A119=1,B119&\": \"&TEXT(C119,\"mm/dd/yy\")&\"- \"&VLOOKUP(B119,ObData!$A$1:$J$300,5,0),\"\")","v":""},{"$f":"IF($B119=\"\",\"\",IF(COUNTIFS(Data!$B:$B,E$12,Data!$A:$A,Matrices!$B119)=0,\"\",COUNTIFS(Data!$B:$B,E$12,Data!$A:$A,Matrices!$B119)))","v":""},{"$f":"IF($B119=\"\",\"\",IF(COUNTIFS(Data!$B:$B,F$12,Data!$A:$A,Matrices!$B119)=0,\"\",COUNTIFS(Data!$B:$B,F$12,Data!$A:$A,Matrices!$B119)))","v":""},{"$f":"IF($B119=\"\",\"\",IF(COUNTIFS(Data!$B:$B,G$12,Data!$A:$A,Matrices!$B119)=0,\"\",COUNTIFS(Data!$B:$B,G$12,Data!$A:$A,Matrices!$B119)))","v":""},{"$f":"IFERROR(AVERAGEIFS(Data!$E:$E,Data!$B:$B,H$12,Data!$A:$A,$B119),\"N/A\")","v":"N/A"},{"$f":"IFERROR(AVERAGEIFS(Data!$E:$E,Data!$B:$B,I$12,Data!$A:$A,$B119),\"N/A\")","v":"N/A"},{"$f":"IFERROR(AVERAGEIFS(Data!$E:$E,Data!$B:$B,J$12,Data!$A:$A,$B119),\"N/A\")","v":"N/A"},{"$f":"IFERROR(AVERAGEIFS(Data!$Q:$Q,Data!$B:$B,K$12,Data!$A:$A,$B119),\"N/A\")","v":"N/A"},{"$f":"IFERROR(AVERAGEIFS(Data!$Q:$Q,Data!$B:$B,L$12,Data!$A:$A,$B119),\"N/A\")","v":"N/A"},{"$f":"IFERROR(AVERAGEIFS(Data!$Q:$Q,Data!$B:$B,M$12,Data!$A:$A,$B119),\"N/A\")","v":"N/A"}]
["",{"$f":"Observations!B109","v":""},{"$f":"IF(A120=1,VLOOKUP($B120,ObData!$A$1:$J$300,3,0),\"\")","v":""},{"$f":"IF(A120=1,B120&\": \"&TEXT(C120,\"mm/dd/yy\")&\"- \"&VLOOKUP(B120,ObData!$A$1:$J$300,5,0),\"\")","v":""},{"$f":"IF($B120=\"\",\"\",IF(COUNTIFS(Data!$B:$B,E$12,Data!$A:$A,Matrices!$B120)=0,\"\",COUNTIFS(Data!$B:$B,E$12,Data!$A:$A,Matrices!$B120)))","v":""},{"$f":"IF($B120=\"\",\"\",IF(COUNTIFS(Data!$B:$B,F$12,Data!$A:$A,Matrices!$B120)=0,\"\",COUNTIFS(Data!$B:$B,F$12,Data!$A:$A,Matrices!$B120)))","v":""},{"$f":"IF($B120=\"\",\"\",IF(COUNTIFS(Data!$B:$B,G$12,Data!$A:$A,Matrices!$B120)=0,\"\",COUNTIFS(Data!$B:$B,G$12,Data!$A:$A,Matrices!$B120)))","v":""},{"$f":"IFERROR(AVERAGEIFS(Data!$E:$E,Data!$B:$B,H$12,Data!$A:$A,$B120),\"N/A\")","v":"N/A"},{"$f":"IFERROR(AVERAGEIFS(Data!$E:$E,Data!$B:$B,I$12,Data!$A:$A,$B120),\"N/A\")","v":"N/A"},{"$f":"IFERROR(AVERAGEIFS(Data!$E:$E,Data!$B:$B,J$12,Data!$A:$A,$B120),\"N/A\")","v":"N/A"},{"$f":"IFERROR(AVERAGEIFS(Data!$Q:$Q,Data!$B:$B,K$12,Data!$A:$A,$B120),\"N/A\")","v":"N/A"},{"$f":"IFERROR(AVERAGEIFS(Data!$Q:$Q,Data!$B:$B,L$12,Data!$A:$A,$B120),\"N/A\")","v":"N/A"},{"$f":"IFERROR(AVERAGEIFS(Data!$Q:$Q,Data!$B:$B,M$12,Data!$A:$A,$B120),\"N/A\")","v":"N/A"}]
["",{"$f":"Observations!B110","v":""},{"$f":"IF(A121=1,VLOOKUP($B121,ObData!$A$1:$J$300,3,0),\"\")","v":""},{"$f":"IF(A121=1,B121&\": \"&TEXT(C121,\"mm/dd/yy\")&\"- \"&VLOOKUP(B121,ObData!$A$1:$J$300,5,0),\"\")","v":""},{"$f":"IF($B121=\"\",\"\",IF(COUNTIFS(Data!$B:$B,E$12,Data!$A:$A,Matrices!$B121)=0,\"\",COUNTIFS(Data!$B:$B,E$12,Data!$A:$A,Matrices!$B121)))","v":""},{"$f":"IF($B121=\"\",\"\",IF(COUNTIFS(Data!$B:$B,F$12,Data!$A:$A,Matrices!$B121)=0,\"\",COUNTIFS(Data!$B:$B,F$12,Data!$A:$A,Matrices!$B121)))","v":""},{"$f":"IF($B121=\"\",\"\",IF(COUNTIFS(Data!$B:$B,G$12,Data!$A:$A,Matrices!$B121)=0,\"\",COUNTIFS(Data!$B:$B,G$12,Data!$A:$A,Matrices!$B121)))","v":""},{"$f":"IFERROR(AVERAGEIFS(Data!$E:$E,Data!$B:$B,H$12,Data!$A:$A,$B121),\"N/A\")","v":"N/A"},{"$f":"IFERROR(AVERAGEIFS(Data!$E:$E,Data!$B:$B,I$12,Data!$A:$A,$B121),\"N/A\")","v":"N/A"},{"$f":"IFERROR(AVERAGEIFS(Data!$E:$E,Data!$B:$B,J$12,Data!$A:$A,$B121),\"N/A\")","v":"N/A"},{"$f":"IFERROR(AVERAGEIFS(Data!$Q:$Q,Data!$B:$B,K$12,Data!$A:$A,$B121),\"N/A\")","v":"N/A"},{"$f":"IFERROR(AVERAGEIFS(Data!$Q:$Q,Data!$B:$B,L$12,Data!$A:$A,$B121),\"N/A\")","v":"N/A"},{"$f":"IFERROR(AVERAGEIFS(Data!$Q:$Q,Data!$B:$B,M$12,Data!$A:$A,$B121),\"N/A\")","v":"N/A"}]
["",{"$f":"Observations!B111","v":""},{"$f":"IF(A122=1,VLOOKUP($B122,ObData!$A$1:$J$300,3,0),\"\")","v":""},{"$f":"IF(A122=1,B122&\": \"&TEXT(C122,\"mm/dd/yy\")&\"- \"&VLOOKUP(B122,ObData!$A$1:$J$300,5,0),\"\")","v":""},{"$f":"IF($B122=\"\",\"\",IF(COUNTIFS(Data!$B:$B,E$12,Data!$A:$A,Matrices!$B122)=0,\"\",COUNTIFS(Data!$B:$B,E$12,Data!$A:$A,Matrices!$B122)))","v":""},{"$f":"IF($B122=\"\",\"\",IF(COUNTIFS(Data!$B:$B,F$12,Data!$A:$A,Matrices!$B122)=0,\"\",COUNTIFS(Data!$B:$B,F$12,Data!$A:$A,Matrices!$B122)))","v":""},{"$f":"IF($B122=\"\",\"\",IF(COUNTIFS(Data!$B:$B,G$12,Data!$A:$A,Matrices!$B122)=0,\"\",COUNTIFS(Data!$B:$B,G$12,Data!$A:$A,Matrices!$B122)))","v":""},{"$f":"IFERROR(AVERAGEIFS(Data!$E:$E,Data!$B:$B,H$12,Data!$A:$A,$B122),\"N/A\")","v":"N/A"},{"$f":"IFERROR(AVERAGEIFS(Data!$E:$E,Data!$B:$B,I$12,Data!$A:$A,$B122),\"N/A\")","v":"N/A"},{"$f":"IFERROR(AVERAGEIFS(Data!$E:$E,Data!$B:$B,J$12,Data!$A:$A,$B122),\"N/A\")","v":"N/A"},{"$f":"IFERROR(AVERAGEIFS(Data!$Q:$Q,Data!$B:$B,K$12,Data!$A:$A,$B122),\"N/A\")","v":"N/A"},{"$f":"IFERROR(AVERAGEIFS(Data!$Q:$Q,Data!$B:$B,L$12,Data!$A:$A,$B122),\"N/A\")","v":"N/A"},{"$f":"IFERROR(AVERAGEIFS(Data!$Q:$Q,Data!$B:$B,M$12,Data!$A:$A,$B122),\"N/A\")","v":"N/A"}]
["",{"$f":"Observations!B112","v":""},{"$f":"IF(A123=1,VLOOKUP($B123,ObData!$A$1:$J$300,3,0),\"\")","v":""},{"$f":"IF(A123=1,B123&\": \"&TEXT(C123,\"mm/dd/yy\")&\"- \"&VLOOKUP(B123,ObData!$A$1:$J$300,5,0),\"\")","v":""},{"$f":"IF($B123=\"\",\"\",IF(COUNTIFS(Data!$B:$B,E$12,Data!$A:$A,Matrices!$B123)=0,\"\",COUNTIFS(Data!$B:$B,E$12,Data!$A:$A,Matrices!$B123)))","v":""},{"$f":"IF($B123=\"\",\"\",IF(COUNTIFS(Data!$B:$B,F$12,Data!$A:$A,Matrices!$B123)=0,\"\",COUNTIFS(Data!$B:$B,F$12,Data!$A:$A,Matrices!$B123)))","v":""},{"$f":"IF($B123=\"\",\"\",IF(COUNTIFS(Data!$B:$B,G$12,Data!$A:$A,Matrices!$B123)=0,\"\",COUNTIFS(Data!$B:$B,G$12,Data!$A:$A,Matrices!$B123)))","v":""},{"$f":"IFERROR(AVERAGEIFS(Data!$E:$E,Data!$B:$B,H$12,Data!$A:$A,$B123),\"N/A\")","v":"N/A"},{"$f":"IFERROR(AVERAGEIFS(Data!$E:$E,Data!$B:$B,I$12,Data!$A:$A,$B123),\"N/A\")","v":"N/A"},{"$f":"IFERROR(AVERAGEIFS(Data!$E:$E,Data!$B:$B,J$12,Data!$A:$A,$B123),\"N/A\")","v":"N/A"},{"$f":"IFERROR(AVERAGEIFS(Data!$Q:$Q,Data!$B:$B,K$12,Data!$A:$A,$B123),\"N/A\")","v":"N/A"},{"$f":"IFERROR(AVERAGEIFS(Data!$Q:$Q,Data!$B:$B,L$12,Data!$A:$A,$B123),\"N/A\")","v":"N/A"},{"$f":"IFERROR(AVERAGEIFS(Data!$Q:$Q,Data!$B:$B,M$12,Data!$A:$A,$B123),\"N/A\")","v":"N/A"}]
["",{"$f":"Observations!B113","v":""},{"$f":"IF(A124=1,VLOOKUP($B124,ObData!$A$1:$J$300,3,0),\"\")","v":""},{"$f":"IF(A124=1,B124&\": \"&TEXT(C124,\"mm/dd/yy\")&\"- \"&VLOOKUP(B124,ObData!$A$1:$J$300,5,0),\"\")","v":""},{"$f":"IF($B124=\"\",\"\",IF(COUNTIFS(Data!$B:$B,E$12,Data!$A:$A,Matrices!$B124)=0,\"\",COUNTIFS(Data!$B:$B,E$12,Data!$A:$A,Matrices!$B124)))","v":""},{"$f":"IF($B124=\"\",\"\",IF(COUNTIFS(Data!$B:$B,F$12,Data!$A:$A,Matrices!$B124)=0,\"\",COUNTIFS(Data!$B:$B,F$12,Data!$A:$A,Matrices!$B124)))","v":""},{"$f":"IF($B124=\"\",\"\",IF(COUNTIFS(Data!$B:$B,G$12,Data!$A:$A,Matrices!$B124)=0,\"\",COUNTIFS(Data!$B:$B,G$12,Data!$A:$A,Matrices!$B124)))","v":""},{"$f":"IFERROR(AVERAGEIFS(Data!$E:$E,Data!$B:$B,H$12,Data!$A:$A,$B124),\"N/A\")","v":"N/A"},{"$f":"IFERROR(AVERAGEIFS(Data!$E:$E,Data!$B:$B,I$12,Data!$A:$A,$B124),\"N/A\")","v":"N/A"},{"$f":"IFERROR(AVERAGEIFS(Data!$E:$E,Data!$B:$B,J$12,Data!$A:$A,$B124),\"N/A\")","v":"N/A"},{"$f":"IFERROR(AVERAGEIFS(Data!$Q:$Q,Data!$B:$B,K$12,Data!$A:$A,$B124),\"N/A\")","v":"N/A"},{"$f":"IFERROR(AVERAGEIFS(Data!$Q:$Q,Data!$B:$B,L$12,Data!$A:$A,$B124),\"N/A\")","v":"N/A"},{"$f":"IFERROR(AVERAGEIFS(Data!$Q:$Q,Data!$B:$B,M$12,Data!$A:$A,$B124),\"N/A\")","v":"N/A"}]
["",{"$f":"Observations!B114","v":""},{"$f":"IF(A125=1,VLOOKUP($B125,ObData!$A$1:$J$300,3,0),\"\")","v":""},{"$f":"IF(A125=1,B125&\": \"&TEXT(C125,\"mm/dd/yy\")&\"- \"&VLOOKUP(B125,ObData!$A$1:$J$300,5,0),\"\")","v":""},{"$f":"IF($B125=\"\",\"\",IF(COUNTIFS(Data!$B:$B,E$12,Data!$A:$A,Matrices!$B125)=0,\"\",COUNTIFS(Data!$B:$B,E$12,Data!$A:$A,Matrices!$B125)))","v":""},{"$f":"IF($B125=\"\",\"\",IF(COUNTIFS(Data!$B:$B,F$12,Data!$A:$A,Matrices!$B125)=0,\"\",COUNTIFS(Data!$B:$B,F$12,Data!$A:$A,Matrices!$B125)))","v":""},{"$f":"IF($B125=\"\",\"\",IF(COUNTIFS(Data!$B:$B,G$12,Data!$A:$A,Matrices!$B125)=0,\"\",COUNTIFS(Data!$B:$B,G$12,Data!$A:$A,Matrices!$B125)))","v":""},{"$f":"IFERROR(AVERAGEIFS(Data!$E:$E,Data!$B:$B,H$12,Data!$A:$A,$B125),\"N/A\")","v":"N/A"},{"$f":"IFERROR(AVERAGEIFS(Data!$E:$E,Data!$B:$B,I$12,Data!$A:$A,$B125),\"N/A\")","v":"N/A"},{"$f":"IFERROR(AVERAGEIFS(Data!$E:$E,Data!$B:$B,J$12,Data!$A:$A,$B125),\"N/A\")","v":"N/A"},{"$f":"IFERROR(AVERAGEIFS(Data!$Q:$Q,Data!$B:$B,K$12,Data!$A:$A,$B125),\"N/A\")","v":"N/A"},{"$f":"IFERROR(AVERAGEIFS(Data!$Q:$Q,Data!$B:$B,L$12,Data!$A:$A,$B125),\"N/A\")","v":"N/A"},{"$f":"IFERROR(AVERAGEIFS(Data!$Q:$Q,Data!$B:$B,M$12,Data!$A:$A,$B125),\"N/A\")","v":"N/A"}]
["",{"$f":"Observations!B115","v":""},{"$f":"IF(A126=1,VLOOKUP($B126,ObData!$A$1:$J$300,3,0),\"\")","v":""},{"$f":"IF(A126=1,B126&\": \"&TEXT(C126,\"mm/dd/yy\")&\"- \"&VLOOKUP(B126,ObData!$A$1:$J$300,5,0),\"\")","v":""},{"$f":"IF($B126=\"\",\"\",IF(COUNTIFS(Data!$B:$B,E$12,Data!$A:$A,Matrices!$B126)=0,\"\",COUNTIFS(Data!$B:$B,E$12,Data!$A:$A,Matrices!$B126)))","v":""},{"$f":"IF($B126=\"\",\"\",IF(COUNTIFS(Data!$B:$B,F$12,Data!$A:$A,Matrices!$B126)=0,\"\",COUNTIFS(Data!$B:$B,F$12,Data!$A:$A,Matrices!$B126)))","v":""},{"$f":"IF($B126=\"\",\"\",IF(COUNTIFS(Data!$B:$B,G$12,Data!$A:$A,Matrices!$B126)=0,\"\",COUNTIFS(Data!$B:$B,G$12,Data!$A:$A,Matrices!$B126)))","v":""},{"$f":"IFERROR(AVERAGEIFS(Data!$E:$E,Data!$B:$B,H$12,Data!$A:$A,$B126),\"N/A\")","v":"N/A"},{"$f":"IFERROR(AVERAGEIFS(Data!$E:$E,Data!$B:$B,I$12,Data!$A:$A,$B126),\"N/A\")","v":"N/A"},{"$f":"IFERROR(AVERAGEIFS(Data!$E:$E,Data!$B:$B,J$12,Data!$A:$A,$B126),\"N/A\")","v":"N/A"},{"$f":"IFERROR(AVERAGEIFS(Data!$Q:$Q,Data!$B:$B,K$12,Data!$A:$A,$B126),\"N/A\")","v":"N/A"},{"$f":"IFERROR(AVERAGEIFS(Data!$Q:$Q,Data!$B:$B,L$12,Data!$A:$A,$B126),\"N/A\")","v":"N/A"},{"$f":"IFERROR(AVERAGEIFS(Data!$Q:$Q,Data!$B:$B,M$12,Data!$A:$A,$B126),\"N/A\")","v":"N/A"}]
["",{"$f":"Observations!B116","v":""},{"$f":"IF(A127=1,VLOOKUP($B127,ObData!$A$1:$J$300,3,0),\"\")","v":""},{"$f":"IF(A127=1,B127&\": \"&TEXT(C127,\"mm/dd/yy\")&\"- \"&VLOOKUP(B127,ObData!$A$1:$J$300,5,0),\"\")","v":""},{"$f":"IF($B127=\"\",\"\",IF(COUNTIFS(Data!$B:$B,E$12,Data!$A:$A,Matrices!$B127)=0,\"\",COUNTIFS(Data!$B:$B,E$12,Data!$A:$A,Matrices!$B127)))","v":""},{"$f":"IF($B127=\"\",\"\",IF(COUNTIFS(Data!$B:$B,F$12,Data!$A:$A,Matrices!$B127)=0,\"\",COUNTIFS(Data!$B:$B,F$12,Data!$A:$A,Matrices!$B127)))","v":""},{"$f":"IF($B127=\"\",\"\",IF(COUNTIFS(Data!$B:$B,G$12,Data!$A:$A,Matrices!$B127)=0,\"\",COUNTIFS(Data!$B:$B,G$12,Data!$A:$A,Matrices!$B127)))","v":""},{"$f":"IFERROR(AVERAGEIFS(Data!$E:$E,Data!$B:$B,H$12,Data!$A:$A,$B127),\"N/A\")","v":"N/A"},{"$f":"IFERROR(AVERAGEIFS(Data!$E:$E,Data!$B:$B,I$12,Data!$A:$A,$B127),\"N/A\")","v":"N/A"},{"$f":"IFERROR(AVERAGEIFS(Data!$E:$E,Data!$B:$B,J$12,Data!$A:$A,$B127),\"N/A\")","v":"N/A"},{"$f":"IFERROR(AVERAGEIFS(Data!$Q:$Q,Data!$B:$B,K$12,Data!$A:$A,$B127),\"N/A\")","v":"N/A"},{"$f":"IFERROR(AVERAGEIFS(Data!$Q:$Q,Data!$B:$B,L$12,Data!$A:$A,$B127),\"N/A\")","v":"N/A"},{"$f":"IFERROR(AVERAGEIFS(Data!$Q:$Q,Data!$B:$B,M$12,Data!$A:$A,$B127),\"N/A\")","v":"N/A"}]
["",{"$f":"Observations!B117","v":""},{"$f":"IF(A128=1,VLOOKUP($B128,ObData!$A$1:$J$300,3,0),\"\")","v":""},{"$f":"IF(A128=1,B128&\": \"&TEXT(C128,\"mm/dd/yy\")&\"- \"&VLOOKUP(B128,ObData!$A$1:$J$300,5,0),\"\")","v":""},{"$f":"IF($B128=\"\",\"\",IF(COUNTIFS(Data!$B:$B,E$12,Data!$A:$A,Matrices!$B128)=0,\"\",COUNTIFS(Data!$B:$B,E$12,Data!$A:$A,Matrices!$B128)))","v":""},{"$f":"IF($B128=\"\",\"\",IF(COUNTIFS(Data!$B:$B,F$12,Data!$A:$A,Matrices!$B128)=0,\"\",COUNTIFS(Data!$B:$B,F$12,Data!$A:$A,Matrices!$B128)))","v":""},{"$f":"IF($B128=\"\",\"\",IF(COUNTIFS(Data!$B:$B,G$12,Data!$A:$A,Matrices!$B128)=0,\"\",COUNTIFS(Data!$B:$B,G$12,Data!$A:$A,Matrices!$B128)))","v":""},{"$f":"IFERROR(AVERAGEIFS(Data!$E:$E,Data!$B:$B,H$12,Data!$A:$A,$B128),\"N/A\")","v":"N/A"},{"$f":"IFERROR(AVERAGEIFS(Data!$E:$E,Data!$B:$B,I$12,Data!$A:$A,$B128),\"N/A\")","v":"N/A"},{"$f":"IFERROR(AVERAGEIFS(Data!$E:$E,Data!$B:$B,J$12,Data!$A:$A,$B128),\"N/A\")","v":"N/A"},{"$f":"IFERROR(AVERAGEIFS(Data!$Q:$Q,Data!$B:$B,K$12,Data!$A:$A,$B128),\"N/A\")","v":"N/A"},{"$f":"IFERROR(AVERAGEIFS(Data!$Q:$Q,Data!$B:$B,L$12,Data!$A:$A,$B128),\"N/A\")","v":"N/A"},{"$f":"IFERROR(AVERAGEIFS(Data!$Q:$Q,Data!$B:$B,M$12,Data!$A:$A,$B128),\"N/A\")","v":"N/A"}]
["",{"$f":"Observations!B118","v":""},{"$f":"IF(A129=1,VLOOKUP($B129,ObData!$A$1:$J$300,3,0),\"\")","v":""},{"$f":"IF(A129=1,B129&\": \"&TEXT(C129,\"mm/dd/yy\")&\"- \"&VLOOKUP(B129,ObData!$A$1:$J$300,5,0),\"\")","v":""},{"$f":"IF($B129=\"\",\"\",IF(COUNTIFS(Data!$B:$B,E$12,Data!$A:$A,Matrices!$B129)=0,\"\",COUNTIFS(Data!$B:$B,E$12,Data!$A:$A,Matrices!$B129)))","v":""},{"$f":"IF($B129=\"\",\"\",IF(COUNTIFS(Data!$B:$B,F$12,Data!$A:$A,Matrices!$B129)=0,\"\",COUNTIFS(Data!$B:$B,F$12,Data!$A:$A,Matrices!$B129)))","v":""},{"$f":"IF($B129=\"\",\"\",IF(COUNTIFS(Data!$B:$B,G$12,Data!$A:$A,Matrices!$B129)=0,\"\",COUNTIFS(Data!$B:$B,G$12,Data!$A:$A,Matrices!$B129)))","v":""},{"$f":"IFERROR(AVERAGEIFS(Data!$E:$E,Data!$B:$B,H$12,Data!$A:$A,$B129),\"N/A\")","v":"N/A"},{"$f":"IFERROR(AVERAGEIFS(Data!$E:$E,Data!$B:$B,I$12,Data!$A:$A,$B129),\"N/A\")","v":"N/A"},{"$f":"IFERROR(AVERAGEIFS(Data!$E:$E,Data!$B:$B,J$12,Data!$A:$A,$B129),\"N/A\")","v":"N/A"},{"$f":"IFERROR(AVERAGEIFS(Data!$Q:$Q,Data!$B:$B,K$12,Data!$A:$A,$B129),\"N/A\")","v":"N/A"},{"$f":"IFERROR(AVERAGEIFS(Data!$Q:$Q,Data!$B:$B,L$12,Data!$A:$A,$B129),\"N/A\")","v":"N/A"},{"$f":"IFERROR(AVERAGEIFS(Data!$Q:$Q,Data!$B:$B,M$12,Data!$A:$A,$B129),\"N/A\")","v":"N/A"}]
["",{"$f":"Observations!B119","v":""},{"$f":"IF(A130=1,VLOOKUP($B130,ObData!$A$1:$J$300,3,0),\"\")","v":""},{"$f":"IF(A130=1,B130&\": \"&TEXT(C130,\"mm/dd/yy\")&\"- \"&VLOOKUP(B130,ObData!$A$1:$J$300,5,0),\"\")","v":""},{"$f":"IF($B130=\"\",\"\",IF(COUNTIFS(Data!$B:$B,E$12,Data!$A:$A,Matrices!$B130)=0,\"\",COUNTIFS(Data!$B:$B,E$12,Data!$A:$A,Matrices!$B130)))","v":""},{"$f":"IF($B130=\"\",\"\",IF(COUNTIFS(Data!$B:$B,F$12,Data!$A:$A,Matrices!$B130)=0,\"\",COUNTIFS(Data!$B:$B,F$12,Data!$A:$A,Matrices!$B130)))","v":""},{"$f":"IF($B130=\"\",\"\",IF(COUNTIFS(Data!$B:$B,G$12,Data!$A:$A,Matrices!$B130)=0,\"\",COUNTIFS(Data!$B:$B,G$12,Data!$A:$A,Matrices!$B130)))","v":""},{"$f":"IFERROR(AVERAGEIFS(Data!$E:$E,Data!$B:$B,H$12,Data!$A:$A,$B130),\"N/A\")","v":"N/A"},{"$f":"IFERROR(AVERAGEIFS(Data!$E:$E,Data!$B:$B,I$12,Data!$A:$A,$B130),\"N/A\")","v":"N/A"},{"$f":"IFERROR(AVERAGEIFS(Data!$E:$E,Data!$B:$B,J$12,Data!$A:$A,$B130),\"N/A\")","v":"N/A"},{"$f":"IFERROR(AVERAGEIFS(Data!$Q:$Q,Data!$B:$B,K$12,Data!$A:$A,$B130),\"N/A\")","v":"N/A"},{"$f":"IFERROR(AVERAGEIFS(Data!$Q:$Q,Data!$B:$B,L$12,Data!$A:$A,$B130),\"N/A\")","v":"N/A"},{"$f":"IFERROR(AVERAGEIFS(Data!$Q:$Q,Data!$B:$B,M$12,Data!$A:$A,$B130),\"N/A\")","v":"N/A"}]
["",{"$f":"Observations!B120","v":""},{"$f":"IF(A131=1,VLOOKUP($B131,ObData!$A$1:$J$300,3,0),\"\")","v":""},{"$f":"IF(A131=1,B131&\": \"&TEXT(C131,\"mm/dd/yy\")&\"- \"&VLOOKUP(B131,ObData!$A$1:$J$300,5,0),\"\")","v":""},{"$f":"IF($B131=\"\",\"\",IF(COUNTIFS(Data!$B:$B,E$12,Data!$A:$A,Matrices!$B131)=0,\"\",COUNTIFS(Data!$B:$B,E$12,Data!$A:$A,Matrices!$B131)))","v":""},{"$f":"IF($B131=\"\",\"\",IF(COUNTIFS(Data!$B:$B,F$12,Data!$A:$A,Matrices!$B131)=0,\"\",COUNTIFS(Data!$B:$B,F$12,Data!$A:$A,Matrices!$B131)))","v":""},{"$f":"IF($B131=\"\",\"\",IF(COUNTIFS(Data!$B:$B,G$12,Data!$A:$A,Matrices!$B131)=0,\"\",COUNTIFS(Data!$B:$B,G$12,Data!$A:$A,Matrices!$B131)))","v":""},{"$f":"IFERROR(AVERAGEIFS(Data!$E:$E,Data!$B:$B,H$12,Data!$A:$A,$B131),\"N/A\")","v":"N/A"},{"$f":"IFERROR(AVERAGEIFS(Data!$E:$E,Data!$B:$B,I$12,Data!$A:$A,$B131),\"N/A\")","v":"N/A"},{"$f":"IFERROR(AVERAGEIFS(Data!$E:$E,Data!$B:$B,J$12,Data!$A:$A,$B131),\"N/A\")","v":"N/A"},{"$f":"IFERROR(AVERAGEIFS(Data!$Q:$Q,Data!$B:$B,K$12,Data!$A:$A,$B131),\"N/A\")","v":"N/A"},{"$f":"IFERROR(AVERAGEIFS(Data!$Q:$Q,Data!$B:$B,L$12,Data!$A:$A,$B131),\"N/A\")","v":"N/A"},{"$f":"IFERROR(AVERAGEIFS(Data!$Q:$Q,Data!$B:$B,M$12,Data!$A:$A,$B131),\"N/A\")","v":"N/A"}]
["",{"$f":"Observations!B121","v":""},{"$f":"IF(A132=1,VLOOKUP($B132,ObData!$A$1:$J$300,3,0),\"\")","v":""},{"$f":"IF(A132=1,B132&\": \"&TEXT(C132,\"mm/dd/yy\")&\"- \"&VLOOKUP(B132,ObData!$A$1:$J$300,5,0),\"\")","v":""},{"$f":"IF($B132=\"\",\"\",IF(COUNTIFS(Data!$B:$B,E$12,Data!$A:$A,Matrices!$B132)=0,\"\",COUNTIFS(Data!$B:$B,E$12,Data!$A:$A,Matrices!$B132)))","v":""},{"$f":"IF($B132=\"\",\"\",IF(COUNTIFS(Data!$B:$B,F$12,Data!$A:$A,Matrices!$B132)=0,\"\",COUNTIFS(Data!$B:$B,F$12,Data!$A:$A,Matrices!$B132)))","v":""},{"$f":"IF($B132=\"\",\"\",IF(COUNTIFS(Data!$B:$B,G$12,Data!$A:$A,Matrices!$B132)=0,\"\",COUNTIFS(Data!$B:$B,G$12,Data!$A:$A,Matrices!$B132)))","v":""},{"$f":"IFERROR(AVERAGEIFS(Data!$E:$E,Data!$B:$B,H$12,Data!$A:$A,$B132),\"N/A\")","v":"N/A"},{"$f":"IFERROR(AVERAGEIFS(Data!$E:$E,Data!$B:$B,I$12,Data!$A:$A,$B132),\"N/A\")","v":"N/A"},{"$f":"IFERROR(AVERAGEIFS(Data!$E:$E,Data!$B:$B,J$12,Data!$A:$A,$B132),\"N/A\")","v":"N/A"},{"$f":"IFERROR(AVERAGEIFS(Data!$Q:$Q,Data!$B:$B,K$12,Data!$A:$A,$B132),\"N/A\")","v":"N/A"},{"$f":"IFERROR(AVERAGEIFS(Data!$Q:$Q,Data!$B:$B,L$12,Data!$A:$A,$B132),\"N/A\")","v":"N/A"},{"$f":"IFERROR(AVERAGEIFS(Data!$Q:$Q,Data!$B:$B,M$12,Data!$A:$A,$B132),\"N/A\")","v":"N/A"}]
["",{"$f":"Observations!B122","v":""},{"$f":"IF(A133=1,VLOOKUP($B133,ObData!$A$1:$J$300,3,0),\"\")","v":""},{"$f":"IF(A133=1,B133&\": \"&TEXT(C133,\"mm/dd/yy\")&\"- \"&VLOOKUP(B133,ObData!$A$1:$J$300,5,0),\"\")","v":""},{"$f":"IF($B133=\"\",\"\",IF(COUNTIFS(Data!$B:$B,E$12,Data!$A:$A,Matrices!$B133)=0,\"\",COUNTIFS(Data!$B:$B,E$12,Data!$A:$A,Matrices!$B133)))","v":""},{"$f":"IF($B133=\"\",\"\",IF(COUNTIFS(Data!$B:$B,F$12,Data!$A:$A,Matrices!$B133)=0,\"\",COUNTIFS(Data!$B:$B,F$12,Data!$A:$A,Matrices!$B133)))","v":""},{"$f":"IF($B133=\"\",\"\",IF(COUNTIFS(Data!$B:$B,G$12,Data!$A:$A,Matrices!$B133)=0,\"\",COUNTIFS(Data!$B:$B,G$12,Data!$A:$A,Matrices!$B133)))","v":""},{"$f":"IFERROR(AVERAGEIFS(Data!$E:$E,Data!$B:$B,H$12,Data!$A:$A,$B133),\"N/A\")","v":"N/A"},{"$f":"IFERROR(AVERAGEIFS(Data!$E:$E,Data!$B:$B,I$12,Data!$A:$A,$B133),\"N/A\")","v":"N/A"},{"$f":"IFERROR(AVERAGEIFS(Data!$E:$E,Data!$B:$B,J$12,Data!$A:$A,$B133),\"N/A\")","v":"N/A"},{"$f":"IFERROR(AVERAGEIFS(Data!$Q:$Q,Data!$B:$B,K$12,Data!$A:$A,$B133),\"N/A\")","v":"N/A"},{"$f":"IFERROR(AVERAGEIFS(Data!$Q:$Q,Data!$B:$B,L$12,Data!$A:$A,$B133),\"N/A\")","v":"N/A"},{"$f":"IFERROR(AVERAGEIFS(Data!$Q:$Q,Data!$B:$B,M$12,Data!$A:$A,$B133),\"N/A\")","v":"N/A"}]
["",{"$f":"Observations!B123","v":""},{"$f":"IF(A134=1,VLOOKUP($B134,ObData!$A$1:$J$300,3,0),\"\")","v":""},{"$f":"IF(A134=1,B134&\": \"&TEXT(C134,\"mm/dd/yy\")&\"- \"&VLOOKUP(B134,ObData!$A$1:$J$300,5,0),\"\")","v":""},{"$f":"IF($B134=\"\",\"\",IF(COUNTIFS(Data!$B:$B,E$12,Data!$A:$A,Matrices!$B134)=0,\"\",COUNTIFS(Data!$B:$B,E$12,Data!$A:$A,Matrices!$B134)))","v":""},{"$f":"IF($B134=\"\",\"\",IF(COUNTIFS(Data!$B:$B,F$12,Data!$A:$A,Matrices!$B134)=0,\"\",COUNTIFS(Data!$B:$B,F$12,Data!$A:$A,Matrices!$B134)))","v":""},{"$f":"IF($B134=\"\",\"\",IF(COUNTIFS(Data!$B:$B,G$12,Data!$A:$A,Matrices!$B134)=0,\"\",COUNTIFS(Data!$B:$B,G$12,Data!$A:$A,Matrices!$B134)))","v":""},{"$f":"IFERROR(AVERAGEIFS(Data!$E:$E,Data!$B:$B,H$12,Data!$A:$A,$B134),\"N/A\")","v":"N/A"},{"$f":"IFERROR(AVERAGEIFS(Data!$E:$E,Data!$B:$B,I$12,Data!$A:$A,$B134),\"N/A\")","v":"N/A"},{"$f":"IFERROR(AVERAGEIFS(Data!$E:$E,Data!$B:$B,J$12,Data!$A:$A,$B134),\"N/A\")","v":"N/A"},{"$f":"IFERROR(AVERAGEIFS(Data!$Q:$Q,Data!$B:$B,K$12,Data!$A:$A,$B134),\"N/A\")","v":"N/A"},{"$f":"IFERROR(AVERAGEIFS(Data!$Q:$Q,Data!$B:$B,L$12,Data!$A:$A,$B134),\"N/A\")","v":"N/A"},{"$f":"IFERROR(AVERAGEIFS(Data!$Q:$Q,Data!$B:$B,M$12,Data!$A:$A,$B134),\"N/A\")","v":"N/A"}]
["",{"$f":"Observations!B124","v":""},{"$f":"IF(A135=1,VLOOKUP($B135,ObData!$A$1:$J$300,3,0),\"\")","v":""},{"$f":"IF(A135=1,B135&\": \"&TEXT(C135,\"mm/dd/yy\")&\"- \"&VLOOKUP(B135,ObData!$A$1:$J$300,5,0),\"\")","v":""},{"$f":"IF($B135=\"\",\"\",IF(COUNTIFS(Data!$B:$B,E$12,Data!$A:$A,Matrices!$B135)=0,\"\",COUNTIFS(Data!$B:$B,E$12,Data!$A:$A,Matrices!$B135)))","v":""},{"$f":"IF($B135=\"\",\"\",IF(COUNTIFS(Data!$B:$B,F$12,Data!$A:$A,Matrices!$B135)=0,\"\",COUNTIFS(Data!$B:$B,F$12,Data!$A:$A,Matrices!$B135)))","v":""},{"$f":"IF($B135=\"\",\"\",IF(COUNTIFS(Data!$B:$B,G$12,Data!$A:$A,Matrices!$B135)=0,\"\",COUNTIFS(Data!$B:$B,G$12,Data!$A:$A,Matrices!$B135)))","v":""},{"$f":"IFERROR(AVERAGEIFS(Data!$E:$E,Data!$B:$B,H$12,Data!$A:$A,$B135),\"N/A\")","v":"N/A"},{"$f":"IFERROR(AVERAGEIFS(Data!$E:$E,Data!$B:$B,I$12,Data!$A:$A,$B135),\"N/A\")","v":"N/A"},{"$f":"IFERROR(AVERAGEIFS(Data!$E:$E,Data!$B:$B,J$12,Data!$A:$A,$B135),\"N/A\")","v":"N/A"},{"$f":"IFERROR(AVERAGEIFS(Data!$Q:$Q,Data!$B:$B,K$12,Data!$A:$A,$B135),\"N/A\")","v":"N/A"},{"$f":"IFERROR(AVERAGEIFS(Data!$Q:$Q,Data!$B:$B,L$12,Data!$A:$A,$B135),\"N/A\")","v":"N/A"},{"$f":"IFERROR(AVERAGEIFS(Data!$Q:$Q,Data!$B:$B,M$12,Data!$A:$A,$B135),\"N/A\")","v":"N/A"}]
["",{"$f":"Observations!B125","v":""},{"$f":"IF(A136=1,VLOOKUP($B136,ObData!$A$1:$J$300,3,0),\"\")","v":""},{"$f":"IF(A136=1,B136&\": \"&TEXT(C136,\"mm/dd/yy\")&\"- \"&VLOOKUP(B136,ObData!$A$1:$J$300,5,0),\"\")","v":""},{"$f":"IF($B136=\"\",\"\",IF(COUNTIFS(Data!$B:$B,E$12,Data!$A:$A,Matrices!$B136)=0,\"\",COUNTIFS(Data!$B:$B,E$12,Data!$A:$A,Matrices!$B136)))","v":""},{"$f":"IF($B136=\"\",\"\",IF(COUNTIFS(Data!$B:$B,F$12,Data!$A:$A,Matrices!$B136)=0,\"\",COUNTIFS(Data!$B:$B,F$12,Data!$A:$A,Matrices!$B136)))","v":""},{"$f":"IF($B136=\"\",\"\",IF(COUNTIFS(Data!$B:$B,G$12,Data!$A:$A,Matrices!$B136)=0,\"\",COUNTIFS(Data!$B:$B,G$12,Data!$A:$A,Matrices!$B136)))","v":""},{"$f":"IFERROR(AVERAGEIFS(Data!$E:$E,Data!$B:$B,H$12,Data!$A:$A,$B136),\"N/A\")","v":"N/A"},{"$f":"IFERROR(AVERAGEIFS(Data!$E:$E,Data!$B:$B,I$12,Data!$A:$A,$B136),\"N/A\")","v":"N/A"},{"$f":"IFERROR(AVERAGEIFS(Data!$E:$E,Data!$B:$B,J$12,Data!$A:$A,$B136),\"N/A\")","v":"N/A"},{"$f":"IFERROR(AVERAGEIFS(Data!$Q:$Q,Data!$B:$B,K$12,Data!$A:$A,$B136),\"N/A\")","v":"N/A"},{"$f":"IFERROR(AVERAGEIFS(Data!$Q:$Q,Data!$B:$B,L$12,Data!$A:$A,$B136),\"N/A\")","v":"N/A"},{"$f":"IFERROR(AVERAGEIFS(Data!$Q:$Q,Data!$B:$B,M$12,Data!$A:$A,$B136),\"N/A\")","v":"N/A"}]
["",{"$f":"Observations!B126","v":""},{"$f":"IF(A137=1,VLOOKUP($B137,ObData!$A$1:$J$300,3,0),\"\")","v":""},{"$f":"IF(A137=1,B137&\": \"&TEXT(C137,\"mm/dd/yy\")&\"- \"&VLOOKUP(B137,ObData!$A$1:$J$300,5,0),\"\")","v":""},{"$f":"IF($B137=\"\",\"\",IF(COUNTIFS(Data!$B:$B,E$12,Data!$A:$A,Matrices!$B137)=0,\"\",COUNTIFS(Data!$B:$B,E$12,Data!$A:$A,Matrices!$B137)))","v":""},{"$f":"IF($B137=\"\",\"\",IF(COUNTIFS(Data!$B:$B,F$12,Data!$A:$A,Matrices!$B137)=0,\"\",COUNTIFS(Data!$B:$B,F$12,Data!$A:$A,Matrices!$B137)))","v":""},{"$f":"IF($B137=\"\",\"\",IF(COUNTIFS(Data!$B:$B,G$12,Data!$A:$A,Matrices!$B137)=0,\"\",COUNTIFS(Data!$B:$B,G$12,Data!$A:$A,Matrices!$B137)))","v":""},{"$f":"IFERROR(AVERAGEIFS(Data!$E:$E,Data!$B:$B,H$12,Data!$A:$A,$B137),\"N/A\")","v":"N/A"},{"$f":"IFERROR(AVERAGEIFS(Data!$E:$E,Data!$B:$B,I$12,Data!$A:$A,$B137),\"N/A\")","v":"N/A"},{"$f":"IFERROR(AVERAGEIFS(Data!$E:$E,Data!$B:$B,J$12,Data!$A:$A,$B137),\"N/A\")","v":"N/A"},{"$f":"IFERROR(AVERAGEIFS(Data!$Q:$Q,Data!$B:$B,K$12,Data!$A:$A,$B137),\"N/A\")","v":"N/A"},{"$f":"IFERROR(AVERAGEIFS(Data!$Q:$Q,Data!$B:$B,L$12,Data!$A:$A,$B137),\"N/A\")","v":"N/A"},{"$f":"IFERROR(AVERAGEIFS(Data!$Q:$Q,Data!$B:$B,M$12,Data!$A:$A,$B137),\"N/A\")","v":"N/A"}]
["",{"$f":"Observations!B127","v":""},{"$f":"IF(A138=1,VLOOKUP($B138,ObData!$A$1:$J$300,3,0),\"\")","v":""},{"$f":"IF(A138=1,B138&\": \"&TEXT(C138,\"mm/dd/yy\")&\"- \"&VLOOKUP(B138,ObData!$A$1:$J$300,5,0),\"\")","v":""},{"$f":"IF($B138=\"\",\"\",IF(COUNTIFS(Data!$B:$B,E$12,Data!$A:$A,Matrices!$B138)=0,\"\",COUNTIFS(Data!$B:$B,E$12,Data!$A:$A,Matrices!$B138)))","v":""},{"$f":"IF($B138=\"\",\"\",IF(COUNTIFS(Data!$B:$B,F$12,Data!$A:$A,Matrices!$B138)=0,\"\",COUNTIFS(Data!$B:$B,F$12,Data!$A:$A,Matrices!$B138)))","v":""},{"$f":"IF($B138=\"\",\"\",IF(COUNTIFS(Data!$B:$B,G$12,Data!$A:$A,Matrices!$B138)=0,\"\",COUNTIFS(Data!$B:$B,G$12,Data!$A:$A,Matrices!$B138)))","v":""},{"$f":"IFERROR(AVERAGEIFS(Data!$E:$E,Data!$B:$B,H$12,Data!$A:$A,$B138),\"N/A\")","v":"N/A"},{"$f":"IFERROR(AVERAGEIFS(Data!$E:$E,Data!$B:$B,I$12,Data!$A:$A,$B138),\"N/A\")","v":"N/A"},{"$f":"IFERROR(AVERAGEIFS(Data!$E:$E,Data!$B:$B,J$12,Data!$A:$A,$B138),\"N/A\")","v":"N/A"},{"$f":"IFERROR(AVERAGEIFS(Data!$Q:$Q,Data!$B:$B,K$12,Data!$A:$A,$B138),\"N/A\")","v":"N/A"},{"$f":"IFERROR(AVERAGEIFS(Data!$Q:$Q,Data!$B:$B,L$12,Data!$A:$A,$B138),\"N/A\")","v":"N/A"},{"$f":"IFERROR(AVERAGEIFS(Data!$Q:$Q,Data!$B:$B,M$12,Data!$A:$A,$B138),\"N/A\")","v":"N/A"}]
["",{"$f":"Observations!B128","v":""},{"$f":"IF(A139=1,VLOOKUP($B139,ObData!$A$1:$J$300,3,0),\"\")","v":""},{"$f":"IF(A139=1,B139&\": \"&TEXT(C139,\"mm/dd/yy\")&\"- \"&VLOOKUP(B139,ObData!$A$1:$J$300,5,0),\"\")","v":""},{"$f":"IF($B139=\"\",\"\",IF(COUNTIFS(Data!$B:$B,E$12,Data!$A:$A,Matrices!$B139)=0,\"\",COUNTIFS(Data!$B:$B,E$12,Data!$A:$A,Matrices!$B139)))","v":""},{"$f":"IF($B139=\"\",\"\",IF(COUNTIFS(Data!$B:$B,F$12,Data!$A:$A,Matrices!$B139)=0,\"\",COUNTIFS(Data!$B:$B,F$12,Data!$A:$A,Matrices!$B139)))","v":""},{"$f":"IF($B139=\"\",\"\",IF(COUNTIFS(Data!$B:$B,G$12,Data!$A:$A,Matrices!$B139)=0,\"\",COUNTIFS(Data!$B:$B,G$12,Data!$A:$A,Matrices!$B139)))","v":""},{"$f":"IFERROR(AVERAGEIFS(Data!$E:$E,Data!$B:$B,H$12,Data!$A:$A,$B139),\"N/A\")","v":"N/A"},{"$f":"IFERROR(AVERAGEIFS(Data!$E:$E,Data!$B:$B,I$12,Data!$A:$A,$B139),\"N/A\")","v":"N/A"},{"$f":"IFERROR(AVERAGEIFS(Data!$E:$E,Data!$B:$B,J$12,Data!$A:$A,$B139),\"N/A\")","v":"N/A"},{"$f":"IFERROR(AVERAGEIFS(Data!$Q:$Q,Data!$B:$B,K$12,Data!$A:$A,$B139),\"N/A\")","v":"N/A"},{"$f":"IFERROR(AVERAGEIFS(Data!$Q:$Q,Data!$B:$B,L$12,Data!$A:$A,$B139),\"N/A\")","v":"N/A"},{"$f":"IFERROR(AVERAGEIFS(Data!$Q:$Q,Data!$B:$B,M$12,Data!$A:$A,$B139),\"N/A\")","v":"N/A"}]
["",{"$f":"Observations!B129","v":""},{"$f":"IF(A140=1,VLOOKUP($B140,ObData!$A$1:$J$300,3,0),\"\")","v":""},{"$f":"IF(A140=1,B140&\": \"&TEXT(C140,\"mm/dd/yy\")&\"- \"&VLOOKUP(B140,ObData!$A$1:$J$300,5,0),\"\")","v":""},{"$f":"IF($B140=\"\",\"\",IF(COUNTIFS(Data!$B:$B,E$12,Data!$A:$A,Matrices!$B140)=0,\"\",COUNTIFS(Data!$B:$B,E$12,Data!$A:$A,Matrices!$B140)))","v":""},{"$f":"IF($B140=\"\",\"\",IF(COUNTIFS(Data!$B:$B,F$12,Data!$A:$A,Matrices!$B140)=0,\"\",COUNTIFS(Data!$B:$B,F$12,Data!$A:$A,Matrices!$B140)))","v":""},{"$f":"IF($B140=\"\",\"\",IF(COUNTIFS(Data!$B:$B,G$12,Data!$A:$A,Matrices!$B140)=0,\"\",COUNTIFS(Data!$B:$B,G$12,Data!$A:$A,Matrices!$B140)))","v":""},{"$f":"IFERROR(AVERAGEIFS(Data!$E:$E,Data!$B:$B,H$12,Data!$A:$A,$B140),\"N/A\")","v":"N/A"},{"$f":"IFERROR(AVERAGEIFS(Data!$E:$E,Data!$B:$B,I$12,Data!$A:$A,$B140),\"N/A\")","v":"N/A"},{"$f":"IFERROR(AVERAGEIFS(Data!$E:$E,Data!$B:$B,J$12,Data!$A:$A,$B140),\"N/A\")","v":"N/A"},{"$f":"IFERROR(AVERAGEIFS(Data!$Q:$Q,Data!$B:$B,K$12,Data!$A:$A,$B140),\"N/A\")","v":"N/A"},{"$f":"IFERROR(AVERAGEIFS(Data!$Q:$Q,Data!$B:$B,L$12,Data!$A:$A,$B140),\"N/A\")","v":"N/A"},{"$f":"IFERROR(AVERAGEIFS(Data!$Q:$Q,Data!$B:$B,M$12,Data!$A:$A,$B140),\"N/A\")","v":"N/A"}]
["",{"$f":"Observations!B130","v":""},{"$f":"IF(A141=1,VLOOKUP($B141,ObData!$A$1:$J$300,3,0),\"\")","v":""},{"$f":"IF(A141=1,B141&\": \"&TEXT(C141,\"mm/dd/yy\")&\"- \"&VLOOKUP(B141,ObData!$A$1:$J$300,5,0),\"\")","v":""},{"$f":"IF($B141=\"\",\"\",IF(COUNTIFS(Data!$B:$B,E$12,Data!$A:$A,Matrices!$B141)=0,\"\",COUNTIFS(Data!$B:$B,E$12,Data!$A:$A,Matrices!$B141)))","v":""},{"$f":"IF($B141=\"\",\"\",IF(COUNTIFS(Data!$B:$B,F$12,Data!$A:$A,Matrices!$B141)=0,\"\",COUNTIFS(Data!$B:$B,F$12,Data!$A:$A,Matrices!$B141)))","v":""},{"$f":"IF($B141=\"\",\"\",IF(COUNTIFS(Data!$B:$B,G$12,Data!$A:$A,Matrices!$B141)=0,\"\",COUNTIFS(Data!$B:$B,G$12,Data!$A:$A,Matrices!$B141)))","v":""},{"$f":"IFERROR(AVERAGEIFS(Data!$E:$E,Data!$B:$B,H$12,Data!$A:$A,$B141),\"N/A\")","v":"N/A"},{"$f":"IFERROR(AVERAGEIFS(Data!$E:$E,Data!$B:$B,I$12,Data!$A:$A,$B141),\"N/A\")","v":"N/A"},{"$f":"IFERROR(AVERAGEIFS(Data!$E:$E,Data!$B:$B,J$12,Data!$A:$A,$B141),\"N/A\")","v":"N/A"},{"$f":"IFERROR(AVERAGEIFS(Data!$Q:$Q,Data!$B:$B,K$12,Data!$A:$A,$B141),\"N/A\")","v":"N/A"},{"$f":"IFERROR(AVERAGEIFS(Data!$Q:$Q,Data!$B:$B,L$12,Data!$A:$A,$B141),\"N/A\")","v":"N/A"},{"$f":"IFERROR(AVERAGEIFS(Data!$Q:$Q,Data!$B:$B,M$12,Data!$A:$A,$B141),\"N/A\")","v":"N/A"}]
[{"$f":"IF(B142<>\"\",1,\"\")","v":""},{"$f":"Observations!B131","v":""},{"$f":"IF(A142=1,VLOOKUP($B142,ObData!$A$1:$J$300,3,0),\"\")","v":""},{"$f":"IF(A142=1,B142&\": \"&TEXT(C142,\"mm/dd/yy\")&\"- \"&VLOOKUP(B142,ObData!$A$1:$J$300,5,0),\"\")","v":""},{"$f":"IF($B142=\"\",\"\",IF(COUNTIFS(Data!$B:$B,E$12,Data!$A:$A,Matrices!$B142)=0,\"\",COUNTIFS(Data!$B:$B,E$12,Data!$A:$A,Matrices!$B142)))","v":""},{"$f":"IF($B142=\"\",\"\",IF(COUNTIFS(Data!$B:$B,F$12,Data!$A:$A,Matrices!$B142)=0,\"\",COUNTIFS(Data!$B:$B,F$12,Data!$A:$A,Matrices!$B142)))","v":""},{"$f":"IF($B142=\"\",\"\",IF(COUNTIFS(Data!$B:$B,G$12,Data!$A:$A,Matrices!$B142)=0,\"\",COUNTIFS(Data!$B:$B,G$12,Data!$A:$A,Matrices!$B142)))","v":""},{"$f":"IFERROR(AVERAGEIFS(Data!$E:$E,Data!$B:$B,H$12,Data!$A:$A,$B142),\"N/A\")","v":"N/A"},{"$f":"IFERROR(AVERAGEIFS(Data!$E:$E,Data!$B:$B,I$12,Data!$A:$A,$B142),\"N/A\")","v":"N/A"},{"$f":"IFERROR(AVERAGEIFS(Data!$E:$E,Data!$B:$B,J$12,Data!$A:$A,$B142),\"N/A\")","v":"N/A"},{"$f":"IFERROR(AVERAGEIFS(Data!$Q:$Q,Data!$B:$B,K$12,Data!$A:$A,$B142),\"N/A\")","v":"N/A"},{"$f":"IFERROR(AVERAGEIFS(Data!$Q:$Q,Data!$B:$B,L$12,Data!$A:$A,$B142),\"N/A\")","v":"N/A"},{"$f":"IFERROR(AVERAGEIFS(Data!$Q:$Q,Data!$B:$B,M$12,Data!$A:$A,$B142),\"N/A\")","v":"N/A"}]
["",{"$f":"Observations!B132","v":""},{"$f":"IF(A143=1,VLOOKUP($B143,ObData!$A$1:$J$300,3,0),\"\")","v":""},{"$f":"IF(A143=1,B143&\": \"&TEXT(C143,\"mm/dd/yy\")&\"- \"&VLOOKUP(B143,ObData!$A$1:$J$300,5,0),\"\")","v":""},{"$f":"IF($B143=\"\",\"\",IF(COUNTIFS(Data!$B:$B,E$12,Data!$A:$A,Matrices!$B143)=0,\"\",COUNTIFS(Data!$B:$B,E$12,Data!$A:$A,Matrices!$B143)))","v":""},{"$f":"IF($B143=\"\",\"\",IF(COUNTIFS(Data!$B:$B,F$12,Data!$A:$A,Matrices!$B143)=0,\"\",COUNTIFS(Data!$B:$B,F$12,Data!$A:$A,Matrices!$B143)))","v":""},{"$f":"IF($B143=\"\",\"\",IF(COUNTIFS(Data!$B:$B,G$12,Data!$A:$A,Matrices!$B143)=0,\"\",COUNTIFS(Data!$B:$B,G$12,Data!$A:$A,Matrices!$B143)))","v":""},{"$f":"IFERROR(AVERAGEIFS(Data!$E:$E,Data!$B:$B,H$12,Data!$A:$A,$B143),\"N/A\")","v":"N/A"},{"$f":"IFERROR(AVERAGEIFS(Data!$E:$E,Data!$B:$B,I$12,Data!$A:$A,$B143),\"N/A\")","v":"N/A"},{"$f":"IFERROR(AVERAGEIFS(Data!$E:$E,Data!$B:$B,J$12,Data!$A:$A,$B143),\"N/A\")","v":"N/A"},{"$f":"IFERROR(AVERAGEIFS(Data!$Q:$Q,Data!$B:$B,K$12,Data!$A:$A,$B143),\"N/A\")","v":"N/A"},{"$f":"IFERROR(AVERAGEIFS(Data!$Q:$Q,Data!$B:$B,L$12,Data!$A:$A,$B143),\"N/A\")","v":"N/A"},{"$f":"IFERROR(AVERAGEIFS(Data!$Q:$Q,Data!$B:$B,M$12,Data!$A:$A,$B143),\"N/A\")","v":"N/A"}]
["",{"$f":"Observations!B133","v":""},{"$f":"IF(A144=1,VLOOKUP($B144,ObData!$A$1:$J$300,3,0),\"\")","v":""},{"$f":"IF(A144=1,B144&\": \"&TEXT(C144,\"mm/dd/yy\")&\"- \"&VLOOKUP(B144,ObData!$A$1:$J$300,5,0),\"\")","v":""},{"$f":"IF($B144=\"\",\"\",IF(COUNTIFS(Data!$B:$B,E$12,Data!$A:$A,Matrices!$B144)=0,\"\",COUNTIFS(Data!$B:$B,E$12,Data!$A:$A,Matrices!$B144)))","v":""},{"$f":"IF($B144=\"\",\"\",IF(COUNTIFS(Data!$B:$B,F$12,Data!$A:$A,Matrices!$B144)=0,\"\",COUNTIFS(Data!$B:$B,F$12,Data!$A:$A,Matrices!$B144)))","v":""},{"$f":"IF($B144=\"\",\"\",IF(COUNTIFS(Data!$B:$B,G$12,Data!$A:$A,Matrices!$B144)=0,\"\",COUNTIFS(Data!$B:$B,G$12,Data!$A:$A,Matrices!$B144)))","v":""},{"$f":"IFERROR(AVERAGEIFS(Data!$E:$E,Data!$B:$B,H$12,Data!$A:$A,$B144),\"N/A\")","v":"N/A"},{"$f":"IFERROR(AVERAGEIFS(Data!$E:$E,Data!$B:$B,I$12,Data!$A:$A,$B144),\"N/A\")","v":"N/A"},{"$f":"IFERROR(AVERAGEIFS(Data!$E:$E,Data!$B:$B,J$12,Data!$A:$A,$B144),\"N/A\")","v":"N/A"},{"$f":"IFERROR(AVERAGEIFS(Data!$Q:$Q,Data!$B:$B,K$12,Data!$A:$A,$B144),\"N/A\")","v":"N/A"},{"$f":"IFERROR(AVERAGEIFS(Data!$Q:$Q,Data!$B:$B,L$12,Data!$A:$A,$B144),\"N/A\")","v":"N/A"},{"$f":"IFERROR(AVERAGEIFS(Data!$Q:$Q,Data!$B:$B,M$12,Data!$A:$A,$B144),\"N/A\")","v":"N/A"}]
["",{"$f":"Observations!B134","v":""},{"$f":"IF(A145=1,VLOOKUP($B145,ObData!$A$1:$J$300,3,0),\"\")","v":""},{"$f":"IF(A145=1,B145&\": \"&TEXT(C145,\"mm/dd/yy\")&\"- \"&VLOOKUP(B145,ObData!$A$1:$J$300,5,0),\"\")","v":""},{"$f":"IF($B145=\"\",\"\",IF(COUNTIFS(Data!$B:$B,E$12,Data!$A:$A,Matrices!$B145)=0,\"\",COUNTIFS(Data!$B:$B,E$12,Data!$A:$A,Matrices!$B145)))","v":""},{"$f":"IF($B145=\"\",\"\",IF(COUNTIFS(Data!$B:$B,F$12,Data!$A:$A,Matrices!$B145)=0,\"\",COUNTIFS(Data!$B:$B,F$12,Data!$A:$A,Matrices!$B145)))","v":""},{"$f":"IF($B145=\"\",\"\",IF(COUNTIFS(Data!$B:$B,G$12,Data!$A:$A,Matrices!$B145)=0,\"\",COUNTIFS(Data!$B:$B,G$12,Data!$A:$A,Matrices!$B145)))","v":""},{"$f":"IFERROR(AVERAGEIFS(Data!$E:$E,Data!$B:$B,H$12,Data!$A:$A,$B145),\"N/A\")","v":"N/A"},{"$f":"IFERROR(AVERAGEIFS(Data!$E:$E,Data!$B:$B,I$12,Data!$A:$A,$B145),\"N/A\")","v":"N/A"},{"$f":"IFERROR(AVERAGEIFS(Data!$E:$E,Data!$B:$B,J$12,Data!$A:$A,$B145),\"N/A\")","v":"N/A"},{"$f":"IFERROR(AVERAGEIFS(Data!$Q:$Q,Data!$B:$B,K$12,Data!$A:$A,$B145),\"N/A\")","v":"N/A"},{"$f":"IFERROR(AVERAGEIFS(Data!$Q:$Q,Data!$B:$B,L$12,Data!$A:$A,$B145),\"N/A\")","v":"N/A"},{"$f":"IFERROR(AVERAGEIFS(Data!$Q:$Q,Data!$B:$B,M$12,Data!$A:$A,$B145),\"N/A\")","v":"N/A"}]
["",{"$f":"Observations!B135","v":""},{"$f":"IF(A146=1,VLOOKUP($B146,ObData!$A$1:$J$300,3,0),\"\")","v":""},{"$f":"IF(A146=1,B146&\": \"&TEXT(C146,\"mm/dd/yy\")&\"- \"&VLOOKUP(B146,ObData!$A$1:$J$300,5,0),\"\")","v":""},{"$f":"IF($B146=\"\",\"\",IF(COUNTIFS(Data!$B:$B,E$12,Data!$A:$A,Matrices!$B146)=0,\"\",COUNTIFS(Data!$B:$B,E$12,Data!$A:$A,Matrices!$B146)))","v":""},{"$f":"IF($B146=\"\",\"\",IF(COUNTIFS(Data!$B:$B,F$12,Data!$A:$A,Matrices!$B146)=0,\"\",COUNTIFS(Data!$B:$B,F$12,Data!$A:$A,Matrices!$B146)))","v":""},{"$f":"IF($B146=\"\",\"\",IF(COUNTIFS(Data!$B:$B,G$12,Data!$A:$A,Matrices!$B146)=0,\"\",COUNTIFS(Data!$B:$B,G$12,Data!$A:$A,Matrices!$B146)))","v":""},{"$f":"IFERROR(AVERAGEIFS(Data!$E:$E,Data!$B:$B,H$12,Data!$A:$A,$B146),\"N/A\")","v":"N/A"},{"$f":"IFERROR(AVERAGEIFS(Data!$E:$E,Data!$B:$B,I$12,Data!$A:$A,$B146),\"N/A\")","v":"N/A"},{"$f":"IFERROR(AVERAGEIFS(Data!$E:$E,Data!$B:$B,J$12,Data!$A:$A,$B146),\"N/A\")","v":"N/A"},{"$f":"IFERROR(AVERAGEIFS(Data!$Q:$Q,Data!$B:$B,K$12,Data!$A:$A,$B146),\"N/A\")","v":"N/A"},{"$f":"IFERROR(AVERAGEIFS(Data!$Q:$Q,Data!$B:$B,L$12,Data!$A:$A,$B146),\"N/A\")","v":"N/A"},{"$f":"IFERROR(AVERAGEIFS(Data!$Q:$Q,Data!$B:$B,M$12,Data!$A:$A,$B146),\"N/A\")","v":"N/A"}]
["",{"$f":"Observations!B136","v":""},{"$f":"IF(A147=1,VLOOKUP($B147,ObData!$A$1:$J$300,3,0),\"\")","v":""},{"$f":"IF(A147=1,B147&\": \"&TEXT(C147,\"mm/dd/yy\")&\"- \"&VLOOKUP(B147,ObData!$A$1:$J$300,5,0),\"\")","v":""},{"$f":"IF($B147=\"\",\"\",IF(COUNTIFS(Data!$B:$B,E$12,Data!$A:$A,Matrices!$B147)=0,\"\",COUNTIFS(Data!$B:$B,E$12,Data!$A:$A,Matrices!$B147)))","v":""},{"$f":"IF($B147=\"\",\"\",IF(COUNTIFS(Data!$B:$B,F$12,Data!$A:$A,Matrices!$B147)=0,\"\",COUNTIFS(Data!$B:$B,F$12,Data!$A:$A,Matrices!$B147)))","v":""},{"$f":"IF($B147=\"\",\"\",IF(COUNTIFS(Data!$B:$B,G$12,Data!$A:$A,Matrices!$B147)=0,\"\",COUNTIFS(Data!$B:$B,G$12,Data!$A:$A,Matrices!$B147)))","v":""},{"$f":"IFERROR(AVERAGEIFS(Data!$E:$E,Data!$B:$B,H$12,Data!$A:$A,$B147),\"N/A\")","v":"N/A"},{"$f":"IFERROR(AVERAGEIFS(Data!$E:$E,Data!$B:$B,I$12,Data!$A:$A,$B147),\"N/A\")","v":"N/A"},{"$f":"IFERROR(AVERAGEIFS(Data!$E:$E,Data!$B:$B,J$12,Data!$A:$A,$B147),\"N/A\")","v":"N/A"},{"$f":"IFERROR(AVERAGEIFS(Data!$Q:$Q,Data!$B:$B,K$12,Data!$A:$A,$B147),\"N/A\")","v":"N/A"},{"$f":"IFERROR(AVERAGEIFS(Data!$Q:$Q,Data!$B:$B,L$12,Data!$A:$A,$B147),\"N/A\")","v":"N/A"},{"$f":"IFERROR(AVERAGEIFS(Data!$Q:$Q,Data!$B:$B,M$12,Data!$A:$A,$B147),\"N/A\")","v":"N/A"}]
["",{"$f":"Observations!B137","v":""},{"$f":"IF(A148=1,VLOOKUP($B148,ObData!$A$1:$J$300,3,0),\"\")","v":""},{"$f":"IF(A148=1,B148&\": \"&TEXT(C148,\"mm/dd/yy\")&\"- \"&VLOOKUP(B148,ObData!$A$1:$J$300,5,0),\"\")","v":""},{"$f":"IF($B148=\"\",\"\",IF(COUNTIFS(Data!$B:$B,E$12,Data!$A:$A,Matrices!$B148)=0,\"\",COUNTIFS(Data!$B:$B,E$12,Data!$A:$A,Matrices!$B148)))","v":""},{"$f":"IF($B148=\"\",\"\",IF(COUNTIFS(Data!$B:$B,F$12,Data!$A:$A,Matrices!$B148)=0,\"\",COUNTIFS(Data!$B:$B,F$12,Data!$A:$A,Matrices!$B148)))","v":""},{"$f":"IF($B148=\"\",\"\",IF(COUNTIFS(Data!$B:$B,G$12,Data!$A:$A,Matrices!$B148)=0,\"\",COUNTIFS(Data!$B:$B,G$12,Data!$A:$A,Matrices!$B148)))","v":""},{"$f":"IFERROR(AVERAGEIFS(Data!$E:$E,Data!$B:$B,H$12,Data!$A:$A,$B148),\"N/A\")","v":"N/A"},{"$f":"IFERROR(AVERAGEIFS(Data!$E:$E,Data!$B:$B,I$12,Data!$A:$A,$B148),\"N/A\")","v":"N/A"},{"$f":"IFERROR(AVERAGEIFS(Data!$E:$E,Data!$B:$B,J$12,Data!$A:$A,$B148),\"N/A\")","v":"N/A"},{"$f":"IFERROR(AVERAGEIFS(Data!$Q:$Q,Data!$B:$B,K$12,Data!$A:$A,$B148),\"N/A\")","v":"N/A"},{"$f":"IFERROR(AVERAGEIFS(Data!$Q:$Q,Data!$B:$B,L$12,Data!$A:$A,$B148),\"N/A\")","v":"N/A"},{"$f":"IFERROR(AVERAGEIFS(Data!$Q:$Q,Data!$B:$B,M$12,Data!$A:$A,$B148),\"N/A\")","v":"N/A"}]
["",{"$f":"Observations!B138","v":""},{"$f":"IF(A149=1,VLOOKUP($B149,ObData!$A$1:$J$300,3,0),\"\")","v":""},{"$f":"IF(A149=1,B149&\": \"&TEXT(C149,\"mm/dd/yy\")&\"- \"&VLOOKUP(B149,ObData!$A$1:$J$300,5,0),\"\")","v":""},{"$f":"IF($B149=\"\",\"\",IF(COUNTIFS(Data!$B:$B,E$12,Data!$A:$A,Matrices!$B149)=0,\"\",COUNTIFS(Data!$B:$B,E$12,Data!$A:$A,Matrices!$B149)))","v":""},{"$f":"IF($B149=\"\",\"\",IF(COUNTIFS(Data!$B:$B,F$12,Data!$A:$A,Matrices!$B149)=0,\"\",COUNTIFS(Data!$B:$B,F$12,Data!$A:$A,Matrices!$B149)))","v":""},{"$f":"IF($B149=\"\",\"\",IF(COUNTIFS(Data!$B:$B,G$12,Data!$A:$A,Matrices!$B149)=0,\"\",COUNTIFS(Data!$B:$B,G$12,Data!$A:$A,Matrices!$B149)))","v":""},{"$f":"IFERROR(AVERAGEIFS(Data!$E:$E,Data!$B:$B,H$12,Data!$A:$A,$B149),\"N/A\")","v":"N/A"},{"$f":"IFERROR(AVERAGEIFS(Data!$E:$E,Data!$B:$B,I$12,Data!$A:$A,$B149),\"N/A\")","v":"N/A"},{"$f":"IFERROR(AVERAGEIFS(Data!$E:$E,Data!$B:$B,J$12,Data!$A:$A,$B149),\"N/A\")","v":"N/A"},{"$f":"IFERROR(AVERAGEIFS(Data!$Q:$Q,Data!$B:$B,K$12,Data!$A:$A,$B149),\"N/A\")","v":"N/A"},{"$f":"IFERROR(AVERAGEIFS(Data!$Q:$Q,Data!$B:$B,L$12,Data!$A:$A,$B149),\"N/A\")","v":"N/A"},{"$f":"IFERROR(AVERAGEIFS(Data!$Q:$Q,Data!$B:$B,M$12,Data!$A:$A,$B149),\"N/A\")","v":"N/A"}]
["",{"$f":"Observations!B139","v":""},{"$f":"IF(A150=1,VLOOKUP($B150,ObData!$A$1:$J$300,3,0),\"\")","v":""},{"$f":"IF(A150=1,B150&\": \"&TEXT(C150,\"mm/dd/yy\")&\"- \"&VLOOKUP(B150,ObData!$A$1:$J$300,5,0),\"\")","v":""},{"$f":"IF($B150=\"\",\"\",IF(COUNTIFS(Data!$B:$B,E$12,Data!$A:$A,Matrices!$B150)=0,\"\",COUNTIFS(Data!$B:$B,E$12,Data!$A:$A,Matrices!$B150)))","v":""},{"$f":"IF($B150=\"\",\"\",IF(COUNTIFS(Data!$B:$B,F$12,Data!$A:$A,Matrices!$B150)=0,\"\",COUNTIFS(Data!$B:$B,F$12,Data!$A:$A,Matrices!$B150)))","v":""},{"$f":"IF($B150=\"\",\"\",IF(COUNTIFS(Data!$B:$B,G$12,Data!$A:$A,Matrices!$B150)=0,\"\",COUNTIFS(Data!$B:$B,G$12,Data!$A:$A,Matrices!$B150)))","v":""},{"$f":"IFERROR(AVERAGEIFS(Data!$E:$E,Data!$B:$B,H$12,Data!$A:$A,$B150),\"N/A\")","v":"N/A"},{"$f":"IFERROR(AVERAGEIFS(Data!$E:$E,Data!$B:$B,I$12,Data!$A:$A,$B150),\"N/A\")","v":"N/A"},{"$f":"IFERROR(AVERAGEIFS(Data!$E:$E,Data!$B:$B,J$12,Data!$A:$A,$B150),\"N/A\")","v":"N/A"},{"$f":"IFERROR(AVERAGEIFS(Data!$Q:$Q,Data!$B:$B,K$12,Data!$A:$A,$B150),\"N/A\")","v":"N/A"},{"$f":"IFERROR(AVERAGEIFS(Data!$Q:$Q,Data!$B:$B,L$12,Data!$A:$A,$B150),\"N/A\")","v":"N/A"},{"$f":"IFERROR(AVERAGEIFS(Data!$Q:$Q,Data!$B:$B,M$12,Data!$A:$A,$B150),\"N/A\")","v":"N/A"}]
["",{"$f":"Observations!B140","v":""},{"$f":"IF(A151=1,VLOOKUP($B151,ObData!$A$1:$J$300,3,0),\"\")","v":""},{"$f":"IF(A151=1,B151&\": \"&TEXT(C151,\"mm/dd/yy\")&\"- \"&VLOOKUP(B151,ObData!$A$1:$J$300,5,0),\"\")","v":""},{"$f":"IF($B151=\"\",\"\",IF(COUNTIFS(Data!$B:$B,E$12,Data!$A:$A,Matrices!$B151)=0,\"\",COUNTIFS(Data!$B:$B,E$12,Data!$A:$A,Matrices!$B151)))","v":""},{"$f":"IF($B151=\"\",\"\",IF(COUNTIFS(Data!$B:$B,F$12,Data!$A:$A,Matrices!$B151)=0,\"\",COUNTIFS(Data!$B:$B,F$12,Data!$A:$A,Matrices!$B151)))","v":""},{"$f":"IF($B151=\"\",\"\",IF(COUNTIFS(Data!$B:$B,G$12,Data!$A:$A,Matrices!$B151)=0,\"\",COUNTIFS(Data!$B:$B,G$12,Data!$A:$A,Matrices!$B151)))","v":""},{"$f":"IFERROR(AVERAGEIFS(Data!$E:$E,Data!$B:$B,H$12,Data!$A:$A,$B151),\"N/A\")","v":"N/A"},{"$f":"IFERROR(AVERAGEIFS(Data!$E:$E,Data!$B:$B,I$12,Data!$A:$A,$B151),\"N/A\")","v":"N/A"},{"$f":"IFERROR(AVERAGEIFS(Data!$E:$E,Data!$B:$B,J$12,Data!$A:$A,$B151),\"N/A\")","v":"N/A"},{"$f":"IFERROR(AVERAGEIFS(Data!$Q:$Q,Data!$B:$B,K$12,Data!$A:$A,$B151),\"N/A\")","v":"N/A"},{"$f":"IFERROR(AVERAGEIFS(Data!$Q:$Q,Data!$B:$B,L$12,Data!$A:$A,$B151),\"N/A\")","v":"N/A"},{"$f":"IFERROR(AVERAGEIFS(Data!$Q:$Q,Data!$B:$B,M$12,Data!$A:$A,$B151),\"N/A\")","v":"N/A"}]
["",{"$f":"Observations!B141","v":""},{"$f":"IF(A152=1,VLOOKUP($B152,ObData!$A$1:$J$300,3,0),\"\")","v":""},{"$f":"IF(A152=1,B152&\": \"&TEXT(C152,\"mm/dd/yy\")&\"- \"&VLOOKUP(B152,ObData!$A$1:$J$300,5,0),\"\")","v":""},{"$f":"IF($B152=\"\",\"\",IF(COUNTIFS(Data!$B:$B,E$12,Data!$A:$A,Matrices!$B152)=0,\"\",COUNTIFS(Data!$B:$B,E$12,Data!$A:$A,Matrices!$B152)))","v":""},{"$f":"IF($B152=\"\",\"\",IF(COUNTIFS(Data!$B:$B,F$12,Data!$A:$A,Matrices!$B152)=0,\"\",COUNTIFS(Data!$B:$B,F$12,Data!$A:$A,Matrices!$B152)))","v":""},{"$f":"IF($B152=\"\",\"\",IF(COUNTIFS(Data!$B:$B,G$12,Data!$A:$A,Matrices!$B152)=0,\"\",COUNTIFS(Data!$B:$B,G$12,Data!$A:$A,Matrices!$B152)))","v":""},{"$f":"IFERROR(AVERAGEIFS(Data!$E:$E,Data!$B:$B,H$12,Data!$A:$A,$B152),\"N/A\")","v":"N/A"},{"$f":"IFERROR(AVERAGEIFS(Data!$E:$E,Data!$B:$B,I$12,Data!$A:$A,$B152),\"N/A\")","v":"N/A"},{"$f":"IFERROR(AVERAGEIFS(Data!$E:$E,Data!$B:$B,J$12,Data!$A:$A,$B152),\"N/A\")","v":"N/A"},{"$f":"IFERROR(AVERAGEIFS(Data!$Q:$Q,Data!$B:$B,K$12,Data!$A:$A,$B152),\"N/A\")","v":"N/A"},{"$f":"IFERROR(AVERAGEIFS(Data!$Q:$Q,Data!$B:$B,L$12,Data!$A:$A,$B152),\"N/A\")","v":"N/A"},{"$f":"IFERROR(AVERAGEIFS(Data!$Q:$Q,Data!$B:$B,M$12,Data!$A:$A,$B152),\"N/A\")","v":"N/A"}]
["",{"$f":"Observations!B142","v":""},{"$f":"IF(A153=1,VLOOKUP($B153,ObData!$A$1:$J$300,3,0),\"\")","v":""},{"$f":"IF(A153=1,B153&\": \"&TEXT(C153,\"mm/dd/yy\")&\"- \"&VLOOKUP(B153,ObData!$A$1:$J$300,5,0),\"\")","v":""},{"$f":"IF($B153=\"\",\"\",IF(COUNTIFS(Data!$B:$B,E$12,Data!$A:$A,Matrices!$B153)=0,\"\",COUNTIFS(Data!$B:$B,E$12,Data!$A:$A,Matrices!$B153)))","v":""},{"$f":"IF($B153=\"\",\"\",IF(COUNTIFS(Data!$B:$B,F$12,Data!$A:$A,Matrices!$B153)=0,\"\",COUNTIFS(Data!$B:$B,F$12,Data!$A:$A,Matrices!$B153)))","v":""},{"$f":"IF($B153=\"\",\"\",IF(COUNTIFS(Data!$B:$B,G$12,Data!$A:$A,Matrices!$B153)=0,\"\",COUNTIFS(Data!$B:$B,G$12,Data!$A:$A,Matrices!$B153)))","v":""},{"$f":"IFERROR(AVERAGEIFS(Data!$E:$E,Data!$B:$B,H$12,Data!$A:$A,$B153),\"N/A\")","v":"N/A"},{"$f":"IFERROR(AVERAGEIFS(Data!$E:$E,Data!$B:$B,I$12,Data!$A:$A,$B153),\"N/A\")","v":"N/A"},{"$f":"IFERROR(AVERAGEIFS(Data!$E:$E,Data!$B:$B,J$12,Data!$A:$A,$B153),\"N/A\")","v":"N/A"},{"$f":"IFERROR(AVERAGEIFS(Data!$Q:$Q,Data!$B:$B,K$12,Data!$A:$A,$B153),\"N/A\")","v":"N/A"},{"$f":"IFERROR(AVERAGEIFS(Data!$Q:$Q,Data!$B:$B,L$12,Data!$A:$A,$B153),\"N/A\")","v":"N/A"},{"$f":"IFERROR(AVERAGEIFS(Data!$Q:$Q,Data!$B:$B,M$12,Data!$A:$A,$B153),\"N/A\")","v":"N/A"}]
["",{"$f":"Observations!B143","v":""},{"$f":"IF(A154=1,VLOOKUP($B154,ObData!$A$1:$J$300,3,0),\"\")","v":""},{"$f":"IF(A154=1,B154&\": \"&TEXT(C154,\"mm/dd/yy\")&\"- \"&VLOOKUP(B154,ObData!$A$1:$J$300,5,0),\"\")","v":""},{"$f":"IF($B154=\"\",\"\",IF(COUNTIFS(Data!$B:$B,E$12,Data!$A:$A,Matrices!$B154)=0,\"\",COUNTIFS(Data!$B:$B,E$12,Data!$A:$A,Matrices!$B154)))","v":""},{"$f":"IF($B154=\"\",\"\",IF(COUNTIFS(Data!$B:$B,F$12,Data!$A:$A,Matrices!$B154)=0,\"\",COUNTIFS(Data!$B:$B,F$12,Data!$A:$A,Matrices!$B154)))","v":""},{"$f":"IF($B154=\"\",\"\",IF(COUNTIFS(Data!$B:$B,G$12,Data!$A:$A,Matrices!$B154)=0,\"\",COUNTIFS(Data!$B:$B,G$12,Data!$A:$A,Matrices!$B154)))","v":""},{"$f":"IFERROR(AVERAGEIFS(Data!$E:$E,Data!$B:$B,H$12,Data!$A:$A,$B154),\"N/A\")","v":"N/A"},{"$f":"IFERROR(AVERAGEIFS(Data!$E:$E,Data!$B:$B,I$12,Data!$A:$A,$B154),\"N/A\")","v":"N/A"},{"$f":"IFERROR(AVERAGEIFS(Data!$E:$E,Data!$B:$B,J$12,Data!$A:$A,$B154),\"N/A\")","v":"N/A"},{"$f":"IFERROR(AVERAGEIFS(Data!$Q:$Q,Data!$B:$B,K$12,Data!$A:$A,$B154),\"N/A\")","v":"N/A"},{"$f":"IFERROR(AVERAGEIFS(Data!$Q:$Q,Data!$B:$B,L$12,Data!$A:$A,$B154),\"N/A\")","v":"N/A"},{"$f":"IFERROR(AVERAGEIFS(Data!$Q:$Q,Data!$B:$B,M$12,Data!$A:$A,$B154),\"N/A\")","v":"N/A"}]
["",{"$f":"Observations!B144","v":""},{"$f":"IF(A155=1,VLOOKUP($B155,ObData!$A$1:$J$300,3,0),\"\")","v":""},{"$f":"IF(A155=1,B155&\": \"&TEXT(C155,\"mm/dd/yy\")&\"- \"&VLOOKUP(B155,ObData!$A$1:$J$300,5,0),\"\")","v":""},{"$f":"IF($B155=\"\",\"\",IF(COUNTIFS(Data!$B:$B,E$12,Data!$A:$A,Matrices!$B155)=0,\"\",COUNTIFS(Data!$B:$B,E$12,Data!$A:$A,Matrices!$B155)))","v":""},{"$f":"IF($B155=\"\",\"\",IF(COUNTIFS(Data!$B:$B,F$12,Data!$A:$A,Matrices!$B155)=0,\"\",COUNTIFS(Data!$B:$B,F$12,Data!$A:$A,Matrices!$B155)))","v":""},{"$f":"IF($B155=\"\",\"\",IF(COUNTIFS(Data!$B:$B,G$12,Data!$A:$A,Matrices!$B155)=0,\"\",COUNTIFS(Data!$B:$B,G$12,Data!$A:$A,Matrices!$B155)))","v":""},{"$f":"IFERROR(AVERAGEIFS(Data!$E:$E,Data!$B:$B,H$12,Data!$A:$A,$B155),\"N/A\")","v":"N/A"},{"$f":"IFERROR(AVERAGEIFS(Data!$E:$E,Data!$B:$B,I$12,Data!$A:$A,$B155),\"N/A\")","v":"N/A"},{"$f":"IFERROR(AVERAGEIFS(Data!$E:$E,Data!$B:$B,J$12,Data!$A:$A,$B155),\"N/A\")","v":"N/A"},{"$f":"IFERROR(AVERAGEIFS(Data!$Q:$Q,Data!$B:$B,K$12,Data!$A:$A,$B155),\"N/A\")","v":"N/A"},{"$f":"IFERROR(AVERAGEIFS(Data!$Q:$Q,Data!$B:$B,L$12,Data!$A:$A,$B155),\"N/A\")","v":"N/A"},{"$f":"IFERROR(AVERAGEIFS(Data!$Q:$Q,Data!$B:$B,M$12,Data!$A:$A,$B155),\"N/A\")","v":"N/A"}]
["",{"$f":"Observations!B145","v":""},{"$f":"IF(A156=1,VLOOKUP($B156,ObData!$A$1:$J$300,3,0),\"\")","v":""},{"$f":"IF(A156=1,B156&\": \"&TEXT(C156,\"mm/dd/yy\")&\"- \"&VLOOKUP(B156,ObData!$A$1:$J$300,5,0),\"\")","v":""},{"$f":"IF($B156=\"\",\"\",IF(COUNTIFS(Data!$B:$B,E$12,Data!$A:$A,Matrices!$B156)=0,\"\",COUNTIFS(Data!$B:$B,E$12,Data!$A:$A,Matrices!$B156)))","v":""},{"$f":"IF($B156=\"\",\"\",IF(COUNTIFS(Data!$B:$B,F$12,Data!$A:$A,Matrices!$B156)=0,\"\",COUNTIFS(Data!$B:$B,F$12,Data!$A:$A,Matrices!$B156)))","v":""},{"$f":"IF($B156=\"\",\"\",IF(COUNTIFS(Data!$B:$B,G$12,Data!$A:$A,Matrices!$B156)=0,\"\",COUNTIFS(Data!$B:$B,G$12,Data!$A:$A,Matrices!$B156)))","v":""},{"$f":"IFERROR(AVERAGEIFS(Data!$E:$E,Data!$B:$B,H$12,Data!$A:$A,$B156),\"N/A\")","v":"N/A"},{"$f":"IFERROR(AVERAGEIFS(Data!$E:$E,Data!$B:$B,I$12,Data!$A:$A,$B156),\"N/A\")","v":"N/A"},{"$f":"IFERROR(AVERAGEIFS(Data!$E:$E,Data!$B:$B,J$12,Data!$A:$A,$B156),\"N/A\")","v":"N/A"},{"$f":"IFERROR(AVERAGEIFS(Data!$Q:$Q,Data!$B:$B,K$12,Data!$A:$A,$B156),\"N/A\")","v":"N/A"},{"$f":"IFERROR(AVERAGEIFS(Data!$Q:$Q,Data!$B:$B,L$12,Data!$A:$A,$B156),\"N/A\")","v":"N/A"},{"$f":"IFERROR(AVERAGEIFS(Data!$Q:$Q,Data!$B:$B,M$12,Data!$A:$A,$B156),\"N/A\")","v":"N/A"}]
["",{"$f":"Observations!B146","v":""},{"$f":"IF(A157=1,VLOOKUP($B157,ObData!$A$1:$J$300,3,0),\"\")","v":""},{"$f":"IF(A157=1,B157&\": \"&TEXT(C157,\"mm/dd/yy\")&\"- \"&VLOOKUP(B157,ObData!$A$1:$J$300,5,0),\"\")","v":""},{"$f":"IF($B157=\"\",\"\",IF(COUNTIFS(Data!$B:$B,E$12,Data!$A:$A,Matrices!$B157)=0,\"\",COUNTIFS(Data!$B:$B,E$12,Data!$A:$A,Matrices!$B157)))","v":""},{"$f":"IF($B157=\"\",\"\",IF(COUNTIFS(Data!$B:$B,F$12,Data!$A:$A,Matrices!$B157)=0,\"\",COUNTIFS(Data!$B:$B,F$12,Data!$A:$A,Matrices!$B157)))","v":""},{"$f":"IF($B157=\"\",\"\",IF(COUNTIFS(Data!$B:$B,G$12,Data!$A:$A,Matrices!$B157)=0,\"\",COUNTIFS(Data!$B:$B,G$12,Data!$A:$A,Matrices!$B157)))","v":""},{"$f":"IFERROR(AVERAGEIFS(Data!$E:$E,Data!$B:$B,H$12,Data!$A:$A,$B157),\"N/A\")","v":"N/A"},{"$f":"IFERROR(AVERAGEIFS(Data!$E:$E,Data!$B:$B,I$12,Data!$A:$A,$B157),\"N/A\")","v":"N/A"},{"$f":"IFERROR(AVERAGEIFS(Data!$E:$E,Data!$B:$B,J$12,Data!$A:$A,$B157),\"N/A\")","v":"N/A"},{"$f":"IFERROR(AVERAGEIFS(Data!$Q:$Q,Data!$B:$B,K$12,Data!$A:$A,$B157),\"N/A\")","v":"N/A"},{"$f":"IFERROR(AVERAGEIFS(Data!$Q:$Q,Data!$B:$B,L$12,Data!$A:$A,$B157),\"N/A\")","v":"N/A"},{"$f":"IFERROR(AVERAGEIFS(Data!$Q:$Q,Data!$B:$B,M$12,Data!$A:$A,$B157),\"N/A\")","v":"N/A"}]
["",{"$f":"Observations!B147","v":""},{"$f":"IF(A158=1,VLOOKUP($B158,ObData!$A$1:$J$300,3,0),\"\")","v":""},{"$f":"IF(A158=1,B158&\": \"&TEXT(C158,\"mm/dd/yy\")&\"- \"&VLOOKUP(B158,ObData!$A$1:$J$300,5,0),\"\")","v":""},{"$f":"IF($B158=\"\",\"\",IF(COUNTIFS(Data!$B:$B,E$12,Data!$A:$A,Matrices!$B158)=0,\"\",COUNTIFS(Data!$B:$B,E$12,Data!$A:$A,Matrices!$B158)))","v":""},{"$f":"IF($B158=\"\",\"\",IF(COUNTIFS(Data!$B:$B,F$12,Data!$A:$A,Matrices!$B158)=0,\"\",COUNTIFS(Data!$B:$B,F$12,Data!$A:$A,Matrices!$B158)))","v":""},{"$f":"IF($B158=\"\",\"\",IF(COUNTIFS(Data!$B:$B,G$12,Data!$A:$A,Matrices!$B158)=0,\"\",COUNTIFS(Data!$B:$B,G$12,Data!$A:$A,Matrices!$B158)))","v":""},{"$f":"IFERROR(AVERAGEIFS(Data!$E:$E,Data!$B:$B,H$12,Data!$A:$A,$B158),\"N/A\")","v":"N/A"},{"$f":"IFERROR(AVERAGEIFS(Data!$E:$E,Data!$B:$B,I$12,Data!$A:$A,$B158),\"N/A\")","v":"N/A"},{"$f":"IFERROR(AVERAGEIFS(Data!$E:$E,Data!$B:$B,J$12,Data!$A:$A,$B158),\"N/A\")","v":"N/A"},{"$f":"IFERROR(AVERAGEIFS(Data!$Q:$Q,Data!$B:$B,K$12,Data!$A:$A,$B158),\"N/A\")","v":"N/A"},{"$f":"IFERROR(AVERAGEIFS(Data!$Q:$Q,Data!$B:$B,L$12,Data!$A:$A,$B158),\"N/A\")","v":"N/A"},{"$f":"IFERROR(AVERAGEIFS(Data!$Q:$Q,Data!$B:$B,M$12,Data!$A:$A,$B158),\"N/A\")","v":"N/A"}]
["",{"$f":"Observations!B148","v":""},{"$f":"IF(A159=1,VLOOKUP($B159,ObData!$A$1:$J$300,3,0),\"\")","v":""},{"$f":"IF(A159=1,B159&\": \"&TEXT(C159,\"mm/dd/yy\")&\"- \"&VLOOKUP(B159,ObData!$A$1:$J$300,5,0),\"\")","v":""},{"$f":"IF($B159=\"\",\"\",IF(COUNTIFS(Data!$B:$B,E$12,Data!$A:$A,Matrices!$B159)=0,\"\",COUNTIFS(Data!$B:$B,E$12,Data!$A:$A,Matrices!$B159)))","v":""},{"$f":"IF($B159=\"\",\"\",IF(COUNTIFS(Data!$B:$B,F$12,Data!$A:$A,Matrices!$B159)=0,\"\",COUNTIFS(Data!$B:$B,F$12,Data!$A:$A,Matrices!$B159)))","v":""},{"$f":"IF($B159=\"\",\"\",IF(COUNTIFS(Data!$B:$B,G$12,Data!$A:$A,Matrices!$B159)=0,\"\",COUNTIFS(Data!$B:$B,G$12,Data!$A:$A,Matrices!$B159)))","v":""},{"$f":"IFERROR(AVERAGEIFS(Data!$E:$E,Data!$B:$B,H$12,Data!$A:$A,$B159),\"N/A\")","v":"N/A"},{"$f":"IFERROR(AVERAGEIFS(Data!$E:$E,Data!$B:$B,I$12,Data!$A:$A,$B159),\"N/A\")","v":"N/A"},{"$f":"IFERROR(AVERAGEIFS(Data!$E:$E,Data!$B:$B,J$12,Data!$A:$A,$B159),\"N/A\")","v":"N/A"},{"$f":"IFERROR(AVERAGEIFS(Data!$Q:$Q,Data!$B:$B,K$12,Data!$A:$A,$B159),\"N/A\")","v":"N/A"},{"$f":"IFERROR(AVERAGEIFS(Data!$Q:$Q,Data!$B:$B,L$12,Data!$A:$A,$B159),\"N/A\")","v":"N/A"},{"$f":"IFERROR(AVERAGEIFS(Data!$Q:$Q,Data!$B:$B,M$12,Data!$A:$A,$B159),\"N/A\")","v":"N/A"}]
["",{"$f":"Observations!B149","v":""},{"$f":"IF(A160=1,VLOOKUP($B160,ObData!$A$1:$J$300,3,0),\"\")","v":""},{"$f":"IF(A160=1,B160&\": \"&TEXT(C160,\"mm/dd/yy\")&\"- \"&VLOOKUP(B160,ObData!$A$1:$J$300,5,0),\"\")","v":""},{"$f":"IF($B160=\"\",\"\",IF(COUNTIFS(Data!$B:$B,E$12,Data!$A:$A,Matrices!$B160)=0,\"\",COUNTIFS(Data!$B:$B,E$12,Data!$A:$A,Matrices!$B160)))","v":""},{"$f":"IF($B160=\"\",\"\",IF(COUNTIFS(Data!$B:$B,F$12,Data!$A:$A,Matrices!$B160)=0,\"\",COUNTIFS(Data!$B:$B,F$12,Data!$A:$A,Matrices!$B160)))","v":""},{"$f":"IF($B160=\"\",\"\",IF(COUNTIFS(Data!$B:$B,G$12,Data!$A:$A,Matrices!$B160)=0,\"\",COUNTIFS(Data!$B:$B,G$12,Data!$A:$A,Matrices!$B160)))","v":""},{"$f":"IFERROR(AVERAGEIFS(Data!$E:$E,Data!$B:$B,H$12,Data!$A:$A,$B160),\"N/A\")","v":"N/A"},{"$f":"IFERROR(AVERAGEIFS(Data!$E:$E,Data!$B:$B,I$12,Data!$A:$A,$B160),\"N/A\")","v":"N/A"},{"$f":"IFERROR(AVERAGEIFS(Data!$E:$E,Data!$B:$B,J$12,Data!$A:$A,$B160),\"N/A\")","v":"N/A"},{"$f":"IFERROR(AVERAGEIFS(Data!$Q:$Q,Data!$B:$B,K$12,Data!$A:$A,$B160),\"N/A\")","v":"N/A"},{"$f":"IFERROR(AVERAGEIFS(Data!$Q:$Q,Data!$B:$B,L$12,Data!$A:$A,$B160),\"N/A\")","v":"N/A"},{"$f":"IFERROR(AVERAGEIFS(Data!$Q:$Q,Data!$B:$B,M$12,Data!$A:$A,$B160),\"N/A\")","v":"N/A"}]
["",{"$f":"Observations!B150","v":""},{"$f":"IF(A161=1,VLOOKUP($B161,ObData!$A$1:$J$300,3,0),\"\")","v":""},{"$f":"IF(A161=1,B161&\": \"&TEXT(C161,\"mm/dd/yy\")&\"- \"&VLOOKUP(B161,ObData!$A$1:$J$300,5,0),\"\")","v":""},{"$f":"IF($B161=\"\",\"\",IF(COUNTIFS(Data!$B:$B,E$12,Data!$A:$A,Matrices!$B161)=0,\"\",COUNTIFS(Data!$B:$B,E$12,Data!$A:$A,Matrices!$B161)))","v":""},{"$f":"IF($B161=\"\",\"\",IF(COUNTIFS(Data!$B:$B,F$12,Data!$A:$A,Matrices!$B161)=0,\"\",COUNTIFS(Data!$B:$B,F$12,Data!$A:$A,Matrices!$B161)))","v":""},{"$f":"IF($B161=\"\",\"\",IF(COUNTIFS(Data!$B:$B,G$12,Data!$A:$A,Matrices!$B161)=0,\"\",COUNTIFS(Data!$B:$B,G$12,Data!$A:$A,Matrices!$B161)))","v":""},{"$f":"IFERROR(AVERAGEIFS(Data!$E:$E,Data!$B:$B,H$12,Data!$A:$A,$B161),\"N/A\")","v":"N/A"},{"$f":"IFERROR(AVERAGEIFS(Data!$E:$E,Data!$B:$B,I$12,Data!$A:$A,$B161),\"N/A\")","v":"N/A"},{"$f":"IFERROR(AVERAGEIFS(Data!$E:$E,Data!$B:$B,J$12,Data!$A:$A,$B161),\"N/A\")","v":"N/A"},{"$f":"IFERROR(AVERAGEIFS(Data!$Q:$Q,Data!$B:$B,K$12,Data!$A:$A,$B161),\"N/A\")","v":"N/A"},{"$f":"IFERROR(AVERAGEIFS(Data!$Q:$Q,Data!$B:$B,L$12,Data!$A:$A,$B161),\"N/A\")","v":"N/A"},{"$f":"IFERROR(AVERAGEIFS(Data!$Q:$Q,Data!$B:$B,M$12,Data!$A:$A,$B161),\"N/A\")","v":"N/A"}]
["",{"$f":"Observations!B151","v":""},{"$f":"IF(A162=1,VLOOKUP($B162,ObData!$A$1:$J$300,3,0),\"\")","v":""},{"$f":"IF(A162=1,B162&\": \"&TEXT(C162,\"mm/dd/yy\")&\"- \"&VLOOKUP(B162,ObData!$A$1:$J$300,5,0),\"\")","v":""},{"$f":"IF($B162=\"\",\"\",IF(COUNTIFS(Data!$B:$B,E$12,Data!$A:$A,Matrices!$B162)=0,\"\",COUNTIFS(Data!$B:$B,E$12,Data!$A:$A,Matrices!$B162)))","v":""},{"$f":"IF($B162=\"\",\"\",IF(COUNTIFS(Data!$B:$B,F$12,Data!$A:$A,Matrices!$B162)=0,\"\",COUNTIFS(Data!$B:$B,F$12,Data!$A:$A,Matrices!$B162)))","v":""},{"$f":"IF($B162=\"\",\"\",IF(COUNTIFS(Data!$B:$B,G$12,Data!$A:$A,Matrices!$B162)=0,\"\",COUNTIFS(Data!$B:$B,G$12,Data!$A:$A,Matrices!$B162)))","v":""},{"$f":"IFERROR(AVERAGEIFS(Data!$E:$E,Data!$B:$B,H$12,Data!$A:$A,$B162),\"N/A\")","v":"N/A"},{"$f":"IFERROR(AVERAGEIFS(Data!$E:$E,Data!$B:$B,I$12,Data!$A:$A,$B162),\"N/A\")","v":"N/A"},{"$f":"IFERROR(AVERAGEIFS(Data!$E:$E,Data!$B:$B,J$12,Data!$A:$A,$B162),\"N/A\")","v":"N/A"},{"$f":"IFERROR(AVERAGEIFS(Data!$Q:$Q,Data!$B:$B,K$12,Data!$A:$A,$B162),\"N/A\")","v":"N/A"},{"$f":"IFERROR(AVERAGEIFS(Data!$Q:$Q,Data!$B:$B,L$12,Data!$A:$A,$B162),\"N/A\")","v":"N/A"},{"$f":"IFERROR(AVERAGEIFS(Data!$Q:$Q,Data!$B:$B,M$12,Data!$A:$A,$B162),\"N/A\")","v":"N/A"}]
["",{"$f":"Observations!B152","v":""},{"$f":"IF(A163=1,VLOOKUP($B163,ObData!$A$1:$J$300,3,0),\"\")","v":""},{"$f":"IF(A163=1,B163&\": \"&TEXT(C163,\"mm/dd/yy\")&\"- \"&VLOOKUP(B163,ObData!$A$1:$J$300,5,0),\"\")","v":""},{"$f":"IF($B163=\"\",\"\",IF(COUNTIFS(Data!$B:$B,E$12,Data!$A:$A,Matrices!$B163)=0,\"\",COUNTIFS(Data!$B:$B,E$12,Data!$A:$A,Matrices!$B163)))","v":""},{"$f":"IF($B163=\"\",\"\",IF(COUNTIFS(Data!$B:$B,F$12,Data!$A:$A,Matrices!$B163)=0,\"\",COUNTIFS(Data!$B:$B,F$12,Data!$A:$A,Matrices!$B163)))","v":""},{"$f":"IF($B163=\"\",\"\",IF(COUNTIFS(Data!$B:$B,G$12,Data!$A:$A,Matrices!$B163)=0,\"\",COUNTIFS(Data!$B:$B,G$12,Data!$A:$A,Matrices!$B163)))","v":""},{"$f":"IFERROR(AVERAGEIFS(Data!$E:$E,Data!$B:$B,H$12,Data!$A:$A,$B163),\"N/A\")","v":"N/A"},{"$f":"IFERROR(AVERAGEIFS(Data!$E:$E,Data!$B:$B,I$12,Data!$A:$A,$B163),\"N/A\")","v":"N/A"},{"$f":"IFERROR(AVERAGEIFS(Data!$E:$E,Data!$B:$B,J$12,Data!$A:$A,$B163),\"N/A\")","v":"N/A"},{"$f":"IFERROR(AVERAGEIFS(Data!$Q:$Q,Data!$B:$B,K$12,Data!$A:$A,$B163),\"N/A\")","v":"N/A"},{"$f":"IFERROR(AVERAGEIFS(Data!$Q:$Q,Data!$B:$B,L$12,Data!$A:$A,$B163),\"N/A\")","v":"N/A"},{"$f":"IFERROR(AVERAGEIFS(Data!$Q:$Q,Data!$B:$B,M$12,Data!$A:$A,$B163),\"N/A\")","v":"N/A"}]
["",{"$f":"Observations!B153","v":""},{"$f":"IF(A164=1,VLOOKUP($B164,ObData!$A$1:$J$300,3,0),\"\")","v":""},{"$f":"IF(A164=1,B164&\": \"&TEXT(C164,\"mm/dd/yy\")&\"- \"&VLOOKUP(B164,ObData!$A$1:$J$300,5,0),\"\")","v":""},{"$f":"IF($B164=\"\",\"\",IF(COUNTIFS(Data!$B:$B,E$12,Data!$A:$A,Matrices!$B164)=0,\"\",COUNTIFS(Data!$B:$B,E$12,Data!$A:$A,Matrices!$B164)))","v":""},{"$f":"IF($B164=\"\",\"\",IF(COUNTIFS(Data!$B:$B,F$12,Data!$A:$A,Matrices!$B164)=0,\"\",COUNTIFS(Data!$B:$B,F$12,Data!$A:$A,Matrices!$B164)))","v":""},{"$f":"IF($B164=\"\",\"\",IF(COUNTIFS(Data!$B:$B,G$12,Data!$A:$A,Matrices!$B164)=0,\"\",COUNTIFS(Data!$B:$B,G$12,Data!$A:$A,Matrices!$B164)))","v":""},{"$f":"IFERROR(AVERAGEIFS(Data!$E:$E,Data!$B:$B,H$12,Data!$A:$A,$B164),\"N/A\")","v":"N/A"},{"$f":"IFERROR(AVERAGEIFS(Data!$E:$E,Data!$B:$B,I$12,Data!$A:$A,$B164),\"N/A\")","v":"N/A"},{"$f":"IFERROR(AVERAGEIFS(Data!$E:$E,Data!$B:$B,J$12,Data!$A:$A,$B164),\"N/A\")","v":"N/A"},{"$f":"IFERROR(AVERAGEIFS(Data!$Q:$Q,Data!$B:$B,K$12,Data!$A:$A,$B164),\"N/A\")","v":"N/A"},{"$f":"IFERROR(AVERAGEIFS(Data!$Q:$Q,Data!$B:$B,L$12,Data!$A:$A,$B164),\"N/A\")","v":"N/A"},{"$f":"IFERROR(AVERAGEIFS(Data!$Q:$Q,Data!$B:$B,M$12,Data!$A:$A,$B164),\"N/A\")","v":"N/A"}]
["",{"$f":"Observations!B154","v":""},{"$f":"IF(A165=1,VLOOKUP($B165,ObData!$A$1:$J$300,3,0),\"\")","v":""},{"$f":"IF(A165=1,B165&\": \"&TEXT(C165,\"mm/dd/yy\")&\"- \"&VLOOKUP(B165,ObData!$A$1:$J$300,5,0),\"\")","v":""},{"$f":"IF($B165=\"\",\"\",IF(COUNTIFS(Data!$B:$B,E$12,Data!$A:$A,Matrices!$B165)=0,\"\",COUNTIFS(Data!$B:$B,E$12,Data!$A:$A,Matrices!$B165)))","v":""},{"$f":"IF($B165=\"\",\"\",IF(COUNTIFS(Data!$B:$B,F$12,Data!$A:$A,Matrices!$B165)=0,\"\",COUNTIFS(Data!$B:$B,F$12,Data!$A:$A,Matrices!$B165)))","v":""},{"$f":"IF($B165=\"\",\"\",IF(COUNTIFS(Data!$B:$B,G$12,Data!$A:$A,Matrices!$B165)=0,\"\",COUNTIFS(Data!$B:$B,G$12,Data!$A:$A,Matrices!$B165)))","v":""},{"$f":"IFERROR(AVERAGEIFS(Data!$E:$E,Data!$B:$B,H$12,Data!$A:$A,$B165),\"N/A\")","v":"N/A"},{"$f":"IFERROR(AVERAGEIFS(Data!$E:$E,Data!$B:$B,I$12,Data!$A:$A,$B165),\"N/A\")","v":"N/A"},{"$f":"IFERROR(AVERAGEIFS(Data!$E:$E,Data!$B:$B,J$12,Data!$A:$A,$B165),\"N/A\")","v":"N/A"},{"$f":"IFERROR(AVERAGEIFS(Data!$Q:$Q,Data!$B:$B,K$12,Data!$A:$A,$B165),\"N/A\")","v":"N/A"},{"$f":"IFERROR(AVERAGEIFS(Data!$Q:$Q,Data!$B:$B,L$12,Data!$A:$A,$B165),\"N/A\")","v":"N/A"},{"$f":"IFERROR(AVERAGEIFS(Data!$Q:$Q,Data!$B:$B,M$12,Data!$A:$A,$B165),\"N/A\")","v":"N/A"}]
["",{"$f":"Observations!B155","v":""},{"$f":"IF(A166=1,VLOOKUP($B166,ObData!$A$1:$J$300,3,0),\"\")","v":""},{"$f":"IF(A166=1,B166&\": \"&TEXT(C166,\"mm/dd/yy\")&\"- \"&VLOOKUP(B166,ObData!$A$1:$J$300,5,0),\"\")","v":""},{"$f":"IF($B166=\"\",\"\",IF(COUNTIFS(Data!$B:$B,E$12,Data!$A:$A,Matrices!$B166)=0,\"\",COUNTIFS(Data!$B:$B,E$12,Data!$A:$A,Matrices!$B166)))","v":""},{"$f":"IF($B166=\"\",\"\",IF(COUNTIFS(Data!$B:$B,F$12,Data!$A:$A,Matrices!$B166)=0,\"\",COUNTIFS(Data!$B:$B,F$12,Data!$A:$A,Matrices!$B166)))","v":""},{"$f":"IF($B166=\"\",\"\",IF(COUNTIFS(Data!$B:$B,G$12,Data!$A:$A,Matrices!$B166)=0,\"\",COUNTIFS(Data!$B:$B,G$12,Data!$A:$A,Matrices!$B166)))","v":""},{"$f":"IFERROR(AVERAGEIFS(Data!$E:$E,Data!$B:$B,H$12,Data!$A:$A,$B166),\"N/A\")","v":"N/A"},{"$f":"IFERROR(AVERAGEIFS(Data!$E:$E,Data!$B:$B,I$12,Data!$A:$A,$B166),\"N/A\")","v":"N/A"},{"$f":"IFERROR(AVERAGEIFS(Data!$E:$E,Data!$B:$B,J$12,Data!$A:$A,$B166),\"N/A\")","v":"N/A"},{"$f":"IFERROR(AVERAGEIFS(Data!$Q:$Q,Data!$B:$B,K$12,Data!$A:$A,$B166),\"N/A\")","v":"N/A"},{"$f":"IFERROR(AVERAGEIFS(Data!$Q:$Q,Data!$B:$B,L$12,Data!$A:$A,$B166),\"N/A\")","v":"N/A"},{"$f":"IFERROR(AVERAGEIFS(Data!$Q:$Q,Data!$B:$B,M$12,Data!$A:$A,$B166),\"N/A\")","v":"N/A"}]
["",{"$f":"Observations!B156","v":""},{"$f":"IF(A167=1,VLOOKUP($B167,ObData!$A$1:$J$300,3,0),\"\")","v":""},{"$f":"IF(A167=1,B167&\": \"&TEXT(C167,\"mm/dd/yy\")&\"- \"&VLOOKUP(B167,ObData!$A$1:$J$300,5,0),\"\")","v":""},{"$f":"IF($B167=\"\",\"\",IF(COUNTIFS(Data!$B:$B,E$12,Data!$A:$A,Matrices!$B167)=0,\"\",COUNTIFS(Data!$B:$B,E$12,Data!$A:$A,Matrices!$B167)))","v":""},{"$f":"IF($B167=\"\",\"\",IF(COUNTIFS(Data!$B:$B,F$12,Data!$A:$A,Matrices!$B167)=0,\"\",COUNTIFS(Data!$B:$B,F$12,Data!$A:$A,Matrices!$B167)))","v":""},{"$f":"IF($B167=\"\",\"\",IF(COUNTIFS(Data!$B:$B,G$12,Data!$A:$A,Matrices!$B167)=0,\"\",COUNTIFS(Data!$B:$B,G$12,Data!$A:$A,Matrices!$B167)))","v":""},{"$f":"IFERROR(AVERAGEIFS(Data!$E:$E,Data!$B:$B,H$12,Data!$A:$A,$B167),\"N/A\")","v":"N/A"},{"$f":"IFERROR(AVERAGEIFS(Data!$E:$E,Data!$B:$B,I$12,Data!$A:$A,$B167),\"N/A\")","v":"N/A"},{"$f":"IFERROR(AVERAGEIFS(Data!$E:$E,Data!$B:$B,J$12,Data!$A:$A,$B167),\"N/A\")","v":"N/A"},{"$f":"IFERROR(AVERAGEIFS(Data!$Q:$Q,Data!$B:$B,K$12,Data!$A:$A,$B167),\"N/A\")","v":"N/A"},{"$f":"IFERROR(AVERAGEIFS(Data!$Q:$Q,Data!$B:$B,L$12,Data!$A:$A,$B167),\"N/A\")","v":"N/A"},{"$f":"IFERROR(AVERAGEIFS(Data!$Q:$Q,Data!$B:$B,M$12,Data!$A:$A,$B167),\"N/A\")","v":"N/A"}]
["",{"$f":"Observations!B157","v":""},{"$f":"IF(A168=1,VLOOKUP($B168,ObData!$A$1:$J$300,3,0),\"\")","v":""},{"$f":"IF(A168=1,B168&\": \"&TEXT(C168,\"mm/dd/yy\")&\"- \"&VLOOKUP(B168,ObData!$A$1:$J$300,5,0),\"\")","v":""},{"$f":"IF($B168=\"\",\"\",IF(COUNTIFS(Data!$B:$B,E$12,Data!$A:$A,Matrices!$B168)=0,\"\",COUNTIFS(Data!$B:$B,E$12,Data!$A:$A,Matrices!$B168)))","v":""},{"$f":"IF($B168=\"\",\"\",IF(COUNTIFS(Data!$B:$B,F$12,Data!$A:$A,Matrices!$B168)=0,\"\",COUNTIFS(Data!$B:$B,F$12,Data!$A:$A,Matrices!$B168)))","v":""},{"$f":"IF($B168=\"\",\"\",IF(COUNTIFS(Data!$B:$B,G$12,Data!$A:$A,Matrices!$B168)=0,\"\",COUNTIFS(Data!$B:$B,G$12,Data!$A:$A,Matrices!$B168)))","v":""},{"$f":"IFERROR(AVERAGEIFS(Data!$E:$E,Data!$B:$B,H$12,Data!$A:$A,$B168),\"N/A\")","v":"N/A"},{"$f":"IFERROR(AVERAGEIFS(Data!$E:$E,Data!$B:$B,I$12,Data!$A:$A,$B168),\"N/A\")","v":"N/A"},{"$f":"IFERROR(AVERAGEIFS(Data!$E:$E,Data!$B:$B,J$12,Data!$A:$A,$B168),\"N/A\")","v":"N/A"},{"$f":"IFERROR(AVERAGEIFS(Data!$Q:$Q,Data!$B:$B,K$12,Data!$A:$A,$B168),\"N/A\")","v":"N/A"},{"$f":"IFERROR(AVERAGEIFS(Data!$Q:$Q,Data!$B:$B,L$12,Data!$A:$A,$B168),\"N/A\")","v":"N/A"},{"$f":"IFERROR(AVERAGEIFS(Data!$Q:$Q,Data!$B:$B,M$12,Data!$A:$A,$B168),\"N/A\")","v":"N/A"}]
["",{"$f":"Observations!B158","v":""},{"$f":"IF(A169=1,VLOOKUP($B169,ObData!$A$1:$J$300,3,0),\"\")","v":""},{"$f":"IF(A169=1,B169&\": \"&TEXT(C169,\"mm/dd/yy\")&\"- \"&VLOOKUP(B169,ObData!$A$1:$J$300,5,0),\"\")","v":""},{"$f":"IF($B169=\"\",\"\",IF(COUNTIFS(Data!$B:$B,E$12,Data!$A:$A,Matrices!$B169)=0,\"\",COUNTIFS(Data!$B:$B,E$12,Data!$A:$A,Matrices!$B169)))","v":""},{"$f":"IF($B169=\"\",\"\",IF(COUNTIFS(Data!$B:$B,F$12,Data!$A:$A,Matrices!$B169)=0,\"\",COUNTIFS(Data!$B:$B,F$12,Data!$A:$A,Matrices!$B169)))","v":""},{"$f":"IF($B169=\"\",\"\",IF(COUNTIFS(Data!$B:$B,G$12,Data!$A:$A,Matrices!$B169)=0,\"\",COUNTIFS(Data!$B:$B,G$12,Data!$A:$A,Matrices!$B169)))","v":""},{"$f":"IFERROR(AVERAGEIFS(Data!$E:$E,Data!$B:$B,H$12,Data!$A:$A,$B169),\"N/A\")","v":"N/A"},{"$f":"IFERROR(AVERAGEIFS(Data!$E:$E,Data!$B:$B,I$12,Data!$A:$A,$B169),\"N/A\")","v":"N/A"},{"$f":"IFERROR(AVERAGEIFS(Data!$E:$E,Data!$B:$B,J$12,Data!$A:$A,$B169),\"N/A\")","v":"N/A"},{"$f":"IFERROR(AVERAGEIFS(Data!$Q:$Q,Data!$B:$B,K$12,Data!$A:$A,$B169),\"N/A\")","v":"N/A"},{"$f":"IFERROR(AVERAGEIFS(Data!$Q:$Q,Data!$B:$B,L$12,Data!$A:$A,$B169),\"N/A\")","v":"N/A"},{"$f":"IFERROR(AVERAGEIFS(Data!$Q:$Q,Data!$B:$B,M$12,Data!$A:$A,$B169),\"N/A\")","v":"N/A"}]
["",{"$f":"Observations!B159","v":""},{"$f":"IF(A170=1,VLOOKUP($B170,ObData!$A$1:$J$300,3,0),\"\")","v":""},{"$f":"IF(A170=1,B170&\": \"&TEXT(C170,\"mm/dd/yy\")&\"- \"&VLOOKUP(B170,ObData!$A$1:$J$300,5,0),\"\")","v":""},{"$f":"IF($B170=\"\",\"\",IF(COUNTIFS(Data!$B:$B,E$12,Data!$A:$A,Matrices!$B170)=0,\"\",COUNTIFS(Data!$B:$B,E$12,Data!$A:$A,Matrices!$B170)))","v":""},{"$f":"IF($B170=\"\",\"\",IF(COUNTIFS(Data!$B:$B,F$12,Data!$A:$A,Matrices!$B170)=0,\"\",COUNTIFS(Data!$B:$B,F$12,Data!$A:$A,Matrices!$B170)))","v":""},{"$f":"IF($B170=\"\",\"\",IF(COUNTIFS(Data!$B:$B,G$12,Data!$A:$A,Matrices!$B170)=0,\"\",COUNTIFS(Data!$B:$B,G$12,Data!$A:$A,Matrices!$B170)))","v":""},{"$f":"IFERROR(AVERAGEIFS(Data!$E:$E,Data!$B:$B,H$12,Data!$A:$A,$B170),\"N/A\")","v":"N/A"},{"$f":"IFERROR(AVERAGEIFS(Data!$E:$E,Data!$B:$B,I$12,Data!$A:$A,$B170),\"N/A\")","v":"N/A"},{"$f":"IFERROR(AVERAGEIFS(Data!$E:$E,Data!$B:$B,J$12,Data!$A:$A,$B170),\"N/A\")","v":"N/A"},{"$f":"IFERROR(AVERAGEIFS(Data!$Q:$Q,Data!$B:$B,K$12,Data!$A:$A,$B170),\"N/A\")","v":"N/A"},{"$f":"IFERROR(AVERAGEIFS(Data!$Q:$Q,Data!$B:$B,L$12,Data!$A:$A,$B170),\"N/A\")","v":"N/A"},{"$f":"IFERROR(AVERAGEIFS(Data!$Q:$Q,Data!$B:$B,M$12,Data!$A:$A,$B170),\"N/A\")","v":"N/A"}]
["",{"$f":"Observations!B160","v":""},{"$f":"IF(A171=1,VLOOKUP($B171,ObData!$A$1:$J$300,3,0),\"\")","v":""},{"$f":"IF(A171=1,B171&\": \"&TEXT(C171,\"mm/dd/yy\")&\"- \"&VLOOKUP(B171,ObData!$A$1:$J$300,5,0),\"\")","v":""},{"$f":"IF($B171=\"\",\"\",IF(COUNTIFS(Data!$B:$B,E$12,Data!$A:$A,Matrices!$B171)=0,\"\",COUNTIFS(Data!$B:$B,E$12,Data!$A:$A,Matrices!$B171)))","v":""},{"$f":"IF($B171=\"\",\"\",IF(COUNTIFS(Data!$B:$B,F$12,Data!$A:$A,Matrices!$B171)=0,\"\",COUNTIFS(Data!$B:$B,F$12,Data!$A:$A,Matrices!$B171)))","v":""},{"$f":"IF($B171=\"\",\"\",IF(COUNTIFS(Data!$B:$B,G$12,Data!$A:$A,Matrices!$B171)=0,\"\",COUNTIFS(Data!$B:$B,G$12,Data!$A:$A,Matrices!$B171)))","v":""},{"$f":"IFERROR(AVERAGEIFS(Data!$E:$E,Data!$B:$B,H$12,Data!$A:$A,$B171),\"N/A\")","v":"N/A"},{"$f":"IFERROR(AVERAGEIFS(Data!$E:$E,Data!$B:$B,I$12,Data!$A:$A,$B171),\"N/A\")","v":"N/A"},{"$f":"IFERROR(AVERAGEIFS(Data!$E:$E,Data!$B:$B,J$12,Data!$A:$A,$B171),\"N/A\")","v":"N/A"},{"$f":"IFERROR(AVERAGEIFS(Data!$Q:$Q,Data!$B:$B,K$12,Data!$A:$A,$B171),\"N/A\")","v":"N/A"},{"$f":"IFERROR(AVERAGEIFS(Data!$Q:$Q,Data!$B:$B,L$12,Data!$A:$A,$B171),\"N/A\")","v":"N/A"},{"$f":"IFERROR(AVERAGEIFS(Data!$Q:$Q,Data!$B:$B,M$12,Data!$A:$A,$B171),\"N/A\")","v":"N/A"}]
["",{"$f":"Observations!B161","v":""},{"$f":"IF(A172=1,VLOOKUP($B172,ObData!$A$1:$J$300,3,0),\"\")","v":""},{"$f":"IF(A172=1,B172&\": \"&TEXT(C172,\"mm/dd/yy\")&\"- \"&VLOOKUP(B172,ObData!$A$1:$J$300,5,0),\"\")","v":""},{"$f":"IF($B172=\"\",\"\",IF(COUNTIFS(Data!$B:$B,E$12,Data!$A:$A,Matrices!$B172)=0,\"\",COUNTIFS(Data!$B:$B,E$12,Data!$A:$A,Matrices!$B172)))","v":""},{"$f":"IF($B172=\"\",\"\",IF(COUNTIFS(Data!$B:$B,F$12,Data!$A:$A,Matrices!$B172)=0,\"\",COUNTIFS(Data!$B:$B,F$12,Data!$A:$A,Matrices!$B172)))","v":""},{"$f":"IF($B172=\"\",\"\",IF(COUNTIFS(Data!$B:$B,G$12,Data!$A:$A,Matrices!$B172)=0,\"\",COUNTIFS(Data!$B:$B,G$12,Data!$A:$A,Matrices!$B172)))","v":""},{"$f":"IFERROR(AVERAGEIFS(Data!$E:$E,Data!$B:$B,H$12,Data!$A:$A,$B172),\"N/A\")","v":"N/A"},{"$f":"IFERROR(AVERAGEIFS(Data!$E:$E,Data!$B:$B,I$12,Data!$A:$A,$B172),\"N/A\")","v":"N/A"},{"$f":"IFERROR(AVERAGEIFS(Data!$E:$E,Data!$B:$B,J$12,Data!$A:$A,$B172),\"N/A\")","v":"N/A"},{"$f":"IFERROR(AVERAGEIFS(Data!$Q:$Q,Data!$B:$B,K$12,Data!$A:$A,$B172),\"N/A\")","v":"N/A"},{"$f":"IFERROR(AVERAGEIFS(Data!$Q:$Q,Data!$B:$B,L$12,Data!$A:$A,$B172),\"N/A\")","v":"N/A"},{"$f":"IFERROR(AVERAGEIFS(Data!$Q:$Q,Data!$B:$B,M$12,Data!$A:$A,$B172),\"N/A\")","v":"N/A"}]
["",{"$f":"Observations!B162","v":""},{"$f":"IF(A173=1,VLOOKUP($B173,ObData!$A$1:$J$300,3,0),\"\")","v":""},{"$f":"IF(A173=1,B173&\": \"&TEXT(C173,\"mm/dd/yy\")&\"- \"&VLOOKUP(B173,ObData!$A$1:$J$300,5,0),\"\")","v":""},{"$f":"IF($B173=\"\",\"\",IF(COUNTIFS(Data!$B:$B,E$12,Data!$A:$A,Matrices!$B173)=0,\"\",COUNTIFS(Data!$B:$B,E$12,Data!$A:$A,Matrices!$B173)))","v":""},{"$f":"IF($B173=\"\",\"\",IF(COUNTIFS(Data!$B:$B,F$12,Data!$A:$A,Matrices!$B173)=0,\"\",COUNTIFS(Data!$B:$B,F$12,Data!$A:$A,Matrices!$B173)))","v":""},{"$f":"IF($B173=\"\",\"\",IF(COUNTIFS(Data!$B:$B,G$12,Data!$A:$A,Matrices!$B173)=0,\"\",COUNTIFS(Data!$B:$B,G$12,Data!$A:$A,Matrices!$B173)))","v":""},{"$f":"IFERROR(AVERAGEIFS(Data!$E:$E,Data!$B:$B,H$12,Data!$A:$A,$B173),\"N/A\")","v":"N/A"},{"$f":"IFERROR(AVERAGEIFS(Data!$E:$E,Data!$B:$B,I$12,Data!$A:$A,$B173),\"N/A\")","v":"N/A"},{"$f":"IFERROR(AVERAGEIFS(Data!$E:$E,Data!$B:$B,J$12,Data!$A:$A,$B173),\"N/A\")","v":"N/A"},{"$f":"IFERROR(AVERAGEIFS(Data!$Q:$Q,Data!$B:$B,K$12,Data!$A:$A,$B173),\"N/A\")","v":"N/A"},{"$f":"IFERROR(AVERAGEIFS(Data!$Q:$Q,Data!$B:$B,L$12,Data!$A:$A,$B173),\"N/A\")","v":"N/A"},{"$f":"IFERROR(AVERAGEIFS(Data!$Q:$Q,Data!$B:$B,M$12,Data!$A:$A,$B173),\"N/A\")","v":"N/A"}]
["",{"$f":"Observations!B163","v":""},{"$f":"IF(A174=1,VLOOKUP($B174,ObData!$A$1:$J$300,3,0),\"\")","v":""},{"$f":"IF(A174=1,B174&\": \"&TEXT(C174,\"mm/dd/yy\")&\"- \"&VLOOKUP(B174,ObData!$A$1:$J$300,5,0),\"\")","v":""},{"$f":"IF($B174=\"\",\"\",IF(COUNTIFS(Data!$B:$B,E$12,Data!$A:$A,Matrices!$B174)=0,\"\",COUNTIFS(Data!$B:$B,E$12,Data!$A:$A,Matrices!$B174)))","v":""},{"$f":"IF($B174=\"\",\"\",IF(COUNTIFS(Data!$B:$B,F$12,Data!$A:$A,Matrices!$B174)=0,\"\",COUNTIFS(Data!$B:$B,F$12,Data!$A:$A,Matrices!$B174)))","v":""},{"$f":"IF($B174=\"\",\"\",IF(COUNTIFS(Data!$B:$B,G$12,Data!$A:$A,Matrices!$B174)=0,\"\",COUNTIFS(Data!$B:$B,G$12,Data!$A:$A,Matrices!$B174)))","v":""},{"$f":"IFERROR(AVERAGEIFS(Data!$E:$E,Data!$B:$B,H$12,Data!$A:$A,$B174),\"N/A\")","v":"N/A"},{"$f":"IFERROR(AVERAGEIFS(Data!$E:$E,Data!$B:$B,I$12,Data!$A:$A,$B174),\"N/A\")","v":"N/A"},{"$f":"IFERROR(AVERAGEIFS(Data!$E:$E,Data!$B:$B,J$12,Data!$A:$A,$B174),\"N/A\")","v":"N/A"},{"$f":"IFERROR(AVERAGEIFS(Data!$Q:$Q,Data!$B:$B,K$12,Data!$A:$A,$B174),\"N/A\")","v":"N/A"},{"$f":"IFERROR(AVERAGEIFS(Data!$Q:$Q,Data!$B:$B,L$12,Data!$A:$A,$B174),\"N/A\")","v":"N/A"},{"$f":"IFERROR(AVERAGEIFS(Data!$Q:$Q,Data!$B:$B,M$12,Data!$A:$A,$B174),\"N/A\")","v":"N/A"}]
["",{"$f":"Observations!B164","v":""},{"$f":"IF(A175=1,VLOOKUP($B175,ObData!$A$1:$J$300,3,0),\"\")","v":""},{"$f":"IF(A175=1,B175&\": \"&TEXT(C175,\"mm/dd/yy\")&\"- \"&VLOOKUP(B175,ObData!$A$1:$J$300,5,0),\"\")","v":""},{"$f":"IF($B175=\"\",\"\",IF(COUNTIFS(Data!$B:$B,E$12,Data!$A:$A,Matrices!$B175)=0,\"\",COUNTIFS(Data!$B:$B,E$12,Data!$A:$A,Matrices!$B175)))","v":""},{"$f":"IF($B175=\"\",\"\",IF(COUNTIFS(Data!$B:$B,F$12,Data!$A:$A,Matrices!$B175)=0,\"\",COUNTIFS(Data!$B:$B,F$12,Data!$A:$A,Matrices!$B175)))","v":""},{"$f":"IF($B175=\"\",\"\",IF(COUNTIFS(Data!$B:$B,G$12,Data!$A:$A,Matrices!$B175)=0,\"\",COUNTIFS(Data!$B:$B,G$12,Data!$A:$A,Matrices!$B175)))","v":""},{"$f":"IFERROR(AVERAGEIFS(Data!$E:$E,Data!$B:$B,H$12,Data!$A:$A,$B175),\"N/A\")","v":"N/A"},{"$f":"IFERROR(AVERAGEIFS(Data!$E:$E,Data!$B:$B,I$12,Data!$A:$A,$B175),\"N/A\")","v":"N/A"},{"$f":"IFERROR(AVERAGEIFS(Data!$E:$E,Data!$B:$B,J$12,Data!$A:$A,$B175),\"N/A\")","v":"N/A"},{"$f":"IFERROR(AVERAGEIFS(Data!$Q:$Q,Data!$B:$B,K$12,Data!$A:$A,$B175),\"N/A\")","v":"N/A"},{"$f":"IFERROR(AVERAGEIFS(Data!$Q:$Q,Data!$B:$B,L$12,Data!$A:$A,$B175),\"N/A\")","v":"N/A"},{"$f":"IFERROR(AVERAGEIFS(Data!$Q:$Q,Data!$B:$B,M$12,Data!$A:$A,$B175),\"N/A\")","v":"N/A"}]
["",{"$f":"Observations!B165","v":""},{"$f":"IF(A176=1,VLOOKUP($B176,ObData!$A$1:$J$300,3,0),\"\")","v":""},{"$f":"IF(A176=1,B176&\": \"&TEXT(C176,\"mm/dd/yy\")&\"- \"&VLOOKUP(B176,ObData!$A$1:$J$300,5,0),\"\")","v":""},{"$f":"IF($B176=\"\",\"\",IF(COUNTIFS(Data!$B:$B,E$12,Data!$A:$A,Matrices!$B176)=0,\"\",COUNTIFS(Data!$B:$B,E$12,Data!$A:$A,Matrices!$B176)))","v":""},{"$f":"IF($B176=\"\",\"\",IF(COUNTIFS(Data!$B:$B,F$12,Data!$A:$A,Matrices!$B176)=0,\"\",COUNTIFS(Data!$B:$B,F$12,Data!$A:$A,Matrices!$B176)))","v":""},{"$f":"IF($B176=\"\",\"\",IF(COUNTIFS(Data!$B:$B,G$12,Data!$A:$A,Matrices!$B176)=0,\"\",COUNTIFS(Data!$B:$B,G$12,Data!$A:$A,Matrices!$B176)))","v":""},{"$f":"IFERROR(AVERAGEIFS(Data!$E:$E,Data!$B:$B,H$12,Data!$A:$A,$B176),\"N/A\")","v":"N/A"},{"$f":"IFERROR(AVERAGEIFS(Data!$E:$E,Data!$B:$B,I$12,Data!$A:$A,$B176),\"N/A\")","v":"N/A"},{"$f":"IFERROR(AVERAGEIFS(Data!$E:$E,Data!$B:$B,J$12,Data!$A:$A,$B176),\"N/A\")","v":"N/A"},{"$f":"IFERROR(AVERAGEIFS(Data!$Q:$Q,Data!$B:$B,K$12,Data!$A:$A,$B176),\"N/A\")","v":"N/A"},{"$f":"IFERROR(AVERAGEIFS(Data!$Q:$Q,Data!$B:$B,L$12,Data!$A:$A,$B176),\"N/A\")","v":"N/A"},{"$f":"IFERROR(AVERAGEIFS(Data!$Q:$Q,Data!$B:$B,M$12,Data!$A:$A,$B176),\"N/A\")","v":"N/A"}]
["",{"$f":"Observations!B166","v":""},{"$f":"IF(A177=1,VLOOKUP($B177,ObData!$A$1:$J$300,3,0),\"\")","v":""},{"$f":"IF(A177=1,B177&\": \"&TEXT(C177,\"mm/dd/yy\")&\"- \"&VLOOKUP(B177,ObData!$A$1:$J$300,5,0),\"\")","v":""},{"$f":"IF($B177=\"\",\"\",IF(COUNTIFS(Data!$B:$B,E$12,Data!$A:$A,Matrices!$B177)=0,\"\",COUNTIFS(Data!$B:$B,E$12,Data!$A:$A,Matrices!$B177)))","v":""},{"$f":"IF($B177=\"\",\"\",IF(COUNTIFS(Data!$B:$B,F$12,Data!$A:$A,Matrices!$B177)=0,\"\",COUNTIFS(Data!$B:$B,F$12,Data!$A:$A,Matrices!$B177)))","v":""},{"$f":"IF($B177=\"\",\"\",IF(COUNTIFS(Data!$B:$B,G$12,Data!$A:$A,Matrices!$B177)=0,\"\",COUNTIFS(Data!$B:$B,G$12,Data!$A:$A,Matrices!$B177)))","v":""},{"$f":"IFERROR(AVERAGEIFS(Data!$E:$E,Data!$B:$B,H$12,Data!$A:$A,$B177),\"N/A\")","v":"N/A"},{"$f":"IFERROR(AVERAGEIFS(Data!$E:$E,Data!$B:$B,I$12,Data!$A:$A,$B177),\"N/A\")","v":"N/A"},{"$f":"IFERROR(AVERAGEIFS(Data!$E:$E,Data!$B:$B,J$12,Data!$A:$A,$B177),\"N/A\")","v":"N/A"},{"$f":"IFERROR(AVERAGEIFS(Data!$Q:$Q,Data!$B:$B,K$12,Data!$A:$A,$B177),\"N/A\")","v":"N/A"},{"$f":"IFERROR(AVERAGEIFS(Data!$Q:$Q,Data!$B:$B,L$12,Data!$A:$A,$B177),\"N/A\")","v":"N/A"},{"$f":"IFERROR(AVERAGEIFS(Data!$Q:$Q,Data!$B:$B,M$12,Data!$A:$A,$B177),\"N/A\")","v":"N/A"}]
["",{"$f":"Observations!B167","v":""},{"$f":"IF(A178=1,VLOOKUP($B178,ObData!$A$1:$J$300,3,0),\"\")","v":""},{"$f":"IF(A178=1,B178&\": \"&TEXT(C178,\"mm/dd/yy\")&\"- \"&VLOOKUP(B178,ObData!$A$1:$J$300,5,0),\"\")","v":""},{"$f":"IF($B178=\"\",\"\",IF(COUNTIFS(Data!$B:$B,E$12,Data!$A:$A,Matrices!$B178)=0,\"\",COUNTIFS(Data!$B:$B,E$12,Data!$A:$A,Matrices!$B178)))","v":""},{"$f":"IF($B178=\"\",\"\",IF(COUNTIFS(Data!$B:$B,F$12,Data!$A:$A,Matrices!$B178)=0,\"\",COUNTIFS(Data!$B:$B,F$12,Data!$A:$A,Matrices!$B178)))","v":""},{"$f":"IF($B178=\"\",\"\",IF(COUNTIFS(Data!$B:$B,G$12,Data!$A:$A,Matrices!$B178)=0,\"\",COUNTIFS(Data!$B:$B,G$12,Data!$A:$A,Matrices!$B178)))","v":""},{"$f":"IFERROR(AVERAGEIFS(Data!$E:$E,Data!$B:$B,H$12,Data!$A:$A,$B178),\"N/A\")","v":"N/A"},{"$f":"IFERROR(AVERAGEIFS(Data!$E:$E,Data!$B:$B,I$12,Data!$A:$A,$B178),\"N/A\")","v":"N/A"},{"$f":"IFERROR(AVERAGEIFS(Data!$E:$E,Data!$B:$B,J$12,Data!$A:$A,$B178),\"N/A\")","v":"N/A"},{"$f":"IFERROR(AVERAGEIFS(Data!$Q:$Q,Data!$B:$B,K$12,Data!$A:$A,$B178),\"N/A\")","v":"N/A"},{"$f":"IFERROR(AVERAGEIFS(Data!$Q:$Q,Data!$B:$B,L$12,Data!$A:$A,$B178),\"N/A\")","v":"N/A"},{"$f":"IFERROR(AVERAGEIFS(Data!$Q:$Q,Data!$B:$B,M$12,Data!$A:$A,$B178),\"N/A\")","v":"N/A"}]
["",{"$f":"Observations!B168","v":""},{"$f":"IF(A179=1,VLOOKUP($B179,ObData!$A$1:$J$300,3,0),\"\")","v":""},{"$f":"IF(A179=1,B179&\": \"&TEXT(C179,\"mm/dd/yy\")&\"- \"&VLOOKUP(B179,ObData!$A$1:$J$300,5,0),\"\")","v":""},{"$f":"IF($B179=\"\",\"\",IF(COUNTIFS(Data!$B:$B,E$12,Data!$A:$A,Matrices!$B179)=0,\"\",COUNTIFS(Data!$B:$B,E$12,Data!$A:$A,Matrices!$B179)))","v":""},{"$f":"IF($B179=\"\",\"\",IF(COUNTIFS(Data!$B:$B,F$12,Data!$A:$A,Matrices!$B179)=0,\"\",COUNTIFS(Data!$B:$B,F$12,Data!$A:$A,Matrices!$B179)))","v":""},{"$f":"IF($B179=\"\",\"\",IF(COUNTIFS(Data!$B:$B,G$12,Data!$A:$A,Matrices!$B179)=0,\"\",COUNTIFS(Data!$B:$B,G$12,Data!$A:$A,Matrices!$B179)))","v":""},{"$f":"IFERROR(AVERAGEIFS(Data!$E:$E,Data!$B:$B,H$12,Data!$A:$A,$B179),\"N/A\")","v":"N/A"},{"$f":"IFERROR(AVERAGEIFS(Data!$E:$E,Data!$B:$B,I$12,Data!$A:$A,$B179),\"N/A\")","v":"N/A"},{"$f":"IFERROR(AVERAGEIFS(Data!$E:$E,Data!$B:$B,J$12,Data!$A:$A,$B179),\"N/A\")","v":"N/A"},{"$f":"IFERROR(AVERAGEIFS(Data!$Q:$Q,Data!$B:$B,K$12,Data!$A:$A,$B179),\"N/A\")","v":"N/A"},{"$f":"IFERROR(AVERAGEIFS(Data!$Q:$Q,Data!$B:$B,L$12,Data!$A:$A,$B179),\"N/A\")","v":"N/A"},{"$f":"IFERROR(AVERAGEIFS(Data!$Q:$Q,Data!$B:$B,M$12,Data!$A:$A,$B179),\"N/A\")","v":"N/A"}]
["",{"$f":"Observations!B169","v":""},{"$f":"IF(A180=1,VLOOKUP($B180,ObData!$A$1:$J$300,3,0),\"\")","v":""},{"$f":"IF(A180=1,B180&\": \"&TEXT(C180,\"mm/dd/yy\")&\"- \"&VLOOKUP(B180,ObData!$A$1:$J$300,5,0),\"\")","v":""},{"$f":"IF($B180=\"\",\"\",IF(COUNTIFS(Data!$B:$B,E$12,Data!$A:$A,Matrices!$B180)=0,\"\",COUNTIFS(Data!$B:$B,E$12,Data!$A:$A,Matrices!$B180)))","v":""},{"$f":"IF($B180=\"\",\"\",IF(COUNTIFS(Data!$B:$B,F$12,Data!$A:$A,Matrices!$B180)=0,\"\",COUNTIFS(Data!$B:$B,F$12,Data!$A:$A,Matrices!$B180)))","v":""},{"$f":"IF($B180=\"\",\"\",IF(COUNTIFS(Data!$B:$B,G$12,Data!$A:$A,Matrices!$B180)=0,\"\",COUNTIFS(Data!$B:$B,G$12,Data!$A:$A,Matrices!$B180)))","v":""},{"$f":"IFERROR(AVERAGEIFS(Data!$E:$E,Data!$B:$B,H$12,Data!$A:$A,$B180),\"N/A\")","v":"N/A"},{"$f":"IFERROR(AVERAGEIFS(Data!$E:$E,Data!$B:$B,I$12,Data!$A:$A,$B180),\"N/A\")","v":"N/A"},{"$f":"IFERROR(AVERAGEIFS(Data!$E:$E,Data!$B:$B,J$12,Data!$A:$A,$B180),\"N/A\")","v":"N/A"},{"$f":"IFERROR(AVERAGEIFS(Data!$Q:$Q,Data!$B:$B,K$12,Data!$A:$A,$B180),\"N/A\")","v":"N/A"},{"$f":"IFERROR(AVERAGEIFS(Data!$Q:$Q,Data!$B:$B,L$12,Data!$A:$A,$B180),\"N/A\")","v":"N/A"},{"$f":"IFERROR(AVERAGEIFS(Data!$Q:$Q,Data!$B:$B,M$12,Data!$A:$A,$B180),\"N/A\")","v":"N/A"}]
["",{"$f":"Observations!B170","v":""},{"$f":"IF(A181=1,VLOOKUP($B181,ObData!$A$1:$J$300,3,0),\"\")","v":""},{"$f":"IF(A181=1,B181&\": \"&TEXT(C181,\"mm/dd/yy\")&\"- \"&VLOOKUP(B181,ObData!$A$1:$J$300,5,0),\"\")","v":""},{"$f":"IF($B181=\"\",\"\",IF(COUNTIFS(Data!$B:$B,E$12,Data!$A:$A,Matrices!$B181)=0,\"\",COUNTIFS(Data!$B:$B,E$12,Data!$A:$A,Matrices!$B181)))","v":""},{"$f":"IF($B181=\"\",\"\",IF(COUNTIFS(Data!$B:$B,F$12,Data!$A:$A,Matrices!$B181)=0,\"\",COUNTIFS(Data!$B:$B,F$12,Data!$A:$A,Matrices!$B181)))","v":""},{"$f":"IF($B181=\"\",\"\",IF(COUNTIFS(Data!$B:$B,G$12,Data!$A:$A,Matrices!$B181)=0,\"\",COUNTIFS(Data!$B:$B,G$12,Data!$A:$A,Matrices!$B181)))","v":""},{"$f":"IFERROR(AVERAGEIFS(Data!$E:$E,Data!$B:$B,H$12,Data!$A:$A,$B181),\"N/A\")","v":"N/A"},{"$f":"IFERROR(AVERAGEIFS(Data!$E:$E,Data!$B:$B,I$12,Data!$A:$A,$B181),\"N/A\")","v":"N/A"},{"$f":"IFERROR(AVERAGEIFS(Data!$E:$E,Data!$B:$B,J$12,Data!$A:$A,$B181),\"N/A\")","v":"N/A"},{"$f":"IFERROR(AVERAGEIFS(Data!$Q:$Q,Data!$B:$B,K$12,Data!$A:$A,$B181),\"N/A\")","v":"N/A"},{"$f":"IFERROR(AVERAGEIFS(Data!$Q:$Q,Data!$B:$B,L$12,Data!$A:$A,$B181),\"N/A\")","v":"N/A"},{"$f":"IFERROR(AVERAGEIFS(Data!$Q:$Q,Data!$B:$B,M$12,Data!$A:$A,$B181),\"N/A\")","v":"N/A"}]
["",{"$f":"Observations!B171","v":""},{"$f":"IF(A182=1,VLOOKUP($B182,ObData!$A$1:$J$300,3,0),\"\")","v":""},{"$f":"IF(A182=1,B182&\": \"&TEXT(C182,\"mm/dd/yy\")&\"- \"&VLOOKUP(B182,ObData!$A$1:$J$300,5,0),\"\")","v":""},{"$f":"IF($B182=\"\",\"\",IF(COUNTIFS(Data!$B:$B,E$12,Data!$A:$A,Matrices!$B182)=0,\"\",COUNTIFS(Data!$B:$B,E$12,Data!$A:$A,Matrices!$B182)))","v":""},{"$f":"IF($B182=\"\",\"\",IF(COUNTIFS(Data!$B:$B,F$12,Data!$A:$A,Matrices!$B182)=0,\"\",COUNTIFS(Data!$B:$B,F$12,Data!$A:$A,Matrices!$B182)))","v":""},{"$f":"IF($B182=\"\",\"\",IF(COUNTIFS(Data!$B:$B,G$12,Data!$A:$A,Matrices!$B182)=0,\"\",COUNTIFS(Data!$B:$B,G$12,Data!$A:$A,Matrices!$B182)))","v":""},{"$f":"IFERROR(AVERAGEIFS(Data!$E:$E,Data!$B:$B,H$12,Data!$A:$A,$B182),\"N/A\")","v":"N/A"},{"$f":"IFERROR(AVERAGEIFS(Data!$E:$E,Data!$B:$B,I$12,Data!$A:$A,$B182),\"N/A\")","v":"N/A"},{"$f":"IFERROR(AVERAGEIFS(Data!$E:$E,Data!$B:$B,J$12,Data!$A:$A,$B182),\"N/A\")","v":"N/A"},{"$f":"IFERROR(AVERAGEIFS(Data!$Q:$Q,Data!$B:$B,K$12,Data!$A:$A,$B182),\"N/A\")","v":"N/A"},{"$f":"IFERROR(AVERAGEIFS(Data!$Q:$Q,Data!$B:$B,L$12,Data!$A:$A,$B182),\"N/A\")","v":"N/A"},{"$f":"IFERROR(AVERAGEIFS(Data!$Q:$Q,Data!$B:$B,M$12,Data!$A:$A,$B182),\"N/A\")","v":"N/A"}]
["",{"$f":"Observations!B172","v":""},{"$f":"IF(A183=1,VLOOKUP($B183,ObData!$A$1:$J$300,3,0),\"\")","v":""},{"$f":"IF(A183=1,B183&\": \"&TEXT(C183,\"mm/dd/yy\")&\"- \"&VLOOKUP(B183,ObData!$A$1:$J$300,5,0),\"\")","v":""},{"$f":"IF($B183=\"\",\"\",IF(COUNTIFS(Data!$B:$B,E$12,Data!$A:$A,Matrices!$B183)=0,\"\",COUNTIFS(Data!$B:$B,E$12,Data!$A:$A,Matrices!$B183)))","v":""},{"$f":"IF($B183=\"\",\"\",IF(COUNTIFS(Data!$B:$B,F$12,Data!$A:$A,Matrices!$B183)=0,\"\",COUNTIFS(Data!$B:$B,F$12,Data!$A:$A,Matrices!$B183)))","v":""},{"$f":"IF($B183=\"\",\"\",IF(COUNTIFS(Data!$B:$B,G$12,Data!$A:$A,Matrices!$B183)=0,\"\",COUNTIFS(Data!$B:$B,G$12,Data!$A:$A,Matrices!$B183)))","v":""},{"$f":"IFERROR(AVERAGEIFS(Data!$E:$E,Data!$B:$B,H$12,Data!$A:$A,$B183),\"N/A\")","v":"N/A"},{"$f":"IFERROR(AVERAGEIFS(Data!$E:$E,Data!$B:$B,I$12,Data!$A:$A,$B183),\"N/A\")","v":"N/A"},{"$f":"IFERROR(AVERAGEIFS(Data!$E:$E,Data!$B:$B,J$12,Data!$A:$A,$B183),\"N/A\")","v":"N/A"},{"$f":"IFERROR(AVERAGEIFS(Data!$Q:$Q,Data!$B:$B,K$12,Data!$A:$A,$B183),\"N/A\")","v":"N/A"},{"$f":"IFERROR(AVERAGEIFS(Data!$Q:$Q,Data!$B:$B,L$12,Data!$A:$A,$B183),\"N/A\")","v":"N/A"},{"$f":"IFERROR(AVERAGEIFS(Data!$Q:$Q,Data!$B:$B,M$12,Data!$A:$A,$B183),\"N/A\")","v":"N/A"}]
["",{"$f":"Observations!B173","v":""},{"$f":"IF(A184=1,VLOOKUP($B184,ObData!$A$1:$J$300,3,0),\"\")","v":""},{"$f":"IF(A184=1,B184&\": \"&TEXT(C184,\"mm/dd/yy\")&\"- \"&VLOOKUP(B184,ObData!$A$1:$J$300,5,0),\"\")","v":""},{"$f":"IF($B184=\"\",\"\",IF(COUNTIFS(Data!$B:$B,E$12,Data!$A:$A,Matrices!$B184)=0,\"\",COUNTIFS(Data!$B:$B,E$12,Data!$A:$A,Matrices!$B184)))","v":""},{"$f":"IF($B184=\"\",\"\",IF(COUNTIFS(Data!$B:$B,F$12,Data!$A:$A,Matrices!$B184)=0,\"\",COUNTIFS(Data!$B:$B,F$12,Data!$A:$A,Matrices!$B184)))","v":""},{"$f":"IF($B184=\"\",\"\",IF(COUNTIFS(Data!$B:$B,G$12,Data!$A:$A,Matrices!$B184)=0,\"\",COUNTIFS(Data!$B:$B,G$12,Data!$A:$A,Matrices!$B184)))","v":""},{"$f":"IFERROR(AVERAGEIFS(Data!$E:$E,Data!$B:$B,H$12,Data!$A:$A,$B184),\"N/A\")","v":"N/A"},{"$f":"IFERROR(AVERAGEIFS(Data!$E:$E,Data!$B:$B,I$12,Data!$A:$A,$B184),\"N/A\")","v":"N/A"},{"$f":"IFERROR(AVERAGEIFS(Data!$E:$E,Data!$B:$B,J$12,Data!$A:$A,$B184),\"N/A\")","v":"N/A"},{"$f":"IFERROR(AVERAGEIFS(Data!$Q:$Q,Data!$B:$B,K$12,Data!$A:$A,$B184),\"N/A\")","v":"N/A"},{"$f":"IFERROR(AVERAGEIFS(Data!$Q:$Q,Data!$B:$B,L$12,Data!$A:$A,$B184),\"N/A\")","v":"N/A"},{"$f":"IFERROR(AVERAGEIFS(Data!$Q:$Q,Data!$B:$B,M$12,Data!$A:$A,$B184),\"N/A\")","v":"N/A"}]
["",{"$f":"Observations!B174","v":""},{"$f":"IF(A185=1,VLOOKUP($B185,ObData!$A$1:$J$300,3,0),\"\")","v":""},{"$f":"IF(A185=1,B185&\": \"&TEXT(C185,\"mm/dd/yy\")&\"- \"&VLOOKUP(B185,ObData!$A$1:$J$300,5,0),\"\")","v":""},{"$f":"IF($B185=\"\",\"\",IF(COUNTIFS(Data!$B:$B,E$12,Data!$A:$A,Matrices!$B185)=0,\"\",COUNTIFS(Data!$B:$B,E$12,Data!$A:$A,Matrices!$B185)))","v":""},{"$f":"IF($B185=\"\",\"\",IF(COUNTIFS(Data!$B:$B,F$12,Data!$A:$A,Matrices!$B185)=0,\"\",COUNTIFS(Data!$B:$B,F$12,Data!$A:$A,Matrices!$B185)))","v":""},{"$f":"IF($B185=\"\",\"\",IF(COUNTIFS(Data!$B:$B,G$12,Data!$A:$A,Matrices!$B185)=0,\"\",COUNTIFS(Data!$B:$B,G$12,Data!$A:$A,Matrices!$B185)))","v":""},{"$f":"IFERROR(AVERAGEIFS(Data!$E:$E,Data!$B:$B,H$12,Data!$A:$A,$B185),\"N/A\")","v":"N/A"},{"$f":"IFERROR(AVERAGEIFS(Data!$E:$E,Data!$B:$B,I$12,Data!$A:$A,$B185),\"N/A\")","v":"N/A"},{"$f":"IFERROR(AVERAGEIFS(Data!$E:$E,Data!$B:$B,J$12,Data!$A:$A,$B185),\"N/A\")","v":"N/A"},{"$f":"IFERROR(AVERAGEIFS(Data!$Q:$Q,Data!$B:$B,K$12,Data!$A:$A,$B185),\"N/A\")","v":"N/A"},{"$f":"IFERROR(AVERAGEIFS(Data!$Q:$Q,Data!$B:$B,L$12,Data!$A:$A,$B185),\"N/A\")","v":"N/A"},{"$f":"IFERROR(AVERAGEIFS(Data!$Q:$Q,Data!$B:$B,M$12,Data!$A:$A,$B185),\"N/A\")","v":"N/A"}]
["",{"$f":"Observations!B175","v":""},{"$f":"IF(A186=1,VLOOKUP($B186,ObData!$A$1:$J$300,3,0),\"\")","v":""},{"$f":"IF(A186=1,B186&\": \"&TEXT(C186,\"mm/dd/yy\")&\"- \"&VLOOKUP(B186,ObData!$A$1:$J$300,5,0),\"\")","v":""},{"$f":"IF($B186=\"\",\"\",IF(COUNTIFS(Data!$B:$B,E$12,Data!$A:$A,Matrices!$B186)=0,\"\",COUNTIFS(Data!$B:$B,E$12,Data!$A:$A,Matrices!$B186)))","v":""},{"$f":"IF($B186=\"\",\"\",IF(COUNTIFS(Data!$B:$B,F$12,Data!$A:$A,Matrices!$B186)=0,\"\",COUNTIFS(Data!$B:$B,F$12,Data!$A:$A,Matrices!$B186)))","v":""},{"$f":"IF($B186=\"\",\"\",IF(COUNTIFS(Data!$B:$B,G$12,Data!$A:$A,Matrices!$B186)=0,\"\",COUNTIFS(Data!$B:$B,G$12,Data!$A:$A,Matrices!$B186)))","v":""},{"$f":"IFERROR(AVERAGEIFS(Data!$E:$E,Data!$B:$B,H$12,Data!$A:$A,$B186),\"N/A\")","v":"N/A"},{"$f":"IFERROR(AVERAGEIFS(Data!$E:$E,Data!$B:$B,I$12,Data!$A:$A,$B186),\"N/A\")","v":"N/A"},{"$f":"IFERROR(AVERAGEIFS(Data!$E:$E,Data!$B:$B,J$12,Data!$A:$A,$B186),\"N/A\")","v":"N/A"},{"$f":"IFERROR(AVERAGEIFS(Data!$Q:$Q,Data!$B:$B,K$12,Data!$A:$A,$B186),\"N/A\")","v":"N/A"},{"$f":"IFERROR(AVERAGEIFS(Data!$Q:$Q,Data!$B:$B,L$12,Data!$A:$A,$B186),\"N/A\")","v":"N/A"},{"$f":"IFERROR(AVERAGEIFS(Data!$Q:$Q,Data!$B:$B,M$12,Data!$A:$A,$B186),\"N/A\")","v":"N/A"}]
["",{"$f":"Observations!B176","v":""},{"$f":"IF(A187=1,VLOOKUP($B187,ObData!$A$1:$J$300,3,0),\"\")","v":""},{"$f":"IF(A187=1,B187&\": \"&TEXT(C187,\"mm/dd/yy\")&\"- \"&VLOOKUP(B187,ObData!$A$1:$J$300,5,0),\"\")","v":""},{"$f":"IF($B187=\"\",\"\",IF(COUNTIFS(Data!$B:$B,E$12,Data!$A:$A,Matrices!$B187)=0,\"\",COUNTIFS(Data!$B:$B,E$12,Data!$A:$A,Matrices!$B187)))","v":""},{"$f":"IF($B187=\"\",\"\",IF(COUNTIFS(Data!$B:$B,F$12,Data!$A:$A,Matrices!$B187)=0,\"\",COUNTIFS(Data!$B:$B,F$12,Data!$A:$A,Matrices!$B187)))","v":""},{"$f":"IF($B187=\"\",\"\",IF(COUNTIFS(Data!$B:$B,G$12,Data!$A:$A,Matrices!$B187)=0,\"\",COUNTIFS(Data!$B:$B,G$12,Data!$A:$A,Matrices!$B187)))","v":""},{"$f":"IFERROR(AVERAGEIFS(Data!$E:$E,Data!$B:$B,H$12,Data!$A:$A,$B187),\"N/A\")","v":"N/A"},{"$f":"IFERROR(AVERAGEIFS(Data!$E:$E,Data!$B:$B,I$12,Data!$A:$A,$B187),\"N/A\")","v":"N/A"},{"$f":"IFERROR(AVERAGEIFS(Data!$E:$E,Data!$B:$B,J$12,Data!$A:$A,$B187),\"N/A\")","v":"N/A"},{"$f":"IFERROR(AVERAGEIFS(Data!$Q:$Q,Data!$B:$B,K$12,Data!$A:$A,$B187),\"N/A\")","v":"N/A"},{"$f":"IFERROR(AVERAGEIFS(Data!$Q:$Q,Data!$B:$B,L$12,Data!$A:$A,$B187),\"N/A\")","v":"N/A"},{"$f":"IFERROR(AVERAGEIFS(Data!$Q:$Q,Data!$B:$B,M$12,Data!$A:$A,$B187),\"N/A\")","v":"N/A"}]
["",{"$f":"Observations!B177","v":""},{"$f":"IF(A188=1,VLOOKUP($B188,ObData!$A$1:$J$300,3,0),\"\")","v":""},{"$f":"IF(A188=1,B188&\": \"&TEXT(C188,\"mm/dd/yy\")&\"- \"&VLOOKUP(B188,ObData!$A$1:$J$300,5,0),\"\")","v":""},{"$f":"IF($B188=\"\",\"\",IF(COUNTIFS(Data!$B:$B,E$12,Data!$A:$A,Matrices!$B188)=0,\"\",COUNTIFS(Data!$B:$B,E$12,Data!$A:$A,Matrices!$B188)))","v":""},{"$f":"IF($B188=\"\",\"\",IF(COUNTIFS(Data!$B:$B,F$12,Data!$A:$A,Matrices!$B188)=0,\"\",COUNTIFS(Data!$B:$B,F$12,Data!$A:$A,Matrices!$B188)))","v":""},{"$f":"IF($B188=\"\",\"\",IF(COUNTIFS(Data!$B:$B,G$12,Data!$A:$A,Matrices!$B188)=0,\"\",COUNTIFS(Data!$B:$B,G$12,Data!$A:$A,Matrices!$B188)))","v":""},{"$f":"IFERROR(AVERAGEIFS(Data!$E:$E,Data!$B:$B,H$12,Data!$A:$A,$B188),\"N/A\")","v":"N/A"},{"$f":"IFERROR(AVERAGEIFS(Data!$E:$E,Data!$B:$B,I$12,Data!$A:$A,$B188),\"N/A\")","v":"N/A"},{"$f":"IFERROR(AVERAGEIFS(Data!$E:$E,Data!$B:$B,J$12,Data!$A:$A,$B188),\"N/A\")","v":"N/A"},{"$f":"IFERROR(AVERAGEIFS(Data!$Q:$Q,Data!$B:$B,K$12,Data!$A:$A,$B188),\"N/A\")","v":"N/A"},{"$f":"IFERROR(AVERAGEIFS(Data!$Q:$Q,Data!$B:$B,L$12,Data!$A:$A,$B188),\"N/A\")","v":"N/A"},{"$f":"IFERROR(AVERAGEIFS(Data!$Q:$Q,Data!$B:$B,M$12,Data!$A:$A,$B188),\"N/A\")","v":"N/A"}]
["",{"$f":"Observations!B178","v":""},{"$f":"IF(A189=1,VLOOKUP($B189,ObData!$A$1:$J$300,3,0),\"\")","v":""},{"$f":"IF(A189=1,B189&\": \"&TEXT(C189,\"mm/dd/yy\")&\"- \"&VLOOKUP(B189,ObData!$A$1:$J$300,5,0),\"\")","v":""},{"$f":"IF($B189=\"\",\"\",IF(COUNTIFS(Data!$B:$B,E$12,Data!$A:$A,Matrices!$B189)=0,\"\",COUNTIFS(Data!$B:$B,E$12,Data!$A:$A,Matrices!$B189)))","v":""},{"$f":"IF($B189=\"\",\"\",IF(COUNTIFS(Data!$B:$B,F$12,Data!$A:$A,Matrices!$B189)=0,\"\",COUNTIFS(Data!$B:$B,F$12,Data!$A:$A,Matrices!$B189)))","v":""},{"$f":"IF($B189=\"\",\"\",IF(COUNTIFS(Data!$B:$B,G$12,Data!$A:$A,Matrices!$B189)=0,\"\",COUNTIFS(Data!$B:$B,G$12,Data!$A:$A,Matrices!$B189)))","v":""},{"$f":"IFERROR(AVERAGEIFS(Data!$E:$E,Data!$B:$B,H$12,Data!$A:$A,$B189),\"N/A\")","v":"N/A"},{"$f":"IFERROR(AVERAGEIFS(Data!$E:$E,Data!$B:$B,I$12,Data!$A:$A,$B189),\"N/A\")","v":"N/A"},{"$f":"IFERROR(AVERAGEIFS(Data!$E:$E,Data!$B:$B,J$12,Data!$A:$A,$B189),\"N/A\")","v":"N/A"},{"$f":"IFERROR(AVERAGEIFS(Data!$Q:$Q,Data!$B:$B,K$12,Data!$A:$A,$B189),\"N/A\")","v":"N/A"},{"$f":"IFERROR(AVERAGEIFS(Data!$Q:$Q,Data!$B:$B,L$12,Data!$A:$A,$B189),\"N/A\")","v":"N/A"},{"$f":"IFERROR(AVERAGEIFS(Data!$Q:$Q,Data!$B:$B,M$12,Data!$A:$A,$B189),\"N/A\")","v":"N/A"}]
["",{"$f":"Observations!B179","v":""},{"$f":"IF(A190=1,VLOOKUP($B190,ObData!$A$1:$J$300,3,0),\"\")","v":""},{"$f":"IF(A190=1,B190&\": \"&TEXT(C190,\"mm/dd/yy\")&\"- \"&VLOOKUP(B190,ObData!$A$1:$J$300,5,0),\"\")","v":""},{"$f":"IF($B190=\"\",\"\",IF(COUNTIFS(Data!$B:$B,E$12,Data!$A:$A,Matrices!$B190)=0,\"\",COUNTIFS(Data!$B:$B,E$12,Data!$A:$A,Matrices!$B190)))","v":""},{"$f":"IF($B190=\"\",\"\",IF(COUNTIFS(Data!$B:$B,F$12,Data!$A:$A,Matrices!$B190)=0,\"\",COUNTIFS(Data!$B:$B,F$12,Data!$A:$A,Matrices!$B190)))","v":""},{"$f":"IF($B190=\"\",\"\",IF(COUNTIFS(Data!$B:$B,G$12,Data!$A:$A,Matrices!$B190)=0,\"\",COUNTIFS(Data!$B:$B,G$12,Data!$A:$A,Matrices!$B190)))","v":""},{"$f":"IFERROR(AVERAGEIFS(Data!$E:$E,Data!$B:$B,H$12,Data!$A:$A,$B190),\"N/A\")","v":"N/A"},{"$f":"IFERROR(AVERAGEIFS(Data!$E:$E,Data!$B:$B,I$12,Data!$A:$A,$B190),\"N/A\")","v":"N/A"},{"$f":"IFERROR(AVERAGEIFS(Data!$E:$E,Data!$B:$B,J$12,Data!$A:$A,$B190),\"N/A\")","v":"N/A"},{"$f":"IFERROR(AVERAGEIFS(Data!$Q:$Q,Data!$B:$B,K$12,Data!$A:$A,$B190),\"N/A\")","v":"N/A"},{"$f":"IFERROR(AVERAGEIFS(Data!$Q:$Q,Data!$B:$B,L$12,Data!$A:$A,$B190),\"N/A\")","v":"N/A"},{"$f":"IFERROR(AVERAGEIFS(Data!$Q:$Q,Data!$B:$B,M$12,Data!$A:$A,$B190),\"N/A\")","v":"N/A"}]
["",{"$f":"Observations!B180","v":""},{"$f":"IF(A191=1,VLOOKUP($B191,ObData!$A$1:$J$300,3,0),\"\")","v":""},{"$f":"IF(A191=1,B191&\": \"&TEXT(C191,\"mm/dd/yy\")&\"- \"&VLOOKUP(B191,ObData!$A$1:$J$300,5,0),\"\")","v":""},{"$f":"IF($B191=\"\",\"\",IF(COUNTIFS(Data!$B:$B,E$12,Data!$A:$A,Matrices!$B191)=0,\"\",COUNTIFS(Data!$B:$B,E$12,Data!$A:$A,Matrices!$B191)))","v":""},{"$f":"IF($B191=\"\",\"\",IF(COUNTIFS(Data!$B:$B,F$12,Data!$A:$A,Matrices!$B191)=0,\"\",COUNTIFS(Data!$B:$B,F$12,Data!$A:$A,Matrices!$B191)))","v":""},{"$f":"IF($B191=\"\",\"\",IF(COUNTIFS(Data!$B:$B,G$12,Data!$A:$A,Matrices!$B191)=0,\"\",COUNTIFS(Data!$B:$B,G$12,Data!$A:$A,Matrices!$B191)))","v":""},{"$f":"IFERROR(AVERAGEIFS(Data!$E:$E,Data!$B:$B,H$12,Data!$A:$A,$B191),\"N/A\")","v":"N/A"},{"$f":"IFERROR(AVERAGEIFS(Data!$E:$E,Data!$B:$B,I$12,Data!$A:$A,$B191),\"N/A\")","v":"N/A"},{"$f":"IFERROR(AVERAGEIFS(Data!$E:$E,Data!$B:$B,J$12,Data!$A:$A,$B191),\"N/A\")","v":"N/A"},{"$f":"IFERROR(AVERAGEIFS(Data!$Q:$Q,Data!$B:$B,K$12,Data!$A:$A,$B191),\"N/A\")","v":"N/A"},{"$f":"IFERROR(AVERAGEIFS(Data!$Q:$Q,Data!$B:$B,L$12,Data!$A:$A,$B191),\"N/A\")","v":"N/A"},{"$f":"IFERROR(AVERAGEIFS(Data!$Q:$Q,Data!$B:$B,M$12,Data!$A:$A,$B191),\"N/A\")","v":"N/A"}]
["",{"$f":"Observations!B181","v":""},{"$f":"IF(A192=1,VLOOKUP($B192,ObData!$A$1:$J$300,3,0),\"\")","v":""},{"$f":"IF(A192=1,B192&\": \"&TEXT(C192,\"mm/dd/yy\")&\"- \"&VLOOKUP(B192,ObData!$A$1:$J$300,5,0),\"\")","v":""},{"$f":"IF($B192=\"\",\"\",IF(COUNTIFS(Data!$B:$B,E$12,Data!$A:$A,Matrices!$B192)=0,\"\",COUNTIFS(Data!$B:$B,E$12,Data!$A:$A,Matrices!$B192)))","v":""},{"$f":"IF($B192=\"\",\"\",IF(COUNTIFS(Data!$B:$B,F$12,Data!$A:$A,Matrices!$B192)=0,\"\",COUNTIFS(Data!$B:$B,F$12,Data!$A:$A,Matrices!$B192)))","v":""},{"$f":"IF($B192=\"\",\"\",IF(COUNTIFS(Data!$B:$B,G$12,Data!$A:$A,Matrices!$B192)=0,\"\",COUNTIFS(Data!$B:$B,G$12,Data!$A:$A,Matrices!$B192)))","v":""},{"$f":"IFERROR(AVERAGEIFS(Data!$E:$E,Data!$B:$B,H$12,Data!$A:$A,$B192),\"N/A\")","v":"N/A"},{"$f":"IFERROR(AVERAGEIFS(Data!$E:$E,Data!$B:$B,I$12,Data!$A:$A,$B192),\"N/A\")","v":"N/A"},{"$f":"IFERROR(AVERAGEIFS(Data!$E:$E,Data!$B:$B,J$12,Data!$A:$A,$B192),\"N/A\")","v":"N/A"},{"$f":"IFERROR(AVERAGEIFS(Data!$Q:$Q,Data!$B:$B,K$12,Data!$A:$A,$B192),\"N/A\")","v":"N/A"},{"$f":"IFERROR(AVERAGEIFS(Data!$Q:$Q,Data!$B:$B,L$12,Data!$A:$A,$B192),\"N/A\")","v":"N/A"},{"$f":"IFERROR(AVERAGEIFS(Data!$Q:$Q,Data!$B:$B,M$12,Data!$A:$A,$B192),\"N/A\")","v":"N/A"}]
["",{"$f":"Observations!B182","v":""},{"$f":"IF(A193=1,VLOOKUP($B193,ObData!$A$1:$J$300,3,0),\"\")","v":""},{"$f":"IF(A193=1,B193&\": \"&TEXT(C193,\"mm/dd/yy\")&\"- \"&VLOOKUP(B193,ObData!$A$1:$J$300,5,0),\"\")","v":""},{"$f":"IF($B193=\"\",\"\",IF(COUNTIFS(Data!$B:$B,E$12,Data!$A:$A,Matrices!$B193)=0,\"\",COUNTIFS(Data!$B:$B,E$12,Data!$A:$A,Matrices!$B193)))","v":""},{"$f":"IF($B193=\"\",\"\",IF(COUNTIFS(Data!$B:$B,F$12,Data!$A:$A,Matrices!$B193)=0,\"\",COUNTIFS(Data!$B:$B,F$12,Data!$A:$A,Matrices!$B193)))","v":""},{"$f":"IF($B193=\"\",\"\",IF(COUNTIFS(Data!$B:$B,G$12,Data!$A:$A,Matrices!$B193)=0,\"\",COUNTIFS(Data!$B:$B,G$12,Data!$A:$A,Matrices!$B193)))","v":""},{"$f":"IFERROR(AVERAGEIFS(Data!$E:$E,Data!$B:$B,H$12,Data!$A:$A,$B193),\"N/A\")","v":"N/A"},{"$f":"IFERROR(AVERAGEIFS(Data!$E:$E,Data!$B:$B,I$12,Data!$A:$A,$B193),\"N/A\")","v":"N/A"},{"$f":"IFERROR(AVERAGEIFS(Data!$E:$E,Data!$B:$B,J$12,Data!$A:$A,$B193),\"N/A\")","v":"N/A"},{"$f":"IFERROR(AVERAGEIFS(Data!$Q:$Q,Data!$B:$B,K$12,Data!$A:$A,$B193),\"N/A\")","v":"N/A"},{"$f":"IFERROR(AVERAGEIFS(Data!$Q:$Q,Data!$B:$B,L$12,Data!$A:$A,$B193),\"N/A\")","v":"N/A"},{"$f":"IFERROR(AVERAGEIFS(Data!$Q:$Q,Data!$B:$B,M$12,Data!$A:$A,$B193),\"N/A\")","v":"N/A"}]
["",{"$f":"Observations!B183","v":""},{"$f":"IF(A194=1,VLOOKUP($B194,ObData!$A$1:$J$300,3,0),\"\")","v":""},{"$f":"IF(A194=1,B194&\": \"&TEXT(C194,\"mm/dd/yy\")&\"- \"&VLOOKUP(B194,ObData!$A$1:$J$300,5,0),\"\")","v":""},{"$f":"IF($B194=\"\",\"\",IF(COUNTIFS(Data!$B:$B,E$12,Data!$A:$A,Matrices!$B194)=0,\"\",COUNTIFS(Data!$B:$B,E$12,Data!$A:$A,Matrices!$B194)))","v":""},{"$f":"IF($B194=\"\",\"\",IF(COUNTIFS(Data!$B:$B,F$12,Data!$A:$A,Matrices!$B194)=0,\"\",COUNTIFS(Data!$B:$B,F$12,Data!$A:$A,Matrices!$B194)))","v":""},{"$f":"IF($B194=\"\",\"\",IF(COUNTIFS(Data!$B:$B,G$12,Data!$A:$A,Matrices!$B194)=0,\"\",COUNTIFS(Data!$B:$B,G$12,Data!$A:$A,Matrices!$B194)))","v":""},{"$f":"IFERROR(AVERAGEIFS(Data!$E:$E,Data!$B:$B,H$12,Data!$A:$A,$B194),\"N/A\")","v":"N/A"},{"$f":"IFERROR(AVERAGEIFS(Data!$E:$E,Data!$B:$B,I$12,Data!$A:$A,$B194),\"N/A\")","v":"N/A"},{"$f":"IFERROR(AVERAGEIFS(Data!$E:$E,Data!$B:$B,J$12,Data!$A:$A,$B194),\"N/A\")","v":"N/A"},{"$f":"IFERROR(AVERAGEIFS(Data!$Q:$Q,Data!$B:$B,K$12,Data!$A:$A,$B194),\"N/A\")","v":"N/A"},{"$f":"IFERROR(AVERAGEIFS(Data!$Q:$Q,Data!$B:$B,L$12,Data!$A:$A,$B194),\"N/A\")","v":"N/A"},{"$f":"IFERROR(AVERAGEIFS(Data!$Q:$Q,Data!$B:$B,M$12,Data!$A:$A,$B194),\"N/A\")","v":"N/A"}]
["",{"$f":"Observations!B184","v":""},{"$f":"IF(A195=1,VLOOKUP($B195,ObData!$A$1:$J$300,3,0),\"\")","v":""},{"$f":"IF(A195=1,B195&\": \"&TEXT(C195,\"mm/dd/yy\")&\"- \"&VLOOKUP(B195,ObData!$A$1:$J$300,5,0),\"\")","v":""},{"$f":"IF($B195=\"\",\"\",IF(COUNTIFS(Data!$B:$B,E$12,Data!$A:$A,Matrices!$B195)=0,\"\",COUNTIFS(Data!$B:$B,E$12,Data!$A:$A,Matrices!$B195)))","v":""},{"$f":"IF($B195=\"\",\"\",IF(COUNTIFS(Data!$B:$B,F$12,Data!$A:$A,Matrices!$B195)=0,\"\",COUNTIFS(Data!$B:$B,F$12,Data!$A:$A,Matrices!$B195)))","v":""},{"$f":"IF($B195=\"\",\"\",IF(COUNTIFS(Data!$B:$B,G$12,Data!$A:$A,Matrices!$B195)=0,\"\",COUNTIFS(Data!$B:$B,G$12,Data!$A:$A,Matrices!$B195)))","v":""},{"$f":"IFERROR(AVERAGEIFS(Data!$E:$E,Data!$B:$B,H$12,Data!$A:$A,$B195),\"N/A\")","v":"N/A"},{"$f":"IFERROR(AVERAGEIFS(Data!$E:$E,Data!$B:$B,I$12,Data!$A:$A,$B195),\"N/A\")","v":"N/A"},{"$f":"IFERROR(AVERAGEIFS(Data!$E:$E,Data!$B:$B,J$12,Data!$A:$A,$B195),\"N/A\")","v":"N/A"},{"$f":"IFERROR(AVERAGEIFS(Data!$Q:$Q,Data!$B:$B,K$12,Data!$A:$A,$B195),\"N/A\")","v":"N/A"},{"$f":"IFERROR(AVERAGEIFS(Data!$Q:$Q,Data!$B:$B,L$12,Data!$A:$A,$B195),\"N/A\")","v":"N/A"},{"$f":"IFERROR(AVERAGEIFS(Data!$Q:$Q,Data!$B:$B,M$12,Data!$A:$A,$B195),\"N/A\")","v":"N/A"}]
["",{"$f":"Observations!B185","v":""},{"$f":"IF(A196=1,VLOOKUP($B196,ObData!$A$1:$J$300,3,0),\"\")","v":""},{"$f":"IF(A196=1,B196&\": \"&TEXT(C196,\"mm/dd/yy\")&\"- \"&VLOOKUP(B196,ObData!$A$1:$J$300,5,0),\"\")","v":""},{"$f":"IF($B196=\"\",\"\",IF(COUNTIFS(Data!$B:$B,E$12,Data!$A:$A,Matrices!$B196)=0,\"\",COUNTIFS(Data!$B:$B,E$12,Data!$A:$A,Matrices!$B196)))","v":""},{"$f":"IF($B196=\"\",\"\",IF(COUNTIFS(Data!$B:$B,F$12,Data!$A:$A,Matrices!$B196)=0,\"\",COUNTIFS(Data!$B:$B,F$12,Data!$A:$A,Matrices!$B196)))","v":""},{"$f":"IF($B196=\"\",\"\",IF(COUNTIFS(Data!$B:$B,G$12,Data!$A:$A,Matrices!$B196)=0,\"\",COUNTIFS(Data!$B:$B,G$12,Data!$A:$A,Matrices!$B196)))","v":""},{"$f":"IFERROR(AVERAGEIFS(Data!$E:$E,Data!$B:$B,H$12,Data!$A:$A,$B196),\"N/A\")","v":"N/A"},{"$f":"IFERROR(AVERAGEIFS(Data!$E:$E,Data!$B:$B,I$12,Data!$A:$A,$B196),\"N/A\")","v":"N/A"},{"$f":"IFERROR(AVERAGEIFS(Data!$E:$E,Data!$B:$B,J$12,Data!$A:$A,$B196),\"N/A\")","v":"N/A"},{"$f":"IFERROR(AVERAGEIFS(Data!$Q:$Q,Data!$B:$B,K$12,Data!$A:$A,$B196),\"N/A\")","v":"N/A"},{"$f":"IFERROR(AVERAGEIFS(Data!$Q:$Q,Data!$B:$B,L$12,Data!$A:$A,$B196),\"N/A\")","v":"N/A"},{"$f":"IFERROR(AVERAGEIFS(Data!$Q:$Q,Data!$B:$B,M$12,Data!$A:$A,$B196),\"N/A\")","v":"N/A"}]
["",{"$f":"Observations!B186","v":""},{"$f":"IF(A197=1,VLOOKUP($B197,ObData!$A$1:$J$300,3,0),\"\")","v":""},{"$f":"IF(A197=1,B197&\": \"&TEXT(C197,\"mm/dd/yy\")&\"- \"&VLOOKUP(B197,ObData!$A$1:$J$300,5,0),\"\")","v":""},{"$f":"IF($B197=\"\",\"\",IF(COUNTIFS(Data!$B:$B,E$12,Data!$A:$A,Matrices!$B197)=0,\"\",COUNTIFS(Data!$B:$B,E$12,Data!$A:$A,Matrices!$B197)))","v":""},{"$f":"IF($B197=\"\",\"\",IF(COUNTIFS(Data!$B:$B,F$12,Data!$A:$A,Matrices!$B197)=0,\"\",COUNTIFS(Data!$B:$B,F$12,Data!$A:$A,Matrices!$B197)))","v":""},{"$f":"IF($B197=\"\",\"\",IF(COUNTIFS(Data!$B:$B,G$12,Data!$A:$A,Matrices!$B197)=0,\"\",COUNTIFS(Data!$B:$B,G$12,Data!$A:$A,Matrices!$B197)))","v":""},{"$f":"IFERROR(AVERAGEIFS(Data!$E:$E,Data!$B:$B,H$12,Data!$A:$A,$B197),\"N/A\")","v":"N/A"},{"$f":"IFERROR(AVERAGEIFS(Data!$E:$E,Data!$B:$B,I$12,Data!$A:$A,$B197),\"N/A\")","v":"N/A"},{"$f":"IFERROR(AVERAGEIFS(Data!$E:$E,Data!$B:$B,J$12,Data!$A:$A,$B197),\"N/A\")","v":"N/A"},{"$f":"IFERROR(AVERAGEIFS(Data!$Q:$Q,Data!$B:$B,K$12,Data!$A:$A,$B197),\"N/A\")","v":"N/A"},{"$f":"IFERROR(AVERAGEIFS(Data!$Q:$Q,Data!$B:$B,L$12,Data!$A:$A,$B197),\"N/A\")","v":"N/A"},{"$f":"IFERROR(AVERAGEIFS(Data!$Q:$Q,Data!$B:$B,M$12,Data!$A:$A,$B197),\"N/A\")","v":"N/A"}]
["",{"$f":"Observations!B187","v":""},{"$f":"IF(A198=1,VLOOKUP($B198,ObData!$A$1:$J$300,3,0),\"\")","v":""},{"$f":"IF(A198=1,B198&\": \"&TEXT(C198,\"mm/dd/yy\")&\"- \"&VLOOKUP(B198,ObData!$A$1:$J$300,5,0),\"\")","v":""},{"$f":"IF($B198=\"\",\"\",IF(COUNTIFS(Data!$B:$B,E$12,Data!$A:$A,Matrices!$B198)=0,\"\",COUNTIFS(Data!$B:$B,E$12,Data!$A:$A,Matrices!$B198)))","v":""},{"$f":"IF($B198=\"\",\"\",IF(COUNTIFS(Data!$B:$B,F$12,Data!$A:$A,Matrices!$B198)=0,\"\",COUNTIFS(Data!$B:$B,F$12,Data!$A:$A,Matrices!$B198)))","v":""},{"$f":"IF($B198=\"\",\"\",IF(COUNTIFS(Data!$B:$B,G$12,Data!$A:$A,Matrices!$B198)=0,\"\",COUNTIFS(Data!$B:$B,G$12,Data!$A:$A,Matrices!$B198)))","v":""},{"$f":"IFERROR(AVERAGEIFS(Data!$E:$E,Data!$B:$B,H$12,Data!$A:$A,$B198),\"N/A\")","v":"N/A"},{"$f":"IFERROR(AVERAGEIFS(Data!$E:$E,Data!$B:$B,I$12,Data!$A:$A,$B198),\"N/A\")","v":"N/A"},{"$f":"IFERROR(AVERAGEIFS(Data!$E:$E,Data!$B:$B,J$12,Data!$A:$A,$B198),\"N/A\")","v":"N/A"},{"$f":"IFERROR(AVERAGEIFS(Data!$Q:$Q,Data!$B:$B,K$12,Data!$A:$A,$B198),\"N/A\")","v":"N/A"},{"$f":"IFERROR(AVERAGEIFS(Data!$Q:$Q,Data!$B:$B,L$12,Data!$A:$A,$B198),\"N/A\")","v":"N/A"},{"$f":"IFERROR(AVERAGEIFS(Data!$Q:$Q,Data!$B:$B,M$12,Data!$A:$A,$B198),\"N/A\")","v":"N/A"}]
["",{"$f":"Observations!B188","v":""},{"$f":"IF(A199=1,VLOOKUP($B199,ObData!$A$1:$J$300,3,0),\"\")","v":""},{"$f":"IF(A199=1,B199&\": \"&TEXT(C199,\"mm/dd/yy\")&\"- \"&VLOOKUP(B199,ObData!$A$1:$J$300,5,0),\"\")","v":""},{"$f":"IF($B199=\"\",\"\",IF(COUNTIFS(Data!$B:$B,E$12,Data!$A:$A,Matrices!$B199)=0,\"\",COUNTIFS(Data!$B:$B,E$12,Data!$A:$A,Matrices!$B199)))","v":""},{"$f":"IF($B199=\"\",\"\",IF(COUNTIFS(Data!$B:$B,F$12,Data!$A:$A,Matrices!$B199)=0,\"\",COUNTIFS(Data!$B:$B,F$12,Data!$A:$A,Matrices!$B199)))","v":""},{"$f":"IF($B199=\"\",\"\",IF(COUNTIFS(Data!$B:$B,G$12,Data!$A:$A,Matrices!$B199)=0,\"\",COUNTIFS(Data!$B:$B,G$12,Data!$A:$A,Matrices!$B199)))","v":""},{"$f":"IFERROR(AVERAGEIFS(Data!$E:$E,Data!$B:$B,H$12,Data!$A:$A,$B199),\"N/A\")","v":"N/A"},{"$f":"IFERROR(AVERAGEIFS(Data!$E:$E,Data!$B:$B,I$12,Data!$A:$A,$B199),\"N/A\")","v":"N/A"},{"$f":"IFERROR(AVERAGEIFS(Data!$E:$E,Data!$B:$B,J$12,Data!$A:$A,$B199),\"N/A\")","v":"N/A"},{"$f":"IFERROR(AVERAGEIFS(Data!$Q:$Q,Data!$B:$B,K$12,Data!$A:$A,$B199),\"N/A\")","v":"N/A"},{"$f":"IFERROR(AVERAGEIFS(Data!$Q:$Q,Data!$B:$B,L$12,Data!$A:$A,$B199),\"N/A\")","v":"N/A"},{"$f":"IFERROR(AVERAGEIFS(Data!$Q:$Q,Data!$B:$B,M$12,Data!$A:$A,$B199),\"N/A\")","v":"N/A"}]
["",{"$f":"Observations!B189","v":""},{"$f":"IF(A200=1,VLOOKUP($B200,ObData!$A$1:$J$300,3,0),\"\")","v":""},{"$f":"IF(A200=1,B200&\": \"&TEXT(C200,\"mm/dd/yy\")&\"- \"&VLOOKUP(B200,ObData!$A$1:$J$300,5,0),\"\")","v":""},{"$f":"IF($B200=\"\",\"\",IF(COUNTIFS(Data!$B:$B,E$12,Data!$A:$A,Matrices!$B200)=0,\"\",COUNTIFS(Data!$B:$B,E$12,Data!$A:$A,Matrices!$B200)))","v":""},{"$f":"IF($B200=\"\",\"\",IF(COUNTIFS(Data!$B:$B,F$12,Data!$A:$A,Matrices!$B200)=0,\"\",COUNTIFS(Data!$B:$B,F$12,Data!$A:$A,Matrices!$B200)))","v":""},{"$f":"IF($B200=\"\",\"\",IF(COUNTIFS(Data!$B:$B,G$12,Data!$A:$A,Matrices!$B200)=0,\"\",COUNTIFS(Data!$B:$B,G$12,Data!$A:$A,Matrices!$B200)))","v":""},{"$f":"IFERROR(AVERAGEIFS(Data!$E:$E,Data!$B:$B,H$12,Data!$A:$A,$B200),\"N/A\")","v":"N/A"},{"$f":"IFERROR(AVERAGEIFS(Data!$E:$E,Data!$B:$B,I$12,Data!$A:$A,$B200),\"N/A\")","v":"N/A"},{"$f":"IFERROR(AVERAGEIFS(Data!$E:$E,Data!$B:$B,J$12,Data!$A:$A,$B200),\"N/A\")","v":"N/A"},{"$f":"IFERROR(AVERAGEIFS(Data!$Q:$Q,Data!$B:$B,K$12,Data!$A:$A,$B200),\"N/A\")","v":"N/A"},{"$f":"IFERROR(AVERAGEIFS(Data!$Q:$Q,Data!$B:$B,L$12,Data!$A:$A,$B200),\"N/A\")","v":"N/A"},{"$f":"IFERROR(AVERAGEIFS(Data!$Q:$Q,Data!$B:$B,M$12,Data!$A:$A,$B200),\"N/A\")","v":"N/A"}]
["",{"$f":"Observations!B190","v":""},{"$f":"IF(A201=1,VLOOKUP($B201,ObData!$A$1:$J$300,3,0),\"\")","v":""},{"$f":"IF(A201=1,B201&\": \"&TEXT(C201,\"mm/dd/yy\")&\"- \"&VLOOKUP(B201,ObData!$A$1:$J$300,5,0),\"\")","v":""},{"$f":"IF($B201=\"\",\"\",IF(COUNTIFS(Data!$B:$B,E$12,Data!$A:$A,Matrices!$B201)=0,\"\",COUNTIFS(Data!$B:$B,E$12,Data!$A:$A,Matrices!$B201)))","v":""},{"$f":"IF($B201=\"\",\"\",IF(COUNTIFS(Data!$B:$B,F$12,Data!$A:$A,Matrices!$B201)=0,\"\",COUNTIFS(Data!$B:$B,F$12,Data!$A:$A,Matrices!$B201)))","v":""},{"$f":"IF($B201=\"\",\"\",IF(COUNTIFS(Data!$B:$B,G$12,Data!$A:$A,Matrices!$B201)=0,\"\",COUNTIFS(Data!$B:$B,G$12,Data!$A:$A,Matrices!$B201)))","v":""},{"$f":"IFERROR(AVERAGEIFS(Data!$E:$E,Data!$B:$B,H$12,Data!$A:$A,$B201),\"N/A\")","v":"N/A"},{"$f":"IFERROR(AVERAGEIFS(Data!$E:$E,Data!$B:$B,I$12,Data!$A:$A,$B201),\"N/A\")","v":"N/A"},{"$f":"IFERROR(AVERAGEIFS(Data!$E:$E,Data!$B:$B,J$12,Data!$A:$A,$B201),\"N/A\")","v":"N/A"},{"$f":"IFERROR(AVERAGEIFS(Data!$Q:$Q,Data!$B:$B,K$12,Data!$A:$A,$B201),\"N/A\")","v":"N/A"},{"$f":"IFERROR(AVERAGEIFS(Data!$Q:$Q,Data!$B:$B,L$12,Data!$A:$A,$B201),\"N/A\")","v":"N/A"},{"$f":"IFERROR(AVERAGEIFS(Data!$Q:$Q,Data!$B:$B,M$12,Data!$A:$A,$B201),\"N/A\")","v":"N/A"}]
["",{"$f":"Observations!B191","v":""},{"$f":"IF(A202=1,VLOOKUP($B202,ObData!$A$1:$J$300,3,0),\"\")","v":""},{"$f":"IF(A202=1,B202&\": \"&TEXT(C202,\"mm/dd/yy\")&\"- \"&VLOOKUP(B202,ObData!$A$1:$J$300,5,0),\"\")","v":""},{"$f":"IF($B202=\"\",\"\",IF(COUNTIFS(Data!$B:$B,E$12,Data!$A:$A,Matrices!$B202)=0,\"\",COUNTIFS(Data!$B:$B,E$12,Data!$A:$A,Matrices!$B202)))","v":""},{"$f":"IF($B202=\"\",\"\",IF(COUNTIFS(Data!$B:$B,F$12,Data!$A:$A,Matrices!$B202)=0,\"\",COUNTIFS(Data!$B:$B,F$12,Data!$A:$A,Matrices!$B202)))","v":""},{"$f":"IF($B202=\"\",\"\",IF(COUNTIFS(Data!$B:$B,G$12,Data!$A:$A,Matrices!$B202)=0,\"\",COUNTIFS(Data!$B:$B,G$12,Data!$A:$A,Matrices!$B202)))","v":""},{"$f":"IFERROR(AVERAGEIFS(Data!$E:$E,Data!$B:$B,H$12,Data!$A:$A,$B202),\"N/A\")","v":"N/A"},{"$f":"IFERROR(AVERAGEIFS(Data!$E:$E,Data!$B:$B,I$12,Data!$A:$A,$B202),\"N/A\")","v":"N/A"},{"$f":"IFERROR(AVERAGEIFS(Data!$E:$E,Data!$B:$B,J$12,Data!$A:$A,$B202),\"N/A\")","v":"N/A"},{"$f":"IFERROR(AVERAGEIFS(Data!$Q:$Q,Data!$B:$B,K$12,Data!$A:$A,$B202),\"N/A\")","v":"N/A"},{"$f":"IFERROR(AVERAGEIFS(Data!$Q:$Q,Data!$B:$B,L$12,Data!$A:$A,$B202),\"N/A\")","v":"N/A"},{"$f":"IFERROR(AVERAGEIFS(Data!$Q:$Q,Data!$B:$B,M$12,Data!$A:$A,$B202),\"N/A\")","v":"N/A"}]
["",{"$f":"Observations!B192","v":""},{"$f":"IF(A203=1,VLOOKUP($B203,ObData!$A$1:$J$300,3,0),\"\")","v":""},{"$f":"IF(A203=1,B203&\": \"&TEXT(C203,\"mm/dd/yy\")&\"- \"&VLOOKUP(B203,ObData!$A$1:$J$300,5,0),\"\")","v":""},{"$f":"IF($B203=\"\",\"\",IF(COUNTIFS(Data!$B:$B,E$12,Data!$A:$A,Matrices!$B203)=0,\"\",COUNTIFS(Data!$B:$B,E$12,Data!$A:$A,Matrices!$B203)))","v":""},{"$f":"IF($B203=\"\",\"\",IF(COUNTIFS(Data!$B:$B,F$12,Data!$A:$A,Matrices!$B203)=0,\"\",COUNTIFS(Data!$B:$B,F$12,Data!$A:$A,Matrices!$B203)))","v":""},{"$f":"IF($B203=\"\",\"\",IF(COUNTIFS(Data!$B:$B,G$12,Data!$A:$A,Matrices!$B203)=0,\"\",COUNTIFS(Data!$B:$B,G$12,Data!$A:$A,Matrices!$B203)))","v":""},{"$f":"IFERROR(AVERAGEIFS(Data!$E:$E,Data!$B:$B,H$12,Data!$A:$A,$B203),\"N/A\")","v":"N/A"},{"$f":"IFERROR(AVERAGEIFS(Data!$E:$E,Data!$B:$B,I$12,Data!$A:$A,$B203),\"N/A\")","v":"N/A"},{"$f":"IFERROR(AVERAGEIFS(Data!$E:$E,Data!$B:$B,J$12,Data!$A:$A,$B203),\"N/A\")","v":"N/A"},{"$f":"IFERROR(AVERAGEIFS(Data!$Q:$Q,Data!$B:$B,K$12,Data!$A:$A,$B203),\"N/A\")","v":"N/A"},{"$f":"IFERROR(AVERAGEIFS(Data!$Q:$Q,Data!$B:$B,L$12,Data!$A:$A,$B203),\"N/A\")","v":"N/A"},{"$f":"IFERROR(AVERAGEIFS(Data!$Q:$Q,Data!$B:$B,M$12,Data!$A:$A,$B203),\"N/A\")","v":"N/A"}]
["",{"$f":"Observations!B193","v":""},{"$f":"IF(A204=1,VLOOKUP($B204,ObData!$A$1:$J$300,3,0),\"\")","v":""},{"$f":"IF(A204=1,B204&\": \"&TEXT(C204,\"mm/dd/yy\")&\"- \"&VLOOKUP(B204,ObData!$A$1:$J$300,5,0),\"\")","v":""},{"$f":"IF($B204=\"\",\"\",IF(COUNTIFS(Data!$B:$B,E$12,Data!$A:$A,Matrices!$B204)=0,\"\",COUNTIFS(Data!$B:$B,E$12,Data!$A:$A,Matrices!$B204)))","v":""},{"$f":"IF($B204=\"\",\"\",IF(COUNTIFS(Data!$B:$B,F$12,Data!$A:$A,Matrices!$B204)=0,\"\",COUNTIFS(Data!$B:$B,F$12,Data!$A:$A,Matrices!$B204)))","v":""},{"$f":"IF($B204=\"\",\"\",IF(COUNTIFS(Data!$B:$B,G$12,Data!$A:$A,Matrices!$B204)=0,\"\",COUNTIFS(Data!$B:$B,G$12,Data!$A:$A,Matrices!$B204)))","v":""},{"$f":"IFERROR(AVERAGEIFS(Data!$E:$E,Data!$B:$B,H$12,Data!$A:$A,$B204),\"N/A\")","v":"N/A"},{"$f":"IFERROR(AVERAGEIFS(Data!$E:$E,Data!$B:$B,I$12,Data!$A:$A,$B204),\"N/A\")","v":"N/A"},{"$f":"IFERROR(AVERAGEIFS(Data!$E:$E,Data!$B:$B,J$12,Data!$A:$A,$B204),\"N/A\")","v":"N/A"},{"$f":"IFERROR(AVERAGEIFS(Data!$Q:$Q,Data!$B:$B,K$12,Data!$A:$A,$B204),\"N/A\")","v":"N/A"},{"$f":"IFERROR(AVERAGEIFS(Data!$Q:$Q,Data!$B:$B,L$12,Data!$A:$A,$B204),\"N/A\")","v":"N/A"},{"$f":"IFERROR(AVERAGEIFS(Data!$Q:$Q,Data!$B:$B,M$12,Data!$A:$A,$B204),\"N/A\")","v":"N/A"}]
["",{"$f":"Observations!B194","v":""},{"$f":"IF(A205=1,VLOOKUP($B205,ObData!$A$1:$J$300,3,0),\"\")","v":""},{"$f":"IF(A205=1,B205&\": \"&TEXT(C205,\"mm/dd/yy\")&\"- \"&VLOOKUP(B205,ObData!$A$1:$J$300,5,0),\"\")","v":""},{"$f":"IF($B205=\"\",\"\",IF(COUNTIFS(Data!$B:$B,E$12,Data!$A:$A,Matrices!$B205)=0,\"\",COUNTIFS(Data!$B:$B,E$12,Data!$A:$A,Matrices!$B205)))","v":""},{"$f":"IF($B205=\"\",\"\",IF(COUNTIFS(Data!$B:$B,F$12,Data!$A:$A,Matrices!$B205)=0,\"\",COUNTIFS(Data!$B:$B,F$12,Data!$A:$A,Matrices!$B205)))","v":""},{"$f":"IF($B205=\"\",\"\",IF(COUNTIFS(Data!$B:$B,G$12,Data!$A:$A,Matrices!$B205)=0,\"\",COUNTIFS(Data!$B:$B,G$12,Data!$A:$A,Matrices!$B205)))","v":""},{"$f":"IFERROR(AVERAGEIFS(Data!$E:$E,Data!$B:$B,H$12,Data!$A:$A,$B205),\"N/A\")","v":"N/A"},{"$f":"IFERROR(AVERAGEIFS(Data!$E:$E,Data!$B:$B,I$12,Data!$A:$A,$B205),\"N/A\")","v":"N/A"},{"$f":"IFERROR(AVERAGEIFS(Data!$E:$E,Data!$B:$B,J$12,Data!$A:$A,$B205),\"N/A\")","v":"N/A"},{"$f":"IFERROR(AVERAGEIFS(Data!$Q:$Q,Data!$B:$B,K$12,Data!$A:$A,$B205),\"N/A\")","v":"N/A"},{"$f":"IFERROR(AVERAGEIFS(Data!$Q:$Q,Data!$B:$B,L$12,Data!$A:$A,$B205),\"N/A\")","v":"N/A"},{"$f":"IFERROR(AVERAGEIFS(Data!$Q:$Q,Data!$B:$B,M$12,Data!$A:$A,$B205),\"N/A\")","v":"N/A"}]
[{"$f":"IF(B206<>\"\",1,\"\")","v":""},{"$f":"Observations!B195","v":""},{"$f":"IF(A206=1,VLOOKUP($B206,ObData!$A$1:$J$300,3,0),\"\")","v":""},{"$f":"IF(A206=1,B206&\": \"&TEXT(C206,\"mm/dd/yy\")&\"- \"&VLOOKUP(B206,ObData!$A$1:$J$300,5,0),\"\")","v":""},{"$f":"IF($B206=\"\",\"\",IF(COUNTIFS(Data!$B:$B,E$12,Data!$A:$A,Matrices!$B206)=0,\"\",COUNTIFS(Data!$B:$B,E$12,Data!$A:$A,Matrices!$B206)))","v":""},{"$f":"IF($B206=\"\",\"\",IF(COUNTIFS(Data!$B:$B,F$12,Data!$A:$A,Matrices!$B206)=0,\"\",COUNTIFS(Data!$B:$B,F$12,Data!$A:$A,Matrices!$B206)))","v":""},{"$f":"IF($B206=\"\",\"\",IF(COUNTIFS(Data!$B:$B,G$12,Data!$A:$A,Matrices!$B206)=0,\"\",COUNTIFS(Data!$B:$B,G$12,Data!$A:$A,Matrices!$B206)))","v":""},{"$f":"IFERROR(AVERAGEIFS(Data!$E:$E,Data!$B:$B,H$12,Data!$A:$A,$B206),\"N/A\")","v":"N/A"},{"$f":"IFERROR(AVERAGEIFS(Data!$E:$E,Data!$B:$B,I$12,Data!$A:$A,$B206),\"N/A\")","v":"N/A"},{"$f":"IFERROR(AVERAGEIFS(Data!$E:$E,Data!$B:$B,J$12,Data!$A:$A,$B206),\"N/A\")","v":"N/A"},{"$f":"IFERROR(AVERAGEIFS(Data!$Q:$Q,Data!$B:$B,K$12,Data!$A:$A,$B206),\"N/A\")","v":"N/A"},{"$f":"IFERROR(AVERAGEIFS(Data!$Q:$Q,Data!$B:$B,L$12,Data!$A:$A,$B206),\"N/A\")","v":"N/A"},{"$f":"IFERROR(AVERAGEIFS(Data!$Q:$Q,Data!$B:$B,M$12,Data!$A:$A,$B206),\"N/A\")","v":"N/A"}]
["",{"$f":"Observations!B196","v":""},{"$f":"IF(A207=1,VLOOKUP($B207,ObData!$A$1:$J$300,3,0),\"\")","v":""},{"$f":"IF(A207=1,B207&\": \"&TEXT(C207,\"mm/dd/yy\")&\"- \"&VLOOKUP(B207,ObData!$A$1:$J$300,5,0),\"\")","v":""},{"$f":"IF($B207=\"\",\"\",IF(COUNTIFS(Data!$B:$B,E$12,Data!$A:$A,Matrices!$B207)=0,\"\",COUNTIFS(Data!$B:$B,E$12,Data!$A:$A,Matrices!$B207)))","v":""},{"$f":"IF($B207=\"\",\"\",IF(COUNTIFS(Data!$B:$B,F$12,Data!$A:$A,Matrices!$B207)=0,\"\",COUNTIFS(Data!$B:$B,F$12,Data!$A:$A,Matrices!$B207)))","v":""},{"$f":"IF($B207=\"\",\"\",IF(COUNTIFS(Data!$B:$B,G$12,Data!$A:$A,Matrices!$B207)=0,\"\",COUNTIFS(Data!$B:$B,G$12,Data!$A:$A,Matrices!$B207)))","v":""},{"$f":"IFERROR(AVERAGEIFS(Data!$E:$E,Data!$B:$B,H$12,Data!$A:$A,$B207),\"N/A\")","v":"N/A"},{"$f":"IFERROR(AVERAGEIFS(Data!$E:$E,Data!$B:$B,I$12,Data!$A:$A,$B207),\"N/A\")","v":"N/A"},{"$f":"IFERROR(AVERAGEIFS(Data!$E:$E,Data!$B:$B,J$12,Data!$A:$A,$B207),\"N/A\")","v":"N/A"},{"$f":"IFERROR(AVERAGEIFS(Data!$Q:$Q,Data!$B:$B,K$12,Data!$A:$A,$B207),\"N/A\")","v":"N/A"},{"$f":"IFERROR(AVERAGEIFS(Data!$Q:$Q,Data!$B:$B,L$12,Data!$A:$A,$B207),\"N/A\")","v":"N/A"},{"$f":"IFERROR(AVERAGEIFS(Data!$Q:$Q,Data!$B:$B,M$12,Data!$A:$A,$B207),\"N/A\")","v":"N/A"}]
["",{"$f":"Observations!B197","v":""},{"$f":"IF(A208=1,VLOOKUP($B208,ObData!$A$1:$J$300,3,0),\"\")","v":""},{"$f":"IF(A208=1,B208&\": \"&TEXT(C208,\"mm/dd/yy\")&\"- \"&VLOOKUP(B208,ObData!$A$1:$J$300,5,0),\"\")","v":""},{"$f":"IF($B208=\"\",\"\",IF(COUNTIFS(Data!$B:$B,E$12,Data!$A:$A,Matrices!$B208)=0,\"\",COUNTIFS(Data!$B:$B,E$12,Data!$A:$A,Matrices!$B208)))","v":""},{"$f":"IF($B208=\"\",\"\",IF(COUNTIFS(Data!$B:$B,F$12,Data!$A:$A,Matrices!$B208)=0,\"\",COUNTIFS(Data!$B:$B,F$12,Data!$A:$A,Matrices!$B208)))","v":""},{"$f":"IF($B208=\"\",\"\",IF(COUNTIFS(Data!$B:$B,G$12,Data!$A:$A,Matrices!$B208)=0,\"\",COUNTIFS(Data!$B:$B,G$12,Data!$A:$A,Matrices!$B208)))","v":""},{"$f":"IFERROR(AVERAGEIFS(Data!$E:$E,Data!$B:$B,H$12,Data!$A:$A,$B208),\"N/A\")","v":"N/A"},{"$f":"IFERROR(AVERAGEIFS(Data!$E:$E,Data!$B:$B,I$12,Data!$A:$A,$B208),\"N/A\")","v":"N/A"},{"$f":"IFERROR(AVERAGEIFS(Data!$E:$E,Data!$B:$B,J$12,Data!$A:$A,$B208),\"N/A\")","v":"N/A"},{"$f":"IFERROR(AVERAGEIFS(Data!$Q:$Q,Data!$B:$B,K$12,Data!$A:$A,$B208),\"N/A\")","v":"N/A"},{"$f":"IFERROR(AVERAGEIFS(Data!$Q:$Q,Data!$B:$B,L$12,Data!$A:$A,$B208),\"N/A\")","v":"N/A"},{"$f":"IFERROR(AVERAGEIFS(Data!$Q:$Q,Data!$B:$B,M$12,Data!$A:$A,$B208),\"N/A\")","v":"N/A"}]
["",{"$f":"Observations!B198","v":""},{"$f":"IF(A209=1,VLOOKUP($B209,ObData!$A$1:$J$300,3,0),\"\")","v":""},{"$f":"IF(A209=1,B209&\": \"&TEXT(C209,\"mm/dd/yy\")&\"- \"&VLOOKUP(B209,ObData!$A$1:$J$300,5,0),\"\")","v":""},{"$f":"IF($B209=\"\",\"\",IF(COUNTIFS(Data!$B:$B,E$12,Data!$A:$A,Matrices!$B209)=0,\"\",COUNTIFS(Data!$B:$B,E$12,Data!$A:$A,Matrices!$B209)))","v":""},{"$f":"IF($B209=\"\",\"\",IF(COUNTIFS(Data!$B:$B,F$12,Data!$A:$A,Matrices!$B209)=0,\"\",COUNTIFS(Data!$B:$B,F$12,Data!$A:$A,Matrices!$B209)))","v":""},{"$f":"IF($B209=\"\",\"\",IF(COUNTIFS(Data!$B:$B,G$12,Data!$A:$A,Matrices!$B209)=0,\"\",COUNTIFS(Data!$B:$B,G$12,Data!$A:$A,Matrices!$B209)))","v":""},{"$f":"IFERROR(AVERAGEIFS(Data!$E:$E,Data!$B:$B,H$12,Data!$A:$A,$B209),\"N/A\")","v":"N/A"},{"$f":"IFERROR(AVERAGEIFS(Data!$E:$E,Data!$B:$B,I$12,Data!$A:$A,$B209),\"N/A\")","v":"N/A"},{"$f":"IFERROR(AVERAGEIFS(Data!$E:$E,Data!$B:$B,J$12,Data!$A:$A,$B209),\"N/A\")","v":"N/A"},{"$f":"IFERROR(AVERAGEIFS(Data!$Q:$Q,Data!$B:$B,K$12,Data!$A:$A,$B209),\"N/A\")","v":"N/A"},{"$f":"IFERROR(AVERAGEIFS(Data!$Q:$Q,Data!$B:$B,L$12,Data!$A:$A,$B209),\"N/A\")","v":"N/A"},{"$f":"IFERROR(AVERAGEIFS(Data!$Q:$Q,Data!$B:$B,M$12,Data!$A:$A,$B209),\"N/A\")","v":"N/A"}]
["",{"$f":"Observations!B199","v":""},{"$f":"IF(A210=1,VLOOKUP($B210,ObData!$A$1:$J$300,3,0),\"\")","v":""},{"$f":"IF(A210=1,B210&\": \"&TEXT(C210,\"mm/dd/yy\")&\"- \"&VLOOKUP(B210,ObData!$A$1:$J$300,5,0),\"\")","v":""},{"$f":"IF($B210=\"\",\"\",IF(COUNTIFS(Data!$B:$B,E$12,Data!$A:$A,Matrices!$B210)=0,\"\",COUNTIFS(Data!$B:$B,E$12,Data!$A:$A,Matrices!$B210)))","v":""},{"$f":"IF($B210=\"\",\"\",IF(COUNTIFS(Data!$B:$B,F$12,Data!$A:$A,Matrices!$B210)=0,\"\",COUNTIFS(Data!$B:$B,F$12,Data!$A:$A,Matrices!$B210)))","v":""},{"$f":"IF($B210=\"\",\"\",IF(COUNTIFS(Data!$B:$B,G$12,Data!$A:$A,Matrices!$B210)=0,\"\",COUNTIFS(Data!$B:$B,G$12,Data!$A:$A,Matrices!$B210)))","v":""},{"$f":"IFERROR(AVERAGEIFS(Data!$E:$E,Data!$B:$B,H$12,Data!$A:$A,$B210),\"N/A\")","v":"N/A"},{"$f":"IFERROR(AVERAGEIFS(Data!$E:$E,Data!$B:$B,I$12,Data!$A:$A,$B210),\"N/A\")","v":"N/A"},{"$f":"IFERROR(AVERAGEIFS(Data!$E:$E,Data!$B:$B,J$12,Data!$A:$A,$B210),\"N/A\")","v":"N/A"},{"$f":"IFERROR(AVERAGEIFS(Data!$Q:$Q,Data!$B:$B,K$12,Data!$A:$A,$B210),\"N/A\")","v":"N/A"},{"$f":"IFERROR(AVERAGEIFS(Data!$Q:$Q,Data!$B:$B,L$12,Data!$A:$A,$B210),\"N/A\")","v":"N/A"},{"$f":"IFERROR(AVERAGEIFS(Data!$Q:$Q,Data!$B:$B,M$12,Data!$A:$A,$B210),\"N/A\")","v":"N/A"}]
["",{"$f":"Observations!B200","v":""},{"$f":"IF(A211=1,VLOOKUP($B211,ObData!$A$1:$J$300,3,0),\"\")","v":""},{"$f":"IF(A211=1,B211&\": \"&TEXT(C211,\"mm/dd/yy\")&\"- \"&VLOOKUP(B211,ObData!$A$1:$J$300,5,0),\"\")","v":""},{"$f":"IF($B211=\"\",\"\",IF(COUNTIFS(Data!$B:$B,E$12,Data!$A:$A,Matrices!$B211)=0,\"\",COUNTIFS(Data!$B:$B,E$12,Data!$A:$A,Matrices!$B211)))","v":""},{"$f":"IF($B211=\"\",\"\",IF(COUNTIFS(Data!$B:$B,F$12,Data!$A:$A,Matrices!$B211)=0,\"\",COUNTIFS(Data!$B:$B,F$12,Data!$A:$A,Matrices!$B211)))","v":""},{"$f":"IF($B211=\"\",\"\",IF(COUNTIFS(Data!$B:$B,G$12,Data!$A:$A,Matrices!$B211)=0,\"\",COUNTIFS(Data!$B:$B,G$12,Data!$A:$A,Matrices!$B211)))","v":""},{"$f":"IFERROR(AVERAGEIFS(Data!$E:$E,Data!$B:$B,H$12,Data!$A:$A,$B211),\"N/A\")","v":"N/A"},{"$f":"IFERROR(AVERAGEIFS(Data!$E:$E,Data!$B:$B,I$12,Data!$A:$A,$B211),\"N/A\")","v":"N/A"},{"$f":"IFERROR(AVERAGEIFS(Data!$E:$E,Data!$B:$B,J$12,Data!$A:$A,$B211),\"N/A\")","v":"N/A"},{"$f":"IFERROR(AVERAGEIFS(Data!$Q:$Q,Data!$B:$B,K$12,Data!$A:$A,$B211),\"N/A\")","v":"N/A"},{"$f":"IFERROR(AVERAGEIFS(Data!$Q:$Q,Data!$B:$B,L$12,Data!$A:$A,$B211),\"N/A\")","v":"N/A"},{"$f":"IFERROR(AVERAGEIFS(Data!$Q:$Q,Data!$B:$B,M$12,Data!$A:$A,$B211),\"N/A\")","v":"N/A"}]
["",{"$f":"Observations!B201","v":""},{"$f":"IF(A212=1,VLOOKUP($B212,ObData!$A$1:$J$300,3,0),\"\")","v":""},{"$f":"IF(A212=1,B212&\": \"&TEXT(C212,\"mm/dd/yy\")&\"- \"&VLOOKUP(B212,ObData!$A$1:$J$300,5,0),\"\")","v":""},{"$f":"IF($B212=\"\",\"\",IF(COUNTIFS(Data!$B:$B,E$12,Data!$A:$A,Matrices!$B212)=0,\"\",COUNTIFS(Data!$B:$B,E$12,Data!$A:$A,Matrices!$B212)))","v":""},{"$f":"IF($B212=\"\",\"\",IF(COUNTIFS(Data!$B:$B,F$12,Data!$A:$A,Matrices!$B212)=0,\"\",COUNTIFS(Data!$B:$B,F$12,Data!$A:$A,Matrices!$B212)))","v":""},{"$f":"IF($B212=\"\",\"\",IF(COUNTIFS(Data!$B:$B,G$12,Data!$A:$A,Matrices!$B212)=0,\"\",COUNTIFS(Data!$B:$B,G$12,Data!$A:$A,Matrices!$B212)))","v":""},{"$f":"IFERROR(AVERAGEIFS(Data!$E:$E,Data!$B:$B,H$12,Data!$A:$A,$B212),\"N/A\")","v":"N/A"},{"$f":"IFERROR(AVERAGEIFS(Data!$E:$E,Data!$B:$B,I$12,Data!$A:$A,$B212),\"N/A\")","v":"N/A"},{"$f":"IFERROR(AVERAGEIFS(Data!$E:$E,Data!$B:$B,J$12,Data!$A:$A,$B212),\"N/A\")","v":"N/A"},{"$f":"IFERROR(AVERAGEIFS(Data!$Q:$Q,Data!$B:$B,K$12,Data!$A:$A,$B212),\"N/A\")","v":"N/A"},{"$f":"IFERROR(AVERAGEIFS(Data!$Q:$Q,Data!$B:$B,L$12,Data!$A:$A,$B212),\"N/A\")","v":"N/A"},{"$f":"IFERROR(AVERAGEIFS(Data!$Q:$Q,Data!$B:$B,M$12,Data!$A:$A,$B212),\"N/A\")","v":"N/A"}]
["",{"$f":"Observations!B202","v":""},{"$f":"IF(A213=1,VLOOKUP($B213,ObData!$A$1:$J$300,3,0),\"\")","v":""},{"$f":"IF(A213=1,B213&\": \"&TEXT(C213,\"mm/dd/yy\")&\"- \"&VLOOKUP(B213,ObData!$A$1:$J$300,5,0),\"\")","v":""},{"$f":"IF($B213=\"\",\"\",IF(COUNTIFS(Data!$B:$B,E$12,Data!$A:$A,Matrices!$B213)=0,\"\",COUNTIFS(Data!$B:$B,E$12,Data!$A:$A,Matrices!$B213)))","v":""},{"$f":"IF($B213=\"\",\"\",IF(COUNTIFS(Data!$B:$B,F$12,Data!$A:$A,Matrices!$B213)=0,\"\",COUNTIFS(Data!$B:$B,F$12,Data!$A:$A,Matrices!$B213)))","v":""},{"$f":"IF($B213=\"\",\"\",IF(COUNTIFS(Data!$B:$B,G$12,Data!$A:$A,Matrices!$B213)=0,\"\",COUNTIFS(Data!$B:$B,G$12,Data!$A:$A,Matrices!$B213)))","v":""},{"$f":"IFERROR(AVERAGEIFS(Data!$E:$E,Data!$B:$B,H$12,Data!$A:$A,$B213),\"N/A\")","v":"N/A"},{"$f":"IFERROR(AVERAGEIFS(Data!$E:$E,Data!$B:$B,I$12,Data!$A:$A,$B213),\"N/A\")","v":"N/A"},{"$f":"IFERROR(AVERAGEIFS(Data!$E:$E,Data!$B:$B,J$12,Data!$A:$A,$B213),\"N/A\")","v":"N/A"},{"$f":"IFERROR(AVERAGEIFS(Data!$Q:$Q,Data!$B:$B,K$12,Data!$A:$A,$B213),\"N/A\")","v":"N/A"},{"$f":"IFERROR(AVERAGEIFS(Data!$Q:$Q,Data!$B:$B,L$12,Data!$A:$A,$B213),\"N/A\")","v":"N/A"},{"$f":"IFERROR(AVERAGEIFS(Data!$Q:$Q,Data!$B:$B,M$12,Data!$A:$A,$B213),\"N/A\")","v":"N/A"}]
["",{"$f":"Observations!B203","v":""},{"$f":"IF(A214=1,VLOOKUP($B214,ObData!$A$1:$J$300,3,0),\"\")","v":""},{"$f":"IF(A214=1,B214&\": \"&TEXT(C214,\"mm/dd/yy\")&\"- \"&VLOOKUP(B214,ObData!$A$1:$J$300,5,0),\"\")","v":""},{"$f":"IF($B214=\"\",\"\",IF(COUNTIFS(Data!$B:$B,E$12,Data!$A:$A,Matrices!$B214)=0,\"\",COUNTIFS(Data!$B:$B,E$12,Data!$A:$A,Matrices!$B214)))","v":""},{"$f":"IF($B214=\"\",\"\",IF(COUNTIFS(Data!$B:$B,F$12,Data!$A:$A,Matrices!$B214)=0,\"\",COUNTIFS(Data!$B:$B,F$12,Data!$A:$A,Matrices!$B214)))","v":""},{"$f":"IF($B214=\"\",\"\",IF(COUNTIFS(Data!$B:$B,G$12,Data!$A:$A,Matrices!$B214)=0,\"\",COUNTIFS(Data!$B:$B,G$12,Data!$A:$A,Matrices!$B214)))","v":""},{"$f":"IFERROR(AVERAGEIFS(Data!$E:$E,Data!$B:$B,H$12,Data!$A:$A,$B214),\"N/A\")","v":"N/A"},{"$f":"IFERROR(AVERAGEIFS(Data!$E:$E,Data!$B:$B,I$12,Data!$A:$A,$B214),\"N/A\")","v":"N/A"},{"$f":"IFERROR(AVERAGEIFS(Data!$E:$E,Data!$B:$B,J$12,Data!$A:$A,$B214),\"N/A\")","v":"N/A"},{"$f":"IFERROR(AVERAGEIFS(Data!$Q:$Q,Data!$B:$B,K$12,Data!$A:$A,$B214),\"N/A\")","v":"N/A"},{"$f":"IFERROR(AVERAGEIFS(Data!$Q:$Q,Data!$B:$B,L$12,Data!$A:$A,$B214),\"N/A\")","v":"N/A"},{"$f":"IFERROR(AVERAGEIFS(Data!$Q:$Q,Data!$B:$B,M$12,Data!$A:$A,$B214),\"N/A\")","v":"N/A"}]
["",{"$f":"Observations!B204","v":""},{"$f":"IF(A215=1,VLOOKUP($B215,ObData!$A$1:$J$300,3,0),\"\")","v":""},{"$f":"IF(A215=1,B215&\": \"&TEXT(C215,\"mm/dd/yy\")&\"- \"&VLOOKUP(B215,ObData!$A$1:$J$300,5,0),\"\")","v":""},{"$f":"IF($B215=\"\",\"\",IF(COUNTIFS(Data!$B:$B,E$12,Data!$A:$A,Matrices!$B215)=0,\"\",COUNTIFS(Data!$B:$B,E$12,Data!$A:$A,Matrices!$B215)))","v":""},{"$f":"IF($B215=\"\",\"\",IF(COUNTIFS(Data!$B:$B,F$12,Data!$A:$A,Matrices!$B215)=0,\"\",COUNTIFS(Data!$B:$B,F$12,Data!$A:$A,Matrices!$B215)))","v":""},{"$f":"IF($B215=\"\",\"\",IF(COUNTIFS(Data!$B:$B,G$12,Data!$A:$A,Matrices!$B215)=0,\"\",COUNTIFS(Data!$B:$B,G$12,Data!$A:$A,Matrices!$B215)))","v":""},{"$f":"IFERROR(AVERAGEIFS(Data!$E:$E,Data!$B:$B,H$12,Data!$A:$A,$B215),\"N/A\")","v":"N/A"},{"$f":"IFERROR(AVERAGEIFS(Data!$E:$E,Data!$B:$B,I$12,Data!$A:$A,$B215),\"N/A\")","v":"N/A"},{"$f":"IFERROR(AVERAGEIFS(Data!$E:$E,Data!$B:$B,J$12,Data!$A:$A,$B215),\"N/A\")","v":"N/A"},{"$f":"IFERROR(AVERAGEIFS(Data!$Q:$Q,Data!$B:$B,K$12,Data!$A:$A,$B215),\"N/A\")","v":"N/A"},{"$f":"IFERROR(AVERAGEIFS(Data!$Q:$Q,Data!$B:$B,L$12,Data!$A:$A,$B215),\"N/A\")","v":"N/A"},{"$f":"IFERROR(AVERAGEIFS(Data!$Q:$Q,Data!$B:$B,M$12,Data!$A:$A,$B215),\"N/A\")","v":"N/A"}]
["",{"$f":"Observations!B205","v":""},{"$f":"IF(A216=1,VLOOKUP($B216,ObData!$A$1:$J$300,3,0),\"\")","v":""},{"$f":"IF(A216=1,B216&\": \"&TEXT(C216,\"mm/dd/yy\")&\"- \"&VLOOKUP(B216,ObData!$A$1:$J$300,5,0),\"\")","v":""},{"$f":"IF($B216=\"\",\"\",IF(COUNTIFS(Data!$B:$B,E$12,Data!$A:$A,Matrices!$B216)=0,\"\",COUNTIFS(Data!$B:$B,E$12,Data!$A:$A,Matrices!$B216)))","v":""},{"$f":"IF($B216=\"\",\"\",IF(COUNTIFS(Data!$B:$B,F$12,Data!$A:$A,Matrices!$B216)=0,\"\",COUNTIFS(Data!$B:$B,F$12,Data!$A:$A,Matrices!$B216)))","v":""},{"$f":"IF($B216=\"\",\"\",IF(COUNTIFS(Data!$B:$B,G$12,Data!$A:$A,Matrices!$B216)=0,\"\",COUNTIFS(Data!$B:$B,G$12,Data!$A:$A,Matrices!$B216)))","v":""},{"$f":"IFERROR(AVERAGEIFS(Data!$E:$E,Data!$B:$B,H$12,Data!$A:$A,$B216),\"N/A\")","v":"N/A"},{"$f":"IFERROR(AVERAGEIFS(Data!$E:$E,Data!$B:$B,I$12,Data!$A:$A,$B216),\"N/A\")","v":"N/A"},{"$f":"IFERROR(AVERAGEIFS(Data!$E:$E,Data!$B:$B,J$12,Data!$A:$A,$B216),\"N/A\")","v":"N/A"},{"$f":"IFERROR(AVERAGEIFS(Data!$Q:$Q,Data!$B:$B,K$12,Data!$A:$A,$B216),\"N/A\")","v":"N/A"},{"$f":"IFERROR(AVERAGEIFS(Data!$Q:$Q,Data!$B:$B,L$12,Data!$A:$A,$B216),\"N/A\")","v":"N/A"},{"$f":"IFERROR(AVERAGEIFS(Data!$Q:$Q,Data!$B:$B,M$12,Data!$A:$A,$B216),\"N/A\")","v":"N/A"}]
["",{"$f":"Observations!B206","v":""},{"$f":"IF(A217=1,VLOOKUP($B217,ObData!$A$1:$J$300,3,0),\"\")","v":""},{"$f":"IF(A217=1,B217&\": \"&TEXT(C217,\"mm/dd/yy\")&\"- \"&VLOOKUP(B217,ObData!$A$1:$J$300,5,0),\"\")","v":""},{"$f":"IF($B217=\"\",\"\",IF(COUNTIFS(Data!$B:$B,E$12,Data!$A:$A,Matrices!$B217)=0,\"\",COUNTIFS(Data!$B:$B,E$12,Data!$A:$A,Matrices!$B217)))","v":""},{"$f":"IF($B217=\"\",\"\",IF(COUNTIFS(Data!$B:$B,F$12,Data!$A:$A,Matrices!$B217)=0,\"\",COUNTIFS(Data!$B:$B,F$12,Data!$A:$A,Matrices!$B217)))","v":""},{"$f":"IF($B217=\"\",\"\",IF(COUNTIFS(Data!$B:$B,G$12,Data!$A:$A,Matrices!$B217)=0,\"\",COUNTIFS(Data!$B:$B,G$12,Data!$A:$A,Matrices!$B217)))","v":""},{"$f":"IFERROR(AVERAGEIFS(Data!$E:$E,Data!$B:$B,H$12,Data!$A:$A,$B217),\"N/A\")","v":"N/A"},{"$f":"IFERROR(AVERAGEIFS(Data!$E:$E,Data!$B:$B,I$12,Data!$A:$A,$B217),\"N/A\")","v":"N/A"},{"$f":"IFERROR(AVERAGEIFS(Data!$E:$E,Data!$B:$B,J$12,Data!$A:$A,$B217),\"N/A\")","v":"N/A"},{"$f":"IFERROR(AVERAGEIFS(Data!$Q:$Q,Data!$B:$B,K$12,Data!$A:$A,$B217),\"N/A\")","v":"N/A"},{"$f":"IFERROR(AVERAGEIFS(Data!$Q:$Q,Data!$B:$B,L$12,Data!$A:$A,$B217),\"N/A\")","v":"N/A"},{"$f":"IFERROR(AVERAGEIFS(Data!$Q:$Q,Data!$B:$B,M$12,Data!$A:$A,$B217),\"N/A\")","v":"N/A"}]
["",{"$f":"Observations!B207","v":""},{"$f":"IF(A218=1,VLOOKUP($B218,ObData!$A$1:$J$300,3,0),\"\")","v":""},{"$f":"IF(A218=1,B218&\": \"&TEXT(C218,\"mm/dd/yy\")&\"- \"&VLOOKUP(B218,ObData!$A$1:$J$300,5,0),\"\")","v":""},{"$f":"IF($B218=\"\",\"\",IF(COUNTIFS(Data!$B:$B,E$12,Data!$A:$A,Matrices!$B218)=0,\"\",COUNTIFS(Data!$B:$B,E$12,Data!$A:$A,Matrices!$B218)))","v":""},{"$f":"IF($B218=\"\",\"\",IF(COUNTIFS(Data!$B:$B,F$12,Data!$A:$A,Matrices!$B218)=0,\"\",COUNTIFS(Data!$B:$B,F$12,Data!$A:$A,Matrices!$B218)))","v":""},{"$f":"IF($B218=\"\",\"\",IF(COUNTIFS(Data!$B:$B,G$12,Data!$A:$A,Matrices!$B218)=0,\"\",COUNTIFS(Data!$B:$B,G$12,Data!$A:$A,Matrices!$B218)))","v":""},{"$f":"IFERROR(AVERAGEIFS(Data!$E:$E,Data!$B:$B,H$12,Data!$A:$A,$B218),\"N/A\")","v":"N/A"},{"$f":"IFERROR(AVERAGEIFS(Data!$E:$E,Data!$B:$B,I$12,Data!$A:$A,$B218),\"N/A\")","v":"N/A"},{"$f":"IFERROR(AVERAGEIFS(Data!$E:$E,Data!$B:$B,J$12,Data!$A:$A,$B218),\"N/A\")","v":"N/A"},{"$f":"IFERROR(AVERAGEIFS(Data!$Q:$Q,Data!$B:$B,K$12,Data!$A:$A,$B218),\"N/A\")","v":"N/A"},{"$f":"IFERROR(AVERAGEIFS(Data!$Q:$Q,Data!$B:$B,L$12,Data!$A:$A,$B218),\"N/A\")","v":"N/A"},{"$f":"IFERROR(AVERAGEIFS(Data!$Q:$Q,Data!$B:$B,M$12,Data!$A:$A,$B218),\"N/A\")","v":"N/A"}]
["",{"$f":"Observations!B208","v":""},{"$f":"IF(A219=1,VLOOKUP($B219,ObData!$A$1:$J$300,3,0),\"\")","v":""},{"$f":"IF(A219=1,B219&\": \"&TEXT(C219,\"mm/dd/yy\")&\"- \"&VLOOKUP(B219,ObData!$A$1:$J$300,5,0),\"\")","v":""},{"$f":"IF($B219=\"\",\"\",IF(COUNTIFS(Data!$B:$B,E$12,Data!$A:$A,Matrices!$B219)=0,\"\",COUNTIFS(Data!$B:$B,E$12,Data!$A:$A,Matrices!$B219)))","v":""},{"$f":"IF($B219=\"\",\"\",IF(COUNTIFS(Data!$B:$B,F$12,Data!$A:$A,Matrices!$B219)=0,\"\",COUNTIFS(Data!$B:$B,F$12,Data!$A:$A,Matrices!$B219)))","v":""},{"$f":"IF($B219=\"\",\"\",IF(COUNTIFS(Data!$B:$B,G$12,Data!$A:$A,Matrices!$B219)=0,\"\",COUNTIFS(Data!$B:$B,G$12,Data!$A:$A,Matrices!$B219)))","v":""},{"$f":"IFERROR(AVERAGEIFS(Data!$E:$E,Data!$B:$B,H$12,Data!$A:$A,$B219),\"N/A\")","v":"N/A"},{"$f":"IFERROR(AVERAGEIFS(Data!$E:$E,Data!$B:$B,I$12,Data!$A:$A,$B219),\"N/A\")","v":"N/A"},{"$f":"IFERROR(AVERAGEIFS(Data!$E:$E,Data!$B:$B,J$12,Data!$A:$A,$B219),\"N/A\")","v":"N/A"},{"$f":"IFERROR(AVERAGEIFS(Data!$Q:$Q,Data!$B:$B,K$12,Data!$A:$A,$B219),\"N/A\")","v":"N/A"},{"$f":"IFERROR(AVERAGEIFS(Data!$Q:$Q,Data!$B:$B,L$12,Data!$A:$A,$B219),\"N/A\")","v":"N/A"},{"$f":"IFERROR(AVERAGEIFS(Data!$Q:$Q,Data!$B:$B,M$12,Data!$A:$A,$B219),\"N/A\")","v":"N/A"}]
["",{"$f":"Observations!B209","v":""},{"$f":"IF(A220=1,VLOOKUP($B220,ObData!$A$1:$J$300,3,0),\"\")","v":""},{"$f":"IF(A220=1,B220&\": \"&TEXT(C220,\"mm/dd/yy\")&\"- \"&VLOOKUP(B220,ObData!$A$1:$J$300,5,0),\"\")","v":""},{"$f":"IF($B220=\"\",\"\",IF(COUNTIFS(Data!$B:$B,E$12,Data!$A:$A,Matrices!$B220)=0,\"\",COUNTIFS(Data!$B:$B,E$12,Data!$A:$A,Matrices!$B220)))","v":""},{"$f":"IF($B220=\"\",\"\",IF(COUNTIFS(Data!$B:$B,F$12,Data!$A:$A,Matrices!$B220)=0,\"\",COUNTIFS(Data!$B:$B,F$12,Data!$A:$A,Matrices!$B220)))","v":""},{"$f":"IF($B220=\"\",\"\",IF(COUNTIFS(Data!$B:$B,G$12,Data!$A:$A,Matrices!$B220)=0,\"\",COUNTIFS(Data!$B:$B,G$12,Data!$A:$A,Matrices!$B220)))","v":""},{"$f":"IFERROR(AVERAGEIFS(Data!$E:$E,Data!$B:$B,H$12,Data!$A:$A,$B220),\"N/A\")","v":"N/A"},{"$f":"IFERROR(AVERAGEIFS(Data!$E:$E,Data!$B:$B,I$12,Data!$A:$A,$B220),\"N/A\")","v":"N/A"},{"$f":"IFERROR(AVERAGEIFS(Data!$E:$E,Data!$B:$B,J$12,Data!$A:$A,$B220),\"N/A\")","v":"N/A"},{"$f":"IFERROR(AVERAGEIFS(Data!$Q:$Q,Data!$B:$B,K$12,Data!$A:$A,$B220),\"N/A\")","v":"N/A"},{"$f":"IFERROR(AVERAGEIFS(Data!$Q:$Q,Data!$B:$B,L$12,Data!$A:$A,$B220),\"N/A\")","v":"N/A"},{"$f":"IFERROR(AVERAGEIFS(Data!$Q:$Q,Data!$B:$B,M$12,Data!$A:$A,$B220),\"N/A\")","v":"N/A"}]
["",{"$f":"Observations!B210","v":""},{"$f":"IF(A221=1,VLOOKUP($B221,ObData!$A$1:$J$300,3,0),\"\")","v":""},{"$f":"IF(A221=1,B221&\": \"&TEXT(C221,\"mm/dd/yy\")&\"- \"&VLOOKUP(B221,ObData!$A$1:$J$300,5,0),\"\")","v":""},{"$f":"IF($B221=\"\",\"\",IF(COUNTIFS(Data!$B:$B,E$12,Data!$A:$A,Matrices!$B221)=0,\"\",COUNTIFS(Data!$B:$B,E$12,Data!$A:$A,Matrices!$B221)))","v":""},{"$f":"IF($B221=\"\",\"\",IF(COUNTIFS(Data!$B:$B,F$12,Data!$A:$A,Matrices!$B221)=0,\"\",COUNTIFS(Data!$B:$B,F$12,Data!$A:$A,Matrices!$B221)))","v":""},{"$f":"IF($B221=\"\",\"\",IF(COUNTIFS(Data!$B:$B,G$12,Data!$A:$A,Matrices!$B221)=0,\"\",COUNTIFS(Data!$B:$B,G$12,Data!$A:$A,Matrices!$B221)))","v":""},{"$f":"IFERROR(AVERAGEIFS(Data!$E:$E,Data!$B:$B,H$12,Data!$A:$A,$B221),\"N/A\")","v":"N/A"},{"$f":"IFERROR(AVERAGEIFS(Data!$E:$E,Data!$B:$B,I$12,Data!$A:$A,$B221),\"N/A\")","v":"N/A"},{"$f":"IFERROR(AVERAGEIFS(Data!$E:$E,Data!$B:$B,J$12,Data!$A:$A,$B221),\"N/A\")","v":"N/A"},{"$f":"IFERROR(AVERAGEIFS(Data!$Q:$Q,Data!$B:$B,K$12,Data!$A:$A,$B221),\"N/A\")","v":"N/A"},{"$f":"IFERROR(AVERAGEIFS(Data!$Q:$Q,Data!$B:$B,L$12,Data!$A:$A,$B221),\"N/A\")","v":"N/A"},{"$f":"IFERROR(AVERAGEIFS(Data!$Q:$Q,Data!$B:$B,M$12,Data!$A:$A,$B221),\"N/A\")","v":"N/A"}]
["",{"$f":"Observations!B211","v":""},{"$f":"IF(A222=1,VLOOKUP($B222,ObData!$A$1:$J$300,3,0),\"\")","v":""},{"$f":"IF(A222=1,B222&\": \"&TEXT(C222,\"mm/dd/yy\")&\"- \"&VLOOKUP(B222,ObData!$A$1:$J$300,5,0),\"\")","v":""},{"$f":"IF($B222=\"\",\"\",IF(COUNTIFS(Data!$B:$B,E$12,Data!$A:$A,Matrices!$B222)=0,\"\",COUNTIFS(Data!$B:$B,E$12,Data!$A:$A,Matrices!$B222)))","v":""},{"$f":"IF($B222=\"\",\"\",IF(COUNTIFS(Data!$B:$B,F$12,Data!$A:$A,Matrices!$B222)=0,\"\",COUNTIFS(Data!$B:$B,F$12,Data!$A:$A,Matrices!$B222)))","v":""},{"$f":"IF($B222=\"\",\"\",IF(COUNTIFS(Data!$B:$B,G$12,Data!$A:$A,Matrices!$B222)=0,\"\",COUNTIFS(Data!$B:$B,G$12,Data!$A:$A,Matrices!$B222)))","v":""},{"$f":"IFERROR(AVERAGEIFS(Data!$E:$E,Data!$B:$B,H$12,Data!$A:$A,$B222),\"N/A\")","v":"N/A"},{"$f":"IFERROR(AVERAGEIFS(Data!$E:$E,Data!$B:$B,I$12,Data!$A:$A,$B222),\"N/A\")","v":"N/A"},{"$f":"IFERROR(AVERAGEIFS(Data!$E:$E,Data!$B:$B,J$12,Data!$A:$A,$B222),\"N/A\")","v":"N/A"},{"$f":"IFERROR(AVERAGEIFS(Data!$Q:$Q,Data!$B:$B,K$12,Data!$A:$A,$B222),\"N/A\")","v":"N/A"},{"$f":"IFERROR(AVERAGEIFS(Data!$Q:$Q,Data!$B:$B,L$12,Data!$A:$A,$B222),\"N/A\")","v":"N/A"},{"$f":"IFERROR(AVERAGEIFS(Data!$Q:$Q,Data!$B:$B,M$12,Data!$A:$A,$B222),\"N/A\")","v":"N/A"}]
["",{"$f":"Observations!B212","v":""},{"$f":"IF(A223=1,VLOOKUP($B223,ObData!$A$1:$J$300,3,0),\"\")","v":""},{"$f":"IF(A223=1,B223&\": \"&TEXT(C223,\"mm/dd/yy\")&\"- \"&VLOOKUP(B223,ObData!$A$1:$J$300,5,0),\"\")","v":""},{"$f":"IF($B223=\"\",\"\",IF(COUNTIFS(Data!$B:$B,E$12,Data!$A:$A,Matrices!$B223)=0,\"\",COUNTIFS(Data!$B:$B,E$12,Data!$A:$A,Matrices!$B223)))","v":""},{"$f":"IF($B223=\"\",\"\",IF(COUNTIFS(Data!$B:$B,F$12,Data!$A:$A,Matrices!$B223)=0,\"\",COUNTIFS(Data!$B:$B,F$12,Data!$A:$A,Matrices!$B223)))","v":""},{"$f":"IF($B223=\"\",\"\",IF(COUNTIFS(Data!$B:$B,G$12,Data!$A:$A,Matrices!$B223)=0,\"\",COUNTIFS(Data!$B:$B,G$12,Data!$A:$A,Matrices!$B223)))","v":""},{"$f":"IFERROR(AVERAGEIFS(Data!$E:$E,Data!$B:$B,H$12,Data!$A:$A,$B223),\"N/A\")","v":"N/A"},{"$f":"IFERROR(AVERAGEIFS(Data!$E:$E,Data!$B:$B,I$12,Data!$A:$A,$B223),\"N/A\")","v":"N/A"},{"$f":"IFERROR(AVERAGEIFS(Data!$E:$E,Data!$B:$B,J$12,Data!$A:$A,$B223),\"N/A\")","v":"N/A"},{"$f":"IFERROR(AVERAGEIFS(Data!$Q:$Q,Data!$B:$B,K$12,Data!$A:$A,$B223),\"N/A\")","v":"N/A"},{"$f":"IFERROR(AVERAGEIFS(Data!$Q:$Q,Data!$B:$B,L$12,Data!$A:$A,$B223),\"N/A\")","v":"N/A"},{"$f":"IFERROR(AVERAGEIFS(Data!$Q:$Q,Data!$B:$B,M$12,Data!$A:$A,$B223),\"N/A\")","v":"N/A"}]
["",{"$f":"Observations!B213","v":""},{"$f":"IF(A224=1,VLOOKUP($B224,ObData!$A$1:$J$300,3,0),\"\")","v":""},{"$f":"IF(A224=1,B224&\": \"&TEXT(C224,\"mm/dd/yy\")&\"- \"&VLOOKUP(B224,ObData!$A$1:$J$300,5,0),\"\")","v":""},{"$f":"IF($B224=\"\",\"\",IF(COUNTIFS(Data!$B:$B,E$12,Data!$A:$A,Matrices!$B224)=0,\"\",COUNTIFS(Data!$B:$B,E$12,Data!$A:$A,Matrices!$B224)))","v":""},{"$f":"IF($B224=\"\",\"\",IF(COUNTIFS(Data!$B:$B,F$12,Data!$A:$A,Matrices!$B224)=0,\"\",COUNTIFS(Data!$B:$B,F$12,Data!$A:$A,Matrices!$B224)))","v":""},{"$f":"IF($B224=\"\",\"\",IF(COUNTIFS(Data!$B:$B,G$12,Data!$A:$A,Matrices!$B224)=0,\"\",COUNTIFS(Data!$B:$B,G$12,Data!$A:$A,Matrices!$B224)))","v":""},{"$f":"IFERROR(AVERAGEIFS(Data!$E:$E,Data!$B:$B,H$12,Data!$A:$A,$B224),\"N/A\")","v":"N/A"},{"$f":"IFERROR(AVERAGEIFS(Data!$E:$E,Data!$B:$B,I$12,Data!$A:$A,$B224),\"N/A\")","v":"N/A"},{"$f":"IFERROR(AVERAGEIFS(Data!$E:$E,Data!$B:$B,J$12,Data!$A:$A,$B224),\"N/A\")","v":"N/A"},{"$f":"IFERROR(AVERAGEIFS(Data!$Q:$Q,Data!$B:$B,K$12,Data!$A:$A,$B224),\"N/A\")","v":"N/A"},{"$f":"IFERROR(AVERAGEIFS(Data!$Q:$Q,Data!$B:$B,L$12,Data!$A:$A,$B224),\"N/A\")","v":"N/A"},{"$f":"IFERROR(AVERAGEIFS(Data!$Q:$Q,Data!$B:$B,M$12,Data!$A:$A,$B224),\"N/A\")","v":"N/A"}]
["",{"$f":"Observations!B214","v":""},{"$f":"IF(A225=1,VLOOKUP($B225,ObData!$A$1:$J$300,3,0),\"\")","v":""},{"$f":"IF(A225=1,B225&\": \"&TEXT(C225,\"mm/dd/yy\")&\"- \"&VLOOKUP(B225,ObData!$A$1:$J$300,5,0),\"\")","v":""},{"$f":"IF($B225=\"\",\"\",IF(COUNTIFS(Data!$B:$B,E$12,Data!$A:$A,Matrices!$B225)=0,\"\",COUNTIFS(Data!$B:$B,E$12,Data!$A:$A,Matrices!$B225)))","v":""},{"$f":"IF($B225=\"\",\"\",IF(COUNTIFS(Data!$B:$B,F$12,Data!$A:$A,Matrices!$B225)=0,\"\",COUNTIFS(Data!$B:$B,F$12,Data!$A:$A,Matrices!$B225)))","v":""},{"$f":"IF($B225=\"\",\"\",IF(COUNTIFS(Data!$B:$B,G$12,Data!$A:$A,Matrices!$B225)=0,\"\",COUNTIFS(Data!$B:$B,G$12,Data!$A:$A,Matrices!$B225)))","v":""},{"$f":"IFERROR(AVERAGEIFS(Data!$E:$E,Data!$B:$B,H$12,Data!$A:$A,$B225),\"N/A\")","v":"N/A"},{"$f":"IFERROR(AVERAGEIFS(Data!$E:$E,Data!$B:$B,I$12,Data!$A:$A,$B225),\"N/A\")","v":"N/A"},{"$f":"IFERROR(AVERAGEIFS(Data!$E:$E,Data!$B:$B,J$12,Data!$A:$A,$B225),\"N/A\")","v":"N/A"},{"$f":"IFERROR(AVERAGEIFS(Data!$Q:$Q,Data!$B:$B,K$12,Data!$A:$A,$B225),\"N/A\")","v":"N/A"},{"$f":"IFERROR(AVERAGEIFS(Data!$Q:$Q,Data!$B:$B,L$12,Data!$A:$A,$B225),\"N/A\")","v":"N/A"},{"$f":"IFERROR(AVERAGEIFS(Data!$Q:$Q,Data!$B:$B,M$12,Data!$A:$A,$B225),\"N/A\")","v":"N/A"}]
["",{"$f":"Observations!B215","v":""},{"$f":"IF(A226=1,VLOOKUP($B226,ObData!$A$1:$J$300,3,0),\"\")","v":""},{"$f":"IF(A226=1,B226&\": \"&TEXT(C226,\"mm/dd/yy\")&\"- \"&VLOOKUP(B226,ObData!$A$1:$J$300,5,0),\"\")","v":""},{"$f":"IF($B226=\"\",\"\",IF(COUNTIFS(Data!$B:$B,E$12,Data!$A:$A,Matrices!$B226)=0,\"\",COUNTIFS(Data!$B:$B,E$12,Data!$A:$A,Matrices!$B226)))","v":""},{"$f":"IF($B226=\"\",\"\",IF(COUNTIFS(Data!$B:$B,F$12,Data!$A:$A,Matrices!$B226)=0,\"\",COUNTIFS(Data!$B:$B,F$12,Data!$A:$A,Matrices!$B226)))","v":""},{"$f":"IF($B226=\"\",\"\",IF(COUNTIFS(Data!$B:$B,G$12,Data!$A:$A,Matrices!$B226)=0,\"\",COUNTIFS(Data!$B:$B,G$12,Data!$A:$A,Matrices!$B226)))","v":""},{"$f":"IFERROR(AVERAGEIFS(Data!$E:$E,Data!$B:$B,H$12,Data!$A:$A,$B226),\"N/A\")","v":"N/A"},{"$f":"IFERROR(AVERAGEIFS(Data!$E:$E,Data!$B:$B,I$12,Data!$A:$A,$B226),\"N/A\")","v":"N/A"},{"$f":"IFERROR(AVERAGEIFS(Data!$E:$E,Data!$B:$B,J$12,Data!$A:$A,$B226),\"N/A\")","v":"N/A"},{"$f":"IFERROR(AVERAGEIFS(Data!$Q:$Q,Data!$B:$B,K$12,Data!$A:$A,$B226),\"N/A\")","v":"N/A"},{"$f":"IFERROR(AVERAGEIFS(Data!$Q:$Q,Data!$B:$B,L$12,Data!$A:$A,$B226),\"N/A\")","v":"N/A"},{"$f":"IFERROR(AVERAGEIFS(Data!$Q:$Q,Data!$B:$B,M$12,Data!$A:$A,$B226),\"N/A\")","v":"N/A"}]
["",{"$f":"Observations!B216","v":""},{"$f":"IF(A227=1,VLOOKUP($B227,ObData!$A$1:$J$300,3,0),\"\")","v":""},{"$f":"IF(A227=1,B227&\": \"&TEXT(C227,\"mm/dd/yy\")&\"- \"&VLOOKUP(B227,ObData!$A$1:$J$300,5,0),\"\")","v":""},{"$f":"IF($B227=\"\",\"\",IF(COUNTIFS(Data!$B:$B,E$12,Data!$A:$A,Matrices!$B227)=0,\"\",COUNTIFS(Data!$B:$B,E$12,Data!$A:$A,Matrices!$B227)))","v":""},{"$f":"IF($B227=\"\",\"\",IF(COUNTIFS(Data!$B:$B,F$12,Data!$A:$A,Matrices!$B227)=0,\"\",COUNTIFS(Data!$B:$B,F$12,Data!$A:$A,Matrices!$B227)))","v":""},{"$f":"IF($B227=\"\",\"\",IF(COUNTIFS(Data!$B:$B,G$12,Data!$A:$A,Matrices!$B227)=0,\"\",COUNTIFS(Data!$B:$B,G$12,Data!$A:$A,Matrices!$B227)))","v":""},{"$f":"IFERROR(AVERAGEIFS(Data!$E:$E,Data!$B:$B,H$12,Data!$A:$A,$B227),\"N/A\")","v":"N/A"},{"$f":"IFERROR(AVERAGEIFS(Data!$E:$E,Data!$B:$B,I$12,Data!$A:$A,$B227),\"N/A\")","v":"N/A"},{"$f":"IFERROR(AVERAGEIFS(Data!$E:$E,Data!$B:$B,J$12,Data!$A:$A,$B227),\"N/A\")","v":"N/A"},{"$f":"IFERROR(AVERAGEIFS(Data!$Q:$Q,Data!$B:$B,K$12,Data!$A:$A,$B227),\"N/A\")","v":"N/A"},{"$f":"IFERROR(AVERAGEIFS(Data!$Q:$Q,Data!$B:$B,L$12,Data!$A:$A,$B227),\"N/A\")","v":"N/A"},{"$f":"IFERROR(AVERAGEIFS(Data!$Q:$Q,Data!$B:$B,M$12,Data!$A:$A,$B227),\"N/A\")","v":"N/A"}]
["",{"$f":"Observations!B217","v":""},{"$f":"IF(A228=1,VLOOKUP($B228,ObData!$A$1:$J$300,3,0),\"\")","v":""},{"$f":"IF(A228=1,B228&\": \"&TEXT(C228,\"mm/dd/yy\")&\"- \"&VLOOKUP(B228,ObData!$A$1:$J$300,5,0),\"\")","v":""},{"$f":"IF($B228=\"\",\"\",IF(COUNTIFS(Data!$B:$B,E$12,Data!$A:$A,Matrices!$B228)=0,\"\",COUNTIFS(Data!$B:$B,E$12,Data!$A:$A,Matrices!$B228)))","v":""},{"$f":"IF($B228=\"\",\"\",IF(COUNTIFS(Data!$B:$B,F$12,Data!$A:$A,Matrices!$B228)=0,\"\",COUNTIFS(Data!$B:$B,F$12,Data!$A:$A,Matrices!$B228)))","v":""},{"$f":"IF($B228=\"\",\"\",IF(COUNTIFS(Data!$B:$B,G$12,Data!$A:$A,Matrices!$B228)=0,\"\",COUNTIFS(Data!$B:$B,G$12,Data!$A:$A,Matrices!$B228)))","v":""},{"$f":"IFERROR(AVERAGEIFS(Data!$E:$E,Data!$B:$B,H$12,Data!$A:$A,$B228),\"N/A\")","v":"N/A"},{"$f":"IFERROR(AVERAGEIFS(Data!$E:$E,Data!$B:$B,I$12,Data!$A:$A,$B228),\"N/A\")","v":"N/A"},{"$f":"IFERROR(AVERAGEIFS(Data!$E:$E,Data!$B:$B,J$12,Data!$A:$A,$B228),\"N/A\")","v":"N/A"},{"$f":"IFERROR(AVERAGEIFS(Data!$Q:$Q,Data!$B:$B,K$12,Data!$A:$A,$B228),\"N/A\")","v":"N/A"},{"$f":"IFERROR(AVERAGEIFS(Data!$Q:$Q,Data!$B:$B,L$12,Data!$A:$A,$B228),\"N/A\")","v":"N/A"},{"$f":"IFERROR(AVERAGEIFS(Data!$Q:$Q,Data!$B:$B,M$12,Data!$A:$A,$B228),\"N/A\")","v":"N/A"}]
["",{"$f":"Observations!B218","v":""},{"$f":"IF(A229=1,VLOOKUP($B229,ObData!$A$1:$J$300,3,0),\"\")","v":""},{"$f":"IF(A229=1,B229&\": \"&TEXT(C229,\"mm/dd/yy\")&\"- \"&VLOOKUP(B229,ObData!$A$1:$J$300,5,0),\"\")","v":""},{"$f":"IF($B229=\"\",\"\",IF(COUNTIFS(Data!$B:$B,E$12,Data!$A:$A,Matrices!$B229)=0,\"\",COUNTIFS(Data!$B:$B,E$12,Data!$A:$A,Matrices!$B229)))","v":""},{"$f":"IF($B229=\"\",\"\",IF(COUNTIFS(Data!$B:$B,F$12,Data!$A:$A,Matrices!$B229)=0,\"\",COUNTIFS(Data!$B:$B,F$12,Data!$A:$A,Matrices!$B229)))","v":""},{"$f":"IF($B229=\"\",\"\",IF(COUNTIFS(Data!$B:$B,G$12,Data!$A:$A,Matrices!$B229)=0,\"\",COUNTIFS(Data!$B:$B,G$12,Data!$A:$A,Matrices!$B229)))","v":""},{"$f":"IFERROR(AVERAGEIFS(Data!$E:$E,Data!$B:$B,H$12,Data!$A:$A,$B229),\"N/A\")","v":"N/A"},{"$f":"IFERROR(AVERAGEIFS(Data!$E:$E,Data!$B:$B,I$12,Data!$A:$A,$B229),\"N/A\")","v":"N/A"},{"$f":"IFERROR(AVERAGEIFS(Data!$E:$E,Data!$B:$B,J$12,Data!$A:$A,$B229),\"N/A\")","v":"N/A"},{"$f":"IFERROR(AVERAGEIFS(Data!$Q:$Q,Data!$B:$B,K$12,Data!$A:$A,$B229),\"N/A\")","v":"N/A"},{"$f":"IFERROR(AVERAGEIFS(Data!$Q:$Q,Data!$B:$B,L$12,Data!$A:$A,$B229),\"N/A\")","v":"N/A"},{"$f":"IFERROR(AVERAGEIFS(Data!$Q:$Q,Data!$B:$B,M$12,Data!$A:$A,$B229),\"N/A\")","v":"N/A"}]
["",{"$f":"Observations!B219","v":""},{"$f":"IF(A230=1,VLOOKUP($B230,ObData!$A$1:$J$300,3,0),\"\")","v":""},{"$f":"IF(A230=1,B230&\": \"&TEXT(C230,\"mm/dd/yy\")&\"- \"&VLOOKUP(B230,ObData!$A$1:$J$300,5,0),\"\")","v":""},{"$f":"IF($B230=\"\",\"\",IF(COUNTIFS(Data!$B:$B,E$12,Data!$A:$A,Matrices!$B230)=0,\"\",COUNTIFS(Data!$B:$B,E$12,Data!$A:$A,Matrices!$B230)))","v":""},{"$f":"IF($B230=\"\",\"\",IF(COUNTIFS(Data!$B:$B,F$12,Data!$A:$A,Matrices!$B230)=0,\"\",COUNTIFS(Data!$B:$B,F$12,Data!$A:$A,Matrices!$B230)))","v":""},{"$f":"IF($B230=\"\",\"\",IF(COUNTIFS(Data!$B:$B,G$12,Data!$A:$A,Matrices!$B230)=0,\"\",COUNTIFS(Data!$B:$B,G$12,Data!$A:$A,Matrices!$B230)))","v":""},{"$f":"IFERROR(AVERAGEIFS(Data!$E:$E,Data!$B:$B,H$12,Data!$A:$A,$B230),\"N/A\")","v":"N/A"},{"$f":"IFERROR(AVERAGEIFS(Data!$E:$E,Data!$B:$B,I$12,Data!$A:$A,$B230),\"N/A\")","v":"N/A"},{"$f":"IFERROR(AVERAGEIFS(Data!$E:$E,Data!$B:$B,J$12,Data!$A:$A,$B230),\"N/A\")","v":"N/A"},{"$f":"IFERROR(AVERAGEIFS(Data!$Q:$Q,Data!$B:$B,K$12,Data!$A:$A,$B230),\"N/A\")","v":"N/A"},{"$f":"IFERROR(AVERAGEIFS(Data!$Q:$Q,Data!$B:$B,L$12,Data!$A:$A,$B230),\"N/A\")","v":"N/A"},{"$f":"IFERROR(AVERAGEIFS(Data!$Q:$Q,Data!$B:$B,M$12,Data!$A:$A,$B230),\"N/A\")","v":"N/A"}]
["",{"$f":"Observations!B220","v":""},{"$f":"IF(A231=1,VLOOKUP($B231,ObData!$A$1:$J$300,3,0),\"\")","v":""},{"$f":"IF(A231=1,B231&\": \"&TEXT(C231,\"mm/dd/yy\")&\"- \"&VLOOKUP(B231,ObData!$A$1:$J$300,5,0),\"\")","v":""},{"$f":"IF($B231=\"\",\"\",IF(COUNTIFS(Data!$B:$B,E$12,Data!$A:$A,Matrices!$B231)=0,\"\",COUNTIFS(Data!$B:$B,E$12,Data!$A:$A,Matrices!$B231)))","v":""},{"$f":"IF($B231=\"\",\"\",IF(COUNTIFS(Data!$B:$B,F$12,Data!$A:$A,Matrices!$B231)=0,\"\",COUNTIFS(Data!$B:$B,F$12,Data!$A:$A,Matrices!$B231)))","v":""},{"$f":"IF($B231=\"\",\"\",IF(COUNTIFS(Data!$B:$B,G$12,Data!$A:$A,Matrices!$B231)=0,\"\",COUNTIFS(Data!$B:$B,G$12,Data!$A:$A,Matrices!$B231)))","v":""},{"$f":"IFERROR(AVERAGEIFS(Data!$E:$E,Data!$B:$B,H$12,Data!$A:$A,$B231),\"N/A\")","v":"N/A"},{"$f":"IFERROR(AVERAGEIFS(Data!$E:$E,Data!$B:$B,I$12,Data!$A:$A,$B231),\"N/A\")","v":"N/A"},{"$f":"IFERROR(AVERAGEIFS(Data!$E:$E,Data!$B:$B,J$12,Data!$A:$A,$B231),\"N/A\")","v":"N/A"},{"$f":"IFERROR(AVERAGEIFS(Data!$Q:$Q,Data!$B:$B,K$12,Data!$A:$A,$B231),\"N/A\")","v":"N/A"},{"$f":"IFERROR(AVERAGEIFS(Data!$Q:$Q,Data!$B:$B,L$12,Data!$A:$A,$B231),\"N/A\")","v":"N/A"},{"$f":"IFERROR(AVERAGEIFS(Data!$Q:$Q,Data!$B:$B,M$12,Data!$A:$A,$B231),\"N/A\")","v":"N/A"}]
["",{"$f":"Observations!B221","v":""},{"$f":"IF(A232=1,VLOOKUP($B232,ObData!$A$1:$J$300,3,0),\"\")","v":""},{"$f":"IF(A232=1,B232&\": \"&TEXT(C232,\"mm/dd/yy\")&\"- \"&VLOOKUP(B232,ObData!$A$1:$J$300,5,0),\"\")","v":""},{"$f":"IF($B232=\"\",\"\",IF(COUNTIFS(Data!$B:$B,E$12,Data!$A:$A,Matrices!$B232)=0,\"\",COUNTIFS(Data!$B:$B,E$12,Data!$A:$A,Matrices!$B232)))","v":""},{"$f":"IF($B232=\"\",\"\",IF(COUNTIFS(Data!$B:$B,F$12,Data!$A:$A,Matrices!$B232)=0,\"\",COUNTIFS(Data!$B:$B,F$12,Data!$A:$A,Matrices!$B232)))","v":""},{"$f":"IF($B232=\"\",\"\",IF(COUNTIFS(Data!$B:$B,G$12,Data!$A:$A,Matrices!$B232)=0,\"\",COUNTIFS(Data!$B:$B,G$12,Data!$A:$A,Matrices!$B232)))","v":""},{"$f":"IFERROR(AVERAGEIFS(Data!$E:$E,Data!$B:$B,H$12,Data!$A:$A,$B232),\"N/A\")","v":"N/A"},{"$f":"IFERROR(AVERAGEIFS(Data!$E:$E,Data!$B:$B,I$12,Data!$A:$A,$B232),\"N/A\")","v":"N/A"},{"$f":"IFERROR(AVERAGEIFS(Data!$E:$E,Data!$B:$B,J$12,Data!$A:$A,$B232),\"N/A\")","v":"N/A"},{"$f":"IFERROR(AVERAGEIFS(Data!$Q:$Q,Data!$B:$B,K$12,Data!$A:$A,$B232),\"N/A\")","v":"N/A"},{"$f":"IFERROR(AVERAGEIFS(Data!$Q:$Q,Data!$B:$B,L$12,Data!$A:$A,$B232),\"N/A\")","v":"N/A"},{"$f":"IFERROR(AVERAGEIFS(Data!$Q:$Q,Data!$B:$B,M$12,Data!$A:$A,$B232),\"N/A\")","v":"N/A"}]
["",{"$f":"Observations!B222","v":""},{"$f":"IF(A233=1,VLOOKUP($B233,ObData!$A$1:$J$300,3,0),\"\")","v":""},{"$f":"IF(A233=1,B233&\": \"&TEXT(C233,\"mm/dd/yy\")&\"- \"&VLOOKUP(B233,ObData!$A$1:$J$300,5,0),\"\")","v":""},{"$f":"IF($B233=\"\",\"\",IF(COUNTIFS(Data!$B:$B,E$12,Data!$A:$A,Matrices!$B233)=0,\"\",COUNTIFS(Data!$B:$B,E$12,Data!$A:$A,Matrices!$B233)))","v":""},{"$f":"IF($B233=\"\",\"\",IF(COUNTIFS(Data!$B:$B,F$12,Data!$A:$A,Matrices!$B233)=0,\"\",COUNTIFS(Data!$B:$B,F$12,Data!$A:$A,Matrices!$B233)))","v":""},{"$f":"IF($B233=\"\",\"\",IF(COUNTIFS(Data!$B:$B,G$12,Data!$A:$A,Matrices!$B233)=0,\"\",COUNTIFS(Data!$B:$B,G$12,Data!$A:$A,Matrices!$B233)))","v":""},{"$f":"IFERROR(AVERAGEIFS(Data!$E:$E,Data!$B:$B,H$12,Data!$A:$A,$B233),\"N/A\")","v":"N/A"},{"$f":"IFERROR(AVERAGEIFS(Data!$E:$E,Data!$B:$B,I$12,Data!$A:$A,$B233),\"N/A\")","v":"N/A"},{"$f":"IFERROR(AVERAGEIFS(Data!$E:$E,Data!$B:$B,J$12,Data!$A:$A,$B233),\"N/A\")","v":"N/A"},{"$f":"IFERROR(AVERAGEIFS(Data!$Q:$Q,Data!$B:$B,K$12,Data!$A:$A,$B233),\"N/A\")","v":"N/A"},{"$f":"IFERROR(AVERAGEIFS(Data!$Q:$Q,Data!$B:$B,L$12,Data!$A:$A,$B233),\"N/A\")","v":"N/A"},{"$f":"IFERROR(AVERAGEIFS(Data!$Q:$Q,Data!$B:$B,M$12,Data!$A:$A,$B233),\"N/A\")","v":"N/A"}]
["",{"$f":"Observations!B223","v":""},{"$f":"IF(A234=1,VLOOKUP($B234,ObData!$A$1:$J$300,3,0),\"\")","v":""},{"$f":"IF(A234=1,B234&\": \"&TEXT(C234,\"mm/dd/yy\")&\"- \"&VLOOKUP(B234,ObData!$A$1:$J$300,5,0),\"\")","v":""},{"$f":"IF($B234=\"\",\"\",IF(COUNTIFS(Data!$B:$B,E$12,Data!$A:$A,Matrices!$B234)=0,\"\",COUNTIFS(Data!$B:$B,E$12,Data!$A:$A,Matrices!$B234)))","v":""},{"$f":"IF($B234=\"\",\"\",IF(COUNTIFS(Data!$B:$B,F$12,Data!$A:$A,Matrices!$B234)=0,\"\",COUNTIFS(Data!$B:$B,F$12,Data!$A:$A,Matrices!$B234)))","v":""},{"$f":"IF($B234=\"\",\"\",IF(COUNTIFS(Data!$B:$B,G$12,Data!$A:$A,Matrices!$B234)=0,\"\",COUNTIFS(Data!$B:$B,G$12,Data!$A:$A,Matrices!$B234)))","v":""},{"$f":"IFERROR(AVERAGEIFS(Data!$E:$E,Data!$B:$B,H$12,Data!$A:$A,$B234),\"N/A\")","v":"N/A"},{"$f":"IFERROR(AVERAGEIFS(Data!$E:$E,Data!$B:$B,I$12,Data!$A:$A,$B234),\"N/A\")","v":"N/A"},{"$f":"IFERROR(AVERAGEIFS(Data!$E:$E,Data!$B:$B,J$12,Data!$A:$A,$B234),\"N/A\")","v":"N/A"},{"$f":"IFERROR(AVERAGEIFS(Data!$Q:$Q,Data!$B:$B,K$12,Data!$A:$A,$B234),\"N/A\")","v":"N/A"},{"$f":"IFERROR(AVERAGEIFS(Data!$Q:$Q,Data!$B:$B,L$12,Data!$A:$A,$B234),\"N/A\")","v":"N/A"},{"$f":"IFERROR(AVERAGEIFS(Data!$Q:$Q,Data!$B:$B,M$12,Data!$A:$A,$B234),\"N/A\")","v":"N/A"}]
["",{"$f":"Observations!B224","v":""},{"$f":"IF(A235=1,VLOOKUP($B235,ObData!$A$1:$J$300,3,0),\"\")","v":""},{"$f":"IF(A235=1,B235&\": \"&TEXT(C235,\"mm/dd/yy\")&\"- \"&VLOOKUP(B235,ObData!$A$1:$J$300,5,0),\"\")","v":""},{"$f":"IF($B235=\"\",\"\",IF(COUNTIFS(Data!$B:$B,E$12,Data!$A:$A,Matrices!$B235)=0,\"\",COUNTIFS(Data!$B:$B,E$12,Data!$A:$A,Matrices!$B235)))","v":""},{"$f":"IF($B235=\"\",\"\",IF(COUNTIFS(Data!$B:$B,F$12,Data!$A:$A,Matrices!$B235)=0,\"\",COUNTIFS(Data!$B:$B,F$12,Data!$A:$A,Matrices!$B235)))","v":""},{"$f":"IF($B235=\"\",\"\",IF(COUNTIFS(Data!$B:$B,G$12,Data!$A:$A,Matrices!$B235)=0,\"\",COUNTIFS(Data!$B:$B,G$12,Data!$A:$A,Matrices!$B235)))","v":""},{"$f":"IFERROR(AVERAGEIFS(Data!$E:$E,Data!$B:$B,H$12,Data!$A:$A,$B235),\"N/A\")","v":"N/A"},{"$f":"IFERROR(AVERAGEIFS(Data!$E:$E,Data!$B:$B,I$12,Data!$A:$A,$B235),\"N/A\")","v":"N/A"},{"$f":"IFERROR(AVERAGEIFS(Data!$E:$E,Data!$B:$B,J$12,Data!$A:$A,$B235),\"N/A\")","v":"N/A"},{"$f":"IFERROR(AVERAGEIFS(Data!$Q:$Q,Data!$B:$B,K$12,Data!$A:$A,$B235),\"N/A\")","v":"N/A"},{"$f":"IFERROR(AVERAGEIFS(Data!$Q:$Q,Data!$B:$B,L$12,Data!$A:$A,$B235),\"N/A\")","v":"N/A"},{"$f":"IFERROR(AVERAGEIFS(Data!$Q:$Q,Data!$B:$B,M$12,Data!$A:$A,$B235),\"N/A\")","v":"N/A"}]
["",{"$f":"Observations!B225","v":""},{"$f":"IF(A236=1,VLOOKUP($B236,ObData!$A$1:$J$300,3,0),\"\")","v":""},{"$f":"IF(A236=1,B236&\": \"&TEXT(C236,\"mm/dd/yy\")&\"- \"&VLOOKUP(B236,ObData!$A$1:$J$300,5,0),\"\")","v":""},{"$f":"IF($B236=\"\",\"\",IF(COUNTIFS(Data!$B:$B,E$12,Data!$A:$A,Matrices!$B236)=0,\"\",COUNTIFS(Data!$B:$B,E$12,Data!$A:$A,Matrices!$B236)))","v":""},{"$f":"IF($B236=\"\",\"\",IF(COUNTIFS(Data!$B:$B,F$12,Data!$A:$A,Matrices!$B236)=0,\"\",COUNTIFS(Data!$B:$B,F$12,Data!$A:$A,Matrices!$B236)))","v":""},{"$f":"IF($B236=\"\",\"\",IF(COUNTIFS(Data!$B:$B,G$12,Data!$A:$A,Matrices!$B236)=0,\"\",COUNTIFS(Data!$B:$B,G$12,Data!$A:$A,Matrices!$B236)))","v":""},{"$f":"IFERROR(AVERAGEIFS(Data!$E:$E,Data!$B:$B,H$12,Data!$A:$A,$B236),\"N/A\")","v":"N/A"},{"$f":"IFERROR(AVERAGEIFS(Data!$E:$E,Data!$B:$B,I$12,Data!$A:$A,$B236),\"N/A\")","v":"N/A"},{"$f":"IFERROR(AVERAGEIFS(Data!$E:$E,Data!$B:$B,J$12,Data!$A:$A,$B236),\"N/A\")","v":"N/A"},{"$f":"IFERROR(AVERAGEIFS(Data!$Q:$Q,Data!$B:$B,K$12,Data!$A:$A,$B236),\"N/A\")","v":"N/A"},{"$f":"IFERROR(AVERAGEIFS(Data!$Q:$Q,Data!$B:$B,L$12,Data!$A:$A,$B236),\"N/A\")","v":"N/A"},{"$f":"IFERROR(AVERAGEIFS(Data!$Q:$Q,Data!$B:$B,M$12,Data!$A:$A,$B236),\"N/A\")","v":"N/A"}]
["",{"$f":"Observations!B226","v":""},{"$f":"IF(A237=1,VLOOKUP($B237,ObData!$A$1:$J$300,3,0),\"\")","v":""},{"$f":"IF(A237=1,B237&\": \"&TEXT(C237,\"mm/dd/yy\")&\"- \"&VLOOKUP(B237,ObData!$A$1:$J$300,5,0),\"\")","v":""},{"$f":"IF($B237=\"\",\"\",IF(COUNTIFS(Data!$B:$B,E$12,Data!$A:$A,Matrices!$B237)=0,\"\",COUNTIFS(Data!$B:$B,E$12,Data!$A:$A,Matrices!$B237)))","v":""},{"$f":"IF($B237=\"\",\"\",IF(COUNTIFS(Data!$B:$B,F$12,Data!$A:$A,Matrices!$B237)=0,\"\",COUNTIFS(Data!$B:$B,F$12,Data!$A:$A,Matrices!$B237)))","v":""},{"$f":"IF($B237=\"\",\"\",IF(COUNTIFS(Data!$B:$B,G$12,Data!$A:$A,Matrices!$B237)=0,\"\",COUNTIFS(Data!$B:$B,G$12,Data!$A:$A,Matrices!$B237)))","v":""},{"$f":"IFERROR(AVERAGEIFS(Data!$E:$E,Data!$B:$B,H$12,Data!$A:$A,$B237),\"N/A\")","v":"N/A"},{"$f":"IFERROR(AVERAGEIFS(Data!$E:$E,Data!$B:$B,I$12,Data!$A:$A,$B237),\"N/A\")","v":"N/A"},{"$f":"IFERROR(AVERAGEIFS(Data!$E:$E,Data!$B:$B,J$12,Data!$A:$A,$B237),\"N/A\")","v":"N/A"},{"$f":"IFERROR(AVERAGEIFS(Data!$Q:$Q,Data!$B:$B,K$12,Data!$A:$A,$B237),\"N/A\")","v":"N/A"},{"$f":"IFERROR(AVERAGEIFS(Data!$Q:$Q,Data!$B:$B,L$12,Data!$A:$A,$B237),\"N/A\")","v":"N/A"},{"$f":"IFERROR(AVERAGEIFS(Data!$Q:$Q,Data!$B:$B,M$12,Data!$A:$A,$B237),\"N/A\")","v":"N/A"}]
["",{"$f":"Observations!B227","v":""},{"$f":"IF(A238=1,VLOOKUP($B238,ObData!$A$1:$J$300,3,0),\"\")","v":""},{"$f":"IF(A238=1,B238&\": \"&TEXT(C238,\"mm/dd/yy\")&\"- \"&VLOOKUP(B238,ObData!$A$1:$J$300,5,0),\"\")","v":""},{"$f":"IF($B238=\"\",\"\",IF(COUNTIFS(Data!$B:$B,E$12,Data!$A:$A,Matrices!$B238)=0,\"\",COUNTIFS(Data!$B:$B,E$12,Data!$A:$A,Matrices!$B238)))","v":""},{"$f":"IF($B238=\"\",\"\",IF(COUNTIFS(Data!$B:$B,F$12,Data!$A:$A,Matrices!$B238)=0,\"\",COUNTIFS(Data!$B:$B,F$12,Data!$A:$A,Matrices!$B238)))","v":""},{"$f":"IF($B238=\"\",\"\",IF(COUNTIFS(Data!$B:$B,G$12,Data!$A:$A,Matrices!$B238)=0,\"\",COUNTIFS(Data!$B:$B,G$12,Data!$A:$A,Matrices!$B238)))","v":""},{"$f":"IFERROR(AVERAGEIFS(Data!$E:$E,Data!$B:$B,H$12,Data!$A:$A,$B238),\"N/A\")","v":"N/A"},{"$f":"IFERROR(AVERAGEIFS(Data!$E:$E,Data!$B:$B,I$12,Data!$A:$A,$B238),\"N/A\")","v":"N/A"},{"$f":"IFERROR(AVERAGEIFS(Data!$E:$E,Data!$B:$B,J$12,Data!$A:$A,$B238),\"N/A\")","v":"N/A"},{"$f":"IFERROR(AVERAGEIFS(Data!$Q:$Q,Data!$B:$B,K$12,Data!$A:$A,$B238),\"N/A\")","v":"N/A"},{"$f":"IFERROR(AVERAGEIFS(Data!$Q:$Q,Data!$B:$B,L$12,Data!$A:$A,$B238),\"N/A\")","v":"N/A"},{"$f":"IFERROR(AVERAGEIFS(Data!$Q:$Q,Data!$B:$B,M$12,Data!$A:$A,$B238),\"N/A\")","v":"N/A"}]
["",{"$f":"Observations!B228","v":""},{"$f":"IF(A239=1,VLOOKUP($B239,ObData!$A$1:$J$300,3,0),\"\")","v":""},{"$f":"IF(A239=1,B239&\": \"&TEXT(C239,\"mm/dd/yy\")&\"- \"&VLOOKUP(B239,ObData!$A$1:$J$300,5,0),\"\")","v":""},{"$f":"IF($B239=\"\",\"\",IF(COUNTIFS(Data!$B:$B,E$12,Data!$A:$A,Matrices!$B239)=0,\"\",COUNTIFS(Data!$B:$B,E$12,Data!$A:$A,Matrices!$B239)))","v":""},{"$f":"IF($B239=\"\",\"\",IF(COUNTIFS(Data!$B:$B,F$12,Data!$A:$A,Matrices!$B239)=0,\"\",COUNTIFS(Data!$B:$B,F$12,Data!$A:$A,Matrices!$B239)))","v":""},{"$f":"IF($B239=\"\",\"\",IF(COUNTIFS(Data!$B:$B,G$12,Data!$A:$A,Matrices!$B239)=0,\"\",COUNTIFS(Data!$B:$B,G$12,Data!$A:$A,Matrices!$B239)))","v":""},{"$f":"IFERROR(AVERAGEIFS(Data!$E:$E,Data!$B:$B,H$12,Data!$A:$A,$B239),\"N/A\")","v":"N/A"},{"$f":"IFERROR(AVERAGEIFS(Data!$E:$E,Data!$B:$B,I$12,Data!$A:$A,$B239),\"N/A\")","v":"N/A"},{"$f":"IFERROR(AVERAGEIFS(Data!$E:$E,Data!$B:$B,J$12,Data!$A:$A,$B239),\"N/A\")","v":"N/A"},{"$f":"IFERROR(AVERAGEIFS(Data!$Q:$Q,Data!$B:$B,K$12,Data!$A:$A,$B239),\"N/A\")","v":"N/A"},{"$f":"IFERROR(AVERAGEIFS(Data!$Q:$Q,Data!$B:$B,L$12,Data!$A:$A,$B239),\"N/A\")","v":"N/A"},{"$f":"IFERROR(AVERAGEIFS(Data!$Q:$Q,Data!$B:$B,M$12,Data!$A:$A,$B239),\"N/A\")","v":"N/A"}]
["",{"$f":"Observations!B229","v":""},{"$f":"IF(A240=1,VLOOKUP($B240,ObData!$A$1:$J$300,3,0),\"\")","v":""},{"$f":"IF(A240=1,B240&\": \"&TEXT(C240,\"mm/dd/yy\")&\"- \"&VLOOKUP(B240,ObData!$A$1:$J$300,5,0),\"\")","v":""},{"$f":"IF($B240=\"\",\"\",IF(COUNTIFS(Data!$B:$B,E$12,Data!$A:$A,Matrices!$B240)=0,\"\",COUNTIFS(Data!$B:$B,E$12,Data!$A:$A,Matrices!$B240)))","v":""},{"$f":"IF($B240=\"\",\"\",IF(COUNTIFS(Data!$B:$B,F$12,Data!$A:$A,Matrices!$B240)=0,\"\",COUNTIFS(Data!$B:$B,F$12,Data!$A:$A,Matrices!$B240)))","v":""},{"$f":"IF($B240=\"\",\"\",IF(COUNTIFS(Data!$B:$B,G$12,Data!$A:$A,Matrices!$B240)=0,\"\",COUNTIFS(Data!$B:$B,G$12,Data!$A:$A,Matrices!$B240)))","v":""},{"$f":"IFERROR(AVERAGEIFS(Data!$E:$E,Data!$B:$B,H$12,Data!$A:$A,$B240),\"N/A\")","v":"N/A"},{"$f":"IFERROR(AVERAGEIFS(Data!$E:$E,Data!$B:$B,I$12,Data!$A:$A,$B240),\"N/A\")","v":"N/A"},{"$f":"IFERROR(AVERAGEIFS(Data!$E:$E,Data!$B:$B,J$12,Data!$A:$A,$B240),\"N/A\")","v":"N/A"},{"$f":"IFERROR(AVERAGEIFS(Data!$Q:$Q,Data!$B:$B,K$12,Data!$A:$A,$B240),\"N/A\")","v":"N/A"},{"$f":"IFERROR(AVERAGEIFS(Data!$Q:$Q,Data!$B:$B,L$12,Data!$A:$A,$B240),\"N/A\")","v":"N/A"},{"$f":"IFERROR(AVERAGEIFS(Data!$Q:$Q,Data!$B:$B,M$12,Data!$A:$A,$B240),\"N/A\")","v":"N/A"}]
["",{"$f":"Observations!B230","v":""},{"$f":"IF(A241=1,VLOOKUP($B241,ObData!$A$1:$J$300,3,0),\"\")","v":""},{"$f":"IF(A241=1,B241&\": \"&TEXT(C241,\"mm/dd/yy\")&\"- \"&VLOOKUP(B241,ObData!$A$1:$J$300,5,0),\"\")","v":""},{"$f":"IF($B241=\"\",\"\",IF(COUNTIFS(Data!$B:$B,E$12,Data!$A:$A,Matrices!$B241)=0,\"\",COUNTIFS(Data!$B:$B,E$12,Data!$A:$A,Matrices!$B241)))","v":""},{"$f":"IF($B241=\"\",\"\",IF(COUNTIFS(Data!$B:$B,F$12,Data!$A:$A,Matrices!$B241)=0,\"\",COUNTIFS(Data!$B:$B,F$12,Data!$A:$A,Matrices!$B241)))","v":""},{"$f":"IF($B241=\"\",\"\",IF(COUNTIFS(Data!$B:$B,G$12,Data!$A:$A,Matrices!$B241)=0,\"\",COUNTIFS(Data!$B:$B,G$12,Data!$A:$A,Matrices!$B241)))","v":""},{"$f":"IFERROR(AVERAGEIFS(Data!$E:$E,Data!$B:$B,H$12,Data!$A:$A,$B241),\"N/A\")","v":"N/A"},{"$f":"IFERROR(AVERAGEIFS(Data!$E:$E,Data!$B:$B,I$12,Data!$A:$A,$B241),\"N/A\")","v":"N/A"},{"$f":"IFERROR(AVERAGEIFS(Data!$E:$E,Data!$B:$B,J$12,Data!$A:$A,$B241),\"N/A\")","v":"N/A"},{"$f":"IFERROR(AVERAGEIFS(Data!$Q:$Q,Data!$B:$B,K$12,Data!$A:$A,$B241),\"N/A\")","v":"N/A"},{"$f":"IFERROR(AVERAGEIFS(Data!$Q:$Q,Data!$B:$B,L$12,Data!$A:$A,$B241),\"N/A\")","v":"N/A"},{"$f":"IFERROR(AVERAGEIFS(Data!$Q:$Q,Data!$B:$B,M$12,Data!$A:$A,$B241),\"N/A\")","v":"N/A"}]
["",{"$f":"Observations!B231","v":""},{"$f":"IF(A242=1,VLOOKUP($B242,ObData!$A$1:$J$300,3,0),\"\")","v":""},{"$f":"IF(A242=1,B242&\": \"&TEXT(C242,\"mm/dd/yy\")&\"- \"&VLOOKUP(B242,ObData!$A$1:$J$300,5,0),\"\")","v":""},{"$f":"IF($B242=\"\",\"\",IF(COUNTIFS(Data!$B:$B,E$12,Data!$A:$A,Matrices!$B242)=0,\"\",COUNTIFS(Data!$B:$B,E$12,Data!$A:$A,Matrices!$B242)))","v":""},{"$f":"IF($B242=\"\",\"\",IF(COUNTIFS(Data!$B:$B,F$12,Data!$A:$A,Matrices!$B242)=0,\"\",COUNTIFS(Data!$B:$B,F$12,Data!$A:$A,Matrices!$B242)))","v":""},{"$f":"IF($B242=\"\",\"\",IF(COUNTIFS(Data!$B:$B,G$12,Data!$A:$A,Matrices!$B242)=0,\"\",COUNTIFS(Data!$B:$B,G$12,Data!$A:$A,Matrices!$B242)))","v":""},{"$f":"IFERROR(AVERAGEIFS(Data!$E:$E,Data!$B:$B,H$12,Data!$A:$A,$B242),\"N/A\")","v":"N/A"},{"$f":"IFERROR(AVERAGEIFS(Data!$E:$E,Data!$B:$B,I$12,Data!$A:$A,$B242),\"N/A\")","v":"N/A"},{"$f":"IFERROR(AVERAGEIFS(Data!$E:$E,Data!$B:$B,J$12,Data!$A:$A,$B242),\"N/A\")","v":"N/A"},{"$f":"IFERROR(AVERAGEIFS(Data!$Q:$Q,Data!$B:$B,K$12,Data!$A:$A,$B242),\"N/A\")","v":"N/A"},{"$f":"IFERROR(AVERAGEIFS(Data!$Q:$Q,Data!$B:$B,L$12,Data!$A:$A,$B242),\"N/A\")","v":"N/A"},{"$f":"IFERROR(AVERAGEIFS(Data!$Q:$Q,Data!$B:$B,M$12,Data!$A:$A,$B242),\"N/A\")","v":"N/A"}]
["",{"$f":"Observations!B232","v":""},{"$f":"IF(A243=1,VLOOKUP($B243,ObData!$A$1:$J$300,3,0),\"\")","v":""},{"$f":"IF(A243=1,B243&\": \"&TEXT(C243,\"mm/dd/yy\")&\"- \"&VLOOKUP(B243,ObData!$A$1:$J$300,5,0),\"\")","v":""},{"$f":"IF($B243=\"\",\"\",IF(COUNTIFS(Data!$B:$B,E$12,Data!$A:$A,Matrices!$B243)=0,\"\",COUNTIFS(Data!$B:$B,E$12,Data!$A:$A,Matrices!$B243)))","v":""},{"$f":"IF($B243=\"\",\"\",IF(COUNTIFS(Data!$B:$B,F$12,Data!$A:$A,Matrices!$B243)=0,\"\",COUNTIFS(Data!$B:$B,F$12,Data!$A:$A,Matrices!$B243)))","v":""},{"$f":"IF($B243=\"\",\"\",IF(COUNTIFS(Data!$B:$B,G$12,Data!$A:$A,Matrices!$B243)=0,\"\",COUNTIFS(Data!$B:$B,G$12,Data!$A:$A,Matrices!$B243)))","v":""},{"$f":"IFERROR(AVERAGEIFS(Data!$E:$E,Data!$B:$B,H$12,Data!$A:$A,$B243),\"N/A\")","v":"N/A"},{"$f":"IFERROR(AVERAGEIFS(Data!$E:$E,Data!$B:$B,I$12,Data!$A:$A,$B243),\"N/A\")","v":"N/A"},{"$f":"IFERROR(AVERAGEIFS(Data!$E:$E,Data!$B:$B,J$12,Data!$A:$A,$B243),\"N/A\")","v":"N/A"},{"$f":"IFERROR(AVERAGEIFS(Data!$Q:$Q,Data!$B:$B,K$12,Data!$A:$A,$B243),\"N/A\")","v":"N/A"},{"$f":"IFERROR(AVERAGEIFS(Data!$Q:$Q,Data!$B:$B,L$12,Data!$A:$A,$B243),\"N/A\")","v":"N/A"},{"$f":"IFERROR(AVERAGEIFS(Data!$Q:$Q,Data!$B:$B,M$12,Data!$A:$A,$B243),\"N/A\")","v":"N/A"}]
["",{"$f":"Observations!B233","v":""},{"$f":"IF(A244=1,VLOOKUP($B244,ObData!$A$1:$J$300,3,0),\"\")","v":""},{"$f":"IF(A244=1,B244&\": \"&TEXT(C244,\"mm/dd/yy\")&\"- \"&VLOOKUP(B244,ObData!$A$1:$J$300,5,0),\"\")","v":""},{"$f":"IF($B244=\"\",\"\",IF(COUNTIFS(Data!$B:$B,E$12,Data!$A:$A,Matrices!$B244)=0,\"\",COUNTIFS(Data!$B:$B,E$12,Data!$A:$A,Matrices!$B244)))","v":""},{"$f":"IF($B244=\"\",\"\",IF(COUNTIFS(Data!$B:$B,F$12,Data!$A:$A,Matrices!$B244)=0,\"\",COUNTIFS(Data!$B:$B,F$12,Data!$A:$A,Matrices!$B244)))","v":""},{"$f":"IF($B244=\"\",\"\",IF(COUNTIFS(Data!$B:$B,G$12,Data!$A:$A,Matrices!$B244)=0,\"\",COUNTIFS(Data!$B:$B,G$12,Data!$A:$A,Matrices!$B244)))","v":""},{"$f":"IFERROR(AVERAGEIFS(Data!$E:$E,Data!$B:$B,H$12,Data!$A:$A,$B244),\"N/A\")","v":"N/A"},{"$f":"IFERROR(AVERAGEIFS(Data!$E:$E,Data!$B:$B,I$12,Data!$A:$A,$B244),\"N/A\")","v":"N/A"},{"$f":"IFERROR(AVERAGEIFS(Data!$E:$E,Data!$B:$B,J$12,Data!$A:$A,$B244),\"N/A\")","v":"N/A"},{"$f":"IFERROR(AVERAGEIFS(Data!$Q:$Q,Data!$B:$B,K$12,Data!$A:$A,$B244),\"N/A\")","v":"N/A"},{"$f":"IFERROR(AVERAGEIFS(Data!$Q:$Q,Data!$B:$B,L$12,Data!$A:$A,$B244),\"N/A\")","v":"N/A"},{"$f":"IFERROR(AVERAGEIFS(Data!$Q:$Q,Data!$B:$B,M$12,Data!$A:$A,$B244),\"N/A\")","v":"N/A"}]
["",{"$f":"Observations!B234","v":""},{"$f":"IF(A245=1,VLOOKUP($B245,ObData!$A$1:$J$300,3,0),\"\")","v":""},{"$f":"IF(A245=1,B245&\": \"&TEXT(C245,\"mm/dd/yy\")&\"- \"&VLOOKUP(B245,ObData!$A$1:$J$300,5,0),\"\")","v":""},{"$f":"IF($B245=\"\",\"\",IF(COUNTIFS(Data!$B:$B,E$12,Data!$A:$A,Matrices!$B245)=0,\"\",COUNTIFS(Data!$B:$B,E$12,Data!$A:$A,Matrices!$B245)))","v":""},{"$f":"IF($B245=\"\",\"\",IF(COUNTIFS(Data!$B:$B,F$12,Data!$A:$A,Matrices!$B245)=0,\"\",COUNTIFS(Data!$B:$B,F$12,Data!$A:$A,Matrices!$B245)))","v":""},{"$f":"IF($B245=\"\",\"\",IF(COUNTIFS(Data!$B:$B,G$12,Data!$A:$A,Matrices!$B245)=0,\"\",COUNTIFS(Data!$B:$B,G$12,Data!$A:$A,Matrices!$B245)))","v":""},{"$f":"IFERROR(AVERAGEIFS(Data!$E:$E,Data!$B:$B,H$12,Data!$A:$A,$B245),\"N/A\")","v":"N/A"},{"$f":"IFERROR(AVERAGEIFS(Data!$E:$E,Data!$B:$B,I$12,Data!$A:$A,$B245),\"N/A\")","v":"N/A"},{"$f":"IFERROR(AVERAGEIFS(Data!$E:$E,Data!$B:$B,J$12,Data!$A:$A,$B245),\"N/A\")","v":"N/A"},{"$f":"IFERROR(AVERAGEIFS(Data!$Q:$Q,Data!$B:$B,K$12,Data!$A:$A,$B245),\"N/A\")","v":"N/A"},{"$f":"IFERROR(AVERAGEIFS(Data!$Q:$Q,Data!$B:$B,L$12,Data!$A:$A,$B245),\"N/A\")","v":"N/A"},{"$f":"IFERROR(AVERAGEIFS(Data!$Q:$Q,Data!$B:$B,M$12,Data!$A:$A,$B245),\"N/A\")","v":"N/A"}]
["",{"$f":"Observations!B235","v":""},{"$f":"IF(A246=1,VLOOKUP($B246,ObData!$A$1:$J$300,3,0),\"\")","v":""},{"$f":"IF(A246=1,B246&\": \"&TEXT(C246,\"mm/dd/yy\")&\"- \"&VLOOKUP(B246,ObData!$A$1:$J$300,5,0),\"\")","v":""},{"$f":"IF($B246=\"\",\"\",IF(COUNTIFS(Data!$B:$B,E$12,Data!$A:$A,Matrices!$B246)=0,\"\",COUNTIFS(Data!$B:$B,E$12,Data!$A:$A,Matrices!$B246)))","v":""},{"$f":"IF($B246=\"\",\"\",IF(COUNTIFS(Data!$B:$B,F$12,Data!$A:$A,Matrices!$B246)=0,\"\",COUNTIFS(Data!$B:$B,F$12,Data!$A:$A,Matrices!$B246)))","v":""},{"$f":"IF($B246=\"\",\"\",IF(COUNTIFS(Data!$B:$B,G$12,Data!$A:$A,Matrices!$B246)=0,\"\",COUNTIFS(Data!$B:$B,G$12,Data!$A:$A,Matrices!$B246)))","v":""},{"$f":"IFERROR(AVERAGEIFS(Data!$E:$E,Data!$B:$B,H$12,Data!$A:$A,$B246),\"N/A\")","v":"N/A"},{"$f":"IFERROR(AVERAGEIFS(Data!$E:$E,Data!$B:$B,I$12,Data!$A:$A,$B246),\"N/A\")","v":"N/A"},{"$f":"IFERROR(AVERAGEIFS(Data!$E:$E,Data!$B:$B,J$12,Data!$A:$A,$B246),\"N/A\")","v":"N/A"},{"$f":"IFERROR(AVERAGEIFS(Data!$Q:$Q,Data!$B:$B,K$12,Data!$A:$A,$B246),\"N/A\")","v":"N/A"},{"$f":"IFERROR(AVERAGEIFS(Data!$Q:$Q,Data!$B:$B,L$12,Data!$A:$A,$B246),\"N/A\")","v":"N/A"},{"$f":"IFERROR(AVERAGEIFS(Data!$Q:$Q,Data!$B:$B,M$12,Data!$A:$A,$B246),\"N/A\")","v":"N/A"}]
["",{"$f":"Observations!B236","v":""},{"$f":"IF(A247=1,VLOOKUP($B247,ObData!$A$1:$J$300,3,0),\"\")","v":""},{"$f":"IF(A247=1,B247&\": \"&TEXT(C247,\"mm/dd/yy\")&\"- \"&VLOOKUP(B247,ObData!$A$1:$J$300,5,0),\"\")","v":""},{"$f":"IF($B247=\"\",\"\",IF(COUNTIFS(Data!$B:$B,E$12,Data!$A:$A,Matrices!$B247)=0,\"\",COUNTIFS(Data!$B:$B,E$12,Data!$A:$A,Matrices!$B247)))","v":""},{"$f":"IF($B247=\"\",\"\",IF(COUNTIFS(Data!$B:$B,F$12,Data!$A:$A,Matrices!$B247)=0,\"\",COUNTIFS(Data!$B:$B,F$12,Data!$A:$A,Matrices!$B247)))","v":""},{"$f":"IF($B247=\"\",\"\",IF(COUNTIFS(Data!$B:$B,G$12,Data!$A:$A,Matrices!$B247)=0,\"\",COUNTIFS(Data!$B:$B,G$12,Data!$A:$A,Matrices!$B247)))","v":""},{"$f":"IFERROR(AVERAGEIFS(Data!$E:$E,Data!$B:$B,H$12,Data!$A:$A,$B247),\"N/A\")","v":"N/A"},{"$f":"IFERROR(AVERAGEIFS(Data!$E:$E,Data!$B:$B,I$12,Data!$A:$A,$B247),\"N/A\")","v":"N/A"},{"$f":"IFERROR(AVERAGEIFS(Data!$E:$E,Data!$B:$B,J$12,Data!$A:$A,$B247),\"N/A\")","v":"N/A"},{"$f":"IFERROR(AVERAGEIFS(Data!$Q:$Q,Data!$B:$B,K$12,Data!$A:$A,$B247),\"N/A\")","v":"N/A"},{"$f":"IFERROR(AVERAGEIFS(Data!$Q:$Q,Data!$B:$B,L$12,Data!$A:$A,$B247),\"N/A\")","v":"N/A"},{"$f":"IFERROR(AVERAGEIFS(Data!$Q:$Q,Data!$B:$B,M$12,Data!$A:$A,$B247),\"N/A\")","v":"N/A"}]
["",{"$f":"Observations!B237","v":""},{"$f":"IF(A248=1,VLOOKUP($B248,ObData!$A$1:$J$300,3,0),\"\")","v":""},{"$f":"IF(A248=1,B248&\": \"&TEXT(C248,\"mm/dd/yy\")&\"- \"&VLOOKUP(B248,ObData!$A$1:$J$300,5,0),\"\")","v":""},{"$f":"IF($B248=\"\",\"\",IF(COUNTIFS(Data!$B:$B,E$12,Data!$A:$A,Matrices!$B248)=0,\"\",COUNTIFS(Data!$B:$B,E$12,Data!$A:$A,Matrices!$B248)))","v":""},{"$f":"IF($B248=\"\",\"\",IF(COUNTIFS(Data!$B:$B,F$12,Data!$A:$A,Matrices!$B248)=0,\"\",COUNTIFS(Data!$B:$B,F$12,Data!$A:$A,Matrices!$B248)))","v":""},{"$f":"IF($B248=\"\",\"\",IF(COUNTIFS(Data!$B:$B,G$12,Data!$A:$A,Matrices!$B248)=0,\"\",COUNTIFS(Data!$B:$B,G$12,Data!$A:$A,Matrices!$B248)))","v":""},{"$f":"IFERROR(AVERAGEIFS(Data!$E:$E,Data!$B:$B,H$12,Data!$A:$A,$B248),\"N/A\")","v":"N/A"},{"$f":"IFERROR(AVERAGEIFS(Data!$E:$E,Data!$B:$B,I$12,Data!$A:$A,$B248),\"N/A\")","v":"N/A"},{"$f":"IFERROR(AVERAGEIFS(Data!$E:$E,Data!$B:$B,J$12,Data!$A:$A,$B248),\"N/A\")","v":"N/A"},{"$f":"IFERROR(AVERAGEIFS(Data!$Q:$Q,Data!$B:$B,K$12,Data!$A:$A,$B248),\"N/A\")","v":"N/A"},{"$f":"IFERROR(AVERAGEIFS(Data!$Q:$Q,Data!$B:$B,L$12,Data!$A:$A,$B248),\"N/A\")","v":"N/A"},{"$f":"IFERROR(AVERAGEIFS(Data!$Q:$Q,Data!$B:$B,M$12,Data!$A:$A,$B248),\"N/A\")","v":"N/A"}]
["",{"$f":"Observations!B238","v":""},{"$f":"IF(A249=1,VLOOKUP($B249,ObData!$A$1:$J$300,3,0),\"\")","v":""},{"$f":"IF(A249=1,B249&\": \"&TEXT(C249,\"mm/dd/yy\")&\"- \"&VLOOKUP(B249,ObData!$A$1:$J$300,5,0),\"\")","v":""},{"$f":"IF($B249=\"\",\"\",IF(COUNTIFS(Data!$B:$B,E$12,Data!$A:$A,Matrices!$B249)=0,\"\",COUNTIFS(Data!$B:$B,E$12,Data!$A:$A,Matrices!$B249)))","v":""},{"$f":"IF($B249=\"\",\"\",IF(COUNTIFS(Data!$B:$B,F$12,Data!$A:$A,Matrices!$B249)=0,\"\",COUNTIFS(Data!$B:$B,F$12,Data!$A:$A,Matrices!$B249)))","v":""},{"$f":"IF($B249=\"\",\"\",IF(COUNTIFS(Data!$B:$B,G$12,Data!$A:$A,Matrices!$B249)=0,\"\",COUNTIFS(Data!$B:$B,G$12,Data!$A:$A,Matrices!$B249)))","v":""},{"$f":"IFERROR(AVERAGEIFS(Data!$E:$E,Data!$B:$B,H$12,Data!$A:$A,$B249),\"N/A\")","v":"N/A"},{"$f":"IFERROR(AVERAGEIFS(Data!$E:$E,Data!$B:$B,I$12,Data!$A:$A,$B249),\"N/A\")","v":"N/A"},{"$f":"IFERROR(AVERAGEIFS(Data!$E:$E,Data!$B:$B,J$12,Data!$A:$A,$B249),\"N/A\")","v":"N/A"},{"$f":"IFERROR(AVERAGEIFS(Data!$Q:$Q,Data!$B:$B,K$12,Data!$A:$A,$B249),\"N/A\")","v":"N/A"},{"$f":"IFERROR(AVERAGEIFS(Data!$Q:$Q,Data!$B:$B,L$12,Data!$A:$A,$B249),\"N/A\")","v":"N/A"},{"$f":"IFERROR(AVERAGEIFS(Data!$Q:$Q,Data!$B:$B,M$12,Data!$A:$A,$B249),\"N/A\")","v":"N/A"}]
["",{"$f":"Observations!B239","v":""},{"$f":"IF(A250=1,VLOOKUP($B250,ObData!$A$1:$J$300,3,0),\"\")","v":""},{"$f":"IF(A250=1,B250&\": \"&TEXT(C250,\"mm/dd/yy\")&\"- \"&VLOOKUP(B250,ObData!$A$1:$J$300,5,0),\"\")","v":""},{"$f":"IF($B250=\"\",\"\",IF(COUNTIFS(Data!$B:$B,E$12,Data!$A:$A,Matrices!$B250)=0,\"\",COUNTIFS(Data!$B:$B,E$12,Data!$A:$A,Matrices!$B250)))","v":""},{"$f":"IF($B250=\"\",\"\",IF(COUNTIFS(Data!$B:$B,F$12,Data!$A:$A,Matrices!$B250)=0,\"\",COUNTIFS(Data!$B:$B,F$12,Data!$A:$A,Matrices!$B250)))","v":""},{"$f":"IF($B250=\"\",\"\",IF(COUNTIFS(Data!$B:$B,G$12,Data!$A:$A,Matrices!$B250)=0,\"\",COUNTIFS(Data!$B:$B,G$12,Data!$A:$A,Matrices!$B250)))","v":""},{"$f":"IFERROR(AVERAGEIFS(Data!$E:$E,Data!$B:$B,H$12,Data!$A:$A,$B250),\"N/A\")","v":"N/A"},{"$f":"IFERROR(AVERAGEIFS(Data!$E:$E,Data!$B:$B,I$12,Data!$A:$A,$B250),\"N/A\")","v":"N/A"},{"$f":"IFERROR(AVERAGEIFS(Data!$E:$E,Data!$B:$B,J$12,Data!$A:$A,$B250),\"N/A\")","v":"N/A"},{"$f":"IFERROR(AVERAGEIFS(Data!$Q:$Q,Data!$B:$B,K$12,Data!$A:$A,$B250),\"N/A\")","v":"N/A"},{"$f":"IFERROR(AVERAGEIFS(Data!$Q:$Q,Data!$B:$B,L$12,Data!$A:$A,$B250),\"N/A\")","v":"N/A"},{"$f":"IFERROR(AVERAGEIFS(Data!$Q:$Q,Data!$B:$B,M$12,Data!$A:$A,$B250),\"N/A\")","v":"N/A"}]
["",{"$f":"Observations!B240","v":""},{"$f":"IF(A251=1,VLOOKUP($B251,ObData!$A$1:$J$300,3,0),\"\")","v":""},{"$f":"IF(A251=1,B251&\": \"&TEXT(C251,\"mm/dd/yy\")&\"- \"&VLOOKUP(B251,ObData!$A$1:$J$300,5,0),\"\")","v":""},{"$f":"IF($B251=\"\",\"\",IF(COUNTIFS(Data!$B:$B,E$12,Data!$A:$A,Matrices!$B251)=0,\"\",COUNTIFS(Data!$B:$B,E$12,Data!$A:$A,Matrices!$B251)))","v":""},{"$f":"IF($B251=\"\",\"\",IF(COUNTIFS(Data!$B:$B,F$12,Data!$A:$A,Matrices!$B251)=0,\"\",COUNTIFS(Data!$B:$B,F$12,Data!$A:$A,Matrices!$B251)))","v":""},{"$f":"IF($B251=\"\",\"\",IF(COUNTIFS(Data!$B:$B,G$12,Data!$A:$A,Matrices!$B251)=0,\"\",COUNTIFS(Data!$B:$B,G$12,Data!$A:$A,Matrices!$B251)))","v":""},{"$f":"IFERROR(AVERAGEIFS(Data!$E:$E,Data!$B:$B,H$12,Data!$A:$A,$B251),\"N/A\")","v":"N/A"},{"$f":"IFERROR(AVERAGEIFS(Data!$E:$E,Data!$B:$B,I$12,Data!$A:$A,$B251),\"N/A\")","v":"N/A"},{"$f":"IFERROR(AVERAGEIFS(Data!$E:$E,Data!$B:$B,J$12,Data!$A:$A,$B251),\"N/A\")","v":"N/A"},{"$f":"IFERROR(AVERAGEIFS(Data!$Q:$Q,Data!$B:$B,K$12,Data!$A:$A,$B251),\"N/A\")","v":"N/A"},{"$f":"IFERROR(AVERAGEIFS(Data!$Q:$Q,Data!$B:$B,L$12,Data!$A:$A,$B251),\"N/A\")","v":"N/A"},{"$f":"IFERROR(AVERAGEIFS(Data!$Q:$Q,Data!$B:$B,M$12,Data!$A:$A,$B251),\"N/A\")","v":"N/A"}]
["",{"$f":"Observations!B241","v":""},{"$f":"IF(A252=1,VLOOKUP($B252,ObData!$A$1:$J$300,3,0),\"\")","v":""},{"$f":"IF(A252=1,B252&\": \"&TEXT(C252,\"mm/dd/yy\")&\"- \"&VLOOKUP(B252,ObData!$A$1:$J$300,5,0),\"\")","v":""},{"$f":"IF($B252=\"\",\"\",IF(COUNTIFS(Data!$B:$B,E$12,Data!$A:$A,Matrices!$B252)=0,\"\",COUNTIFS(Data!$B:$B,E$12,Data!$A:$A,Matrices!$B252)))","v":""},{"$f":"IF($B252=\"\",\"\",IF(COUNTIFS(Data!$B:$B,F$12,Data!$A:$A,Matrices!$B252)=0,\"\",COUNTIFS(Data!$B:$B,F$12,Data!$A:$A,Matrices!$B252)))","v":""},{"$f":"IF($B252=\"\",\"\",IF(COUNTIFS(Data!$B:$B,G$12,Data!$A:$A,Matrices!$B252)=0,\"\",COUNTIFS(Data!$B:$B,G$12,Data!$A:$A,Matrices!$B252)))","v":""},{"$f":"IFERROR(AVERAGEIFS(Data!$E:$E,Data!$B:$B,H$12,Data!$A:$A,$B252),\"N/A\")","v":"N/A"},{"$f":"IFERROR(AVERAGEIFS(Data!$E:$E,Data!$B:$B,I$12,Data!$A:$A,$B252),\"N/A\")","v":"N/A"},{"$f":"IFERROR(AVERAGEIFS(Data!$E:$E,Data!$B:$B,J$12,Data!$A:$A,$B252),\"N/A\")","v":"N/A"},{"$f":"IFERROR(AVERAGEIFS(Data!$Q:$Q,Data!$B:$B,K$12,Data!$A:$A,$B252),\"N/A\")","v":"N/A"},{"$f":"IFERROR(AVERAGEIFS(Data!$Q:$Q,Data!$B:$B,L$12,Data!$A:$A,$B252),\"N/A\")","v":"N/A"},{"$f":"IFERROR(AVERAGEIFS(Data!$Q:$Q,Data!$B:$B,M$12,Data!$A:$A,$B252),\"N/A\")","v":"N/A"}]
["",{"$f":"Observations!B242","v":""},{"$f":"IF(A253=1,VLOOKUP($B253,ObData!$A$1:$J$300,3,0),\"\")","v":""},{"$f":"IF(A253=1,B253&\": \"&TEXT(C253,\"mm/dd/yy\")&\"- \"&VLOOKUP(B253,ObData!$A$1:$J$300,5,0),\"\")","v":""},{"$f":"IF($B253=\"\",\"\",IF(COUNTIFS(Data!$B:$B,E$12,Data!$A:$A,Matrices!$B253)=0,\"\",COUNTIFS(Data!$B:$B,E$12,Data!$A:$A,Matrices!$B253)))","v":""},{"$f":"IF($B253=\"\",\"\",IF(COUNTIFS(Data!$B:$B,F$12,Data!$A:$A,Matrices!$B253)=0,\"\",COUNTIFS(Data!$B:$B,F$12,Data!$A:$A,Matrices!$B253)))","v":""},{"$f":"IF($B253=\"\",\"\",IF(COUNTIFS(Data!$B:$B,G$12,Data!$A:$A,Matrices!$B253)=0,\"\",COUNTIFS(Data!$B:$B,G$12,Data!$A:$A,Matrices!$B253)))","v":""},{"$f":"IFERROR(AVERAGEIFS(Data!$E:$E,Data!$B:$B,H$12,Data!$A:$A,$B253),\"N/A\")","v":"N/A"},{"$f":"IFERROR(AVERAGEIFS(Data!$E:$E,Data!$B:$B,I$12,Data!$A:$A,$B253),\"N/A\")","v":"N/A"},{"$f":"IFERROR(AVERAGEIFS(Data!$E:$E,Data!$B:$B,J$12,Data!$A:$A,$B253),\"N/A\")","v":"N/A"},{"$f":"IFERROR(AVERAGEIFS(Data!$Q:$Q,Data!$B:$B,K$12,Data!$A:$A,$B253),\"N/A\")","v":"N/A"},{"$f":"IFERROR(AVERAGEIFS(Data!$Q:$Q,Data!$B:$B,L$12,Data!$A:$A,$B253),\"N/A\")","v":"N/A"},{"$f":"IFERROR(AVERAGEIFS(Data!$Q:$Q,Data!$B:$B,M$12,Data!$A:$A,$B253),\"N/A\")","v":"N/A"}]
["",{"$f":"Observations!B243","v":""},{"$f":"IF(A254=1,VLOOKUP($B254,ObData!$A$1:$J$300,3,0),\"\")","v":""},{"$f":"IF(A254=1,B254&\": \"&TEXT(C254,\"mm/dd/yy\")&\"- \"&VLOOKUP(B254,ObData!$A$1:$J$300,5,0),\"\")","v":""},{"$f":"IF($B254=\"\",\"\",IF(COUNTIFS(Data!$B:$B,E$12,Data!$A:$A,Matrices!$B254)=0,\"\",COUNTIFS(Data!$B:$B,E$12,Data!$A:$A,Matrices!$B254)))","v":""},{"$f":"IF($B254=\"\",\"\",IF(COUNTIFS(Data!$B:$B,F$12,Data!$A:$A,Matrices!$B254)=0,\"\",COUNTIFS(Data!$B:$B,F$12,Data!$A:$A,Matrices!$B254)))","v":""},{"$f":"IF($B254=\"\",\"\",IF(COUNTIFS(Data!$B:$B,G$12,Data!$A:$A,Matrices!$B254)=0,\"\",COUNTIFS(Data!$B:$B,G$12,Data!$A:$A,Matrices!$B254)))","v":""},{"$f":"IFERROR(AVERAGEIFS(Data!$E:$E,Data!$B:$B,H$12,Data!$A:$A,$B254),\"N/A\")","v":"N/A"},{"$f":"IFERROR(AVERAGEIFS(Data!$E:$E,Data!$B:$B,I$12,Data!$A:$A,$B254),\"N/A\")","v":"N/A"},{"$f":"IFERROR(AVERAGEIFS(Data!$E:$E,Data!$B:$B,J$12,Data!$A:$A,$B254),\"N/A\")","v":"N/A"},{"$f":"IFERROR(AVERAGEIFS(Data!$Q:$Q,Data!$B:$B,K$12,Data!$A:$A,$B254),\"N/A\")","v":"N/A"},{"$f":"IFERROR(AVERAGEIFS(Data!$Q:$Q,Data!$B:$B,L$12,Data!$A:$A,$B254),\"N/A\")","v":"N/A"},{"$f":"IFERROR(AVERAGEIFS(Data!$Q:$Q,Data!$B:$B,M$12,Data!$A:$A,$B254),\"N/A\")","v":"N/A"}]
["",{"$f":"Observations!B244","v":""},{"$f":"IF(A255=1,VLOOKUP($B255,ObData!$A$1:$J$300,3,0),\"\")","v":""},{"$f":"IF(A255=1,B255&\": \"&TEXT(C255,\"mm/dd/yy\")&\"- \"&VLOOKUP(B255,ObData!$A$1:$J$300,5,0),\"\")","v":""},{"$f":"IF($B255=\"\",\"\",IF(COUNTIFS(Data!$B:$B,E$12,Data!$A:$A,Matrices!$B255)=0,\"\",COUNTIFS(Data!$B:$B,E$12,Data!$A:$A,Matrices!$B255)))","v":""},{"$f":"IF($B255=\"\",\"\",IF(COUNTIFS(Data!$B:$B,F$12,Data!$A:$A,Matrices!$B255)=0,\"\",COUNTIFS(Data!$B:$B,F$12,Data!$A:$A,Matrices!$B255)))","v":""},{"$f":"IF($B255=\"\",\"\",IF(COUNTIFS(Data!$B:$B,G$12,Data!$A:$A,Matrices!$B255)=0,\"\",COUNTIFS(Data!$B:$B,G$12,Data!$A:$A,Matrices!$B255)))","v":""},{"$f":"IFERROR(AVERAGEIFS(Data!$E:$E,Data!$B:$B,H$12,Data!$A:$A,$B255),\"N/A\")","v":"N/A"},{"$f":"IFERROR(AVERAGEIFS(Data!$E:$E,Data!$B:$B,I$12,Data!$A:$A,$B255),\"N/A\")","v":"N/A"},{"$f":"IFERROR(AVERAGEIFS(Data!$E:$E,Data!$B:$B,J$12,Data!$A:$A,$B255),\"N/A\")","v":"N/A"},{"$f":"IFERROR(AVERAGEIFS(Data!$Q:$Q,Data!$B:$B,K$12,Data!$A:$A,$B255),\"N/A\")","v":"N/A"},{"$f":"IFERROR(AVERAGEIFS(Data!$Q:$Q,Data!$B:$B,L$12,Data!$A:$A,$B255),\"N/A\")","v":"N/A"},{"$f":"IFERROR(AVERAGEIFS(Data!$Q:$Q,Data!$B:$B,M$12,Data!$A:$A,$B255),\"N/A\")","v":"N/A"}]
["",{"$f":"Observations!B245","v":""},{"$f":"IF(A256=1,VLOOKUP($B256,ObData!$A$1:$J$300,3,0),\"\")","v":""},{"$f":"IF(A256=1,B256&\": \"&TEXT(C256,\"mm/dd/yy\")&\"- \"&VLOOKUP(B256,ObData!$A$1:$J$300,5,0),\"\")","v":""},{"$f":"IF($B256=\"\",\"\",IF(COUNTIFS(Data!$B:$B,E$12,Data!$A:$A,Matrices!$B256)=0,\"\",COUNTIFS(Data!$B:$B,E$12,Data!$A:$A,Matrices!$B256)))","v":""},{"$f":"IF($B256=\"\",\"\",IF(COUNTIFS(Data!$B:$B,F$12,Data!$A:$A,Matrices!$B256)=0,\"\",COUNTIFS(Data!$B:$B,F$12,Data!$A:$A,Matrices!$B256)))","v":""},{"$f":"IF($B256=\"\",\"\",IF(COUNTIFS(Data!$B:$B,G$12,Data!$A:$A,Matrices!$B256)=0,\"\",COUNTIFS(Data!$B:$B,G$12,Data!$A:$A,Matrices!$B256)))","v":""},{"$f":"IFERROR(AVERAGEIFS(Data!$E:$E,Data!$B:$B,H$12,Data!$A:$A,$B256),\"N/A\")","v":"N/A"},{"$f":"IFERROR(AVERAGEIFS(Data!$E:$E,Data!$B:$B,I$12,Data!$A:$A,$B256),\"N/A\")","v":"N/A"},{"$f":"IFERROR(AVERAGEIFS(Data!$E:$E,Data!$B:$B,J$12,Data!$A:$A,$B256),\"N/A\")","v":"N/A"},{"$f":"IFERROR(AVERAGEIFS(Data!$Q:$Q,Data!$B:$B,K$12,Data!$A:$A,$B256),\"N/A\")","v":"N/A"},{"$f":"IFERROR(AVERAGEIFS(Data!$Q:$Q,Data!$B:$B,L$12,Data!$A:$A,$B256),\"N/A\")","v":"N/A"},{"$f":"IFERROR(AVERAGEIFS(Data!$Q:$Q,Data!$B:$B,M$12,Data!$A:$A,$B256),\"N/A\")","v":"N/A"}]
["",{"$f":"Observations!B246","v":""},{"$f":"IF(A257=1,VLOOKUP($B257,ObData!$A$1:$J$300,3,0),\"\")","v":""},{"$f":"IF(A257=1,B257&\": \"&TEXT(C257,\"mm/dd/yy\")&\"- \"&VLOOKUP(B257,ObData!$A$1:$J$300,5,0),\"\")","v":""},{"$f":"IF($B257=\"\",\"\",IF(COUNTIFS(Data!$B:$B,E$12,Data!$A:$A,Matrices!$B257)=0,\"\",COUNTIFS(Data!$B:$B,E$12,Data!$A:$A,Matrices!$B257)))","v":""},{"$f":"IF($B257=\"\",\"\",IF(COUNTIFS(Data!$B:$B,F$12,Data!$A:$A,Matrices!$B257)=0,\"\",COUNTIFS(Data!$B:$B,F$12,Data!$A:$A,Matrices!$B257)))","v":""},{"$f":"IF($B257=\"\",\"\",IF(COUNTIFS(Data!$B:$B,G$12,Data!$A:$A,Matrices!$B257)=0,\"\",COUNTIFS(Data!$B:$B,G$12,Data!$A:$A,Matrices!$B257)))","v":""},{"$f":"IFERROR(AVERAGEIFS(Data!$E:$E,Data!$B:$B,H$12,Data!$A:$A,$B257),\"N/A\")","v":"N/A"},{"$f":"IFERROR(AVERAGEIFS(Data!$E:$E,Data!$B:$B,I$12,Data!$A:$A,$B257),\"N/A\")","v":"N/A"},{"$f":"IFERROR(AVERAGEIFS(Data!$E:$E,Data!$B:$B,J$12,Data!$A:$A,$B257),\"N/A\")","v":"N/A"},{"$f":"IFERROR(AVERAGEIFS(Data!$Q:$Q,Data!$B:$B,K$12,Data!$A:$A,$B257),\"N/A\")","v":"N/A"},{"$f":"IFERROR(AVERAGEIFS(Data!$Q:$Q,Data!$B:$B,L$12,Data!$A:$A,$B257),\"N/A\")","v":"N/A"},{"$f":"IFERROR(AVERAGEIFS(Data!$Q:$Q,Data!$B:$B,M$12,Data!$A:$A,$B257),\"N/A\")","v":"N/A"}]
["",{"$f":"Observations!B247","v":""},{"$f":"IF(A258=1,VLOOKUP($B258,ObData!$A$1:$J$300,3,0),\"\")","v":""},{"$f":"IF(A258=1,B258&\": \"&TEXT(C258,\"mm/dd/yy\")&\"- \"&VLOOKUP(B258,ObData!$A$1:$J$300,5,0),\"\")","v":""},{"$f":"IF($B258=\"\",\"\",IF(COUNTIFS(Data!$B:$B,E$12,Data!$A:$A,Matrices!$B258)=0,\"\",COUNTIFS(Data!$B:$B,E$12,Data!$A:$A,Matrices!$B258)))","v":""},{"$f":"IF($B258=\"\",\"\",IF(COUNTIFS(Data!$B:$B,F$12,Data!$A:$A,Matrices!$B258)=0,\"\",COUNTIFS(Data!$B:$B,F$12,Data!$A:$A,Matrices!$B258)))","v":""},{"$f":"IF($B258=\"\",\"\",IF(COUNTIFS(Data!$B:$B,G$12,Data!$A:$A,Matrices!$B258)=0,\"\",COUNTIFS(Data!$B:$B,G$12,Data!$A:$A,Matrices!$B258)))","v":""},{"$f":"IFERROR(AVERAGEIFS(Data!$E:$E,Data!$B:$B,H$12,Data!$A:$A,$B258),\"N/A\")","v":"N/A"},{"$f":"IFERROR(AVERAGEIFS(Data!$E:$E,Data!$B:$B,I$12,Data!$A:$A,$B258),\"N/A\")","v":"N/A"},{"$f":"IFERROR(AVERAGEIFS(Data!$E:$E,Data!$B:$B,J$12,Data!$A:$A,$B258),\"N/A\")","v":"N/A"},{"$f":"IFERROR(AVERAGEIFS(Data!$Q:$Q,Data!$B:$B,K$12,Data!$A:$A,$B258),\"N/A\")","v":"N/A"},{"$f":"IFERROR(AVERAGEIFS(Data!$Q:$Q,Data!$B:$B,L$12,Data!$A:$A,$B258),\"N/A\")","v":"N/A"},{"$f":"IFERROR(AVERAGEIFS(Data!$Q:$Q,Data!$B:$B,M$12,Data!$A:$A,$B258),\"N/A\")","v":"N/A"}]
["",{"$f":"Observations!B248","v":""},{"$f":"IF(A259=1,VLOOKUP($B259,ObData!$A$1:$J$300,3,0),\"\")","v":""},{"$f":"IF(A259=1,B259&\": \"&TEXT(C259,\"mm/dd/yy\")&\"- \"&VLOOKUP(B259,ObData!$A$1:$J$300,5,0),\"\")","v":""},{"$f":"IF($B259=\"\",\"\",IF(COUNTIFS(Data!$B:$B,E$12,Data!$A:$A,Matrices!$B259)=0,\"\",COUNTIFS(Data!$B:$B,E$12,Data!$A:$A,Matrices!$B259)))","v":""},{"$f":"IF($B259=\"\",\"\",IF(COUNTIFS(Data!$B:$B,F$12,Data!$A:$A,Matrices!$B259)=0,\"\",COUNTIFS(Data!$B:$B,F$12,Data!$A:$A,Matrices!$B259)))","v":""},{"$f":"IF($B259=\"\",\"\",IF(COUNTIFS(Data!$B:$B,G$12,Data!$A:$A,Matrices!$B259)=0,\"\",COUNTIFS(Data!$B:$B,G$12,Data!$A:$A,Matrices!$B259)))","v":""},{"$f":"IFERROR(AVERAGEIFS(Data!$E:$E,Data!$B:$B,H$12,Data!$A:$A,$B259),\"N/A\")","v":"N/A"},{"$f":"IFERROR(AVERAGEIFS(Data!$E:$E,Data!$B:$B,I$12,Data!$A:$A,$B259),\"N/A\")","v":"N/A"},{"$f":"IFERROR(AVERAGEIFS(Data!$E:$E,Data!$B:$B,J$12,Data!$A:$A,$B259),\"N/A\")","v":"N/A"},{"$f":"IFERROR(AVERAGEIFS(Data!$Q:$Q,Data!$B:$B,K$12,Data!$A:$A,$B259),\"N/A\")","v":"N/A"},{"$f":"IFERROR(AVERAGEIFS(Data!$Q:$Q,Data!$B:$B,L$12,Data!$A:$A,$B259),\"N/A\")","v":"N/A"},{"$f":"IFERROR(AVERAGEIFS(Data!$Q:$Q,Data!$B:$B,M$12,Data!$A:$A,$B259),\"N/A\")","v":"N/A"}]
["",{"$f":"Observations!B249","v":""},{"$f":"IF(A260=1,VLOOKUP($B260,ObData!$A$1:$J$300,3,0),\"\")","v":""},{"$f":"IF(A260=1,B260&\": \"&TEXT(C260,\"mm/dd/yy\")&\"- \"&VLOOKUP(B260,ObData!$A$1:$J$300,5,0),\"\")","v":""},{"$f":"IF($B260=\"\",\"\",IF(COUNTIFS(Data!$B:$B,E$12,Data!$A:$A,Matrices!$B260)=0,\"\",COUNTIFS(Data!$B:$B,E$12,Data!$A:$A,Matrices!$B260)))","v":""},{"$f":"IF($B260=\"\",\"\",IF(COUNTIFS(Data!$B:$B,F$12,Data!$A:$A,Matrices!$B260)=0,\"\",COUNTIFS(Data!$B:$B,F$12,Data!$A:$A,Matrices!$B260)))","v":""},{"$f":"IF($B260=\"\",\"\",IF(COUNTIFS(Data!$B:$B,G$12,Data!$A:$A,Matrices!$B260)=0,\"\",COUNTIFS(Data!$B:$B,G$12,Data!$A:$A,Matrices!$B260)))","v":""},{"$f":"IFERROR(AVERAGEIFS(Data!$E:$E,Data!$B:$B,H$12,Data!$A:$A,$B260),\"N/A\")","v":"N/A"},{"$f":"IFERROR(AVERAGEIFS(Data!$E:$E,Data!$B:$B,I$12,Data!$A:$A,$B260),\"N/A\")","v":"N/A"},{"$f":"IFERROR(AVERAGEIFS(Data!$E:$E,Data!$B:$B,J$12,Data!$A:$A,$B260),\"N/A\")","v":"N/A"},{"$f":"IFERROR(AVERAGEIFS(Data!$Q:$Q,Data!$B:$B,K$12,Data!$A:$A,$B260),\"N/A\")","v":"N/A"},{"$f":"IFERROR(AVERAGEIFS(Data!$Q:$Q,Data!$B:$B,L$12,Data!$A:$A,$B260),\"N/A\")","v":"N/A"},{"$f":"IFERROR(AVERAGEIFS(Data!$Q:$Q,Data!$B:$B,M$12,Data!$A:$A,$B260),\"N/A\")","v":"N/A"}]
["",{"$f":"Observations!B250","v":""},{"$f":"IF(A261=1,VLOOKUP($B261,ObData!$A$1:$J$300,3,0),\"\")","v":""},{"$f":"IF(A261=1,B261&\": \"&TEXT(C261,\"mm/dd/yy\")&\"- \"&VLOOKUP(B261,ObData!$A$1:$J$300,5,0),\"\")","v":""},{"$f":"IF($B261=\"\",\"\",IF(COUNTIFS(Data!$B:$B,E$12,Data!$A:$A,Matrices!$B261)=0,\"\",COUNTIFS(Data!$B:$B,E$12,Data!$A:$A,Matrices!$B261)))","v":""},{"$f":"IF($B261=\"\",\"\",IF(COUNTIFS(Data!$B:$B,F$12,Data!$A:$A,Matrices!$B261)=0,\"\",COUNTIFS(Data!$B:$B,F$12,Data!$A:$A,Matrices!$B261)))","v":""},{"$f":"IF($B261=\"\",\"\",IF(COUNTIFS(Data!$B:$B,G$12,Data!$A:$A,Matrices!$B261)=0,\"\",COUNTIFS(Data!$B:$B,G$12,Data!$A:$A,Matrices!$B261)))","v":""},{"$f":"IFERROR(AVERAGEIFS(Data!$E:$E,Data!$B:$B,H$12,Data!$A:$A,$B261),\"N/A\")","v":"N/A"},{"$f":"IFERROR(AVERAGEIFS(Data!$E:$E,Data!$B:$B,I$12,Data!$A:$A,$B261),\"N/A\")","v":"N/A"},{"$f":"IFERROR(AVERAGEIFS(Data!$E:$E,Data!$B:$B,J$12,Data!$A:$A,$B261),\"N/A\")","v":"N/A"},{"$f":"IFERROR(AVERAGEIFS(Data!$Q:$Q,Data!$B:$B,K$12,Data!$A:$A,$B261),\"N/A\")","v":"N/A"},{"$f":"IFERROR(AVERAGEIFS(Data!$Q:$Q,Data!$B:$B,L$12,Data!$A:$A,$B261),\"N/A\")","v":"N/A"},{"$f":"IFERROR(AVERAGEIFS(Data!$Q:$Q,Data!$B:$B,M$12,Data!$A:$A,$B261),\"N/A\")","v":"N/A"}]
["",{"$f":"Observations!B251","v":""},{"$f":"IF(A262=1,VLOOKUP($B262,ObData!$A$1:$J$300,3,0),\"\")","v":""},{"$f":"IF(A262=1,B262&\": \"&TEXT(C262,\"mm/dd/yy\")&\"- \"&VLOOKUP(B262,ObData!$A$1:$J$300,5,0),\"\")","v":""},{"$f":"IF($B262=\"\",\"\",IF(COUNTIFS(Data!$B:$B,E$12,Data!$A:$A,Matrices!$B262)=0,\"\",COUNTIFS(Data!$B:$B,E$12,Data!$A:$A,Matrices!$B262)))","v":""},{"$f":"IF($B262=\"\",\"\",IF(COUNTIFS(Data!$B:$B,F$12,Data!$A:$A,Matrices!$B262)=0,\"\",COUNTIFS(Data!$B:$B,F$12,Data!$A:$A,Matrices!$B262)))","v":""},{"$f":"IF($B262=\"\",\"\",IF(COUNTIFS(Data!$B:$B,G$12,Data!$A:$A,Matrices!$B262)=0,\"\",COUNTIFS(Data!$B:$B,G$12,Data!$A:$A,Matrices!$B262)))","v":""},{"$f":"IFERROR(AVERAGEIFS(Data!$E:$E,Data!$B:$B,H$12,Data!$A:$A,$B262),\"N/A\")","v":"N/A"},{"$f":"IFERROR(AVERAGEIFS(Data!$E:$E,Data!$B:$B,I$12,Data!$A:$A,$B262),\"N/A\")","v":"N/A"},{"$f":"IFERROR(AVERAGEIFS(Data!$E:$E,Data!$B:$B,J$12,Data!$A:$A,$B262),\"N/A\")","v":"N/A"},{"$f":"IFERROR(AVERAGEIFS(Data!$Q:$Q,Data!$B:$B,K$12,Data!$A:$A,$B262),\"N/A\")","v":"N/A"},{"$f":"IFERROR(AVERAGEIFS(Data!$Q:$Q,Data!$B:$B,L$12,Data!$A:$A,$B262),\"N/A\")","v":"N/A"},{"$f":"IFERROR(AVERAGEIFS(Data!$Q:$Q,Data!$B:$B,M$12,Data!$A:$A,$B262),\"N/A\")","v":"N/A"}]
["",{"$f":"Observations!B252","v":""},{"$f":"IF(A263=1,VLOOKUP($B263,ObData!$A$1:$J$300,3,0),\"\")","v":""},{"$f":"IF(A263=1,B263&\": \"&TEXT(C263,\"mm/dd/yy\")&\"- \"&VLOOKUP(B263,ObData!$A$1:$J$300,5,0),\"\")","v":""},{"$f":"IF($B263=\"\",\"\",IF(COUNTIFS(Data!$B:$B,E$12,Data!$A:$A,Matrices!$B263)=0,\"\",COUNTIFS(Data!$B:$B,E$12,Data!$A:$A,Matrices!$B263)))","v":""},{"$f":"IF($B263=\"\",\"\",IF(COUNTIFS(Data!$B:$B,F$12,Data!$A:$A,Matrices!$B263)=0,\"\",COUNTIFS(Data!$B:$B,F$12,Data!$A:$A,Matrices!$B263)))","v":""},{"$f":"IF($B263=\"\",\"\",IF(COUNTIFS(Data!$B:$B,G$12,Data!$A:$A,Matrices!$B263)=0,\"\",COUNTIFS(Data!$B:$B,G$12,Data!$A:$A,Matrices!$B263)))","v":""},{"$f":"IFERROR(AVERAGEIFS(Data!$E:$E,Data!$B:$B,H$12,Data!$A:$A,$B263),\"N/A\")","v":"N/A"},{"$f":"IFERROR(AVERAGEIFS(Data!$E:$E,Data!$B:$B,I$12,Data!$A:$A,$B263),\"N/A\")","v":"N/A"},{"$f":"IFERROR(AVERAGEIFS(Data!$E:$E,Data!$B:$B,J$12,Data!$A:$A,$B263),\"N/A\")","v":"N/A"},{"$f":"IFERROR(AVERAGEIFS(Data!$Q:$Q,Data!$B:$B,K$12,Data!$A:$A,$B263),\"N/A\")","v":"N/A"},{"$f":"IFERROR(AVERAGEIFS(Data!$Q:$Q,Data!$B:$B,L$12,Data!$A:$A,$B263),\"N/A\")","v":"N/A"},{"$f":"IFERROR(AVERAGEIFS(Data!$Q:$Q,Data!$B:$B,M$12,Data!$A:$A,$B263),\"N/A\")","v":"N/A"}]
["",{"$f":"Observations!B253","v":""},{"$f":"IF(A264=1,VLOOKUP($B264,ObData!$A$1:$J$300,3,0),\"\")","v":""},{"$f":"IF(A264=1,B264&\": \"&TEXT(C264,\"mm/dd/yy\")&\"- \"&VLOOKUP(B264,ObData!$A$1:$J$300,5,0),\"\")","v":""},{"$f":"IF($B264=\"\",\"\",IF(COUNTIFS(Data!$B:$B,E$12,Data!$A:$A,Matrices!$B264)=0,\"\",COUNTIFS(Data!$B:$B,E$12,Data!$A:$A,Matrices!$B264)))","v":""},{"$f":"IF($B264=\"\",\"\",IF(COUNTIFS(Data!$B:$B,F$12,Data!$A:$A,Matrices!$B264)=0,\"\",COUNTIFS(Data!$B:$B,F$12,Data!$A:$A,Matrices!$B264)))","v":""},{"$f":"IF($B264=\"\",\"\",IF(COUNTIFS(Data!$B:$B,G$12,Data!$A:$A,Matrices!$B264)=0,\"\",COUNTIFS(Data!$B:$B,G$12,Data!$A:$A,Matrices!$B264)))","v":""},{"$f":"IFERROR(AVERAGEIFS(Data!$E:$E,Data!$B:$B,H$12,Data!$A:$A,$B264),\"N/A\")","v":"N/A"},{"$f":"IFERROR(AVERAGEIFS(Data!$E:$E,Data!$B:$B,I$12,Data!$A:$A,$B264),\"N/A\")","v":"N/A"},{"$f":"IFERROR(AVERAGEIFS(Data!$E:$E,Data!$B:$B,J$12,Data!$A:$A,$B264),\"N/A\")","v":"N/A"},{"$f":"IFERROR(AVERAGEIFS(Data!$Q:$Q,Data!$B:$B,K$12,Data!$A:$A,$B264),\"N/A\")","v":"N/A"},{"$f":"IFERROR(AVERAGEIFS(Data!$Q:$Q,Data!$B:$B,L$12,Data!$A:$A,$B264),\"N/A\")","v":"N/A"},{"$f":"IFERROR(AVERAGEIFS(Data!$Q:$Q,Data!$B:$B,M$12,Data!$A:$A,$B264),\"N/A\")","v":"N/A"}]
["",{"$f":"Observations!B254","v":""},{"$f":"IF(A265=1,VLOOKUP($B265,ObData!$A$1:$J$300,3,0),\"\")","v":""},{"$f":"IF(A265=1,B265&\": \"&TEXT(C265,\"mm/dd/yy\")&\"- \"&VLOOKUP(B265,ObData!$A$1:$J$300,5,0),\"\")","v":""},{"$f":"IF($B265=\"\",\"\",IF(COUNTIFS(Data!$B:$B,E$12,Data!$A:$A,Matrices!$B265)=0,\"\",COUNTIFS(Data!$B:$B,E$12,Data!$A:$A,Matrices!$B265)))","v":""},{"$f":"IF($B265=\"\",\"\",IF(COUNTIFS(Data!$B:$B,F$12,Data!$A:$A,Matrices!$B265)=0,\"\",COUNTIFS(Data!$B:$B,F$12,Data!$A:$A,Matrices!$B265)))","v":""},{"$f":"IF($B265=\"\",\"\",IF(COUNTIFS(Data!$B:$B,G$12,Data!$A:$A,Matrices!$B265)=0,\"\",COUNTIFS(Data!$B:$B,G$12,Data!$A:$A,Matrices!$B265)))","v":""},{"$f":"IFERROR(AVERAGEIFS(Data!$E:$E,Data!$B:$B,H$12,Data!$A:$A,$B265),\"N/A\")","v":"N/A"},{"$f":"IFERROR(AVERAGEIFS(Data!$E:$E,Data!$B:$B,I$12,Data!$A:$A,$B265),\"N/A\")","v":"N/A"},{"$f":"IFERROR(AVERAGEIFS(Data!$E:$E,Data!$B:$B,J$12,Data!$A:$A,$B265),\"N/A\")","v":"N/A"},{"$f":"IFERROR(AVERAGEIFS(Data!$Q:$Q,Data!$B:$B,K$12,Data!$A:$A,$B265),\"N/A\")","v":"N/A"},{"$f":"IFERROR(AVERAGEIFS(Data!$Q:$Q,Data!$B:$B,L$12,Data!$A:$A,$B265),\"N/A\")","v":"N/A"},{"$f":"IFERROR(AVERAGEIFS(Data!$Q:$Q,Data!$B:$B,M$12,Data!$A:$A,$B265),\"N/A\")","v":"N/A"}]
["",{"$f":"Observations!B255","v":""},{"$f":"IF(A266=1,VLOOKUP($B266,ObData!$A$1:$J$300,3,0),\"\")","v":""},{"$f":"IF(A266=1,B266&\": \"&TEXT(C266,\"mm/dd/yy\")&\"- \"&VLOOKUP(B266,ObData!$A$1:$J$300,5,0),\"\")","v":""},{"$f":"IF($B266=\"\",\"\",IF(COUNTIFS(Data!$B:$B,E$12,Data!$A:$A,Matrices!$B266)=0,\"\",COUNTIFS(Data!$B:$B,E$12,Data!$A:$A,Matrices!$B266)))","v":""},{"$f":"IF($B266=\"\",\"\",IF(COUNTIFS(Data!$B:$B,F$12,Data!$A:$A,Matrices!$B266)=0,\"\",COUNTIFS(Data!$B:$B,F$12,Data!$A:$A,Matrices!$B266)))","v":""},{"$f":"IF($B266=\"\",\"\",IF(COUNTIFS(Data!$B:$B,G$12,Data!$A:$A,Matrices!$B266)=0,\"\",COUNTIFS(Data!$B:$B,G$12,Data!$A:$A,Matrices!$B266)))","v":""},{"$f":"IFERROR(AVERAGEIFS(Data!$E:$E,Data!$B:$B,H$12,Data!$A:$A,$B266),\"N/A\")","v":"N/A"},{"$f":"IFERROR(AVERAGEIFS(Data!$E:$E,Data!$B:$B,I$12,Data!$A:$A,$B266),\"N/A\")","v":"N/A"},{"$f":"IFERROR(AVERAGEIFS(Data!$E:$E,Data!$B:$B,J$12,Data!$A:$A,$B266),\"N/A\")","v":"N/A"},{"$f":"IFERROR(AVERAGEIFS(Data!$Q:$Q,Data!$B:$B,K$12,Data!$A:$A,$B266),\"N/A\")","v":"N/A"},{"$f":"IFERROR(AVERAGEIFS(Data!$Q:$Q,Data!$B:$B,L$12,Data!$A:$A,$B266),\"N/A\")","v":"N/A"},{"$f":"IFERROR(AVERAGEIFS(Data!$Q:$Q,Data!$B:$B,M$12,Data!$A:$A,$B266),\"N/A\")","v":"N/A"}]
["",{"$f":"Observations!B256","v":""},{"$f":"IF(A267=1,VLOOKUP($B267,ObData!$A$1:$J$300,3,0),\"\")","v":""},{"$f":"IF(A267=1,B267&\": \"&TEXT(C267,\"mm/dd/yy\")&\"- \"&VLOOKUP(B267,ObData!$A$1:$J$300,5,0),\"\")","v":""},{"$f":"IF($B267=\"\",\"\",IF(COUNTIFS(Data!$B:$B,E$12,Data!$A:$A,Matrices!$B267)=0,\"\",COUNTIFS(Data!$B:$B,E$12,Data!$A:$A,Matrices!$B267)))","v":""},{"$f":"IF($B267=\"\",\"\",IF(COUNTIFS(Data!$B:$B,F$12,Data!$A:$A,Matrices!$B267)=0,\"\",COUNTIFS(Data!$B:$B,F$12,Data!$A:$A,Matrices!$B267)))","v":""},{"$f":"IF($B267=\"\",\"\",IF(COUNTIFS(Data!$B:$B,G$12,Data!$A:$A,Matrices!$B267)=0,\"\",COUNTIFS(Data!$B:$B,G$12,Data!$A:$A,Matrices!$B267)))","v":""},{"$f":"IFERROR(AVERAGEIFS(Data!$E:$E,Data!$B:$B,H$12,Data!$A:$A,$B267),\"N/A\")","v":"N/A"},{"$f":"IFERROR(AVERAGEIFS(Data!$E:$E,Data!$B:$B,I$12,Data!$A:$A,$B267),\"N/A\")","v":"N/A"},{"$f":"IFERROR(AVERAGEIFS(Data!$E:$E,Data!$B:$B,J$12,Data!$A:$A,$B267),\"N/A\")","v":"N/A"},{"$f":"IFERROR(AVERAGEIFS(Data!$Q:$Q,Data!$B:$B,K$12,Data!$A:$A,$B267),\"N/A\")","v":"N/A"},{"$f":"IFERROR(AVERAGEIFS(Data!$Q:$Q,Data!$B:$B,L$12,Data!$A:$A,$B267),\"N/A\")","v":"N/A"},{"$f":"IFERROR(AVERAGEIFS(Data!$Q:$Q,Data!$B:$B,M$12,Data!$A:$A,$B267),\"N/A\")","v":"N/A"}]
["",{"$f":"Observations!B257","v":""},{"$f":"IF(A268=1,VLOOKUP($B268,ObData!$A$1:$J$300,3,0),\"\")","v":""},{"$f":"IF(A268=1,B268&\": \"&TEXT(C268,\"mm/dd/yy\")&\"- \"&VLOOKUP(B268,ObData!$A$1:$J$300,5,0),\"\")","v":""},{"$f":"IF($B268=\"\",\"\",IF(COUNTIFS(Data!$B:$B,E$12,Data!$A:$A,Matrices!$B268)=0,\"\",COUNTIFS(Data!$B:$B,E$12,Data!$A:$A,Matrices!$B268)))","v":""},{"$f":"IF($B268=\"\",\"\",IF(COUNTIFS(Data!$B:$B,F$12,Data!$A:$A,Matrices!$B268)=0,\"\",COUNTIFS(Data!$B:$B,F$12,Data!$A:$A,Matrices!$B268)))","v":""},{"$f":"IF($B268=\"\",\"\",IF(COUNTIFS(Data!$B:$B,G$12,Data!$A:$A,Matrices!$B268)=0,\"\",COUNTIFS(Data!$B:$B,G$12,Data!$A:$A,Matrices!$B268)))","v":""},{"$f":"IFERROR(AVERAGEIFS(Data!$E:$E,Data!$B:$B,H$12,Data!$A:$A,$B268),\"N/A\")","v":"N/A"},{"$f":"IFERROR(AVERAGEIFS(Data!$E:$E,Data!$B:$B,I$12,Data!$A:$A,$B268),\"N/A\")","v":"N/A"},{"$f":"IFERROR(AVERAGEIFS(Data!$E:$E,Data!$B:$B,J$12,Data!$A:$A,$B268),\"N/A\")","v":"N/A"},{"$f":"IFERROR(AVERAGEIFS(Data!$Q:$Q,Data!$B:$B,K$12,Data!$A:$A,$B268),\"N/A\")","v":"N/A"},{"$f":"IFERROR(AVERAGEIFS(Data!$Q:$Q,Data!$B:$B,L$12,Data!$A:$A,$B268),\"N/A\")","v":"N/A"},{"$f":"IFERROR(AVERAGEIFS(Data!$Q:$Q,Data!$B:$B,M$12,Data!$A:$A,$B268),\"N/A\")","v":"N/A"}]
["",{"$f":"Observations!B258","v":""},{"$f":"IF(A269=1,VLOOKUP($B269,ObData!$A$1:$J$300,3,0),\"\")","v":""},{"$f":"IF(A269=1,B269&\": \"&TEXT(C269,\"mm/dd/yy\")&\"- \"&VLOOKUP(B269,ObData!$A$1:$J$300,5,0),\"\")","v":""},{"$f":"IF($B269=\"\",\"\",IF(COUNTIFS(Data!$B:$B,E$12,Data!$A:$A,Matrices!$B269)=0,\"\",COUNTIFS(Data!$B:$B,E$12,Data!$A:$A,Matrices!$B269)))","v":""},{"$f":"IF($B269=\"\",\"\",IF(COUNTIFS(Data!$B:$B,F$12,Data!$A:$A,Matrices!$B269)=0,\"\",COUNTIFS(Data!$B:$B,F$12,Data!$A:$A,Matrices!$B269)))","v":""},{"$f":"IF($B269=\"\",\"\",IF(COUNTIFS(Data!$B:$B,G$12,Data!$A:$A,Matrices!$B269)=0,\"\",COUNTIFS(Data!$B:$B,G$12,Data!$A:$A,Matrices!$B269)))","v":""},{"$f":"IFERROR(AVERAGEIFS(Data!$E:$E,Data!$B:$B,H$12,Data!$A:$A,$B269),\"N/A\")","v":"N/A"},{"$f":"IFERROR(AVERAGEIFS(Data!$E:$E,Data!$B:$B,I$12,Data!$A:$A,$B269),\"N/A\")","v":"N/A"},{"$f":"IFERROR(AVERAGEIFS(Data!$E:$E,Data!$B:$B,J$12,Data!$A:$A,$B269),\"N/A\")","v":"N/A"},{"$f":"IFERROR(AVERAGEIFS(Data!$Q:$Q,Data!$B:$B,K$12,Data!$A:$A,$B269),\"N/A\")","v":"N/A"},{"$f":"IFERROR(AVERAGEIFS(Data!$Q:$Q,Data!$B:$B,L$12,Data!$A:$A,$B269),\"N/A\")","v":"N/A"},{"$f":"IFERROR(AVERAGEIFS(Data!$Q:$Q,Data!$B:$B,M$12,Data!$A:$A,$B269),\"N/A\")","v":"N/A"}]
[{"$f":"IF(B270<>\"\",1,\"\")","v":""},{"$f":"Observations!B259","v":""},{"$f":"IF(A270=1,VLOOKUP($B270,ObData!$A$1:$J$300,3,0),\"\")","v":""},{"$f":"IF(A270=1,B270&\": \"&TEXT(C270,\"mm/dd/yy\")&\"- \"&VLOOKUP(B270,ObData!$A$1:$J$300,5,0),\"\")","v":""},{"$f":"IF($B270=\"\",\"\",IF(COUNTIFS(Data!$B:$B,E$12,Data!$A:$A,Matrices!$B270)=0,\"\",COUNTIFS(Data!$B:$B,E$12,Data!$A:$A,Matrices!$B270)))","v":""},{"$f":"IF($B270=\"\",\"\",IF(COUNTIFS(Data!$B:$B,F$12,Data!$A:$A,Matrices!$B270)=0,\"\",COUNTIFS(Data!$B:$B,F$12,Data!$A:$A,Matrices!$B270)))","v":""},{"$f":"IF($B270=\"\",\"\",IF(COUNTIFS(Data!$B:$B,G$12,Data!$A:$A,Matrices!$B270)=0,\"\",COUNTIFS(Data!$B:$B,G$12,Data!$A:$A,Matrices!$B270)))","v":""},{"$f":"IFERROR(AVERAGEIFS(Data!$E:$E,Data!$B:$B,H$12,Data!$A:$A,$B270),\"N/A\")","v":"N/A"},{"$f":"IFERROR(AVERAGEIFS(Data!$E:$E,Data!$B:$B,I$12,Data!$A:$A,$B270),\"N/A\")","v":"N/A"},{"$f":"IFERROR(AVERAGEIFS(Data!$E:$E,Data!$B:$B,J$12,Data!$A:$A,$B270),\"N/A\")","v":"N/A"},{"$f":"IFERROR(AVERAGEIFS(Data!$Q:$Q,Data!$B:$B,K$12,Data!$A:$A,$B270),\"N/A\")","v":"N/A"},{"$f":"IFERROR(AVERAGEIFS(Data!$Q:$Q,Data!$B:$B,L$12,Data!$A:$A,$B270),\"N/A\")","v":"N/A"},{"$f":"IFERROR(AVERAGEIFS(Data!$Q:$Q,Data!$B:$B,M$12,Data!$A:$A,$B270),\"N/A\")","v":"N/A"}]
["",{"$f":"Observations!B260","v":""},{"$f":"IF(A271=1,VLOOKUP($B271,ObData!$A$1:$J$300,3,0),\"\")","v":""},{"$f":"IF(A271=1,B271&\": \"&TEXT(C271,\"mm/dd/yy\")&\"- \"&VLOOKUP(B271,ObData!$A$1:$J$300,5,0),\"\")","v":""},{"$f":"IF($B271=\"\",\"\",IF(COUNTIFS(Data!$B:$B,E$12,Data!$A:$A,Matrices!$B271)=0,\"\",COUNTIFS(Data!$B:$B,E$12,Data!$A:$A,Matrices!$B271)))","v":""},{"$f":"IF($B271=\"\",\"\",IF(COUNTIFS(Data!$B:$B,F$12,Data!$A:$A,Matrices!$B271)=0,\"\",COUNTIFS(Data!$B:$B,F$12,Data!$A:$A,Matrices!$B271)))","v":""},{"$f":"IF($B271=\"\",\"\",IF(COUNTIFS(Data!$B:$B,G$12,Data!$A:$A,Matrices!$B271)=0,\"\",COUNTIFS(Data!$B:$B,G$12,Data!$A:$A,Matrices!$B271)))","v":""},{"$f":"IFERROR(AVERAGEIFS(Data!$E:$E,Data!$B:$B,H$12,Data!$A:$A,$B271),\"N/A\")","v":"N/A"},{"$f":"IFERROR(AVERAGEIFS(Data!$E:$E,Data!$B:$B,I$12,Data!$A:$A,$B271),\"N/A\")","v":"N/A"},{"$f":"IFERROR(AVERAGEIFS(Data!$E:$E,Data!$B:$B,J$12,Data!$A:$A,$B271),\"N/A\")","v":"N/A"},{"$f":"IFERROR(AVERAGEIFS(Data!$Q:$Q,Data!$B:$B,K$12,Data!$A:$A,$B271),\"N/A\")","v":"N/A"},{"$f":"IFERROR(AVERAGEIFS(Data!$Q:$Q,Data!$B:$B,L$12,Data!$A:$A,$B271),\"N/A\")","v":"N/A"},{"$f":"IFERROR(AVERAGEIFS(Data!$Q:$Q,Data!$B:$B,M$12,Data!$A:$A,$B271),\"N/A\")","v":"N/A"}]
["",{"$f":"Observations!B261","v":""},{"$f":"IF(A272=1,VLOOKUP($B272,ObData!$A$1:$J$300,3,0),\"\")","v":""},{"$f":"IF(A272=1,B272&\": \"&TEXT(C272,\"mm/dd/yy\")&\"- \"&VLOOKUP(B272,ObData!$A$1:$J$300,5,0),\"\")","v":""},{"$f":"IF($B272=\"\",\"\",IF(COUNTIFS(Data!$B:$B,E$12,Data!$A:$A,Matrices!$B272)=0,\"\",COUNTIFS(Data!$B:$B,E$12,Data!$A:$A,Matrices!$B272)))","v":""},{"$f":"IF($B272=\"\",\"\",IF(COUNTIFS(Data!$B:$B,F$12,Data!$A:$A,Matrices!$B272)=0,\"\",COUNTIFS(Data!$B:$B,F$12,Data!$A:$A,Matrices!$B272)))","v":""},{"$f":"IF($B272=\"\",\"\",IF(COUNTIFS(Data!$B:$B,G$12,Data!$A:$A,Matrices!$B272)=0,\"\",COUNTIFS(Data!$B:$B,G$12,Data!$A:$A,Matrices!$B272)))","v":""},{"$f":"IFERROR(AVERAGEIFS(Data!$E:$E,Data!$B:$B,H$12,Data!$A:$A,$B272),\"N/A\")","v":"N/A"},{"$f":"IFERROR(AVERAGEIFS(Data!$E:$E,Data!$B:$B,I$12,Data!$A:$A,$B272),\"N/A\")","v":"N/A"},{"$f":"IFERROR(AVERAGEIFS(Data!$E:$E,Data!$B:$B,J$12,Data!$A:$A,$B272),\"N/A\")","v":"N/A"},{"$f":"IFERROR(AVERAGEIFS(Data!$Q:$Q,Data!$B:$B,K$12,Data!$A:$A,$B272),\"N/A\")","v":"N/A"},{"$f":"IFERROR(AVERAGEIFS(Data!$Q:$Q,Data!$B:$B,L$12,Data!$A:$A,$B272),\"N/A\")","v":"N/A"},{"$f":"IFERROR(AVERAGEIFS(Data!$Q:$Q,Data!$B:$B,M$12,Data!$A:$A,$B272),\"N/A\")","v":"N/A"}]
["",{"$f":"Observations!B262","v":""},{"$f":"IF(A273=1,VLOOKUP($B273,ObData!$A$1:$J$300,3,0),\"\")","v":""},{"$f":"IF(A273=1,B273&\": \"&TEXT(C273,\"mm/dd/yy\")&\"- \"&VLOOKUP(B273,ObData!$A$1:$J$300,5,0),\"\")","v":""},{"$f":"IF($B273=\"\",\"\",IF(COUNTIFS(Data!$B:$B,E$12,Data!$A:$A,Matrices!$B273)=0,\"\",COUNTIFS(Data!$B:$B,E$12,Data!$A:$A,Matrices!$B273)))","v":""},{"$f":"IF($B273=\"\",\"\",IF(COUNTIFS(Data!$B:$B,F$12,Data!$A:$A,Matrices!$B273)=0,\"\",COUNTIFS(Data!$B:$B,F$12,Data!$A:$A,Matrices!$B273)))","v":""},{"$f":"IF($B273=\"\",\"\",IF(COUNTIFS(Data!$B:$B,G$12,Data!$A:$A,Matrices!$B273)=0,\"\",COUNTIFS(Data!$B:$B,G$12,Data!$A:$A,Matrices!$B273)))","v":""},{"$f":"IFERROR(AVERAGEIFS(Data!$E:$E,Data!$B:$B,H$12,Data!$A:$A,$B273),\"N/A\")","v":"N/A"},{"$f":"IFERROR(AVERAGEIFS(Data!$E:$E,Data!$B:$B,I$12,Data!$A:$A,$B273),\"N/A\")","v":"N/A"},{"$f":"IFERROR(AVERAGEIFS(Data!$E:$E,Data!$B:$B,J$12,Data!$A:$A,$B273),\"N/A\")","v":"N/A"},{"$f":"IFERROR(AVERAGEIFS(Data!$Q:$Q,Data!$B:$B,K$12,Data!$A:$A,$B273),\"N/A\")","v":"N/A"},{"$f":"IFERROR(AVERAGEIFS(Data!$Q:$Q,Data!$B:$B,L$12,Data!$A:$A,$B273),\"N/A\")","v":"N/A"},{"$f":"IFERROR(AVERAGEIFS(Data!$Q:$Q,Data!$B:$B,M$12,Data!$A:$A,$B273),\"N/A\")","v":"N/A"}]
["",{"$f":"Observations!B263","v":""},{"$f":"IF(A274=1,VLOOKUP($B274,ObData!$A$1:$J$300,3,0),\"\")","v":""},{"$f":"IF(A274=1,B274&\": \"&TEXT(C274,\"mm/dd/yy\")&\"- \"&VLOOKUP(B274,ObData!$A$1:$J$300,5,0),\"\")","v":""},{"$f":"IF($B274=\"\",\"\",IF(COUNTIFS(Data!$B:$B,E$12,Data!$A:$A,Matrices!$B274)=0,\"\",COUNTIFS(Data!$B:$B,E$12,Data!$A:$A,Matrices!$B274)))","v":""},{"$f":"IF($B274=\"\",\"\",IF(COUNTIFS(Data!$B:$B,F$12,Data!$A:$A,Matrices!$B274)=0,\"\",COUNTIFS(Data!$B:$B,F$12,Data!$A:$A,Matrices!$B274)))","v":""},{"$f":"IF($B274=\"\",\"\",IF(COUNTIFS(Data!$B:$B,G$12,Data!$A:$A,Matrices!$B274)=0,\"\",COUNTIFS(Data!$B:$B,G$12,Data!$A:$A,Matrices!$B274)))","v":""},{"$f":"IFERROR(AVERAGEIFS(Data!$E:$E,Data!$B:$B,H$12,Data!$A:$A,$B274),\"N/A\")","v":"N/A"},{"$f":"IFERROR(AVERAGEIFS(Data!$E:$E,Data!$B:$B,I$12,Data!$A:$A,$B274),\"N/A\")","v":"N/A"},{"$f":"IFERROR(AVERAGEIFS(Data!$E:$E,Data!$B:$B,J$12,Data!$A:$A,$B274),\"N/A\")","v":"N/A"},{"$f":"IFERROR(AVERAGEIFS(Data!$Q:$Q,Data!$B:$B,K$12,Data!$A:$A,$B274),\"N/A\")","v":"N/A"},{"$f":"IFERROR(AVERAGEIFS(Data!$Q:$Q,Data!$B:$B,L$12,Data!$A:$A,$B274),\"N/A\")","v":"N/A"},{"$f":"IFERROR(AVERAGEIFS(Data!$Q:$Q,Data!$B:$B,M$12,Data!$A:$A,$B274),\"N/A\")","v":"N/A"}]
["",{"$f":"Observations!B264","v":""},{"$f":"IF(A275=1,VLOOKUP($B275,ObData!$A$1:$J$300,3,0),\"\")","v":""},{"$f":"IF(A275=1,B275&\": \"&TEXT(C275,\"mm/dd/yy\")&\"- \"&VLOOKUP(B275,ObData!$A$1:$J$300,5,0),\"\")","v":""},{"$f":"IF($B275=\"\",\"\",IF(COUNTIFS(Data!$B:$B,E$12,Data!$A:$A,Matrices!$B275)=0,\"\",COUNTIFS(Data!$B:$B,E$12,Data!$A:$A,Matrices!$B275)))","v":""},{"$f":"IF($B275=\"\",\"\",IF(COUNTIFS(Data!$B:$B,F$12,Data!$A:$A,Matrices!$B275)=0,\"\",COUNTIFS(Data!$B:$B,F$12,Data!$A:$A,Matrices!$B275)))","v":""},{"$f":"IF($B275=\"\",\"\",IF(COUNTIFS(Data!$B:$B,G$12,Data!$A:$A,Matrices!$B275)=0,\"\",COUNTIFS(Data!$B:$B,G$12,Data!$A:$A,Matrices!$B275)))","v":""},{"$f":"IFERROR(AVERAGEIFS(Data!$E:$E,Data!$B:$B,H$12,Data!$A:$A,$B275),\"N/A\")","v":"N/A"},{"$f":"IFERROR(AVERAGEIFS(Data!$E:$E,Data!$B:$B,I$12,Data!$A:$A,$B275),\"N/A\")","v":"N/A"},{"$f":"IFERROR(AVERAGEIFS(Data!$E:$E,Data!$B:$B,J$12,Data!$A:$A,$B275),\"N/A\")","v":"N/A"},{"$f":"IFERROR(AVERAGEIFS(Data!$Q:$Q,Data!$B:$B,K$12,Data!$A:$A,$B275),\"N/A\")","v":"N/A"},{"$f":"IFERROR(AVERAGEIFS(Data!$Q:$Q,Data!$B:$B,L$12,Data!$A:$A,$B275),\"N/A\")","v":"N/A"},{"$f":"IFERROR(AVERAGEIFS(Data!$Q:$Q,Data!$B:$B,M$12,Data!$A:$A,$B275),\"N/A\")","v":"N/A"}]
["",{"$f":"Observations!B265","v":""},{"$f":"IF(A276=1,VLOOKUP($B276,ObData!$A$1:$J$300,3,0),\"\")","v":""},{"$f":"IF(A276=1,B276&\": \"&TEXT(C276,\"mm/dd/yy\")&\"- \"&VLOOKUP(B276,ObData!$A$1:$J$300,5,0),\"\")","v":""},{"$f":"IF($B276=\"\",\"\",IF(COUNTIFS(Data!$B:$B,E$12,Data!$A:$A,Matrices!$B276)=0,\"\",COUNTIFS(Data!$B:$B,E$12,Data!$A:$A,Matrices!$B276)))","v":""},{"$f":"IF($B276=\"\",\"\",IF(COUNTIFS(Data!$B:$B,F$12,Data!$A:$A,Matrices!$B276)=0,\"\",COUNTIFS(Data!$B:$B,F$12,Data!$A:$A,Matrices!$B276)))","v":""},{"$f":"IF($B276=\"\",\"\",IF(COUNTIFS(Data!$B:$B,G$12,Data!$A:$A,Matrices!$B276)=0,\"\",COUNTIFS(Data!$B:$B,G$12,Data!$A:$A,Matrices!$B276)))","v":""},{"$f":"IFERROR(AVERAGEIFS(Data!$E:$E,Data!$B:$B,H$12,Data!$A:$A,$B276),\"N/A\")","v":"N/A"},{"$f":"IFERROR(AVERAGEIFS(Data!$E:$E,Data!$B:$B,I$12,Data!$A:$A,$B276),\"N/A\")","v":"N/A"},{"$f":"IFERROR(AVERAGEIFS(Data!$E:$E,Data!$B:$B,J$12,Data!$A:$A,$B276),\"N/A\")","v":"N/A"},{"$f":"IFERROR(AVERAGEIFS(Data!$Q:$Q,Data!$B:$B,K$12,Data!$A:$A,$B276),\"N/A\")","v":"N/A"},{"$f":"IFERROR(AVERAGEIFS(Data!$Q:$Q,Data!$B:$B,L$12,Data!$A:$A,$B276),\"N/A\")","v":"N/A"},{"$f":"IFERROR(AVERAGEIFS(Data!$Q:$Q,Data!$B:$B,M$12,Data!$A:$A,$B276),\"N/A\")","v":"N/A"}]
["",{"$f":"Observations!B266","v":""},{"$f":"IF(A277=1,VLOOKUP($B277,ObData!$A$1:$J$300,3,0),\"\")","v":""},{"$f":"IF(A277=1,B277&\": \"&TEXT(C277,\"mm/dd/yy\")&\"- \"&VLOOKUP(B277,ObData!$A$1:$J$300,5,0),\"\")","v":""},{"$f":"IF($B277=\"\",\"\",IF(COUNTIFS(Data!$B:$B,E$12,Data!$A:$A,Matrices!$B277)=0,\"\",COUNTIFS(Data!$B:$B,E$12,Data!$A:$A,Matrices!$B277)))","v":""},{"$f":"IF($B277=\"\",\"\",IF(COUNTIFS(Data!$B:$B,F$12,Data!$A:$A,Matrices!$B277)=0,\"\",COUNTIFS(Data!$B:$B,F$12,Data!$A:$A,Matrices!$B277)))","v":""},{"$f":"IF($B277=\"\",\"\",IF(COUNTIFS(Data!$B:$B,G$12,Data!$A:$A,Matrices!$B277)=0,\"\",COUNTIFS(Data!$B:$B,G$12,Data!$A:$A,Matrices!$B277)))","v":""},{"$f":"IFERROR(AVERAGEIFS(Data!$E:$E,Data!$B:$B,H$12,Data!$A:$A,$B277),\"N/A\")","v":"N/A"},{"$f":"IFERROR(AVERAGEIFS(Data!$E:$E,Data!$B:$B,I$12,Data!$A:$A,$B277),\"N/A\")","v":"N/A"},{"$f":"IFERROR(AVERAGEIFS(Data!$E:$E,Data!$B:$B,J$12,Data!$A:$A,$B277),\"N/A\")","v":"N/A"},{"$f":"IFERROR(AVERAGEIFS(Data!$Q:$Q,Data!$B:$B,K$12,Data!$A:$A,$B277),\"N/A\")","v":"N/A"},{"$f":"IFERROR(AVERAGEIFS(Data!$Q:$Q,Data!$B:$B,L$12,Data!$A:$A,$B277),\"N/A\")","v":"N/A"},{"$f":"IFERROR(AVERAGEIFS(Data!$Q:$Q,Data!$B:$B,M$12,Data!$A:$A,$B277),\"N/A\")","v":"N/A"}]
["",{"$f":"Observations!B267","v":""},{"$f":"IF(A278=1,VLOOKUP($B278,ObData!$A$1:$J$300,3,0),\"\")","v":""},{"$f":"IF(A278=1,B278&\": \"&TEXT(C278,\"mm/dd/yy\")&\"- \"&VLOOKUP(B278,ObData!$A$1:$J$300,5,0),\"\")","v":""},{"$f":"IF($B278=\"\",\"\",IF(COUNTIFS(Data!$B:$B,E$12,Data!$A:$A,Matrices!$B278)=0,\"\",COUNTIFS(Data!$B:$B,E$12,Data!$A:$A,Matrices!$B278)))","v":""},{"$f":"IF($B278=\"\",\"\",IF(COUNTIFS(Data!$B:$B,F$12,Data!$A:$A,Matrices!$B278)=0,\"\",COUNTIFS(Data!$B:$B,F$12,Data!$A:$A,Matrices!$B278)))","v":""},{"$f":"IF($B278=\"\",\"\",IF(COUNTIFS(Data!$B:$B,G$12,Data!$A:$A,Matrices!$B278)=0,\"\",COUNTIFS(Data!$B:$B,G$12,Data!$A:$A,Matrices!$B278)))","v":""},{"$f":"IFERROR(AVERAGEIFS(Data!$E:$E,Data!$B:$B,H$12,Data!$A:$A,$B278),\"N/A\")","v":"N/A"},{"$f":"IFERROR(AVERAGEIFS(Data!$E:$E,Data!$B:$B,I$12,Data!$A:$A,$B278),\"N/A\")","v":"N/A"},{"$f":"IFERROR(AVERAGEIFS(Data!$E:$E,Data!$B:$B,J$12,Data!$A:$A,$B278),\"N/A\")","v":"N/A"},{"$f":"IFERROR(AVERAGEIFS(Data!$Q:$Q,Data!$B:$B,K$12,Data!$A:$A,$B278),\"N/A\")","v":"N/A"},{"$f":"IFERROR(AVERAGEIFS(Data!$Q:$Q,Data!$B:$B,L$12,Data!$A:$A,$B278),\"N/A\")","v":"N/A"},{"$f":"IFERROR(AVERAGEIFS(Data!$Q:$Q,Data!$B:$B,M$12,Data!$A:$A,$B278),\"N/A\")","v":"N/A"}]
["",{"$f":"Observations!B268","v":""},{"$f":"IF(A279=1,VLOOKUP($B279,ObData!$A$1:$J$300,3,0),\"\")","v":""},{"$f":"IF(A279=1,B279&\": \"&TEXT(C279,\"mm/dd/yy\")&\"- \"&VLOOKUP(B279,ObData!$A$1:$J$300,5,0),\"\")","v":""},{"$f":"IF($B279=\"\",\"\",IF(COUNTIFS(Data!$B:$B,E$12,Data!$A:$A,Matrices!$B279)=0,\"\",COUNTIFS(Data!$B:$B,E$12,Data!$A:$A,Matrices!$B279)))","v":""},{"$f":"IF($B279=\"\",\"\",IF(COUNTIFS(Data!$B:$B,F$12,Data!$A:$A,Matrices!$B279)=0,\"\",COUNTIFS(Data!$B:$B,F$12,Data!$A:$A,Matrices!$B279)))","v":""},{"$f":"IF($B279=\"\",\"\",IF(COUNTIFS(Data!$B:$B,G$12,Data!$A:$A,Matrices!$B279)=0,\"\",COUNTIFS(Data!$B:$B,G$12,Data!$A:$A,Matrices!$B279)))","v":""},{"$f":"IFERROR(AVERAGEIFS(Data!$E:$E,Data!$B:$B,H$12,Data!$A:$A,$B279),\"N/A\")","v":"N/A"},{"$f":"IFERROR(AVERAGEIFS(Data!$E:$E,Data!$B:$B,I$12,Data!$A:$A,$B279),\"N/A\")","v":"N/A"},{"$f":"IFERROR(AVERAGEIFS(Data!$E:$E,Data!$B:$B,J$12,Data!$A:$A,$B279),\"N/A\")","v":"N/A"},{"$f":"IFERROR(AVERAGEIFS(Data!$Q:$Q,Data!$B:$B,K$12,Data!$A:$A,$B279),\"N/A\")","v":"N/A"},{"$f":"IFERROR(AVERAGEIFS(Data!$Q:$Q,Data!$B:$B,L$12,Data!$A:$A,$B279),\"N/A\")","v":"N/A"},{"$f":"IFERROR(AVERAGEIFS(Data!$Q:$Q,Data!$B:$B,M$12,Data!$A:$A,$B279),\"N/A\")","v":"N/A"}]
["",{"$f":"Observations!B269","v":""},{"$f":"IF(A280=1,VLOOKUP($B280,ObData!$A$1:$J$300,3,0),\"\")","v":""},{"$f":"IF(A280=1,B280&\": \"&TEXT(C280,\"mm/dd/yy\")&\"- \"&VLOOKUP(B280,ObData!$A$1:$J$300,5,0),\"\")","v":""},{"$f":"IF($B280=\"\",\"\",IF(COUNTIFS(Data!$B:$B,E$12,Data!$A:$A,Matrices!$B280)=0,\"\",COUNTIFS(Data!$B:$B,E$12,Data!$A:$A,Matrices!$B280)))","v":""},{"$f":"IF($B280=\"\",\"\",IF(COUNTIFS(Data!$B:$B,F$12,Data!$A:$A,Matrices!$B280)=0,\"\",COUNTIFS(Data!$B:$B,F$12,Data!$A:$A,Matrices!$B280)))","v":""},{"$f":"IF($B280=\"\",\"\",IF(COUNTIFS(Data!$B:$B,G$12,Data!$A:$A,Matrices!$B280)=0,\"\",COUNTIFS(Data!$B:$B,G$12,Data!$A:$A,Matrices!$B280)))","v":""},{"$f":"IFERROR(AVERAGEIFS(Data!$E:$E,Data!$B:$B,H$12,Data!$A:$A,$B280),\"N/A\")","v":"N/A"},{"$f":"IFERROR(AVERAGEIFS(Data!$E:$E,Data!$B:$B,I$12,Data!$A:$A,$B280),\"N/A\")","v":"N/A"},{"$f":"IFERROR(AVERAGEIFS(Data!$E:$E,Data!$B:$B,J$12,Data!$A:$A,$B280),\"N/A\")","v":"N/A"},{"$f":"IFERROR(AVERAGEIFS(Data!$Q:$Q,Data!$B:$B,K$12,Data!$A:$A,$B280),\"N/A\")","v":"N/A"},{"$f":"IFERROR(AVERAGEIFS(Data!$Q:$Q,Data!$B:$B,L$12,Data!$A:$A,$B280),\"N/A\")","v":"N/A"},{"$f":"IFERROR(AVERAGEIFS(Data!$Q:$Q,Data!$B:$B,M$12,Data!$A:$A,$B280),\"N/A\")","v":"N/A"}]
["",{"$f":"Observations!B270","v":""},{"$f":"IF(A281=1,VLOOKUP($B281,ObData!$A$1:$J$300,3,0),\"\")","v":""},{"$f":"IF(A281=1,B281&\": \"&TEXT(C281,\"mm/dd/yy\")&\"- \"&VLOOKUP(B281,ObData!$A$1:$J$300,5,0),\"\")","v":""},{"$f":"IF($B281=\"\",\"\",IF(COUNTIFS(Data!$B:$B,E$12,Data!$A:$A,Matrices!$B281)=0,\"\",COUNTIFS(Data!$B:$B,E$12,Data!$A:$A,Matrices!$B281)))","v":""},{"$f":"IF($B281=\"\",\"\",IF(COUNTIFS(Data!$B:$B,F$12,Data!$A:$A,Matrices!$B281)=0,\"\",COUNTIFS(Data!$B:$B,F$12,Data!$A:$A,Matrices!$B281)))","v":""},{"$f":"IF($B281=\"\",\"\",IF(COUNTIFS(Data!$B:$B,G$12,Data!$A:$A,Matrices!$B281)=0,\"\",COUNTIFS(Data!$B:$B,G$12,Data!$A:$A,Matrices!$B281)))","v":""},{"$f":"IFERROR(AVERAGEIFS(Data!$E:$E,Data!$B:$B,H$12,Data!$A:$A,$B281),\"N/A\")","v":"N/A"},{"$f":"IFERROR(AVERAGEIFS(Data!$E:$E,Data!$B:$B,I$12,Data!$A:$A,$B281),\"N/A\")","v":"N/A"},{"$f":"IFERROR(AVERAGEIFS(Data!$E:$E,Data!$B:$B,J$12,Data!$A:$A,$B281),\"N/A\")","v":"N/A"},{"$f":"IFERROR(AVERAGEIFS(Data!$Q:$Q,Data!$B:$B,K$12,Data!$A:$A,$B281),\"N/A\")","v":"N/A"},{"$f":"IFERROR(AVERAGEIFS(Data!$Q:$Q,Data!$B:$B,L$12,Data!$A:$A,$B281),\"N/A\")","v":"N/A"},{"$f":"IFERROR(AVERAGEIFS(Data!$Q:$Q,Data!$B:$B,M$12,Data!$A:$A,$B281),\"N/A\")","v":"N/A"}]
["",{"$f":"Observations!B271","v":""},{"$f":"IF(A282=1,VLOOKUP($B282,ObData!$A$1:$J$300,3,0),\"\")","v":""},{"$f":"IF(A282=1,B282&\": \"&TEXT(C282,\"mm/dd/yy\")&\"- \"&VLOOKUP(B282,ObData!$A$1:$J$300,5,0),\"\")","v":""},{"$f":"IF($B282=\"\",\"\",IF(COUNTIFS(Data!$B:$B,E$12,Data!$A:$A,Matrices!$B282)=0,\"\",COUNTIFS(Data!$B:$B,E$12,Data!$A:$A,Matrices!$B282)))","v":""},{"$f":"IF($B282=\"\",\"\",IF(COUNTIFS(Data!$B:$B,F$12,Data!$A:$A,Matrices!$B282)=0,\"\",COUNTIFS(Data!$B:$B,F$12,Data!$A:$A,Matrices!$B282)))","v":""},{"$f":"IF($B282=\"\",\"\",IF(COUNTIFS(Data!$B:$B,G$12,Data!$A:$A,Matrices!$B282)=0,\"\",COUNTIFS(Data!$B:$B,G$12,Data!$A:$A,Matrices!$B282)))","v":""},{"$f":"IFERROR(AVERAGEIFS(Data!$E:$E,Data!$B:$B,H$12,Data!$A:$A,$B282),\"N/A\")","v":"N/A"},{"$f":"IFERROR(AVERAGEIFS(Data!$E:$E,Data!$B:$B,I$12,Data!$A:$A,$B282),\"N/A\")","v":"N/A"},{"$f":"IFERROR(AVERAGEIFS(Data!$E:$E,Data!$B:$B,J$12,Data!$A:$A,$B282),\"N/A\")","v":"N/A"},{"$f":"IFERROR(AVERAGEIFS(Data!$Q:$Q,Data!$B:$B,K$12,Data!$A:$A,$B282),\"N/A\")","v":"N/A"},{"$f":"IFERROR(AVERAGEIFS(Data!$Q:$Q,Data!$B:$B,L$12,Data!$A:$A,$B282),\"N/A\")","v":"N/A"},{"$f":"IFERROR(AVERAGEIFS(Data!$Q:$Q,Data!$B:$B,M$12,Data!$A:$A,$B282),\"N/A\")","v":"N/A"}]
["",{"$f":"Observations!B272","v":""},{"$f":"IF(A283=1,VLOOKUP($B283,ObData!$A$1:$J$300,3,0),\"\")","v":""},{"$f":"IF(A283=1,B283&\": \"&TEXT(C283,\"mm/dd/yy\")&\"- \"&VLOOKUP(B283,ObData!$A$1:$J$300,5,0),\"\")","v":""},{"$f":"IF($B283=\"\",\"\",IF(COUNTIFS(Data!$B:$B,E$12,Data!$A:$A,Matrices!$B283)=0,\"\",COUNTIFS(Data!$B:$B,E$12,Data!$A:$A,Matrices!$B283)))","v":""},{"$f":"IF($B283=\"\",\"\",IF(COUNTIFS(Data!$B:$B,F$12,Data!$A:$A,Matrices!$B283)=0,\"\",COUNTIFS(Data!$B:$B,F$12,Data!$A:$A,Matrices!$B283)))","v":""},{"$f":"IF($B283=\"\",\"\",IF(COUNTIFS(Data!$B:$B,G$12,Data!$A:$A,Matrices!$B283)=0,\"\",COUNTIFS(Data!$B:$B,G$12,Data!$A:$A,Matrices!$B283)))","v":""},{"$f":"IFERROR(AVERAGEIFS(Data!$E:$E,Data!$B:$B,H$12,Data!$A:$A,$B283),\"N/A\")","v":"N/A"},{"$f":"IFERROR(AVERAGEIFS(Data!$E:$E,Data!$B:$B,I$12,Data!$A:$A,$B283),\"N/A\")","v":"N/A"},{"$f":"IFERROR(AVERAGEIFS(Data!$E:$E,Data!$B:$B,J$12,Data!$A:$A,$B283),\"N/A\")","v":"N/A"},{"$f":"IFERROR(AVERAGEIFS(Data!$Q:$Q,Data!$B:$B,K$12,Data!$A:$A,$B283),\"N/A\")","v":"N/A"},{"$f":"IFERROR(AVERAGEIFS(Data!$Q:$Q,Data!$B:$B,L$12,Data!$A:$A,$B283),\"N/A\")","v":"N/A"},{"$f":"IFERROR(AVERAGEIFS(Data!$Q:$Q,Data!$B:$B,M$12,Data!$A:$A,$B283),\"N/A\")","v":"N/A"}]
["",{"$f":"Observations!B273","v":""},{"$f":"IF(A284=1,VLOOKUP($B284,ObData!$A$1:$J$300,3,0),\"\")","v":""},{"$f":"IF(A284=1,B284&\": \"&TEXT(C284,\"mm/dd/yy\")&\"- \"&VLOOKUP(B284,ObData!$A$1:$J$300,5,0),\"\")","v":""},{"$f":"IF($B284=\"\",\"\",IF(COUNTIFS(Data!$B:$B,E$12,Data!$A:$A,Matrices!$B284)=0,\"\",COUNTIFS(Data!$B:$B,E$12,Data!$A:$A,Matrices!$B284)))","v":""},{"$f":"IF($B284=\"\",\"\",IF(COUNTIFS(Data!$B:$B,F$12,Data!$A:$A,Matrices!$B284)=0,\"\",COUNTIFS(Data!$B:$B,F$12,Data!$A:$A,Matrices!$B284)))","v":""},{"$f":"IF($B284=\"\",\"\",IF(COUNTIFS(Data!$B:$B,G$12,Data!$A:$A,Matrices!$B284)=0,\"\",COUNTIFS(Data!$B:$B,G$12,Data!$A:$A,Matrices!$B284)))","v":""},{"$f":"IFERROR(AVERAGEIFS(Data!$E:$E,Data!$B:$B,H$12,Data!$A:$A,$B284),\"N/A\")","v":"N/A"},{"$f":"IFERROR(AVERAGEIFS(Data!$E:$E,Data!$B:$B,I$12,Data!$A:$A,$B284),\"N/A\")","v":"N/A"},{"$f":"IFERROR(AVERAGEIFS(Data!$E:$E,Data!$B:$B,J$12,Data!$A:$A,$B284),\"N/A\")","v":"N/A"},{"$f":"IFERROR(AVERAGEIFS(Data!$Q:$Q,Data!$B:$B,K$12,Data!$A:$A,$B284),\"N/A\")","v":"N/A"},{"$f":"IFERROR(AVERAGEIFS(Data!$Q:$Q,Data!$B:$B,L$12,Data!$A:$A,$B284),\"N/A\")","v":"N/A"},{"$f":"IFERROR(AVERAGEIFS(Data!$Q:$Q,Data!$B:$B,M$12,Data!$A:$A,$B284),\"N/A\")","v":"N/A"}]
["",{"$f":"Observations!B274","v":""},{"$f":"IF(A285=1,VLOOKUP($B285,ObData!$A$1:$J$300,3,0),\"\")","v":""},{"$f":"IF(A285=1,B285&\": \"&TEXT(C285,\"mm/dd/yy\")&\"- \"&VLOOKUP(B285,ObData!$A$1:$J$300,5,0),\"\")","v":""},{"$f":"IF($B285=\"\",\"\",IF(COUNTIFS(Data!$B:$B,E$12,Data!$A:$A,Matrices!$B285)=0,\"\",COUNTIFS(Data!$B:$B,E$12,Data!$A:$A,Matrices!$B285)))","v":""},{"$f":"IF($B285=\"\",\"\",IF(COUNTIFS(Data!$B:$B,F$12,Data!$A:$A,Matrices!$B285)=0,\"\",COUNTIFS(Data!$B:$B,F$12,Data!$A:$A,Matrices!$B285)))","v":""},{"$f":"IF($B285=\"\",\"\",IF(COUNTIFS(Data!$B:$B,G$12,Data!$A:$A,Matrices!$B285)=0,\"\",COUNTIFS(Data!$B:$B,G$12,Data!$A:$A,Matrices!$B285)))","v":""},{"$f":"IFERROR(AVERAGEIFS(Data!$E:$E,Data!$B:$B,H$12,Data!$A:$A,$B285),\"N/A\")","v":"N/A"},{"$f":"IFERROR(AVERAGEIFS(Data!$E:$E,Data!$B:$B,I$12,Data!$A:$A,$B285),\"N/A\")","v":"N/A"},{"$f":"IFERROR(AVERAGEIFS(Data!$E:$E,Data!$B:$B,J$12,Data!$A:$A,$B285),\"N/A\")","v":"N/A"},{"$f":"IFERROR(AVERAGEIFS(Data!$Q:$Q,Data!$B:$B,K$12,Data!$A:$A,$B285),\"N/A\")","v":"N/A"},{"$f":"IFERROR(AVERAGEIFS(Data!$Q:$Q,Data!$B:$B,L$12,Data!$A:$A,$B285),\"N/A\")","v":"N/A"},{"$f":"IFERROR(AVERAGEIFS(Data!$Q:$Q,Data!$B:$B,M$12,Data!$A:$A,$B285),\"N/A\")","v":"N/A"}]
["",{"$f":"Observations!B275","v":""},{"$f":"IF(A286=1,VLOOKUP($B286,ObData!$A$1:$J$300,3,0),\"\")","v":""},{"$f":"IF(A286=1,B286&\": \"&TEXT(C286,\"mm/dd/yy\")&\"- \"&VLOOKUP(B286,ObData!$A$1:$J$300,5,0),\"\")","v":""},{"$f":"IF($B286=\"\",\"\",IF(COUNTIFS(Data!$B:$B,E$12,Data!$A:$A,Matrices!$B286)=0,\"\",COUNTIFS(Data!$B:$B,E$12,Data!$A:$A,Matrices!$B286)))","v":""},{"$f":"IF($B286=\"\",\"\",IF(COUNTIFS(Data!$B:$B,F$12,Data!$A:$A,Matrices!$B286)=0,\"\",COUNTIFS(Data!$B:$B,F$12,Data!$A:$A,Matrices!$B286)))","v":""},{"$f":"IF($B286=\"\",\"\",IF(COUNTIFS(Data!$B:$B,G$12,Data!$A:$A,Matrices!$B286)=0,\"\",COUNTIFS(Data!$B:$B,G$12,Data!$A:$A,Matrices!$B286)))","v":""},{"$f":"IFERROR(AVERAGEIFS(Data!$E:$E,Data!$B:$B,H$12,Data!$A:$A,$B286),\"N/A\")","v":"N/A"},{"$f":"IFERROR(AVERAGEIFS(Data!$E:$E,Data!$B:$B,I$12,Data!$A:$A,$B286),\"N/A\")","v":"N/A"},{"$f":"IFERROR(AVERAGEIFS(Data!$E:$E,Data!$B:$B,J$12,Data!$A:$A,$B286),\"N/A\")","v":"N/A"},{"$f":"IFERROR(AVERAGEIFS(Data!$Q:$Q,Data!$B:$B,K$12,Data!$A:$A,$B286),\"N/A\")","v":"N/A"},{"$f":"IFERROR(AVERAGEIFS(Data!$Q:$Q,Data!$B:$B,L$12,Data!$A:$A,$B286),\"N/A\")","v":"N/A"},{"$f":"IFERROR(AVERAGEIFS(Data!$Q:$Q,Data!$B:$B,M$12,Data!$A:$A,$B286),\"N/A\")","v":"N/A"}]
["",{"$f":"Observations!B276","v":""},{"$f":"IF(A287=1,VLOOKUP($B287,ObData!$A$1:$J$300,3,0),\"\")","v":""},{"$f":"IF(A287=1,B287&\": \"&TEXT(C287,\"mm/dd/yy\")&\"- \"&VLOOKUP(B287,ObData!$A$1:$J$300,5,0),\"\")","v":""},{"$f":"IF($B287=\"\",\"\",IF(COUNTIFS(Data!$B:$B,E$12,Data!$A:$A,Matrices!$B287)=0,\"\",COUNTIFS(Data!$B:$B,E$12,Data!$A:$A,Matrices!$B287)))","v":""},{"$f":"IF($B287=\"\",\"\",IF(COUNTIFS(Data!$B:$B,F$12,Data!$A:$A,Matrices!$B287)=0,\"\",COUNTIFS(Data!$B:$B,F$12,Data!$A:$A,Matrices!$B287)))","v":""},{"$f":"IF($B287=\"\",\"\",IF(COUNTIFS(Data!$B:$B,G$12,Data!$A:$A,Matrices!$B287)=0,\"\",COUNTIFS(Data!$B:$B,G$12,Data!$A:$A,Matrices!$B287)))","v":""},{"$f":"IFERROR(AVERAGEIFS(Data!$E:$E,Data!$B:$B,H$12,Data!$A:$A,$B287),\"N/A\")","v":"N/A"},{"$f":"IFERROR(AVERAGEIFS(Data!$E:$E,Data!$B:$B,I$12,Data!$A:$A,$B287),\"N/A\")","v":"N/A"},{"$f":"IFERROR(AVERAGEIFS(Data!$E:$E,Data!$B:$B,J$12,Data!$A:$A,$B287),\"N/A\")","v":"N/A"},{"$f":"IFERROR(AVERAGEIFS(Data!$Q:$Q,Data!$B:$B,K$12,Data!$A:$A,$B287),\"N/A\")","v":"N/A"},{"$f":"IFERROR(AVERAGEIFS(Data!$Q:$Q,Data!$B:$B,L$12,Data!$A:$A,$B287),\"N/A\")","v":"N/A"},{"$f":"IFERROR(AVERAGEIFS(Data!$Q:$Q,Data!$B:$B,M$12,Data!$A:$A,$B287),\"N/A\")","v":"N/A"}]
["",{"$f":"Observations!B277","v":""},{"$f":"IF(A288=1,VLOOKUP($B288,ObData!$A$1:$J$300,3,0),\"\")","v":""},{"$f":"IF(A288=1,B288&\": \"&TEXT(C288,\"mm/dd/yy\")&\"- \"&VLOOKUP(B288,ObData!$A$1:$J$300,5,0),\"\")","v":""},{"$f":"IF($B288=\"\",\"\",IF(COUNTIFS(Data!$B:$B,E$12,Data!$A:$A,Matrices!$B288)=0,\"\",COUNTIFS(Data!$B:$B,E$12,Data!$A:$A,Matrices!$B288)))","v":""},{"$f":"IF($B288=\"\",\"\",IF(COUNTIFS(Data!$B:$B,F$12,Data!$A:$A,Matrices!$B288)=0,\"\",COUNTIFS(Data!$B:$B,F$12,Data!$A:$A,Matrices!$B288)))","v":""},{"$f":"IF($B288=\"\",\"\",IF(COUNTIFS(Data!$B:$B,G$12,Data!$A:$A,Matrices!$B288)=0,\"\",COUNTIFS(Data!$B:$B,G$12,Data!$A:$A,Matrices!$B288)))","v":""},{"$f":"IFERROR(AVERAGEIFS(Data!$E:$E,Data!$B:$B,H$12,Data!$A:$A,$B288),\"N/A\")","v":"N/A"},{"$f":"IFERROR(AVERAGEIFS(Data!$E:$E,Data!$B:$B,I$12,Data!$A:$A,$B288),\"N/A\")","v":"N/A"},{"$f":"IFERROR(AVERAGEIFS(Data!$E:$E,Data!$B:$B,J$12,Data!$A:$A,$B288),\"N/A\")","v":"N/A"},{"$f":"IFERROR(AVERAGEIFS(Data!$Q:$Q,Data!$B:$B,K$12,Data!$A:$A,$B288),\"N/A\")","v":"N/A"},{"$f":"IFERROR(AVERAGEIFS(Data!$Q:$Q,Data!$B:$B,L$12,Data!$A:$A,$B288),\"N/A\")","v":"N/A"},{"$f":"IFERROR(AVERAGEIFS(Data!$Q:$Q,Data!$B:$B,M$12,Data!$A:$A,$B288),\"N/A\")","v":"N/A"}]
["",{"$f":"Observations!B278","v":""},{"$f":"IF(A289=1,VLOOKUP($B289,ObData!$A$1:$J$300,3,0),\"\")","v":""},{"$f":"IF(A289=1,B289&\": \"&TEXT(C289,\"mm/dd/yy\")&\"- \"&VLOOKUP(B289,ObData!$A$1:$J$300,5,0),\"\")","v":""},{"$f":"IF($B289=\"\",\"\",IF(COUNTIFS(Data!$B:$B,E$12,Data!$A:$A,Matrices!$B289)=0,\"\",COUNTIFS(Data!$B:$B,E$12,Data!$A:$A,Matrices!$B289)))","v":""},{"$f":"IF($B289=\"\",\"\",IF(COUNTIFS(Data!$B:$B,F$12,Data!$A:$A,Matrices!$B289)=0,\"\",COUNTIFS(Data!$B:$B,F$12,Data!$A:$A,Matrices!$B289)))","v":""},{"$f":"IF($B289=\"\",\"\",IF(COUNTIFS(Data!$B:$B,G$12,Data!$A:$A,Matrices!$B289)=0,\"\",COUNTIFS(Data!$B:$B,G$12,Data!$A:$A,Matrices!$B289)))","v":""},{"$f":"IFERROR(AVERAGEIFS(Data!$E:$E,Data!$B:$B,H$12,Data!$A:$A,$B289),\"N/A\")","v":"N/A"},{"$f":"IFERROR(AVERAGEIFS(Data!$E:$E,Data!$B:$B,I$12,Data!$A:$A,$B289),\"N/A\")","v":"N/A"},{"$f":"IFERROR(AVERAGEIFS(Data!$E:$E,Data!$B:$B,J$12,Data!$A:$A,$B289),\"N/A\")","v":"N/A"},{"$f":"IFERROR(AVERAGEIFS(Data!$Q:$Q,Data!$B:$B,K$12,Data!$A:$A,$B289),\"N/A\")","v":"N/A"},{"$f":"IFERROR(AVERAGEIFS(Data!$Q:$Q,Data!$B:$B,L$12,Data!$A:$A,$B289),\"N/A\")","v":"N/A"},{"$f":"IFERROR(AVERAGEIFS(Data!$Q:$Q,Data!$B:$B,M$12,Data!$A:$A,$B289),\"N/A\")","v":"N/A"}]
["",{"$f":"Observations!B279","v":""},{"$f":"IF(A290=1,VLOOKUP($B290,ObData!$A$1:$J$300,3,0),\"\")","v":""},{"$f":"IF(A290=1,B290&\": \"&TEXT(C290,\"mm/dd/yy\")&\"- \"&VLOOKUP(B290,ObData!$A$1:$J$300,5,0),\"\")","v":""},{"$f":"IF($B290=\"\",\"\",IF(COUNTIFS(Data!$B:$B,E$12,Data!$A:$A,Matrices!$B290)=0,\"\",COUNTIFS(Data!$B:$B,E$12,Data!$A:$A,Matrices!$B290)))","v":""},{"$f":"IF($B290=\"\",\"\",IF(COUNTIFS(Data!$B:$B,F$12,Data!$A:$A,Matrices!$B290)=0,\"\",COUNTIFS(Data!$B:$B,F$12,Data!$A:$A,Matrices!$B290)))","v":""},{"$f":"IF($B290=\"\",\"\",IF(COUNTIFS(Data!$B:$B,G$12,Data!$A:$A,Matrices!$B290)=0,\"\",COUNTIFS(Data!$B:$B,G$12,Data!$A:$A,Matrices!$B290)))","v":""},{"$f":"IFERROR(AVERAGEIFS(Data!$E:$E,Data!$B:$B,H$12,Data!$A:$A,$B290),\"N/A\")","v":"N/A"},{"$f":"IFERROR(AVERAGEIFS(Data!$E:$E,Data!$B:$B,I$12,Data!$A:$A,$B290),\"N/A\")","v":"N/A"},{"$f":"IFERROR(AVERAGEIFS(Data!$E:$E,Data!$B:$B,J$12,Data!$A:$A,$B290),\"N/A\")","v":"N/A"},{"$f":"IFERROR(AVERAGEIFS(Data!$Q:$Q,Data!$B:$B,K$12,Data!$A:$A,$B290),\"N/A\")","v":"N/A"},{"$f":"IFERROR(AVERAGEIFS(Data!$Q:$Q,Data!$B:$B,L$12,Data!$A:$A,$B290),\"N/A\")","v":"N/A"},{"$f":"IFERROR(AVERAGEIFS(Data!$Q:$Q,Data!$B:$B,M$12,Data!$A:$A,$B290),\"N/A\")","v":"N/A"}]
["",{"$f":"Observations!B280","v":""},{"$f":"IF(A291=1,VLOOKUP($B291,ObData!$A$1:$J$300,3,0),\"\")","v":""},{"$f":"IF(A291=1,B291&\": \"&TEXT(C291,\"mm/dd/yy\")&\"- \"&VLOOKUP(B291,ObData!$A$1:$J$300,5,0),\"\")","v":""},{"$f":"IF($B291=\"\",\"\",IF(COUNTIFS(Data!$B:$B,E$12,Data!$A:$A,Matrices!$B291)=0,\"\",COUNTIFS(Data!$B:$B,E$12,Data!$A:$A,Matrices!$B291)))","v":""},{"$f":"IF($B291=\"\",\"\",IF(COUNTIFS(Data!$B:$B,F$12,Data!$A:$A,Matrices!$B291)=0,\"\",COUNTIFS(Data!$B:$B,F$12,Data!$A:$A,Matrices!$B291)))","v":""},{"$f":"IF($B291=\"\",\"\",IF(COUNTIFS(Data!$B:$B,G$12,Data!$A:$A,Matrices!$B291)=0,\"\",COUNTIFS(Data!$B:$B,G$12,Data!$A:$A,Matrices!$B291)))","v":""},{"$f":"IFERROR(AVERAGEIFS(Data!$E:$E,Data!$B:$B,H$12,Data!$A:$A,$B291),\"N/A\")","v":"N/A"},{"$f":"IFERROR(AVERAGEIFS(Data!$E:$E,Data!$B:$B,I$12,Data!$A:$A,$B291),\"N/A\")","v":"N/A"},{"$f":"IFERROR(AVERAGEIFS(Data!$E:$E,Data!$B:$B,J$12,Data!$A:$A,$B291),\"N/A\")","v":"N/A"},{"$f":"IFERROR(AVERAGEIFS(Data!$Q:$Q,Data!$B:$B,K$12,Data!$A:$A,$B291),\"N/A\")","v":"N/A"},{"$f":"IFERROR(AVERAGEIFS(Data!$Q:$Q,Data!$B:$B,L$12,Data!$A:$A,$B291),\"N/A\")","v":"N/A"},{"$f":"IFERROR(AVERAGEIFS(Data!$Q:$Q,Data!$B:$B,M$12,Data!$A:$A,$B291),\"N/A\")","v":"N/A"}]
["",{"$f":"Observations!B281","v":""},{"$f":"IF(A292=1,VLOOKUP($B292,ObData!$A$1:$J$300,3,0),\"\")","v":""},{"$f":"IF(A292=1,B292&\": \"&TEXT(C292,\"mm/dd/yy\")&\"- \"&VLOOKUP(B292,ObData!$A$1:$J$300,5,0),\"\")","v":""},{"$f":"IF($B292=\"\",\"\",IF(COUNTIFS(Data!$B:$B,E$12,Data!$A:$A,Matrices!$B292)=0,\"\",COUNTIFS(Data!$B:$B,E$12,Data!$A:$A,Matrices!$B292)))","v":""},{"$f":"IF($B292=\"\",\"\",IF(COUNTIFS(Data!$B:$B,F$12,Data!$A:$A,Matrices!$B292)=0,\"\",COUNTIFS(Data!$B:$B,F$12,Data!$A:$A,Matrices!$B292)))","v":""},{"$f":"IF($B292=\"\",\"\",IF(COUNTIFS(Data!$B:$B,G$12,Data!$A:$A,Matrices!$B292)=0,\"\",COUNTIFS(Data!$B:$B,G$12,Data!$A:$A,Matrices!$B292)))","v":""},{"$f":"IFERROR(AVERAGEIFS(Data!$E:$E,Data!$B:$B,H$12,Data!$A:$A,$B292),\"N/A\")","v":"N/A"},{"$f":"IFERROR(AVERAGEIFS(Data!$E:$E,Data!$B:$B,I$12,Data!$A:$A,$B292),\"N/A\")","v":"N/A"},{"$f":"IFERROR(AVERAGEIFS(Data!$E:$E,Data!$B:$B,J$12,Data!$A:$A,$B292),\"N/A\")","v":"N/A"},{"$f":"IFERROR(AVERAGEIFS(Data!$Q:$Q,Data!$B:$B,K$12,Data!$A:$A,$B292),\"N/A\")","v":"N/A"},{"$f":"IFERROR(AVERAGEIFS(Data!$Q:$Q,Data!$B:$B,L$12,Data!$A:$A,$B292),\"N/A\")","v":"N/A"},{"$f":"IFERROR(AVERAGEIFS(Data!$Q:$Q,Data!$B:$B,M$12,Data!$A:$A,$B292),\"N/A\")","v":"N/A"}]
["",{"$f":"Observations!B282","v":""},{"$f":"IF(A293=1,VLOOKUP($B293,ObData!$A$1:$J$300,3,0),\"\")","v":""},{"$f":"IF(A293=1,B293&\": \"&TEXT(C293,\"mm/dd/yy\")&\"- \"&VLOOKUP(B293,ObData!$A$1:$J$300,5,0),\"\")","v":""},{"$f":"IF($B293=\"\",\"\",IF(COUNTIFS(Data!$B:$B,E$12,Data!$A:$A,Matrices!$B293)=0,\"\",COUNTIFS(Data!$B:$B,E$12,Data!$A:$A,Matrices!$B293)))","v":""},{"$f":"IF($B293=\"\",\"\",IF(COUNTIFS(Data!$B:$B,F$12,Data!$A:$A,Matrices!$B293)=0,\"\",COUNTIFS(Data!$B:$B,F$12,Data!$A:$A,Matrices!$B293)))","v":""},{"$f":"IF($B293=\"\",\"\",IF(COUNTIFS(Data!$B:$B,G$12,Data!$A:$A,Matrices!$B293)=0,\"\",COUNTIFS(Data!$B:$B,G$12,Data!$A:$A,Matrices!$B293)))","v":""},{"$f":"IFERROR(AVERAGEIFS(Data!$E:$E,Data!$B:$B,H$12,Data!$A:$A,$B293),\"N/A\")","v":"N/A"},{"$f":"IFERROR(AVERAGEIFS(Data!$E:$E,Data!$B:$B,I$12,Data!$A:$A,$B293),\"N/A\")","v":"N/A"},{"$f":"IFERROR(AVERAGEIFS(Data!$E:$E,Data!$B:$B,J$12,Data!$A:$A,$B293),\"N/A\")","v":"N/A"},{"$f":"IFERROR(AVERAGEIFS(Data!$Q:$Q,Data!$B:$B,K$12,Data!$A:$A,$B293),\"N/A\")","v":"N/A"},{"$f":"IFERROR(AVERAGEIFS(Data!$Q:$Q,Data!$B:$B,L$12,Data!$A:$A,$B293),\"N/A\")","v":"N/A"},{"$f":"IFERROR(AVERAGEIFS(Data!$Q:$Q,Data!$B:$B,M$12,Data!$A:$A,$B293),\"N/A\")","v":"N/A"}]
["",{"$f":"Observations!B283","v":""},{"$f":"IF(A294=1,VLOOKUP($B294,ObData!$A$1:$J$300,3,0),\"\")","v":""},{"$f":"IF(A294=1,B294&\": \"&TEXT(C294,\"mm/dd/yy\")&\"- \"&VLOOKUP(B294,ObData!$A$1:$J$300,5,0),\"\")","v":""},{"$f":"IF($B294=\"\",\"\",IF(COUNTIFS(Data!$B:$B,E$12,Data!$A:$A,Matrices!$B294)=0,\"\",COUNTIFS(Data!$B:$B,E$12,Data!$A:$A,Matrices!$B294)))","v":""},{"$f":"IF($B294=\"\",\"\",IF(COUNTIFS(Data!$B:$B,F$12,Data!$A:$A,Matrices!$B294)=0,\"\",COUNTIFS(Data!$B:$B,F$12,Data!$A:$A,Matrices!$B294)))","v":""},{"$f":"IF($B294=\"\",\"\",IF(COUNTIFS(Data!$B:$B,G$12,Data!$A:$A,Matrices!$B294)=0,\"\",COUNTIFS(Data!$B:$B,G$12,Data!$A:$A,Matrices!$B294)))","v":""},{"$f":"IFERROR(AVERAGEIFS(Data!$E:$E,Data!$B:$B,H$12,Data!$A:$A,$B294),\"N/A\")","v":"N/A"},{"$f":"IFERROR(AVERAGEIFS(Data!$E:$E,Data!$B:$B,I$12,Data!$A:$A,$B294),\"N/A\")","v":"N/A"},{"$f":"IFERROR(AVERAGEIFS(Data!$E:$E,Data!$B:$B,J$12,Data!$A:$A,$B294),\"N/A\")","v":"N/A"},{"$f":"IFERROR(AVERAGEIFS(Data!$Q:$Q,Data!$B:$B,K$12,Data!$A:$A,$B294),\"N/A\")","v":"N/A"},{"$f":"IFERROR(AVERAGEIFS(Data!$Q:$Q,Data!$B:$B,L$12,Data!$A:$A,$B294),\"N/A\")","v":"N/A"},{"$f":"IFERROR(AVERAGEIFS(Data!$Q:$Q,Data!$B:$B,M$12,Data!$A:$A,$B294),\"N/A\")","v":"N/A"}]
["",{"$f":"Observations!B284","v":""},{"$f":"IF(A295=1,VLOOKUP($B295,ObData!$A$1:$J$300,3,0),\"\")","v":""},{"$f":"IF(A295=1,B295&\": \"&TEXT(C295,\"mm/dd/yy\")&\"- \"&VLOOKUP(B295,ObData!$A$1:$J$300,5,0),\"\")","v":""},{"$f":"IF($B295=\"\",\"\",IF(COUNTIFS(Data!$B:$B,E$12,Data!$A:$A,Matrices!$B295)=0,\"\",COUNTIFS(Data!$B:$B,E$12,Data!$A:$A,Matrices!$B295)))","v":""},{"$f":"IF($B295=\"\",\"\",IF(COUNTIFS(Data!$B:$B,F$12,Data!$A:$A,Matrices!$B295)=0,\"\",COUNTIFS(Data!$B:$B,F$12,Data!$A:$A,Matrices!$B295)))","v":""},{"$f":"IF($B295=\"\",\"\",IF(COUNTIFS(Data!$B:$B,G$12,Data!$A:$A,Matrices!$B295)=0,\"\",COUNTIFS(Data!$B:$B,G$12,Data!$A:$A,Matrices!$B295)))","v":""},{"$f":"IFERROR(AVERAGEIFS(Data!$E:$E,Data!$B:$B,H$12,Data!$A:$A,$B295),\"N/A\")","v":"N/A"},{"$f":"IFERROR(AVERAGEIFS(Data!$E:$E,Data!$B:$B,I$12,Data!$A:$A,$B295),\"N/A\")","v":"N/A"},{"$f":"IFERROR(AVERAGEIFS(Data!$E:$E,Data!$B:$B,J$12,Data!$A:$A,$B295),\"N/A\")","v":"N/A"},{"$f":"IFERROR(AVERAGEIFS(Data!$Q:$Q,Data!$B:$B,K$12,Data!$A:$A,$B295),\"N/A\")","v":"N/A"},{"$f":"IFERROR(AVERAGEIFS(Data!$Q:$Q,Data!$B:$B,L$12,Data!$A:$A,$B295),\"N/A\")","v":"N/A"},{"$f":"IFERROR(AVERAGEIFS(Data!$Q:$Q,Data!$B:$B,M$12,Data!$A:$A,$B295),\"N/A\")","v":"N/A"}]
["",{"$f":"Observations!B285","v":""},{"$f":"IF(A296=1,VLOOKUP($B296,ObData!$A$1:$J$300,3,0),\"\")","v":""},{"$f":"IF(A296=1,B296&\": \"&TEXT(C296,\"mm/dd/yy\")&\"- \"&VLOOKUP(B296,ObData!$A$1:$J$300,5,0),\"\")","v":""},{"$f":"IF($B296=\"\",\"\",IF(COUNTIFS(Data!$B:$B,E$12,Data!$A:$A,Matrices!$B296)=0,\"\",COUNTIFS(Data!$B:$B,E$12,Data!$A:$A,Matrices!$B296)))","v":""},{"$f":"IF($B296=\"\",\"\",IF(COUNTIFS(Data!$B:$B,F$12,Data!$A:$A,Matrices!$B296)=0,\"\",COUNTIFS(Data!$B:$B,F$12,Data!$A:$A,Matrices!$B296)))","v":""},{"$f":"IF($B296=\"\",\"\",IF(COUNTIFS(Data!$B:$B,G$12,Data!$A:$A,Matrices!$B296)=0,\"\",COUNTIFS(Data!$B:$B,G$12,Data!$A:$A,Matrices!$B296)))","v":""},{"$f":"IFERROR(AVERAGEIFS(Data!$E:$E,Data!$B:$B,H$12,Data!$A:$A,$B296),\"N/A\")","v":"N/A"},{"$f":"IFERROR(AVERAGEIFS(Data!$E:$E,Data!$B:$B,I$12,Data!$A:$A,$B296),\"N/A\")","v":"N/A"},{"$f":"IFERROR(AVERAGEIFS(Data!$E:$E,Data!$B:$B,J$12,Data!$A:$A,$B296),\"N/A\")","v":"N/A"},{"$f":"IFERROR(AVERAGEIFS(Data!$Q:$Q,Data!$B:$B,K$12,Data!$A:$A,$B296),\"N/A\")","v":"N/A"},{"$f":"IFERROR(AVERAGEIFS(Data!$Q:$Q,Data!$B:$B,L$12,Data!$A:$A,$B296),\"N/A\")","v":"N/A"},{"$f":"IFERROR(AVERAGEIFS(Data!$Q:$Q,Data!$B:$B,M$12,Data!$A:$A,$B296),\"N/A\")","v":"N/A"}]
["",{"$f":"Observations!B286","v":""},{"$f":"IF(A297=1,VLOOKUP($B297,ObData!$A$1:$J$300,3,0),\"\")","v":""},{"$f":"IF(A297=1,B297&\": \"&TEXT(C297,\"mm/dd/yy\")&\"- \"&VLOOKUP(B297,ObData!$A$1:$J$300,5,0),\"\")","v":""},{"$f":"IF($B297=\"\",\"\",IF(COUNTIFS(Data!$B:$B,E$12,Data!$A:$A,Matrices!$B297)=0,\"\",COUNTIFS(Data!$B:$B,E$12,Data!$A:$A,Matrices!$B297)))","v":""},{"$f":"IF($B297=\"\",\"\",IF(COUNTIFS(Data!$B:$B,F$12,Data!$A:$A,Matrices!$B297)=0,\"\",COUNTIFS(Data!$B:$B,F$12,Data!$A:$A,Matrices!$B297)))","v":""},{"$f":"IF($B297=\"\",\"\",IF(COUNTIFS(Data!$B:$B,G$12,Data!$A:$A,Matrices!$B297)=0,\"\",COUNTIFS(Data!$B:$B,G$12,Data!$A:$A,Matrices!$B297)))","v":""},{"$f":"IFERROR(AVERAGEIFS(Data!$E:$E,Data!$B:$B,H$12,Data!$A:$A,$B297),\"N/A\")","v":"N/A"},{"$f":"IFERROR(AVERAGEIFS(Data!$E:$E,Data!$B:$B,I$12,Data!$A:$A,$B297),\"N/A\")","v":"N/A"},{"$f":"IFERROR(AVERAGEIFS(Data!$E:$E,Data!$B:$B,J$12,Data!$A:$A,$B297),\"N/A\")","v":"N/A"},{"$f":"IFERROR(AVERAGEIFS(Data!$Q:$Q,Data!$B:$B,K$12,Data!$A:$A,$B297),\"N/A\")","v":"N/A"},{"$f":"IFERROR(AVERAGEIFS(Data!$Q:$Q,Data!$B:$B,L$12,Data!$A:$A,$B297),\"N/A\")","v":"N/A"},{"$f":"IFERROR(AVERAGEIFS(Data!$Q:$Q,Data!$B:$B,M$12,Data!$A:$A,$B297),\"N/A\")","v":"N/A"}]
["",{"$f":"Observations!B287","v":""},{"$f":"IF(A298=1,VLOOKUP($B298,ObData!$A$1:$J$300,3,0),\"\")","v":""},{"$f":"IF(A298=1,B298&\": \"&TEXT(C298,\"mm/dd/yy\")&\"- \"&VLOOKUP(B298,ObData!$A$1:$J$300,5,0),\"\")","v":""},{"$f":"IF($B298=\"\",\"\",IF(COUNTIFS(Data!$B:$B,E$12,Data!$A:$A,Matrices!$B298)=0,\"\",COUNTIFS(Data!$B:$B,E$12,Data!$A:$A,Matrices!$B298)))","v":""},{"$f":"IF($B298=\"\",\"\",IF(COUNTIFS(Data!$B:$B,F$12,Data!$A:$A,Matrices!$B298)=0,\"\",COUNTIFS(Data!$B:$B,F$12,Data!$A:$A,Matrices!$B298)))","v":""},{"$f":"IF($B298=\"\",\"\",IF(COUNTIFS(Data!$B:$B,G$12,Data!$A:$A,Matrices!$B298)=0,\"\",COUNTIFS(Data!$B:$B,G$12,Data!$A:$A,Matrices!$B298)))","v":""},{"$f":"IFERROR(AVERAGEIFS(Data!$E:$E,Data!$B:$B,H$12,Data!$A:$A,$B298),\"N/A\")","v":"N/A"},{"$f":"IFERROR(AVERAGEIFS(Data!$E:$E,Data!$B:$B,I$12,Data!$A:$A,$B298),\"N/A\")","v":"N/A"},{"$f":"IFERROR(AVERAGEIFS(Data!$E:$E,Data!$B:$B,J$12,Data!$A:$A,$B298),\"N/A\")","v":"N/A"},{"$f":"IFERROR(AVERAGEIFS(Data!$Q:$Q,Data!$B:$B,K$12,Data!$A:$A,$B298),\"N/A\")","v":"N/A"},{"$f":"IFERROR(AVERAGEIFS(Data!$Q:$Q,Data!$B:$B,L$12,Data!$A:$A,$B298),\"N/A\")","v":"N/A"},{"$f":"IFERROR(AVERAGEIFS(Data!$Q:$Q,Data!$B:$B,M$12,Data!$A:$A,$B298),\"N/A\")","v":"N/A"}]
["",{"$f":"Observations!B288","v":""},{"$f":"IF(A299=1,VLOOKUP($B299,ObData!$A$1:$J$300,3,0),\"\")","v":""},{"$f":"IF(A299=1,B299&\": \"&TEXT(C299,\"mm/dd/yy\")&\"- \"&VLOOKUP(B299,ObData!$A$1:$J$300,5,0),\"\")","v":""},{"$f":"IF($B299=\"\",\"\",IF(COUNTIFS(Data!$B:$B,E$12,Data!$A:$A,Matrices!$B299)=0,\"\",COUNTIFS(Data!$B:$B,E$12,Data!$A:$A,Matrices!$B299)))","v":""},{"$f":"IF($B299=\"\",\"\",IF(COUNTIFS(Data!$B:$B,F$12,Data!$A:$A,Matrices!$B299)=0,\"\",COUNTIFS(Data!$B:$B,F$12,Data!$A:$A,Matrices!$B299)))","v":""},{"$f":"IF($B299=\"\",\"\",IF(COUNTIFS(Data!$B:$B,G$12,Data!$A:$A,Matrices!$B299)=0,\"\",COUNTIFS(Data!$B:$B,G$12,Data!$A:$A,Matrices!$B299)))","v":""},{"$f":"IFERROR(AVERAGEIFS(Data!$E:$E,Data!$B:$B,H$12,Data!$A:$A,$B299),\"N/A\")","v":"N/A"},{"$f":"IFERROR(AVERAGEIFS(Data!$E:$E,Data!$B:$B,I$12,Data!$A:$A,$B299),\"N/A\")","v":"N/A"},{"$f":"IFERROR(AVERAGEIFS(Data!$E:$E,Data!$B:$B,J$12,Data!$A:$A,$B299),\"N/A\")","v":"N/A"},{"$f":"IFERROR(AVERAGEIFS(Data!$Q:$Q,Data!$B:$B,K$12,Data!$A:$A,$B299),\"N/A\")","v":"N/A"},{"$f":"IFERROR(AVERAGEIFS(Data!$Q:$Q,Data!$B:$B,L$12,Data!$A:$A,$B299),\"N/A\")","v":"N/A"},{"$f":"IFERROR(AVERAGEIFS(Data!$Q:$Q,Data!$B:$B,M$12,Data!$A:$A,$B299),\"N/A\")","v":"N/A"}]
["",{"$f":"Observations!B289","v":""},{"$f":"IF(A300=1,VLOOKUP($B300,ObData!$A$1:$J$300,3,0),\"\")","v":""},{"$f":"IF(A300=1,B300&\": \"&TEXT(C300,\"mm/dd/yy\")&\"- \"&VLOOKUP(B300,ObData!$A$1:$J$300,5,0),\"\")","v":""},{"$f":"IF($B300=\"\",\"\",IF(COUNTIFS(Data!$B:$B,E$12,Data!$A:$A,Matrices!$B300)=0,\"\",COUNTIFS(Data!$B:$B,E$12,Data!$A:$A,Matrices!$B300)))","v":""},{"$f":"IF($B300=\"\",\"\",IF(COUNTIFS(Data!$B:$B,F$12,Data!$A:$A,Matrices!$B300)=0,\"\",COUNTIFS(Data!$B:$B,F$12,Data!$A:$A,Matrices!$B300)))","v":""},{"$f":"IF($B300=\"\",\"\",IF(COUNTIFS(Data!$B:$B,G$12,Data!$A:$A,Matrices!$B300)=0,\"\",COUNTIFS(Data!$B:$B,G$12,Data!$A:$A,Matrices!$B300)))","v":""},{"$f":"IFERROR(AVERAGEIFS(Data!$E:$E,Data!$B:$B,H$12,Data!$A:$A,$B300),\"N/A\")","v":"N/A"},{"$f":"IFERROR(AVERAGEIFS(Data!$E:$E,Data!$B:$B,I$12,Data!$A:$A,$B300),\"N/A\")","v":"N/A"},{"$f":"IFERROR(AVERAGEIFS(Data!$E:$E,Data!$B:$B,J$12,Data!$A:$A,$B300),\"N/A\")","v":"N/A"},{"$f":"IFERROR(AVERAGEIFS(Data!$Q:$Q,Data!$B:$B,K$12,Data!$A:$A,$B300),\"N/A\")","v":"N/A"},{"$f":"IFERROR(AVERAGEIFS(Data!$Q:$Q,Data!$B:$B,L$12,Data!$A:$A,$B300),\"N/A\")","v":"N/A"},{"$f":"IFERROR(AVERAGEIFS(Data!$Q:$Q,Data!$B:$B,M$12,Data!$A:$A,$B300),\"N/A\")","v":"N/A"}]
["",{"$f":"Observations!B290","v":""},{"$f":"IF(A301=1,VLOOKUP($B301,ObData!$A$1:$J$300,3,0),\"\")","v":""},{"$f":"IF(A301=1,B301&\": \"&TEXT(C301,\"mm/dd/yy\")&\"- \"&VLOOKUP(B301,ObData!$A$1:$J$300,5,0),\"\")","v":""},{"$f":"IF($B301=\"\",\"\",IF(COUNTIFS(Data!$B:$B,E$12,Data!$A:$A,Matrices!$B301)=0,\"\",COUNTIFS(Data!$B:$B,E$12,Data!$A:$A,Matrices!$B301)))","v":""},{"$f":"IF($B301=\"\",\"\",IF(COUNTIFS(Data!$B:$B,F$12,Data!$A:$A,Matrices!$B301)=0,\"\",COUNTIFS(Data!$B:$B,F$12,Data!$A:$A,Matrices!$B301)))","v":""},{"$f":"IF($B301=\"\",\"\",IF(COUNTIFS(Data!$B:$B,G$12,Data!$A:$A,Matrices!$B301)=0,\"\",COUNTIFS(Data!$B:$B,G$12,Data!$A:$A,Matrices!$B301)))","v":""},{"$f":"IFERROR(AVERAGEIFS(Data!$E:$E,Data!$B:$B,H$12,Data!$A:$A,$B301),\"N/A\")","v":"N/A"},{"$f":"IFERROR(AVERAGEIFS(Data!$E:$E,Data!$B:$B,I$12,Data!$A:$A,$B301),\"N/A\")","v":"N/A"},{"$f":"IFERROR(AVERAGEIFS(Data!$E:$E,Data!$B:$B,J$12,Data!$A:$A,$B301),\"N/A\")","v":"N/A"},{"$f":"IFERROR(AVERAGEIFS(Data!$Q:$Q,Data!$B:$B,K$12,Data!$A:$A,$B301),\"N/A\")","v":"N/A"},{"$f":"IFERROR(AVERAGEIFS(Data!$Q:$Q,Data!$B:$B,L$12,Data!$A:$A,$B301),\"N/A\")","v":"N/A"},{"$f":"IFERROR(AVERAGEIFS(Data!$Q:$Q,Data!$B:$B,M$12,Data!$A:$A,$B301),\"N/A\")","v":"N/A"}]
["",{"$f":"Observations!B291","v":""},{"$f":"IF(A302=1,VLOOKUP($B302,ObData!$A$1:$J$300,3,0),\"\")","v":""},{"$f":"IF(A302=1,B302&\": \"&TEXT(C302,\"mm/dd/yy\")&\"- \"&VLOOKUP(B302,ObData!$A$1:$J$300,5,0),\"\")","v":""},{"$f":"IF($B302=\"\",\"\",IF(COUNTIFS(Data!$B:$B,E$12,Data!$A:$A,Matrices!$B302)=0,\"\",COUNTIFS(Data!$B:$B,E$12,Data!$A:$A,Matrices!$B302)))","v":""},{"$f":"IF($B302=\"\",\"\",IF(COUNTIFS(Data!$B:$B,F$12,Data!$A:$A,Matrices!$B302)=0,\"\",COUNTIFS(Data!$B:$B,F$12,Data!$A:$A,Matrices!$B302)))","v":""},{"$f":"IF($B302=\"\",\"\",IF(COUNTIFS(Data!$B:$B,G$12,Data!$A:$A,Matrices!$B302)=0,\"\",COUNTIFS(Data!$B:$B,G$12,Data!$A:$A,Matrices!$B302)))","v":""},{"$f":"IFERROR(AVERAGEIFS(Data!$E:$E,Data!$B:$B,H$12,Data!$A:$A,$B302),\"N/A\")","v":"N/A"},{"$f":"IFERROR(AVERAGEIFS(Data!$E:$E,Data!$B:$B,I$12,Data!$A:$A,$B302),\"N/A\")","v":"N/A"},{"$f":"IFERROR(AVERAGEIFS(Data!$E:$E,Data!$B:$B,J$12,Data!$A:$A,$B302),\"N/A\")","v":"N/A"},{"$f":"IFERROR(AVERAGEIFS(Data!$Q:$Q,Data!$B:$B,K$12,Data!$A:$A,$B302),\"N/A\")","v":"N/A"},{"$f":"IFERROR(AVERAGEIFS(Data!$Q:$Q,Data!$B:$B,L$12,Data!$A:$A,$B302),\"N/A\")","v":"N/A"},{"$f":"IFERROR(AVERAGEIFS(Data!$Q:$Q,Data!$B:$B,M$12,Data!$A:$A,$B302),\"N/A\")","v":"N/A"}]
["",{"$f":"Observations!B292","v":""},{"$f":"IF(A303=1,VLOOKUP($B303,ObData!$A$1:$J$300,3,0),\"\")","v":""},{"$f":"IF(A303=1,B303&\": \"&TEXT(C303,\"mm/dd/yy\")&\"- \"&VLOOKUP(B303,ObData!$A$1:$J$300,5,0),\"\")","v":""},{"$f":"IF($B303=\"\",\"\",IF(COUNTIFS(Data!$B:$B,E$12,Data!$A:$A,Matrices!$B303)=0,\"\",COUNTIFS(Data!$B:$B,E$12,Data!$A:$A,Matrices!$B303)))","v":""},{"$f":"IF($B303=\"\",\"\",IF(COUNTIFS(Data!$B:$B,F$12,Data!$A:$A,Matrices!$B303)=0,\"\",COUNTIFS(Data!$B:$B,F$12,Data!$A:$A,Matrices!$B303)))","v":""},{"$f":"IF($B303=\"\",\"\",IF(COUNTIFS(Data!$B:$B,G$12,Data!$A:$A,Matrices!$B303)=0,\"\",COUNTIFS(Data!$B:$B,G$12,Data!$A:$A,Matrices!$B303)))","v":""},{"$f":"IFERROR(AVERAGEIFS(Data!$E:$E,Data!$B:$B,H$12,Data!$A:$A,$B303),\"N/A\")","v":"N/A"},{"$f":"IFERROR(AVERAGEIFS(Data!$E:$E,Data!$B:$B,I$12,Data!$A:$A,$B303),\"N/A\")","v":"N/A"},{"$f":"IFERROR(AVERAGEIFS(Data!$E:$E,Data!$B:$B,J$12,Data!$A:$A,$B303),\"N/A\")","v":"N/A"},{"$f":"IFERROR(AVERAGEIFS(Data!$Q:$Q,Data!$B:$B,K$12,Data!$A:$A,$B303),\"N/A\")","v":"N/A"},{"$f":"IFERROR(AVERAGEIFS(Data!$Q:$Q,Data!$B:$B,L$12,Data!$A:$A,$B303),\"N/A\")","v":"N/A"},{"$f":"IFERROR(AVERAGEIFS(Data!$Q:$Q,Data!$B:$B,M$12,Data!$A:$A,$B303),\"N/A\")","v":"N/A"}]
["",{"$f":"Observations!B293","v":""},{"$f":"IF(A304=1,VLOOKUP($B304,ObData!$A$1:$J$300,3,0),\"\")","v":""},{"$f":"IF(A304=1,B304&\": \"&TEXT(C304,\"mm/dd/yy\")&\"- \"&VLOOKUP(B304,ObData!$A$1:$J$300,5,0),\"\")","v":""},{"$f":"IF($B304=\"\",\"\",IF(COUNTIFS(Data!$B:$B,E$12,Data!$A:$A,Matrices!$B304)=0,\"\",COUNTIFS(Data!$B:$B,E$12,Data!$A:$A,Matrices!$B304)))","v":""},{"$f":"IF($B304=\"\",\"\",IF(COUNTIFS(Data!$B:$B,F$12,Data!$A:$A,Matrices!$B304)=0,\"\",COUNTIFS(Data!$B:$B,F$12,Data!$A:$A,Matrices!$B304)))","v":""},{"$f":"IF($B304=\"\",\"\",IF(COUNTIFS(Data!$B:$B,G$12,Data!$A:$A,Matrices!$B304)=0,\"\",COUNTIFS(Data!$B:$B,G$12,Data!$A:$A,Matrices!$B304)))","v":""},{"$f":"IFERROR(AVERAGEIFS(Data!$E:$E,Data!$B:$B,H$12,Data!$A:$A,$B304),\"N/A\")","v":"N/A"},{"$f":"IFERROR(AVERAGEIFS(Data!$E:$E,Data!$B:$B,I$12,Data!$A:$A,$B304),\"N/A\")","v":"N/A"},{"$f":"IFERROR(AVERAGEIFS(Data!$E:$E,Data!$B:$B,J$12,Data!$A:$A,$B304),\"N/A\")","v":"N/A"},{"$f":"IFERROR(AVERAGEIFS(Data!$Q:$Q,Data!$B:$B,K$12,Data!$A:$A,$B304),\"N/A\")","v":"N/A"},{"$f":"IFERROR(AVERAGEIFS(Data!$Q:$Q,Data!$B:$B,L$12,Data!$A:$A,$B304),\"N/A\")","v":"N/A"},{"$f":"IFERROR(AVERAGEIFS(Data!$Q:$Q,Data!$B:$B,M$12,Data!$A:$A,$B304),\"N/A\")","v":"N/A"}]
["",{"$f":"Observations!B294","v":""},{"$f":"IF(A305=1,VLOOKUP($B305,ObData!$A$1:$J$300,3,0),\"\")","v":""},{"$f":"IF(A305=1,B305&\": \"&TEXT(C305,\"mm/dd/yy\")&\"- \"&VLOOKUP(B305,ObData!$A$1:$J$300,5,0),\"\")","v":""},{"$f":"IF($B305=\"\",\"\",IF(COUNTIFS(Data!$B:$B,E$12,Data!$A:$A,Matrices!$B305)=0,\"\",COUNTIFS(Data!$B:$B,E$12,Data!$A:$A,Matrices!$B305)))","v":""},{"$f":"IF($B305=\"\",\"\",IF(COUNTIFS(Data!$B:$B,F$12,Data!$A:$A,Matrices!$B305)=0,\"\",COUNTIFS(Data!$B:$B,F$12,Data!$A:$A,Matrices!$B305)))","v":""},{"$f":"IF($B305=\"\",\"\",IF(COUNTIFS(Data!$B:$B,G$12,Data!$A:$A,Matrices!$B305)=0,\"\",COUNTIFS(Data!$B:$B,G$12,Data!$A:$A,Matrices!$B305)))","v":""},{"$f":"IFERROR(AVERAGEIFS(Data!$E:$E,Data!$B:$B,H$12,Data!$A:$A,$B305),\"N/A\")","v":"N/A"},{"$f":"IFERROR(AVERAGEIFS(Data!$E:$E,Data!$B:$B,I$12,Data!$A:$A,$B305),\"N/A\")","v":"N/A"},{"$f":"IFERROR(AVERAGEIFS(Data!$E:$E,Data!$B:$B,J$12,Data!$A:$A,$B305),\"N/A\")","v":"N/A"},{"$f":"IFERROR(AVERAGEIFS(Data!$Q:$Q,Data!$B:$B,K$12,Data!$A:$A,$B305),\"N/A\")","v":"N/A"},{"$f":"IFERROR(AVERAGEIFS(Data!$Q:$Q,Data!$B:$B,L$12,Data!$A:$A,$B305),\"N/A\")","v":"N/A"},{"$f":"IFERROR(AVERAGEIFS(Data!$Q:$Q,Data!$B:$B,M$12,Data!$A:$A,$B305),\"N/A\")","v":"N/A"}]
["",{"$f":"Observations!B295","v":""},{"$f":"IF(A306=1,VLOOKUP($B306,ObData!$A$1:$J$300,3,0),\"\")","v":""},{"$f":"IF(A306=1,B306&\": \"&TEXT(C306,\"mm/dd/yy\")&\"- \"&VLOOKUP(B306,ObData!$A$1:$J$300,5,0),\"\")","v":""},{"$f":"IF($B306=\"\",\"\",IF(COUNTIFS(Data!$B:$B,E$12,Data!$A:$A,Matrices!$B306)=0,\"\",COUNTIFS(Data!$B:$B,E$12,Data!$A:$A,Matrices!$B306)))","v":""},{"$f":"IF($B306=\"\",\"\",IF(COUNTIFS(Data!$B:$B,F$12,Data!$A:$A,Matrices!$B306)=0,\"\",COUNTIFS(Data!$B:$B,F$12,Data!$A:$A,Matrices!$B306)))","v":""},{"$f":"IF($B306=\"\",\"\",IF(COUNTIFS(Data!$B:$B,G$12,Data!$A:$A,Matrices!$B306)=0,\"\",COUNTIFS(Data!$B:$B,G$12,Data!$A:$A,Matrices!$B306)))","v":""},{"$f":"IFERROR(AVERAGEIFS(Data!$E:$E,Data!$B:$B,H$12,Data!$A:$A,$B306),\"N/A\")","v":"N/A"},{"$f":"IFERROR(AVERAGEIFS(Data!$E:$E,Data!$B:$B,I$12,Data!$A:$A,$B306),\"N/A\")","v":"N/A"},{"$f":"IFERROR(AVERAGEIFS(Data!$E:$E,Data!$B:$B,J$12,Data!$A:$A,$B306),\"N/A\")","v":"N/A"},{"$f":"IFERROR(AVERAGEIFS(Data!$Q:$Q,Data!$B:$B,K$12,Data!$A:$A,$B306),\"N/A\")","v":"N/A"},{"$f":"IFERROR(AVERAGEIFS(Data!$Q:$Q,Data!$B:$B,L$12,Data!$A:$A,$B306),\"N/A\")","v":"N/A"},{"$f":"IFERROR(AVERAGEIFS(Data!$Q:$Q,Data!$B:$B,M$12,Data!$A:$A,$B306),\"N/A\")","v":"N/A"}]
["",{"$f":"Observations!B296","v":""},{"$f":"IF(A307=1,VLOOKUP($B307,ObData!$A$1:$J$300,3,0),\"\")","v":""},{"$f":"IF(A307=1,B307&\": \"&TEXT(C307,\"mm/dd/yy\")&\"- \"&VLOOKUP(B307,ObData!$A$1:$J$300,5,0),\"\")","v":""},{"$f":"IF($B307=\"\",\"\",IF(COUNTIFS(Data!$B:$B,E$12,Data!$A:$A,Matrices!$B307)=0,\"\",COUNTIFS(Data!$B:$B,E$12,Data!$A:$A,Matrices!$B307)))","v":""},{"$f":"IF($B307=\"\",\"\",IF(COUNTIFS(Data!$B:$B,F$12,Data!$A:$A,Matrices!$B307)=0,\"\",COUNTIFS(Data!$B:$B,F$12,Data!$A:$A,Matrices!$B307)))","v":""},{"$f":"IF($B307=\"\",\"\",IF(COUNTIFS(Data!$B:$B,G$12,Data!$A:$A,Matrices!$B307)=0,\"\",COUNTIFS(Data!$B:$B,G$12,Data!$A:$A,Matrices!$B307)))","v":""},{"$f":"IFERROR(AVERAGEIFS(Data!$E:$E,Data!$B:$B,H$12,Data!$A:$A,$B307),\"N/A\")","v":"N/A"},{"$f":"IFERROR(AVERAGEIFS(Data!$E:$E,Data!$B:$B,I$12,Data!$A:$A,$B307),\"N/A\")","v":"N/A"},{"$f":"IFERROR(AVERAGEIFS(Data!$E:$E,Data!$B:$B,J$12,Data!$A:$A,$B307),\"N/A\")","v":"N/A"},{"$f":"IFERROR(AVERAGEIFS(Data!$Q:$Q,Data!$B:$B,K$12,Data!$A:$A,$B307),\"N/A\")","v":"N/A"},{"$f":"IFERROR(AVERAGEIFS(Data!$Q:$Q,Data!$B:$B,L$12,Data!$A:$A,$B307),\"N/A\")","v":"N/A"},{"$f":"IFERROR(AVERAGEIFS(Data!$Q:$Q,Data!$B:$B,M$12,Data!$A:$A,$B307),\"N/A\")","v":"N/A"}]
["",{"$f":"Observations!B297","v":""},{"$f":"IF(A308=1,VLOOKUP($B308,ObData!$A$1:$J$300,3,0),\"\")","v":""},{"$f":"IF(A308=1,B308&\": \"&TEXT(C308,\"mm/dd/yy\")&\"- \"&VLOOKUP(B308,ObData!$A$1:$J$300,5,0),\"\")","v":""},{"$f":"IF($B308=\"\",\"\",IF(COUNTIFS(Data!$B:$B,E$12,Data!$A:$A,Matrices!$B308)=0,\"\",COUNTIFS(Data!$B:$B,E$12,Data!$A:$A,Matrices!$B308)))","v":""},{"$f":"IF($B308=\"\",\"\",IF(COUNTIFS(Data!$B:$B,F$12,Data!$A:$A,Matrices!$B308)=0,\"\",COUNTIFS(Data!$B:$B,F$12,Data!$A:$A,Matrices!$B308)))","v":""},{"$f":"IF($B308=\"\",\"\",IF(COUNTIFS(Data!$B:$B,G$12,Data!$A:$A,Matrices!$B308)=0,\"\",COUNTIFS(Data!$B:$B,G$12,Data!$A:$A,Matrices!$B308)))","v":""},{"$f":"IFERROR(AVERAGEIFS(Data!$E:$E,Data!$B:$B,H$12,Data!$A:$A,$B308),\"N/A\")","v":"N/A"},{"$f":"IFERROR(AVERAGEIFS(Data!$E:$E,Data!$B:$B,I$12,Data!$A:$A,$B308),\"N/A\")","v":"N/A"},{"$f":"IFERROR(AVERAGEIFS(Data!$E:$E,Data!$B:$B,J$12,Data!$A:$A,$B308),\"N/A\")","v":"N/A"},{"$f":"IFERROR(AVERAGEIFS(Data!$Q:$Q,Data!$B:$B,K$12,Data!$A:$A,$B308),\"N/A\")","v":"N/A"},{"$f":"IFERROR(AVERAGEIFS(Data!$Q:$Q,Data!$B:$B,L$12,Data!$A:$A,$B308),\"N/A\")","v":"N/A"},{"$f":"IFERROR(AVERAGEIFS(Data!$Q:$Q,Data!$B:$B,M$12,Data!$A:$A,$B308),\"N/A\")","v":"N/A"}]
["",{"$f":"Observations!B298","v":""},{"$f":"IF(A309=1,VLOOKUP($B309,ObData!$A$1:$J$300,3,0),\"\")","v":""},{"$f":"IF(A309=1,B309&\": \"&TEXT(C309,\"mm/dd/yy\")&\"- \"&VLOOKUP(B309,ObData!$A$1:$J$300,5,0),\"\")","v":""},{"$f":"IF($B309=\"\",\"\",IF(COUNTIFS(Data!$B:$B,E$12,Data!$A:$A,Matrices!$B309)=0,\"\",COUNTIFS(Data!$B:$B,E$12,Data!$A:$A,Matrices!$B309)))","v":""},{"$f":"IF($B309=\"\",\"\",IF(COUNTIFS(Data!$B:$B,F$12,Data!$A:$A,Matrices!$B309)=0,\"\",COUNTIFS(Data!$B:$B,F$12,Data!$A:$A,Matrices!$B309)))","v":""},{"$f":"IF($B309=\"\",\"\",IF(COUNTIFS(Data!$B:$B,G$12,Data!$A:$A,Matrices!$B309)=0,\"\",COUNTIFS(Data!$B:$B,G$12,Data!$A:$A,Matrices!$B309)))","v":""},{"$f":"IFERROR(AVERAGEIFS(Data!$E:$E,Data!$B:$B,H$12,Data!$A:$A,$B309),\"N/A\")","v":"N/A"},{"$f":"IFERROR(AVERAGEIFS(Data!$E:$E,Data!$B:$B,I$12,Data!$A:$A,$B309),\"N/A\")","v":"N/A"},{"$f":"IFERROR(AVERAGEIFS(Data!$E:$E,Data!$B:$B,J$12,Data!$A:$A,$B309),\"N/A\")","v":"N/A"},{"$f":"IFERROR(AVERAGEIFS(Data!$Q:$Q,Data!$B:$B,K$12,Data!$A:$A,$B309),\"N/A\")","v":"N/A"},{"$f":"IFERROR(AVERAGEIFS(Data!$Q:$Q,Data!$B:$B,L$12,Data!$A:$A,$B309),\"N/A\")","v":"N/A"},{"$f":"IFERROR(AVERAGEIFS(Data!$Q:$Q,Data!$B:$B,M$12,Data!$A:$A,$B309),\"N/A\")","v":"N/A"}]
["",{"$f":"Observations!B299","v":""},{"$f":"IF(A310=1,VLOOKUP($B310,ObData!$A$1:$J$300,3,0),\"\")","v":""},{"$f":"IF(A310=1,B310&\": \"&TEXT(C310,\"mm/dd/yy\")&\"- \"&VLOOKUP(B310,ObData!$A$1:$J$300,5,0),\"\")","v":""},{"$f":"IF($B310=\"\",\"\",IF(COUNTIFS(Data!$B:$B,E$12,Data!$A:$A,Matrices!$B310)=0,\"\",COUNTIFS(Data!$B:$B,E$12,Data!$A:$A,Matrices!$B310)))","v":""},{"$f":"IF($B310=\"\",\"\",IF(COUNTIFS(Data!$B:$B,F$12,Data!$A:$A,Matrices!$B310)=0,\"\",COUNTIFS(Data!$B:$B,F$12,Data!$A:$A,Matrices!$B310)))","v":""},{"$f":"IF($B310=\"\",\"\",IF(COUNTIFS(Data!$B:$B,G$12,Data!$A:$A,Matrices!$B310)=0,\"\",COUNTIFS(Data!$B:$B,G$12,Data!$A:$A,Matrices!$B310)))","v":""},{"$f":"IFERROR(AVERAGEIFS(Data!$E:$E,Data!$B:$B,H$12,Data!$A:$A,$B310),\"N/A\")","v":"N/A"},{"$f":"IFERROR(AVERAGEIFS(Data!$E:$E,Data!$B:$B,I$12,Data!$A:$A,$B310),\"N/A\")","v":"N/A"},{"$f":"IFERROR(AVERAGEIFS(Data!$E:$E,Data!$B:$B,J$12,Data!$A:$A,$B310),\"N/A\")","v":"N/A"},{"$f":"IFERROR(AVERAGEIFS(Data!$Q:$Q,Data!$B:$B,K$12,Data!$A:$A,$B310),\"N/A\")","v":"N/A"},{"$f":"IFERROR(AVERAGEIFS(Data!$Q:$Q,Data!$B:$B,L$12,Data!$A:$A,$B310),\"N/A\")","v":"N/A"},{"$f":"IFERROR(AVERAGEIFS(Data!$Q:$Q,Data!$B:$B,M$12,Data!$A:$A,$B310),\"N/A\")","v":"N/A"}]
["",{"$f":"Observations!B300","v":""},{"$f":"IF(A311=1,VLOOKUP($B311,ObData!$A$1:$J$300,3,0),\"\")","v":""},{"$f":"IF(A311=1,B311&\": \"&TEXT(C311,\"mm/dd/yy\")&\"- \"&VLOOKUP(B311,ObData!$A$1:$J$300,5,0),\"\")","v":""},{"$f":"IF($B311=\"\",\"\",IF(COUNTIFS(Data!$B:$B,E$12,Data!$A:$A,Matrices!$B311)=0,\"\",COUNTIFS(Data!$B:$B,E$12,Data!$A:$A,Matrices!$B311)))","v":""},{"$f":"IF($B311=\"\",\"\",IF(COUNTIFS(Data!$B:$B,F$12,Data!$A:$A,Matrices!$B311)=0,\"\",COUNTIFS(Data!$B:$B,F$12,Data!$A:$A,Matrices!$B311)))","v":""},{"$f":"IF($B311=\"\",\"\",IF(COUNTIFS(Data!$B:$B,G$12,Data!$A:$A,Matrices!$B311)=0,\"\",COUNTIFS(Data!$B:$B,G$12,Data!$A:$A,Matrices!$B311)))","v":""},{"$f":"IFERROR(AVERAGEIFS(Data!$E:$E,Data!$B:$B,H$12,Data!$A:$A,$B311),\"N/A\")","v":"N/A"},{"$f":"IFERROR(AVERAGEIFS(Data!$E:$E,Data!$B:$B,I$12,Data!$A:$A,$B311),\"N/A\")","v":"N/A"},{"$f":"IFERROR(AVERAGEIFS(Data!$E:$E,Data!$B:$B,J$12,Data!$A:$A,$B311),\"N/A\")","v":"N/A"},{"$f":"IFERROR(AVERAGEIFS(Data!$Q:$Q,Data!$B:$B,K$12,Data!$A:$A,$B311),\"N/A\")","v":"N/A"},{"$f":"IFERROR(AVERAGEIFS(Data!$Q:$Q,Data!$B:$B,L$12,Data!$A:$A,$B311),\"N/A\")","v":"N/A"},{"$f":"IFERROR(AVERAGEIFS(Data!$Q:$Q,Data!$B:$B,M$12,Data!$A:$A,$B311),\"N/A\")","v":"N/A"}]

{"sheet":"Behavior Log","index":1,"n_rows":27,"n_cols":8,"rows_kept":27,"cut":false,"hidden":false,"merged":[[22,3,23,5],[26,5,26,6],[25,2,25,7],[12,3,12,7],[2,2,2,7],[6,3,6,5],[4,3,4,7],[10,3,10,7],[11,3,11,7]]}
[]
[]
[null,null,"Behavior Documentation Form"]
[]
[null,null,"Scholar's Name","Brock "]
[]
[null,null,"Student ID Number"]
[]
[]
[null,null,"Behaviors:"]
[null,null,"Behavior 1:","refusal to follow directions "]
[null,null,"Behavior 2:","disengage from classroom activities "]
[null,null,"Behavior 3:","non-compliance  (verbal)"]
[]
[]
[]
[]
[]
[]
[]
[]
[]
[null,null,null,{"$f":"IF(MAX(ObData!G:G)=1,\"Observation Active\",\"Observation Inactive\")","v":"Observation Active"},null,null,{"$f":"IF(D23=\"Observation Active\",1,0)","v":1}]
[]
[]
[null,null,{"$f":"IF(G23=1,\"Current Observation\",\"\")","v":"Current Observation"}]
[null,null,{"$f":"IF(G23=1,\"Observation Date\",\"\")","v":"Observation Date"},{"$f":"IF($G$23=1,DATE(YEAR(VLOOKUP(1,ObData!$G$1:$I$1089,2,0)),MONTH(VLOOKUP(1,ObData!$G$1:$I$1089,2,0)),DAY(VLOOKUP(1,ObData!$G$1:$I$1089,2,0))),\"\")","v":{"$error":"#VALUE!"}},null,{"$f":"IF(G23=1,\"Start Time\",\"\")","v":"Start Time"},null,{"$f":"IF($G$23=1,TIME(HOUR(VLOOKUP(1,ObData!$G$1:$I$1089,2,0)),MINUTE(VLOOKUP(1,ObData!$G$1:$I$1089,2,0)),SECOND(VLOOKUP(1,ObData!$G$1:$I$1089,2,0))),\"\")","v":{"$error":"#VALUE!"}}]

{"sheet":"BehaviorLogEntries","index":2,"n_rows":1,"n_cols":10,"rows_kept":1,"cut":false,"hidden":true,"merged":[]}
["Behavior","ClassActivity","Consequence","Intensity","StartTime","<1 Min?","EndTimeOveride","Antecedent","Comments","DateOverride"]

{"sheet":"Dashboard","index":3,"n_rows":9,"n_cols":16,"rows_kept":9,"cut":false,"hidden":false,"merged":[[2,8,2,13],[6,8,6,11],[7,8,7,11],[8,8,8,11],[4,7,4,9],[6,13,6,14],[4,13,4,14]]}
[]
[]
[null,null,null,null,null,null,null,null,{"$f":"IF('Behavior Log'!D5=\"\",\"\",'Behavior Log'!D5&\"'s Behavior Tracker\")","v":"Brock 's Behavior Tracker"}]
[]
[null,null,null,null,null,null,null,"Number of incidents logged: ",null,null,{"$f":"COUNTIF(Data!L:L,\">0\")","v":0},null,null,"First incident recorded:",null,{"$f":"IF(MIN(Data!L:L)=0,\"\",MIN(Data!L:L))","v":""}]
[]
[null,null,null,null,null,null,null,"Behavior 1:",{"$f":"IF('Behavior Log'!D11=\"\",\"\",'Behavior Log'!D11)","v":"refusal to follow directions "},null,null,null,null,"Most recent incident:",null,{"$f":"IF(MAX(Data!L:L)=0,\"\",MAX(Data!L:L))","v":""}]
[null,null,null,null,null,null,null,"Behavior 2:",{"$f":"IF('Behavior Log'!D12=\"\",\"\",'Behavior Log'!D12)","v":"disengage from classroom activities "}]
[null,null,null,null,null,null,null,"Behavior 3:",{"$f":"IF('Behavior Log'!D13=\"\",\"\",'Behavior Log'!D13)","v":"non-compliance  (verbal)"}]

{"sheet":"Settings","index":4,"n_rows":14,"n_cols":7,"rows_kept":14,"cut":false,"hidden":false,"merged":[[2,2,2,5],[1,2,1,5]]}
[]
[null,null,"Settings"]
[null,null,"Use the boxes below to set the settings, antecedents, consequences you would like to see in the behavior tracker.  You can delete or add data to any grey box."]
[]
[null,null,"Setting","Classroom Activity","Antecedents","Consequence","Yes"]
[null,null,"Classroom","Teacher talking, class listening","Transition to a new task","Ignored"]
[null,null,"Intake","Independent work without manipulatives","Interaction with peers","Verbal warning"]
[null,null,"Dismissal","Work with peers","Redirection from adult","Public Clip Move"]
[null,null,"Transition","Independent work with manipulatives","Given independent work","Sent out of class"]
[null,null,"Lunch","Large group instruction (20-30 students)","Lack of Peer attention","Peer laughter"]
[null,null,"Recess","Medium group instruction (10 - 19 students","Lack of Adult attention","Short time out or break"]
[null,null,"Special","Small group instruction (Less than 10 students)","Given difficult assignment","Seat moved"]
[null,null,"Reading Class",null,null,"Private Clip Move"]
[null,null,null,null,null,"Administrator Conference"]

{"sheet":"SetData","index":5,"n_rows":19,"n_cols":5,"rows_kept":19,"cut":false,"hidden":true,"merged":[]}
["Antecedent",{"$f":"'Behavior Log'!D11","v":"refusal to follow directions "},{"$f":"'Behavior Log'!D12","v":"disengage from classroom activities "},{"$f":"'Behavior Log'!D13","v":"non-compliance  (verbal)"}]
[{"$f":"IF(Settings!$C6=0,1,Settings!$C6)","v":"Classroom"},{"$f":"IFERROR(IF($A2=1,\"N/A\",COUNTIFS(Data!$B:$B,B$1,Data!$P:$P,$A2)/COUNTIF(Data!$B:$B,B$1)),0)","v":0},{"$f":"IFERROR(IF($A2=1,\"N/A\",COUNTIFS(Data!$B:$B,C$1,Data!$P:$P,$A2)/COUNTIF(Data!$B:$B,C$1)),0)","v":0},{"$f":"IFERROR(IF($A2=1,\"N/A\",COUNTIFS(Data!$B:$B,D$1,Data!$P:$P,$A2)/COUNTIF(Data!$B:$B,D$1)),0)","v":0},{"$f":"IF(A2<>1,1,0)","v":1}]
[{"$f":"IF(Settings!$C7=0,1,Settings!$C7)","v":"Intake"},{"$f":"IFERROR(IF($A3=1,\"N/A\",COUNTIFS(Data!$B:$B,B$1,Data!$P:$P,$A3)/COUNTIF(Data!$B:$B,B$1)),0)","v":0},{"$f":"IFERROR(IF($A3=1,\"N/A\",COUNTIFS(Data!$B:$B,C$1,Data!$P:$P,$A3)/COUNTIF(Data!$B:$B,C$1)),0)","v":0},{"$f":"IFERROR(IF($A3=1,\"N/A\",COUNTIFS(Data!$B:$B,D$1,Data!$P:$P,$A3)/COUNTIF(Data!$B:$B,D$1)),0)","v":0},{"$f":"IF(A3<>1,1,0)","v":1}]
[{"$f":"IF(Settings!$C8=0,1,Settings!$C8)","v":"Dismissal"},{"$f":"IFERROR(IF($A4=1,\"N/A\",COUNTIFS(Data!$B:$B,B$1,Data!$P:$P,$A4)/COUNTIF(Data!$B:$B,B$1)),0)","v":0},{"$f":"IFERROR(IF($A4=1,\"N/A\",COUNTIFS(Data!$B:$B,C$1,Data!$P:$P,$A4)/COUNTIF(Data!$B:$B,C$1)),0)","v":0},{"$f":"IFERROR(IF($A4=1,\"N/A\",COUNTIFS(Data!$B:$B,D$1,Data!$P:$P,$A4)/COUNTIF(Data!$B:$B,D$1)),0)","v":0},1]
[{"$f":"IF(Settings!$C9=0,1,Settings!$C9)","v":"Transition"},{"$f":"IFERROR(IF($A5=1,\"N/A\",COUNTIFS(Data!$B:$B,B$1,Data!$P:$P,$A5)/COUNTIF(Data!$B:$B,B$1)),0)","v":0},{"$f":"IFERROR(IF($A5=1,\"N/A\",COUNTIFS(Data!$B:$B,C$1,Data!$P:$P,$A5)/COUNTIF(Data!$B:$B,C$1)),0)","v":0},{"$f":"IFERROR(IF($A5=1,\"N/A\",COUNTIFS(Data!$B:$B,D$1,Data!$P:$P,$A5)/COUNTIF(Data!$B:$B,D$1)),0)","v":0},1]
[{"$f":"IF(Settings!$C10=0,1,Settings!$C10)","v":"Lunch"},{"$f":"IFERROR(IF($A6=1,\"N/A\",COUNTIFS(Data!$B:$B,B$1,Data!$P:$P,$A6)/COUNTIF(Data!$B:$B,B$1)),0)","v":0},{"$f":"IFERROR(IF($A6=1,\"N/A\",COUNTIFS(Data!$B:$B,C$1,Data!$P:$P,$A6)/COUNTIF(Data!$B:$B,C$1)),0)","v":0},{"$f":"IFERROR(IF($A6=1,\"N/A\",COUNTIFS(Data!$B:$B,D$1,Data!$P:$P,$A6)/COUNTIF(Data!$B:$B,D$1)),0)","v":0},1]
[{"$f":"IF(Settings!$C11=0,1,Settings!$C11)","v":"Recess"},{"$f":"IFERROR(IF($A7=1,\"N/A\",COUNTIFS(Data!$B:$B,B$1,Data!$P:$P,$A7)/COUNTIF(Data!$B:$B,B$1)),0)","v":0},{"$f":"IFERROR(IF($A7=1,\"N/A\",COUNTIFS(Data!$B:$B,C$1,Data!$P:$P,$A7)/COUNTIF(Data!$B:$B,C$1)),0)","v":0},{"$f":"IFERROR(IF($A7=1,\"N/A\",COUNTIFS(Data!$B:$B,D$1,Data!$P:$P,$A7)/COUNTIF(Data!$B:$B,D$1)),0)","v":0},1]
[{"$f":"IF(Settings!$C12=0,1,Settings!$C12)","v":"Special"},{"$f":"IFERROR(IF($A8=1,\"N/A\",COUNTIFS(Data!$B:$B,B$1,Data!$P:$P,$A8)/COUNTIF(Data!$B:$B,B$1)),0)","v":0},{"$f":"IFERROR(IF($A8=1,\"N/A\",COUNTIFS(Data!$B:$B,C$1,Data!$P:$P,$A8)/COUNTIF(Data!$B:$B,C$1)),0)","v":0},{"$f":"IFERROR(IF($A8=1,\"N/A\",COUNTIFS(Data!$B:$B,D$1,Data!$P:$P,$A8)/COUNTIF(Data!$B:$B,D$1)),0)","v":0},1]
[{"$f":"IF(Settings!$C13=0,1,Settings!$C13)","v":"Reading Class"},{"$f":"IFERROR(IF($A9=1,\"N/A\",COUNTIFS(Data!$B:$B,B$1,Data!$P:$P,$A9)/COUNTIF(Data!$B:$B,B$1)),0)","v":0},{"$f":"IFERROR(IF($A9=1,\"N/A\",COUNTIFS(Data!$B:$B,C$1,Data!$P:$P,$A9)/COUNTIF(Data!$B:$B,C$1)),0)","v":0},{"$f":"IFERROR(IF($A9=1,\"N/A\",COUNTIFS(Data!$B:$B,D$1,Data!$P:$P,$A9)/COUNTIF(Data!$B:$B,D$1)),0)","v":0},1]
[{"$f":"IF(Settings!$C14=0,1,Settings!$C14)","v":1},{"$f":"IFERROR(IF($A10=1,\"N/A\",COUNTIFS(Data!$C:$C,B$1,Data!$A:$A,$A10)/COUNTIF(Data!$C:$C,B$1)),0)","v":"N/A"},{"$f":"IFERROR(IF($A10=1,\"N/A\",COUNTIFS(Data!$C:$C,C$1,Data!$A:$A,$A10)/COUNTIF(Data!$C:$C,C$1)),0)","v":"N/A"},{"$f":"IFERROR(IF($A10=1,\"N/A\",COUNTIFS(Data!$C:$C,D$1,Data!$A:$A,$A10)/COUNTIF(Data!$C:$C,D$1)),0)","v":"N/A"},0]
[{"$f":"IF(Settings!$C15=0,1,Settings!$C15)","v":1},{"$f":"IFERROR(IF($A11=1,\"N/A\",COUNTIFS(Data!$C:$C,B$1,Data!$A:$A,$A11)/COUNTIF(Data!$C:$C,B$1)),0)","v":"N/A"},{"$f":"IFERROR(IF($A11=1,\"N/A\",COUNTIFS(Data!$C:$C,C$1,Data!$A:$A,$A11)/COUNTIF(Data!$C:$C,C$1)),0)","v":"N/A"},{"$f":"IFERROR(IF($A11=1,\"N/A\",COUNTIFS(Data!$C:$C,D$1,Data!$A:$A,$A11)/COUNTIF(Data!$C:$C,D$1)),0)","v":"N/A"},0]
[{"$f":"IF(Settings!$C16=0,1,Settings!$C16)","v":1},{"$f":"IFERROR(IF($A12=1,\"N/A\",COUNTIFS(Data!$C:$C,B$1,Data!$A:$A,$A12)/COUNTIF(Data!$C:$C,B$1)),0)","v":"N/A"},{"$f":"IFERROR(IF($A12=1,\"N/A\",COUNTIFS(Data!$C:$C,C$1,Data!$A:$A,$A12)/COUNTIF(Data!$C:$C,C$1)),0)","v":"N/A"},{"$f":"IFERROR(IF($A12=1,\"N/A\",COUNTIFS(Data!$C:$C,D$1,Data!$A:$A,$A12)/COUNTIF(Data!$C:$C,D$1)),0)","v":"N/A"},0]
[{"$f":"IF(Settings!$C17=0,1,Settings!$C17)","v":1},{"$f":"IFERROR(IF($A13=1,\"N/A\",COUNTIFS(Data!$C:$C,B$1,Data!$A:$A,$A13)/COUNTIF(Data!$C:$C,B$1)),0)","v":"N/A"},{"$f":"IFERROR(IF($A13=1,\"N/A\",COUNTIFS(Data!$C:$C,C$1,Data!$A:$A,$A13)/COUNTIF(Data!$C:$C,C$1)),0)","v":"N/A"},{"$f":"IFERROR(IF($A13=1,\"N/A\",COUNTIFS(Data!$C:$C,D$1,Data!$A:$A,$A13)/COUNTIF(Data!$C:$C,D$1)),0)","v":"N/A"},0]
[{"$f":"IF(Settings!$C18=0,1,Settings!$C18)","v":1},{"$f":"IFERROR(IF($A14=1,\"N/A\",COUNTIFS(Data!$C:$C,B$1,Data!$A:$A,$A14)/COUNTIF(Data!$C:$C,B$1)),0)","v":"N/A"},{"$f":"IFERROR(IF($A14=1,\"N/A\",COUNTIFS(Data!$C:$C,C$1,Data!$A:$A,$A14)/COUNTIF(Data!$C:$C,C$1)),0)","v":"N/A"},{"$f":"IFERROR(IF($A14=1,\"N/A\",COUNTIFS(Data!$C:$C,D$1,Data!$A:$A,$A14)/COUNTIF(Data!$C:$C,D$1)),0)","v":"N/A"},0]
[{"$f":"IF(Settings!$C19=0,1,Settings!$C19)","v":1},{"$f":"IFERROR(IF($A15=1,\"N/A\",COUNTIFS(Data!$C:$C,B$1,Data!$A:$A,$A15)/COUNTIF(Data!$C:$C,B$1)),0)","v":"N/A"},{"$f":"IFERROR(IF($A15=1,\"N/A\",COUNTIFS(Data!$C:$C,C$1,Data!$A:$A,$A15)/COUNTIF(Data!$C:$C,C$1)),0)","v":"N/A"},{"$f":"IFERROR(IF($A15=1,\"N/A\",COUNTIFS(Data!$C:$C,D$1,Data!$A:$A,$A15)/COUNTIF(Data!$C:$C,D$1)),0)","v":"N/A"},0]
[{"$f":"IF(Settings!$C20=0,1,Settings!$C20)","v":1},{"$f":"IFERROR(IF($A16=1,\"N/A\",COUNTIFS(Data!$C:$C,B$1,Data!$A:$A,$A16)/COUNTIF(Data!$C:$C,B$1)),0)","v":"N/A"},{"$f":"IFERROR(IF($A16=1,\"N/A\",COUNTIFS(Data!$C:$C,C$1,Data!$A:$A,$A16)/COUNTIF(Data!$C:$C,C$1)),0)","v":"N/A"},{"$f":"IFERROR(IF($A16=1,\"N/A\",COUNTIFS(Data!$C:$C,D$1,Data!$A:$A,$A16)/COUNTIF(Data!$C:$C,D$1)),0)","v":"N/A"},0]
[{"$f":"IF(Settings!$C21=0,1,Settings!$C21)","v":1},{"$f":"IFERROR(IF($A17=1,\"N/A\",COUNTIFS(Data!$C:$C,B$1,Data!$A:$A,$A17)/COUNTIF(Data!$C:$C,B$1)),0)","v":"N/A"},{"$f":"IFERROR(IF($A17=1,\"N/A\",COUNTIFS(Data!$C:$C,C$1,Data!$A:$A,$A17)/COUNTIF(Data!$C:$C,C$1)),0)","v":"N/A"},{"$f":"IFERROR(IF($A17=1,\"N/A\",COUNTIFS(Data!$C:$C,D$1,Data!$A:$A,$A17)/COUNTIF(Data!$C:$C,D$1)),0)","v":"N/A"},0]
[{"$f":"IF(Settings!$C22=0,1,Settings!$C22)","v":1},{"$f":"IFERROR(IF($A18=1,\"N/A\",COUNTIFS(Data!$C:$C,B$1,Data!$A:$A,$A18)/COUNTIF(Data!$C:$C,B$1)),0)","v":"N/A"},{"$f":"IFERROR(IF($A18=1,\"N/A\",COUNTIFS(Data!$C:$C,C$1,Data!$A:$A,$A18)/COUNTIF(Data!$C:$C,C$1)),0)","v":"N/A"},{"$f":"IFERROR(IF($A18=1,\"N/A\",COUNTIFS(Data!$C:$C,D$1,Data!$A:$A,$A18)/COUNTIF(Data!$C:$C,D$1)),0)","v":"N/A"},0]
[{"$f":"IF(Settings!$C23=0,1,Settings!$C23)","v":1},{"$f":"IFERROR(IF($A19=1,\"N/A\",COUNTIFS(Data!$C:$C,B$1,Data!$A:$A,$A19)/COUNTIF(Data!$C:$C,B$1)),0)","v":"N/A"},{"$f":"IFERROR(IF($A19=1,\"N/A\",COUNTIFS(Data!$C:$C,C$1,Data!$A:$A,$A19)/COUNTIF(Data!$C:$C,C$1)),0)","v":"N/A"},{"$f":"IFERROR(IF($A19=1,\"N/A\",COUNTIFS(Data!$C:$C,D$1,Data!$A:$A,$A19)/COUNTIF(Data!$C:$C,D$1)),0)","v":"N/A"},0]

{"sheet":"ClassActData","index":6,"n_rows":19,"n_cols":5,"rows_kept":19,"cut":false,"hidden":true,"merged":[]}
["Antecedent",{"$f":"'Behavior Log'!D11","v":"refusal to follow directions "},{"$f":"'Behavior Log'!D12","v":"disengage from classroom activities "},{"$f":"'Behavior Log'!D13","v":"non-compliance  (verbal)"}]
[{"$f":"IF(Settings!$D6=0,1,Settings!$D6)","v":"Teacher talking, class listening"},{"$f":"IFERROR(IF($A2=1,\"N/A\",COUNTIFS(Data!$B:$B,B$1,Data!$C:$C,$A2)/COUNTIF(Data!$B:$B,B$1)),0)","v":0},{"$f":"IFERROR(IF($A2=1,\"N/A\",COUNTIFS(Data!$B:$B,C$1,Data!$C:$C,$A2)/COUNTIF(Data!$B:$B,C$1)),0)","v":0},{"$f":"IFERROR(IF($A2=1,\"N/A\",COUNTIFS(Data!$B:$B,D$1,Data!$C:$C,$A2)/COUNTIF(Data!$B:$B,D$1)),0)","v":0},{"$f":"IF(A2<>1,1,0)","v":1}]
[{"$f":"IF(Settings!$D7=0,1,Settings!$D7)","v":"Independent work without manipulatives"},{"$f":"IFERROR(IF($A3=1,\"N/A\",COUNTIFS(Data!$B:$B,B$1,Data!$C:$C,$A3)/COUNTIF(Data!$B:$B,B$1)),0)","v":0},{"$f":"IFERROR(IF($A3=1,\"N/A\",COUNTIFS(Data!$B:$B,C$1,Data!$C:$C,$A3)/COUNTIF(Data!$B:$B,C$1)),0)","v":0},{"$f":"IFERROR(IF($A3=1,\"N/A\",COUNTIFS(Data!$B:$B,D$1,Data!$C:$C,$A3)/COUNTIF(Data!$B:$B,D$1)),0)","v":0},{"$f":"IF(A3<>1,1,0)","v":1}]
[{"$f":"IF(Settings!$D8=0,1,Settings!$D8)","v":"Work with peers"},{"$f":"IFERROR(IF($A4=1,\"N/A\",COUNTIFS(Data!$B:$B,B$1,Data!$C:$C,$A4)/COUNTIF(Data!$B:$B,B$1)),0)","v":0},{"$f":"IFERROR(IF($A4=1,\"N/A\",COUNTIFS(Data!$B:$B,C$1,Data!$C:$C,$A4)/COUNTIF(Data!$B:$B,C$1)),0)","v":0},{"$f":"IFERROR(IF($A4=1,\"N/A\",COUNTIFS(Data!$B:$B,D$1,Data!$C:$C,$A4)/COUNTIF(Data!$B:$B,D$1)),0)","v":0},1]
[{"$f":"IF(Settings!$D9=0,1,Settings!$D9)","v":"Independent work with manipulatives"},{"$f":"IFERROR(IF($A5=1,\"N/A\",COUNTIFS(Data!$B:$B,B$1,Data!$C:$C,$A5)/COUNTIF(Data!$B:$B,B$1)),0)","v":0},{"$f":"IFERROR(IF($A5=1,\"N/A\",COUNTIFS(Data!$B:$B,C$1,Data!$C:$C,$A5)/COUNTIF(Data!$B:$B,C$1)),0)","v":0},{"$f":"IFERROR(IF($A5=1,\"N/A\",COUNTIFS(Data!$B:$B,D$1,Data!$C:$C,$A5)/COUNTIF(Data!$B:$B,D$1)),0)","v":0},1]
[{"$f":"IF(Settings!$D10=0,1,Settings!$D10)","v":"Large group instruction (20-30 students)"},{"$f":"IFERROR(IF($A6=1,\"N/A\",COUNTIFS(Data!$B:$B,B$1,Data!$C:$C,$A6)/COUNTIF(Data!$B:$B,B$1)),0)","v":0},{"$f":"IFERROR(IF($A6=1,\"N/A\",COUNTIFS(Data!$B:$B,C$1,Data!$C:$C,$A6)/COUNTIF(Data!$B:$B,C$1)),0)","v":0},{"$f":"IFERROR(IF($A6=1,\"N/A\",COUNTIFS(Data!$B:$B,D$1,Data!$C:$C,$A6)/COUNTIF(Data!$B:$B,D$1)),0)","v":0},1]
[{"$f":"IF(Settings!$D11=0,1,Settings!$D11)","v":"Medium group instruction (10 - 19 students"},{"$f":"IFERROR(IF($A7=1,\"N/A\",COUNTIFS(Data!$B:$B,B$1,Data!$C:$C,$A7)/COUNTIF(Data!$B:$B,B$1)),0)","v":0},{"$f":"IFERROR(IF($A7=1,\"N/A\",COUNTIFS(Data!$B:$B,C$1,Data!$C:$C,$A7)/COUNTIF(Data!$B:$B,C$1)),0)","v":0},{"$f":"IFERROR(IF($A7=1,\"N/A\",COUNTIFS(Data!$B:$B,D$1,Data!$C:$C,$A7)/COUNTIF(Data!$B:$B,D$1)),0)","v":0},1]
[{"$f":"IF(Settings!$D12=0,1,Settings!$D12)","v":"Small group instruction (Less than 10 students)"},{"$f":"IFERROR(IF($A8=1,\"N/A\",COUNTIFS(Data!$B:$B,B$1,Data!$C:$C,$A8)/COUNTIF(Data!$B:$B,B$1)),0)","v":0},{"$f":"IFERROR(IF($A8=1,\"N/A\",COUNTIFS(Data!$B:$B,C$1,Data!$C:$C,$A8)/COUNTIF(Data!$B:$B,C$1)),0)","v":0},{"$f":"IFERROR(IF($A8=1,\"N/A\",COUNTIFS(Data!$B:$B,D$1,Data!$C:$C,$A8)/COUNTIF(Data!$B:$B,D$1)),0)","v":0},1]
[{"$f":"IF(Settings!$D13=0,1,Settings!$D13)","v":1},{"$f":"IFERROR(IF($A9=1,\"N/A\",COUNTIFS(Data!$C:$C,B$1,Data!$D:$D,$A9)/COUNTIF(Data!$C:$C,B$1)),0)","v":"N/A"},{"$f":"IFERROR(IF($A9=1,\"N/A\",COUNTIFS(Data!$C:$C,C$1,Data!$D:$D,$A9)/COUNTIF(Data!$C:$C,C$1)),0)","v":"N/A"},{"$f":"IFERROR(IF($A9=1,\"N/A\",COUNTIFS(Data!$C:$C,D$1,Data!$D:$D,$A9)/COUNTIF(Data!$C:$C,D$1)),0)","v":"N/A"},{"$f":"IF(A9<>1,1,0)","v":0}]
[{"$f":"IF(Settings!$D14=0,1,Settings!$D14)","v":1},{"$f":"IFERROR(IF($A10=1,\"N/A\",COUNTIFS(Data!$C:$C,B$1,Data!$D:$D,$A10)/COUNTIF(Data!$C:$C,B$1)),0)","v":"N/A"},{"$f":"IFERROR(IF($A10=1,\"N/A\",COUNTIFS(Data!$C:$C,C$1,Data!$D:$D,$A10)/COUNTIF(Data!$C:$C,C$1)),0)","v":"N/A"},{"$f":"IFERROR(IF($A10=1,\"N/A\",COUNTIFS(Data!$C:$C,D$1,Data!$D:$D,$A10)/COUNTIF(Data!$C:$C,D$1)),0)","v":"N/A"},0]
[{"$f":"IF(Settings!$D15=0,1,Settings!$D15)","v":1},{"$f":"IFERROR(IF($A11=1,\"N/A\",COUNTIFS(Data!$C:$C,B$1,Data!$D:$D,$A11)/COUNTIF(Data!$C:$C,B$1)),0)","v":"N/A"},{"$f":"IFERROR(IF($A11=1,\"N/A\",COUNTIFS(Data!$C:$C,C$1,Data!$D:$D,$A11)/COUNTIF(Data!$C:$C,C$1)),0)","v":"N/A"},{"$f":"IFERROR(IF($A11=1,\"N/A\",COUNTIFS(Data!$C:$C,D$1,Data!$D:$D,$A11)/COUNTIF(Data!$C:$C,D$1)),0)","v":"N/A"},0]
[{"$f":"IF(Settings!$D16=0,1,Settings!$D16)","v":1},{"$f":"IFERROR(IF($A12=1,\"N/A\",COUNTIFS(Data!$C:$C,B$1,Data!$D:$D,$A12)/COUNTIF(Data!$C:$C,B$1)),0)","v":"N/A"},{"$f":"IFERROR(IF($A12=1,\"N/A\",COUNTIFS(Data!$C:$C,C$1,Data!$D:$D,$A12)/COUNTIF(Data!$C:$C,C$1)),0)","v":"N/A"},{"$f":"IFERROR(IF($A12=1,\"N/A\",COUNTIFS(Data!$C:$C,D$1,Data!$D:$D,$A12)/COUNTIF(Data!$C:$C,D$1)),0)","v":"N/A"},0]
[{"$f":"IF(Settings!$D17=0,1,Settings!$D17)","v":1},{"$f":"IFERROR(IF($A13=1,\"N/A\",COUNTIFS(Data!$C:$C,B$1,Data!$D:$D,$A13)/COUNTIF(Data!$C:$C,B$1)),0)","v":"N/A"},{"$f":"IFERROR(IF($A13=1,\"N/A\",COUNTIFS(Data!$C:$C,C$1,Data!$D:$D,$A13)/COUNTIF(Data!$C:$C,C$1)),0)","v":"N/A"},{"$f":"IFERROR(IF($A13=1,\"N/A\",COUNTIFS(Data!$C:$C,D$1,Data!$D:$D,$A13)/COUNTIF(Data!$C:$C,D$1)),0)","v":"N/A"},0]
[{"$f":"IF(Settings!$D18=0,1,Settings!$D18)","v":1},{"$f":"IFERROR(IF($A14=1,\"N/A\",COUNTIFS(Data!$C:$C,B$1,Data!$D:$D,$A14)/COUNTIF(Data!$C:$C,B$1)),0)","v":"N/A"},{"$f":"IFERROR(IF($A14=1,\"N/A\",COUNTIFS(Data!$C:$C,C$1,Data!$D:$D,$A14)/COUNTIF(Data!$C:$C,C$1)),0)","v":"N/A"},{"$f":"IFERROR(IF($A14=1,\"N/A\",COUNTIFS(Data!$C:$C,D$1,Data!$D:$D,$A14)/COUNTIF(Data!$C:$C,D$1)),0)","v":"N/A"},0]
[{"$f":"IF(Settings!$D19=0,1,Settings!$D19)","v":1},{"$f":"IFERROR(IF($A15=1,\"N/A\",COUNTIFS(Data!$C:$C,B$1,Data!$D:$D,$A15)/COUNTIF(Data!$C:$C,B$1)),0)","v":"N/A"},{"$f":"IFERROR(IF($A15=1,\"N/A\",COUNTIFS(Data!$C:$C,C$1,Data!$D:$D,$A15)/COUNTIF(Data!$C:$C,C$1)),0)","v":"N/A"},{"$f":"IFERROR(IF($A15=1,\"N/A\",COUNTIFS(Data!$C:$C,D$1,Data!$D:$D,$A15)/COUNTIF(Data!$C:$C,D$1)),0)","v":"N/A"},0]
[{"$f":"IF(Settings!$D20=0,1,Settings!$D20)","v":1},{"$f":"IFERROR(IF($A16=1,\"N/A\",COUNTIFS(Data!$C:$C,B$1,Data!$D:$D,$A16)/COUNTIF(Data!$C:$C,B$1)),0)","v":"N/A"},{"$f":"IFERROR(IF($A16=1,\"N/A\",COUNTIFS(Data!$C:$C,C$1,Data!$D:$D,$A16)/COUNTIF(Data!$C:$C,C$1)),0)","v":"N/A"},{"$f":"IFERROR(IF($A16=1,\"N/A\",COUNTIFS(Data!$C:$C,D$1,Data!$D:$D,$A16)/COUNTIF(Data!$C:$C,D$1)),0)","v":"N/A"},0]
[{"$f":"IF(Settings!$D21=0,1,Settings!$D21)","v":1},{"$f":"IFERROR(IF($A17=1,\"N/A\",COUNTIFS(Data!$C:$C,B$1,Data!$D:$D,$A17)/COUNTIF(Data!$C:$C,B$1)),0)","v":"N/A"},{"$f":"IFERROR(IF($A17=1,\"N/A\",COUNTIFS(Data!$C:$C,C$1,Data!$D:$D,$A17)/COUNTIF(Data!$C:$C,C$1)),0)","v":"N/A"},{"$f":"IFERROR(IF($A17=1,\"N/A\",COUNTIFS(Data!$C:$C,D$1,Data!$D:$D,$A17)/COUNTIF(Data!$C:$C,D$1)),0)","v":"N/A"},0]
[{"$f":"IF(Settings!$D22=0,1,Settings!$D22)","v":1},{"$f":"IFERROR(IF($A18=1,\"N/A\",COUNTIFS(Data!$C:$C,B$1,Data!$D:$D,$A18)/COUNTIF(Data!$C:$C,B$1)),0)","v":"N/A"},{"$f":"IFERROR(IF($A18=1,\"N/A\",COUNTIFS(Data!$C:$C,C$1,Data!$D:$D,$A18)/COUNTIF(Data!$C:$C,C$1)),0)","v":"N/A"},{"$f":"IFERROR(IF($A18=1,\"N/A\",COUNTIFS(Data!$C:$C,D$1,Data!$D:$D,$A18)/COUNTIF(Data!$C:$C,D$1)),0)","v":"N/A"},0]
[{"$f":"IF(Settings!$D23=0,1,Settings!$D23)","v":1},{"$f":"IFERROR(IF($A19=1,\"N/A\",COUNTIFS(Data!$C:$C,B$1,Data!$D:$D,$A19)/COUNTIF(Data!$C:$C,B$1)),0)","v":"N/A"},{"$f":"IFERROR(IF($A19=1,\"N/A\",COUNTIFS(Data!$C:$C,C$1,Data!$D:$D,$A19)/COUNTIF(Data!$C:$C,C$1)),0)","v":"N/A"},{"$f":"IFERROR(IF($A19=1,\"N/A\",COUNTIFS(Data!$C:$C,D$1,Data!$D:$D,$A19)/COUNTIF(Data!$C:$C,D$1)),0)","v":"N/A"},0]

{"sheet":"ConData","index":7,"n_rows":19,"n_cols":5,"rows_kept":19,"cut":false,"hidden":true,"merged":[]}
["Antecedent",{"$f":"'Behavior Log'!D11","v":"refusal to follow directions "},{"$f":"'Behavior Log'!D12","v":"disengage from classroom activities "},{"$f":"'Behavior Log'!D13","v":"non-compliance  (verbal)"}]
[{"$f":"IF(Settings!$F6=0,1,Settings!$F6)","v":"Ignored"},{"$f":"IFERROR(IF($A2=1,\"N/A\",COUNTIFS(Data!$B:$B,B$1,Data!$D:$D,$A2)/COUNTIF(Data!$B:$B,B$1)),0)","v":0},{"$f":"IFERROR(IF($A2=1,\"N/A\",COUNTIFS(Data!$B:$B,C$1,Data!$D:$D,$A2)/COUNTIF(Data!$B:$B,C$1)),0)","v":0},{"$f":"IFERROR(IF($A2=1,\"N/A\",COUNTIFS(Data!$B:$B,D$1,Data!$D:$D,$A2)/COUNTIF(Data!$B:$B,D$1)),0)","v":0},{"$f":"IF(A2<>1,1,0)","v":1}]
[{"$f":"IF(Settings!$F7=0,1,Settings!$F7)","v":"Verbal warning"},{"$f":"IFERROR(IF($A3=1,\"N/A\",COUNTIFS(Data!$B:$B,B$1,Data!$D:$D,$A3)/COUNTIF(Data!$B:$B,B$1)),0)","v":0},{"$f":"IFERROR(IF($A3=1,\"N/A\",COUNTIFS(Data!$B:$B,C$1,Data!$D:$D,$A3)/COUNTIF(Data!$B:$B,C$1)),0)","v":0},{"$f":"IFERROR(IF($A3=1,\"N/A\",COUNTIFS(Data!$B:$B,D$1,Data!$D:$D,$A3)/COUNTIF(Data!$B:$B,D$1)),0)","v":0},{"$f":"IF(A3<>1,1,0)","v":1}]
[{"$f":"IF(Settings!$F8=0,1,Settings!$F8)","v":"Public Clip Move"},{"$f":"IFERROR(IF($A4=1,\"N/A\",COUNTIFS(Data!$B:$B,B$1,Data!$D:$D,$A4)/COUNTIF(Data!$B:$B,B$1)),0)","v":0},{"$f":"IFERROR(IF($A4=1,\"N/A\",COUNTIFS(Data!$B:$B,C$1,Data!$D:$D,$A4)/COUNTIF(Data!$B:$B,C$1)),0)","v":0},{"$f":"IFERROR(IF($A4=1,\"N/A\",COUNTIFS(Data!$B:$B,D$1,Data!$D:$D,$A4)/COUNTIF(Data!$B:$B,D$1)),0)","v":0},1]
[{"$f":"IF(Settings!$F9=0,1,Settings!$F9)","v":"Sent out of class"},{"$f":"IFERROR(IF($A5=1,\"N/A\",COUNTIFS(Data!$B:$B,B$1,Data!$D:$D,$A5)/COUNTIF(Data!$B:$B,B$1)),0)","v":0},{"$f":"IFERROR(IF($A5=1,\"N/A\",COUNTIFS(Data!$B:$B,C$1,Data!$D:$D,$A5)/COUNTIF(Data!$B:$B,C$1)),0)","v":0},{"$f":"IFERROR(IF($A5=1,\"N/A\",COUNTIFS(Data!$B:$B,D$1,Data!$D:$D,$A5)/COUNTIF(Data!$B:$B,D$1)),0)","v":0},1]
[{"$f":"IF(Settings!$F10=0,1,Settings!$F10)","v":"Peer laughter"},{"$f":"IFERROR(IF($A6=1,\"N/A\",COUNTIFS(Data!$B:$B,B$1,Data!$D:$D,$A6)/COUNTIF(Data!$B:$B,B$1)),0)","v":0},{"$f":"IFERROR(IF($A6=1,\"N/A\",COUNTIFS(Data!$B:$B,C$1,Data!$D:$D,$A6)/COUNTIF(Data!$B:$B,C$1)),0)","v":0},{"$f":"IFERROR(IF($A6=1,\"N/A\",COUNTIFS(Data!$B:$B,D$1,Data!$D:$D,$A6)/COUNTIF(Data!$B:$B,D$1)),0)","v":0},1]
[{"$f":"IF(Settings!$F11=0,1,Settings!$F11)","v":"Short time out or break"},{"$f":"IFERROR(IF($A7=1,\"N/A\",COUNTIFS(Data!$B:$B,B$1,Data!$D:$D,$A7)/COUNTIF(Data!$B:$B,B$1)),0)","v":0},{"$f":"IFERROR(IF($A7=1,\"N/A\",COUNTIFS(Data!$B:$B,C$1,Data!$D:$D,$A7)/COUNTIF(Data!$B:$B,C$1)),0)","v":0},{"$f":"IFERROR(IF($A7=1,\"N/A\",COUNTIFS(Data!$B:$B,D$1,Data!$D:$D,$A7)/COUNTIF(Data!$B:$B,D$1)),0)","v":0},1]
[{"$f":"IF(Settings!$F12=0,1,Settings!$F12)","v":"Seat moved"},{"$f":"IFERROR(IF($A8=1,\"N/A\",COUNTIFS(Data!$B:$B,B$1,Data!$D:$D,$A8)/COUNTIF(Data!$B:$B,B$1)),0)","v":0},{"$f":"IFERROR(IF($A8=1,\"N/A\",COUNTIFS(Data!$B:$B,C$1,Data!$D:$D,$A8)/COUNTIF(Data!$B:$B,C$1)),0)","v":0},{"$f":"IFERROR(IF($A8=1,\"N/A\",COUNTIFS(Data!$B:$B,D$1,Data!$D:$D,$A8)/COUNTIF(Data!$B:$B,D$1)),0)","v":0},1]
[{"$f":"IF(Settings!$F13=0,1,Settings!$F13)","v":"Private Clip Move"},{"$f":"IFERROR(IF($A9=1,\"N/A\",COUNTIFS(Data!$B:$B,B$1,Data!$D:$D,$A9)/COUNTIF(Data!$B:$B,B$1)),0)","v":0},{"$f":"IFERROR(IF($A9=1,\"N/A\",COUNTIFS(Data!$B:$B,C$1,Data!$D:$D,$A9)/COUNTIF(Data!$B:$B,C$1)),0)","v":0},{"$f":"IFERROR(IF($A9=1,\"N/A\",COUNTIFS(Data!$B:$B,D$1,Data!$D:$D,$A9)/COUNTIF(Data!$B:$B,D$1)),0)","v":0},1]
[{"$f":"IF(Settings!$F14=0,1,Settings!$F14)","v":"Administrator Conference"},{"$f":"IFERROR(IF($A10=1,\"N/A\",COUNTIFS(Data!$B:$B,B$1,Data!$D:$D,$A10)/COUNTIF(Data!$B:$B,B$1)),0)","v":0},{"$f":"IFERROR(IF($A10=1,\"N/A\",COUNTIFS(Data!$B:$B,C$1,Data!$D:$D,$A10)/COUNTIF(Data!$B:$B,C$1)),0)","v":0},{"$f":"IFERROR(IF($A10=1,\"N/A\",COUNTIFS(Data!$B:$B,D$1,Data!$D:$D,$A10)/COUNTIF(Data!$B:$B,D$1)),0)","v":0},1]
[{"$f":"IF(Settings!$F15=0,1,Settings!$F15)","v":1},{"$f":"IFERROR(IF($A11=1,\"N/A\",COUNTIFS(Data!$B:$B,B$1,Data!$D:$D,$A11)/COUNTIF(Data!$B:$B,B$1)),0)","v":"N/A"},{"$f":"IFERROR(IF($A11=1,\"N/A\",COUNTIFS(Data!$B:$B,C$1,Data!$D:$D,$A11)/COUNTIF(Data!$B:$B,C$1)),0)","v":"N/A"},{"$f":"IFERROR(IF($A11=1,\"N/A\",COUNTIFS(Data!$B:$B,D$1,Data!$D:$D,$A11)/COUNTIF(Data!$B:$B,D$1)),0)","v":"N/A"},0]
[{"$f":"IF(Settings!$E16=0,1,Settings!$E16)","v":1},{"$f":"IFERROR(IF($A12=1,\"N/A\",COUNTIFS(Data!$C:$C,B$1,Data!$E:$E,$A12)/COUNTIF(Data!$C:$C,B$1)),0)","v":"N/A"},{"$f":"IFERROR(IF($A12=1,\"N/A\",COUNTIFS(Data!$C:$C,C$1,Data!$E:$E,$A12)/COUNTIF(Data!$C:$C,C$1)),0)","v":"N/A"},{"$f":"IFERROR(IF($A12=1,\"N/A\",COUNTIFS(Data!$C:$C,D$1,Data!$E:$E,$A12)/COUNTIF(Data!$C:$C,D$1)),0)","v":"N/A"},0]
[{"$f":"IF(Settings!$E17=0,1,Settings!$E17)","v":1},{"$f":"IFERROR(IF($A13=1,\"N/A\",COUNTIFS(Data!$C:$C,B$1,Data!$E:$E,$A13)/COUNTIF(Data!$C:$C,B$1)),0)","v":"N/A"},{"$f":"IFERROR(IF($A13=1,\"N/A\",COUNTIFS(Data!$C:$C,C$1,Data!$E:$E,$A13)/COUNTIF(Data!$C:$C,C$1)),0)","v":"N/A"},{"$f":"IFERROR(IF($A13=1,\"N/A\",COUNTIFS(Data!$C:$C,D$1,Data!$E:$E,$A13)/COUNTIF(Data!$C:$C,D$1)),0)","v":"N/A"},0]
[{"$f":"IF(Settings!$E18=0,1,Settings!$E18)","v":1},{"$f":"IFERROR(IF($A14=1,\"N/A\",COUNTIFS(Data!$C:$C,B$1,Data!$E:$E,$A14)/COUNTIF(Data!$C:$C,B$1)),0)","v":"N/A"},{"$f":"IFERROR(IF($A14=1,\"N/A\",COUNTIFS(Data!$C:$C,C$1,Data!$E:$E,$A14)/COUNTIF(Data!$C:$C,C$1)),0)","v":"N/A"},{"$f":"IFERROR(IF($A14=1,\"N/A\",COUNTIFS(Data!$C:$C,D$1,Data!$E:$E,$A14)/COUNTIF(Data!$C:$C,D$1)),0)","v":"N/A"},0]
[{"$f":"IF(Settings!$E19=0,1,Settings!$E19)","v":1},{"$f":"IFERROR(IF($A15=1,\"N/A\",COUNTIFS(Data!$C:$C,B$1,Data!$E:$E,$A15)/COUNTIF(Data!$C:$C,B$1)),0)","v":"N/A"},{"$f":"IFERROR(IF($A15=1,\"N/A\",COUNTIFS(Data!$C:$C,C$1,Data!$E:$E,$A15)/COUNTIF(Data!$C:$C,C$1)),0)","v":"N/A"},{"$f":"IFERROR(IF($A15=1,\"N/A\",COUNTIFS(Data!$C:$C,D$1,Data!$E:$E,$A15)/COUNTIF(Data!$C:$C,D$1)),0)","v":"N/A"},0]
[{"$f":"IF(Settings!$E20=0,1,Settings!$E20)","v":1},{"$f":"IFERROR(IF($A16=1,\"N/A\",COUNTIFS(Data!$C:$C,B$1,Data!$E:$E,$A16)/COUNTIF(Data!$C:$C,B$1)),0)","v":"N/A"},{"$f":"IFERROR(IF($A16=1,\"N/A\",COUNTIFS(Data!$C:$C,C$1,Data!$E:$E,$A16)/COUNTIF(Data!$C:$C,C$1)),0)","v":"N/A"},{"$f":"IFERROR(IF($A16=1,\"N/A\",COUNTIFS(Data!$C:$C,D$1,Data!$E:$E,$A16)/COUNTIF(Data!$C:$C,D$1)),0)","v":"N/A"},0]
[{"$f":"IF(Settings!$E21=0,1,Settings!$E21)","v":1},{"$f":"IFERROR(IF($A17=1,\"N/A\",COUNTIFS(Data!$C:$C,B$1,Data!$E:$E,$A17)/COUNTIF(Data!$C:$C,B$1)),0)","v":"N/A"},{"$f":"IFERROR(IF($A17=1,\"N/A\",COUNTIFS(Data!$C:$C,C$1,Data!$E:$E,$A17)/COUNTIF(Data!$C:$C,C$1)),0)","v":"N/A"},{"$f":"IFERROR(IF($A17=1,\"N/A\",COUNTIFS(Data!$C:$C,D$1,Data!$E:$E,$A17)/COUNTIF(Data!$C:$C,D$1)),0)","v":"N/A"},0]
[{"$f":"IF(Settings!$E22=0,1,Settings!$E22)","v":1},{"$f":"IFERROR(IF($A18=1,\"N/A\",COUNTIFS(Data!$C:$C,B$1,Data!$E:$E,$A18)/COUNTIF(Data!$C:$C,B$1)),0)","v":"N/A"},{"$f":"IFERROR(IF($A18=1,\"N/A\",COUNTIFS(Data!$C:$C,C$1,Data!$E:$E,$A18)/COUNTIF(Data!$C:$C,C$1)),0)","v":"N/A"},{"$f":"IFERROR(IF($A18=1,\"N/A\",COUNTIFS(Data!$C:$C,D$1,Data!$E:$E,$A18)/COUNTIF(Data!$C:$C,D$1)),0)","v":"N/A"},0]
[{"$f":"IF(Settings!$E23=0,1,Settings!$E23)","v":1},{"$f":"IFERROR(IF($A19=1,\"N/A\",COUNTIFS(Data!$C:$C,B$1,Data!$E:$E,$A19)/COUNTIF(Data!$C:$C,B$1)),0)","v":"N/A"},{"$f":"IFERROR(IF($A19=1,\"N/A\",COUNTIFS(Data!$C:$C,C$1,Data!$E:$E,$A19)/COUNTIF(Data!$C:$C,C$1)),0)","v":"N/A"},{"$f":"IFERROR(IF($A19=1,\"N/A\",COUNTIFS(Data!$C:$C,D$1,Data!$E:$E,$A19)/COUNTIF(Data!$C:$C,D$1)),0)","v":"N/A"},0]

{"sheet":"AntData","index":8,"n_rows":19,"n_cols":5,"rows_kept":19,"cut":false,"hidden":true,"merged":[]}
["Antecedent",{"$f":"'Behavior Log'!D11","v":"refusal to follow directions "},{"$f":"'Behavior Log'!D12","v":"disengage from classroom activities "},{"$f":"'Behavior Log'!D13","v":"non-compliance  (verbal)"}]
[{"$f":"IF(Settings!$E6=0,1,Settings!$E6)","v":"Transition to a new task"},{"$f":"IFERROR(IF($A2=1,\"N/A\",COUNTIFS(Data!$B:$B,B$1,Data!$I:$I,$A2)/COUNTIF(Data!$B:$B,B$1)),0)","v":0},{"$f":"IFERROR(IF($A2=1,\"N/A\",COUNTIFS(Data!$B:$B,C$1,Data!$I:$I,$A2)/COUNTIF(Data!$B:$B,C$1)),0)","v":0},{"$f":"IFERROR(IF($A2=1,\"N/A\",COUNTIFS(Data!$B:$B,D$1,Data!$I:$I,$A2)/COUNTIF(Data!$B:$B,D$1)),0)","v":0},{"$f":"IF(A2<>1,1,0)","v":1}]
[{"$f":"IF(Settings!$E7=0,1,Settings!$E7)","v":"Interaction with peers"},{"$f":"IFERROR(IF($A3=1,\"N/A\",COUNTIFS(Data!$B:$B,B$1,Data!$I:$I,$A3)/COUNTIF(Data!$B:$B,B$1)),0)","v":0},{"$f":"IFERROR(IF($A3=1,\"N/A\",COUNTIFS(Data!$B:$B,C$1,Data!$I:$I,$A3)/COUNTIF(Data!$B:$B,C$1)),0)","v":0},{"$f":"IFERROR(IF($A3=1,\"N/A\",COUNTIFS(Data!$B:$B,D$1,Data!$I:$I,$A3)/COUNTIF(Data!$B:$B,D$1)),0)","v":0},{"$f":"IF(A3<>1,1,0)","v":1}]
[{"$f":"IF(Settings!$E8=0,1,Settings!$E8)","v":"Redirection from adult"},{"$f":"IFERROR(IF($A4=1,\"N/A\",COUNTIFS(Data!$B:$B,B$1,Data!$I:$I,$A4)/COUNTIF(Data!$B:$B,B$1)),0)","v":0},{"$f":"IFERROR(IF($A4=1,\"N/A\",COUNTIFS(Data!$B:$B,C$1,Data!$I:$I,$A4)/COUNTIF(Data!$B:$B,C$1)),0)","v":0},{"$f":"IFERROR(IF($A4=1,\"N/A\",COUNTIFS(Data!$B:$B,D$1,Data!$I:$I,$A4)/COUNTIF(Data!$B:$B,D$1)),0)","v":0},1]
[{"$f":"IF(Settings!$E9=0,1,Settings!$E9)","v":"Given independent work"},{"$f":"IFERROR(IF($A5=1,\"N/A\",COUNTIFS(Data!$B:$B,B$1,Data!$I:$I,$A5)/COUNTIF(Data!$B:$B,B$1)),0)","v":0},{"$f":"IFERROR(IF($A5=1,\"N/A\",COUNTIFS(Data!$B:$B,C$1,Data!$I:$I,$A5)/COUNTIF(Data!$B:$B,C$1)),0)","v":0},{"$f":"IFERROR(IF($A5=1,\"N/A\",COUNTIFS(Data!$B:$B,D$1,Data!$I:$I,$A5)/COUNTIF(Data!$B:$B,D$1)),0)","v":0},1]
[{"$f":"IF(Settings!$E10=0,1,Settings!$E10)","v":"Lack of Peer attention"},{"$f":"IFERROR(IF($A6=1,\"N/A\",COUNTIFS(Data!$B:$B,B$1,Data!$I:$I,$A6)/COUNTIF(Data!$B:$B,B$1)),0)","v":0},{"$f":"IFERROR(IF($A6=1,\"N/A\",COUNTIFS(Data!$B:$B,C$1,Data!$I:$I,$A6)/COUNTIF(Data!$B:$B,C$1)),0)","v":0},{"$f":"IFERROR(IF($A6=1,\"N/A\",COUNTIFS(Data!$B:$B,D$1,Data!$I:$I,$A6)/COUNTIF(Data!$B:$B,D$1)),0)","v":0},1]
[{"$f":"IF(Settings!$E11=0,1,Settings!$E11)","v":"Lack of Adult attention"},{"$f":"IFERROR(IF($A7=1,\"N/A\",COUNTIFS(Data!$B:$B,B$1,Data!$I:$I,$A7)/COUNTIF(Data!$B:$B,B$1)),0)","v":0},{"$f":"IFERROR(IF($A7=1,\"N/A\",COUNTIFS(Data!$B:$B,C$1,Data!$I:$I,$A7)/COUNTIF(Data!$B:$B,C$1)),0)","v":0},{"$f":"IFERROR(IF($A7=1,\"N/A\",COUNTIFS(Data!$B:$B,D$1,Data!$I:$I,$A7)/COUNTIF(Data!$B:$B,D$1)),0)","v":0},1]
[{"$f":"IF(Settings!$E12=0,1,Settings!$E12)","v":"Given difficult assignment"},{"$f":"IFERROR(IF($A8=1,\"N/A\",COUNTIFS(Data!$B:$B,B$1,Data!$I:$I,$A8)/COUNTIF(Data!$B:$B,B$1)),0)","v":0},{"$f":"IFERROR(IF($A8=1,\"N/A\",COUNTIFS(Data!$B:$B,C$1,Data!$I:$I,$A8)/COUNTIF(Data!$B:$B,C$1)),0)","v":0},{"$f":"IFERROR(IF($A8=1,\"N/A\",COUNTIFS(Data!$B:$B,D$1,Data!$I:$I,$A8)/COUNTIF(Data!$B:$B,D$1)),0)","v":0},1]
[{"$f":"IF(Settings!$D13=0,1,Settings!$D13)","v":1},{"$f":"IFERROR(IF($A9=1,\"N/A\",COUNTIFS(Data!$C:$C,B$1,Data!$D:$D,$A9)/COUNTIF(Data!$C:$C,B$1)),0)","v":"N/A"},{"$f":"IFERROR(IF($A9=1,\"N/A\",COUNTIFS(Data!$C:$C,C$1,Data!$D:$D,$A9)/COUNTIF(Data!$C:$C,C$1)),0)","v":"N/A"},{"$f":"IFERROR(IF($A9=1,\"N/A\",COUNTIFS(Data!$C:$C,D$1,Data!$D:$D,$A9)/COUNTIF(Data!$C:$C,D$1)),0)","v":"N/A"},0]
[{"$f":"IF(Settings!$D14=0,1,Settings!$D14)","v":1},{"$f":"IFERROR(IF($A10=1,\"N/A\",COUNTIFS(Data!$C:$C,B$1,Data!$D:$D,$A10)/COUNTIF(Data!$C:$C,B$1)),0)","v":"N/A"},{"$f":"IFERROR(IF($A10=1,\"N/A\",COUNTIFS(Data!$C:$C,C$1,Data!$D:$D,$A10)/COUNTIF(Data!$C:$C,C$1)),0)","v":"N/A"},{"$f":"IFERROR(IF($A10=1,\"N/A\",COUNTIFS(Data!$C:$C,D$1,Data!$D:$D,$A10)/COUNTIF(Data!$C:$C,D$1)),0)","v":"N/A"},0]
[{"$f":"IF(Settings!$D15=0,1,Settings!$D15)","v":1},{"$f":"IFERROR(IF($A11=1,\"N/A\",COUNTIFS(Data!$C:$C,B$1,Data!$D:$D,$A11)/COUNTIF(Data!$C:$C,B$1)),0)","v":"N/A"},{"$f":"IFERROR(IF($A11=1,\"N/A\",COUNTIFS(Data!$C:$C,C$1,Data!$D:$D,$A11)/COUNTIF(Data!$C:$C,C$1)),0)","v":"N/A"},{"$f":"IFERROR(IF($A11=1,\"N/A\",COUNTIFS(Data!$C:$C,D$1,Data!$D:$D,$A11)/COUNTIF(Data!$C:$C,D$1)),0)","v":"N/A"},0]
[{"$f":"IF(Settings!$D16=0,1,Settings!$D16)","v":1},{"$f":"IFERROR(IF($A12=1,\"N/A\",COUNTIFS(Data!$C:$C,B$1,Data!$D:$D,$A12)/COUNTIF(Data!$C:$C,B$1)),0)","v":"N/A"},{"$f":"IFERROR(IF($A12=1,\"N/A\",COUNTIFS(Data!$C:$C,C$1,Data!$D:$D,$A12)/COUNTIF(Data!$C:$C,C$1)),0)","v":"N/A"},{"$f":"IFERROR(IF($A12=1,\"N/A\",COUNTIFS(Data!$C:$C,D$1,Data!$D:$D,$A12)/COUNTIF(Data!$C:$C,D$1)),0)","v":"N/A"},0]
[{"$f":"IF(Settings!$D17=0,1,Settings!$D17)","v":1},{"$f":"IFERROR(IF($A13=1,\"N/A\",COUNTIFS(Data!$C:$C,B$1,Data!$D:$D,$A13)/COUNTIF(Data!$C:$C,B$1)),0)","v":"N/A"},{"$f":"IFERROR(IF($A13=1,\"N/A\",COUNTIFS(Data!$C:$C,C$1,Data!$D:$D,$A13)/COUNTIF(Data!$C:$C,C$1)),0)","v":"N/A"},{"$f":"IFERROR(IF($A13=1,\"N/A\",COUNTIFS(Data!$C:$C,D$1,Data!$D:$D,$A13)/COUNTIF(Data!$C:$C,D$1)),0)","v":"N/A"},0]
[{"$f":"IF(Settings!$D18=0,1,Settings!$D18)","v":1},{"$f":"IFERROR(IF($A14=1,\"N/A\",COUNTIFS(Data!$C:$C,B$1,Data!$D:$D,$A14)/COUNTIF(Data!$C:$C,B$1)),0)","v":"N/A"},{"$f":"IFERROR(IF($A14=1,\"N/A\",COUNTIFS(Data!$C:$C,C$1,Data!$D:$D,$A14)/COUNTIF(Data!$C:$C,C$1)),0)","v":"N/A"},{"$f":"IFERROR(IF($A14=1,\"N/A\",COUNTIFS(Data!$C:$C,D$1,Data!$D:$D,$A14)/COUNTIF(Data!$C:$C,D$1)),0)","v":"N/A"},0]
[{"$f":"IF(Settings!$D19=0,1,Settings!$D19)","v":1},{"$f":"IFERROR(IF($A15=1,\"N/A\",COUNTIFS(Data!$C:$C,B$1,Data!$D:$D,$A15)/COUNTIF(Data!$C:$C,B$1)),0)","v":"N/A"},{"$f":"IFERROR(IF($A15=1,\"N/A\",COUNTIFS(Data!$C:$C,C$1,Data!$D:$D,$A15)/COUNTIF(Data!$C:$C,C$1)),0)","v":"N/A"},{"$f":"IFERROR(IF($A15=1,\"N/A\",COUNTIFS(Data!$C:$C,D$1,Data!$D:$D,$A15)/COUNTIF(Data!$C:$C,D$1)),0)","v":"N/A"},0]
[{"$f":"IF(Settings!$D20=0,1,Settings!$D20)","v":1},{"$f":"IFERROR(IF($A16=1,\"N/A\",COUNTIFS(Data!$C:$C,B$1,Data!$D:$D,$A16)/COUNTIF(Data!$C:$C,B$1)),0)","v":"N/A"},{"$f":"IFERROR(IF($A16=1,\"N/A\",COUNTIFS(Data!$C:$C,C$1,Data!$D:$D,$A16)/COUNTIF(Data!$C:$C,C$1)),0)","v":"N/A"},{"$f":"IFERROR(IF($A16=1,\"N/A\",COUNTIFS(Data!$C:$C,D$1,Data!$D:$D,$A16)/COUNTIF(Data!$C:$C,D$1)),0)","v":"N/A"},0]
[{"$f":"IF(Settings!$D21=0,1,Settings!$D21)","v":1},{"$f":"IFERROR(IF($A17=1,\"N/A\",COUNTIFS(Data!$C:$C,B$1,Data!$D:$D,$A17)/COUNTIF(Data!$C:$C,B$1)),0)","v":"N/A"},{"$f":"IFERROR(IF($A17=1,\"N/A\",COUNTIFS(Data!$C:$C,C$1,Data!$D:$D,$A17)/COUNTIF(Data!$C:$C,C$1)),0)","v":"N/A"},{"$f":"IFERROR(IF($A17=1,\"N/A\",COUNTIFS(Data!$C:$C,D$1,Data!$D:$D,$A17)/COUNTIF(Data!$C:$C,D$1)),0)","v":"N/A"},0]
[{"$f":"IF(Settings!$D22=0,1,Settings!$D22)","v":1},{"$f":"IFERROR(IF($A18=1,\"N/A\",COUNTIFS(Data!$C:$C,B$1,Data!$D:$D,$A18)/COUNTIF(Data!$C:$C,B$1)),0)","v":"N/A"},{"$f":"IFERROR(IF($A18=1,\"N/A\",COUNTIFS(Data!$C:$C,C$1,Data!$D:$D,$A18)/COUNTIF(Data!$C:$C,C$1)),0)","v":"N/A"},{"$f":"IFERROR(IF($A18=1,\"N/A\",COUNTIFS(Data!$C:$C,D$1,Data!$D:$D,$A18)/COUNTIF(Data!$C:$C,D$1)),0)","v":"N/A"},0]
[{"$f":"IF(Settings!$D23=0,1,Settings!$D23)","v":1},{"$f":"IFERROR(IF($A19=1,\"N/A\",COUNTIFS(Data!$C:$C,B$1,Data!$D:$D,$A19)/COUNTIF(Data!$C:$C,B$1)),0)","v":"N/A"},{"$f":"IFERROR(IF($A19=1,\"N/A\",COUNTIFS(Data!$C:$C,C$1,Data!$D:$D,$A19)/COUNTIF(Data!$C:$C,C$1)),0)","v":"N/A"},{"$f":"IFERROR(IF($A19=1,\"N/A\",COUNTIFS(Data!$C:$C,D$1,Data!$D:$D,$A19)/COUNTIF(Data!$C:$C,D$1)),0)","v":"N/A"},0]

{"sheet":"Data","index":9,"n_rows":600,"n_cols":17,"rows_kept":600,"cut":false,"hidden":true,"merged":[]}
["Observation #","Behavior","Antecedent","Consequence","Intensity","Start Time","OneMinCheck","End Time","Possible Function","Date Override","Time Stamp","Date","StartTimeDate","End time","EndTimeDate","Setting","Duration"]
[{"$f":"IFERROR(INDEX(ObData!$A$2:$A$300,MATCH(1,(Data!M2>=ObData!$H$2:$H$300)*(Data!M2<=ObData!$I$2:$I$300),0)),\"N/A\")","v":""},{"$f":"BehaviorLogEntries!A2","v":0},{"$f":"BehaviorLogEntries!B2","v":0},{"$f":"BehaviorLogEntries!C2","v":0},{"$f":"BehaviorLogEntries!D2","v":0},{"$f":"BehaviorLogEntries!E2","v":0},{"$f":"BehaviorLogEntries!F2","v":0},{"$f":"BehaviorLogEntries!G2","v":0},{"$f":"BehaviorLogEntries!H2","v":0},{"$f":"BehaviorLogEntries!J2","v":0},{"$f":"IF(F2<>0,IF(K2=\"\",NOW(),K2),\"\")","v":""},{"$f":"IFERROR(IF(J2<>0,J2,DATE(YEAR(K2),MONTH(K2),DAY(K2))),\"\")","v":""},{"$f":"IF(B2=0,\"\",L2+F2)","v":""},{"$f":"IFERROR(IF(G2=\"Yes\",F2+0.00069444,IF(H2<>0,H2,IF(DATE(YEAR(K2),MONTH(K2),DAY(K2))<>DATE(YEAR(L2),MONTH(L2),DAY(L2)),F2+0.00069444,K2-DATE(YEAR(K2),MONTH(K2),DAY(K2))))),\"\")","v":""},{"$f":"IF(B2=0,\"\",L2+N2)","v":""},{"$f":"IFERROR(VLOOKUP(A2,ObData!$A$2:$I$300,5,0),\"\")","v":0},{"$f":"IF(F2=0,\"\",N2-F2)","v":""}]
[{"$f":"IFERROR(INDEX(ObData!$A$2:$A$300,MATCH(1,(Data!M3>=ObData!$H$2:$H$300)*(Data!M3<=ObData!$I$2:$I$300),0)),\"N/A\")","v":""},{"$f":"BehaviorLogEntries!A3","v":0},{"$f":"BehaviorLogEntries!B3","v":0},{"$f":"BehaviorLogEntries!C3","v":0},{"$f":"BehaviorLogEntries!D3","v":0},{"$f":"BehaviorLogEntries!E3","v":0},{"$f":"BehaviorLogEntries!F3","v":0},{"$f":"BehaviorLogEntries!G3","v":0},{"$f":"BehaviorLogEntries!H3","v":0},{"$f":"BehaviorLogEntries!J3","v":0},{"$f":"IF(F3<>0,IF(K3=\"\",NOW(),K3),\"\")","v":""},{"$f":"IFERROR(IF(J3<>0,J3,DATE(YEAR(K3),MONTH(K3),DAY(K3))),\"\")","v":""},{"$f":"IF(B3=0,\"\",L3+F3)","v":""},{"$f":"IFERROR(IF(G3=\"Yes\",F3+0.00069444,IF(H3<>0,H3,IF(DATE(YEAR(K3),MONTH(K3),DAY(K3))<>DATE(YEAR(L3),MONTH(L3),DAY(L3)),F3+0.00069444,K3-DATE(YEAR(K3),MONTH(K3),DAY(K3))))),\"\")","v":""},{"$f":"IF(B3=0,\"\",L3+N3)","v":""},{"$f":"IFERROR(VLOOKUP(A3,ObData!$A$2:$I$300,5,0),\"\")","v":0},{"$f":"IF(F3=0,\"\",N3-F3)","v":""}]
[{"$f":"IFERROR(INDEX(ObData!$A$2:$A$300,MATCH(1,(Data!M4>=ObData!$H$2:$H$300)*(Data!M4<=ObData!$I$2:$I$300),0)),\"N/A\")","v":""},{"$f":"BehaviorLogEntries!A4","v":0},{"$f":"BehaviorLogEntries!B4","v":0},{"$f":"BehaviorLogEntries!C4","v":0},{"$f":"BehaviorLogEntries!D4","v":0},{"$f":"BehaviorLogEntries!E4","v":0},{"$f":"BehaviorLogEntries!F4","v":0},{"$f":"BehaviorLogEntries!G4","v":0},{"$f":"BehaviorLogEntries!H4","v":0},{"$f":"BehaviorLogEntries!J4","v":0},"","","","","",{"$f":"IFERROR(VLOOKUP(A4,ObData!$A$2:$I$300,5,0),\"\")","v":0},""]
[{"$f":"IFERROR(INDEX(ObData!$A$2:$A$300,MATCH(1,(Data!M5>=ObData!$H$2:$H$300)*(Data!M5<=ObData!$I$2:$I$300),0)),\"N/A\")","v":""},{"$f":"BehaviorLogEntries!A5","v":0},{"$f":"BehaviorLogEntries!B5","v":0},{"$f":"BehaviorLogEntries!C5","v":0},{"$f":"BehaviorLogEntries!D5","v":0},{"$f":"BehaviorLogEntries!E5","v":0},{"$f":"BehaviorLogEntries!F5","v":0},{"$f":"BehaviorLogEntries!G5","v":0},{"$f":"BehaviorLogEntries!H5","v":0},{"$f":"BehaviorLogEntries!J5","v":0},"","","","","",{"$f":"IFERROR(VLOOKUP(A5,ObData!$A$2:$I$300,5,0),\"\")","v":0},""]
[{"$f":"IFERROR(INDEX(ObData!$A$2:$A$300,MATCH(1,(Data!M6>=ObData!$H$2:$H$300)*(Data!M6<=ObData!$I$2:$I$300),0)),\"N/A\")","v":""},{"$f":"BehaviorLogEntries!A6","v":0},{"$f":"BehaviorLogEntries!B6","v":0},{"$f":"BehaviorLogEntries!C6","v":0},{"$f":"BehaviorLogEntries!D6","v":0},{"$f":"BehaviorLogEntries!E6","v":0},{"$f":"BehaviorLogEntries!F6","v":0},{"$f":"BehaviorLogEntries!G6","v":0},{"$f":"BehaviorLogEntries!H6","v":0},{"$f":"BehaviorLogEntries!J6","v":0},"","","","","",{"$f":"IFERROR(VLOOKUP(A6,ObData!$A$2:$I$300,5,0),\"\")","v":0},""]
[{"$f":"IFERROR(INDEX(ObData!$A$2:$A$300,MATCH(1,(Data!M7>=ObData!$H$2:$H$300)*(Data!M7<=ObData!$I$2:$I$300),0)),\"N/A\")","v":""},{"$f":"BehaviorLogEntries!A7","v":0},{"$f":"BehaviorLogEntries!B7","v":0},{"$f":"BehaviorLogEntries!C7","v":0},{"$f":"BehaviorLogEntries!D7","v":0},{"$f":"BehaviorLogEntries!E7","v":0},{"$f":"BehaviorLogEntries!F7","v":0},{"$f":"BehaviorLogEntries!G7","v":0},{"$f":"BehaviorLogEntries!H7","v":0},{"$f":"BehaviorLogEntries!J7","v":0},"","","","","",{"$f":"IFERROR(VLOOKUP(A7,ObData!$A$2:$I$300,5,0),\"\")","v":0},""]
[{"$f":"IFERROR(INDEX(ObData!$A$2:$A$300,MATCH(1,(Data!M8>=ObData!$H$2:$H$300)*(Data!M8<=ObData!$I$2:$I$300),0)),\"N/A\")","v":""},{"$f":"BehaviorLogEntries!A8","v":0},{"$f":"BehaviorLogEntries!B8","v":0},{"$f":"BehaviorLogEntries!C8","v":0},{"$f":"BehaviorLogEntries!D8","v":0},{"$f":"BehaviorLogEntries!E8","v":0},{"$f":"BehaviorLogEntries!F8","v":0},{"$f":"BehaviorLogEntries!G8","v":0},{"$f":"BehaviorLogEntries!H8","v":0},{"$f":"BehaviorLogEntries!J8","v":0},"","","","","",{"$f":"IFERROR(VLOOKUP(A8,ObData!$A$2:$I$300,5,0),\"\")","v":0},""]
[{"$f":"IFERROR(INDEX(ObData!$A$2:$A$300,MATCH(1,(Data!M9>=ObData!$H$2:$H$300)*(Data!M9<=ObData!$I$2:$I$300),0)),\"N/A\")","v":""},{"$f":"BehaviorLogEntries!A9","v":0},{"$f":"BehaviorLogEntries!B9","v":0},{"$f":"BehaviorLogEntries!C9","v":0},{"$f":"BehaviorLogEntries!D9","v":0},{"$f":"BehaviorLogEntries!E9","v":0},{"$f":"BehaviorLogEntries!F9","v":0},{"$f":"BehaviorLogEntries!G9","v":0},{"$f":"BehaviorLogEntries!H9","v":0},{"$f":"BehaviorLogEntries!J9","v":0},"","","","","",{"$f":"IFERROR(VLOOKUP(A9,ObData!$A$2:$I$300,5,0),\"\")","v":0},""]
[{"$f":"IFERROR(INDEX(ObData!$A$2:$A$300,MATCH(1,(Data!M10>=ObData!$H$2:$H$300)*(Data!M10<=ObData!$I$2:$I$300),0)),\"N/A\")","v":""},{"$f":"BehaviorLogEntries!A10","v":0},{"$f":"BehaviorLogEntries!B10","v":0},{"$f":"BehaviorLogEntries!C10","v":0},{"$f":"BehaviorLogEntries!D10","v":0},{"$f":"BehaviorLogEntries!E10","v":0},{"$f":"BehaviorLogEntries!F10","v":0},{"$f":"BehaviorLogEntries!G10","v":0},{"$f":"BehaviorLogEntries!H10","v":0},{"$f":"BehaviorLogEntries!J10","v":0},"","","","","",{"$f":"IFERROR(VLOOKUP(A10,ObData!$A$2:$I$300,5,0),\"\")","v":0},""]
[{"$f":"IFERROR(INDEX(ObData!$A$2:$A$300,MATCH(1,(Data!M11>=ObData!$H$2:$H$300)*(Data!M11<=ObData!$I$2:$I$300),0)),\"N/A\")","v":""},{"$f":"BehaviorLogEntries!A11","v":0},{"$f":"BehaviorLogEntries!B11","v":0},{"$f":"BehaviorLogEntries!C11","v":0},{"$f":"BehaviorLogEntries!D11","v":0},{"$f":"BehaviorLogEntries!E11","v":0},{"$f":"BehaviorLogEntries!F11","v":0},{"$f":"BehaviorLogEntries!G11","v":0},{"$f":"BehaviorLogEntries!H11","v":0},{"$f":"BehaviorLogEntries!J11","v":0},"","","","","",{"$f":"IFERROR(VLOOKUP(A11,ObData!$A$2:$I$300,5,0),\"\")","v":0},""]
[{"$f":"IFERROR(INDEX(ObData!$A$2:$A$300,MATCH(1,(Data!M12>=ObData!$H$2:$H$300)*(Data!M12<=ObData!$I$2:$I$300),0)),\"N/A\")","v":""},{"$f":"BehaviorLogEntries!A12","v":0},{"$f":"BehaviorLogEntries!B12","v":0},{"$f":"BehaviorLogEntries!C12","v":0},{"$f":"BehaviorLogEntries!D12","v":0},{"$f":"BehaviorLogEntries!E12","v":0},{"$f":"BehaviorLogEntries!F12","v":0},{"$f":"BehaviorLogEntries!G12","v":0},{"$f":"BehaviorLogEntries!H12","v":0},{"$f":"BehaviorLogEntries!J12","v":0},"","","","","",{"$f":"IFERROR(VLOOKUP(A12,ObData!$A$2:$I$300,5,0),\"\")","v":0},""]
[{"$f":"IFERROR(INDEX(ObData!$A$2:$A$300,MATCH(1,(Data!M13>=ObData!$H$2:$H$300)*(Data!M13<=ObData!$I$2:$I$300),0)),\"N/A\")","v":""},{"$f":"BehaviorLogEntries!A13","v":0},{"$f":"BehaviorLogEntries!B13","v":0},{"$f":"BehaviorLogEntries!C13","v":0},{"$f":"BehaviorLogEntries!D13","v":0},{"$f":"BehaviorLogEntries!E13","v":0},{"$f":"BehaviorLogEntries!F13","v":0},{"$f":"BehaviorLogEntries!G13","v":0},{"$f":"BehaviorLogEntries!H13","v":0},{"$f":"BehaviorLogEntries!J13","v":0},"","","","","",{"$f":"IFERROR(VLOOKUP(A13,ObData!$A$2:$I$300,5,0),\"\")","v":0},""]
[{"$f":"IFERROR(INDEX(ObData!$A$2:$A$300,MATCH(1,(Data!M14>=ObData!$H$2:$H$300)*(Data!M14<=ObData!$I$2:$I$300),0)),\"N/A\")","v":""},{"$f":"BehaviorLogEntries!A14","v":0},{"$f":"BehaviorLogEntries!B14","v":0},{"$f":"BehaviorLogEntries!C14","v":0},{"$f":"BehaviorLogEntries!D14","v":0},{"$f":"BehaviorLogEntries!E14","v":0},{"$f":"BehaviorLogEntries!F14","v":0},{"$f":"BehaviorLogEntries!G14","v":0},{"$f":"BehaviorLogEntries!H14","v":0},{"$f":"BehaviorLogEntries!J14","v":0},"","","","","",{"$f":"IFERROR(VLOOKUP(A14,ObData!$A$2:$I$300,5,0),\"\")","v":0},""]
[{"$f":"IFERROR(INDEX(ObData!$A$2:$A$300,MATCH(1,(Data!M15>=ObData!$H$2:$H$300)*(Data!M15<=ObData!$I$2:$I$300),0)),\"N/A\")","v":""},{"$f":"BehaviorLogEntries!A15","v":0},{"$f":"BehaviorLogEntries!B15","v":0},{"$f":"BehaviorLogEntries!C15","v":0},{"$f":"BehaviorLogEntries!D15","v":0},{"$f":"BehaviorLogEntries!E15","v":0},{"$f":"BehaviorLogEntries!F15","v":0},{"$f":"BehaviorLogEntries!G15","v":0},{"$f":"BehaviorLogEntries!H15","v":0},{"$f":"BehaviorLogEntries!J15","v":0},"","","","","",{"$f":"IFERROR(VLOOKUP(A15,ObData!$A$2:$I$300,5,0),\"\")","v":0},""]
[{"$f":"IFERROR(INDEX(ObData!$A$2:$A$300,MATCH(1,(Data!M16>=ObData!$H$2:$H$300)*(Data!M16<=ObData!$I$2:$I$300),0)),\"N/A\")","v":""},{"$f":"BehaviorLogEntries!A16","v":0},{"$f":"BehaviorLogEntries!B16","v":0},{"$f":"BehaviorLogEntries!C16","v":0},{"$f":"BehaviorLogEntries!D16","v":0},{"$f":"BehaviorLogEntries!E16","v":0},{"$f":"BehaviorLogEntries!F16","v":0},{"$f":"BehaviorLogEntries!G16","v":0},{"$f":"BehaviorLogEntries!H16","v":0},{"$f":"BehaviorLogEntries!J16","v":0},"","","","","",{"$f":"IFERROR(VLOOKUP(A16,ObData!$A$2:$I$300,5,0),\"\")","v":0},""]
[{"$f":"IFERROR(INDEX(ObData!$A$2:$A$300,MATCH(1,(Data!M17>=ObData!$H$2:$H$300)*(Data!M17<=ObData!$I$2:$I$300),0)),\"N/A\")","v":""},{"$f":"BehaviorLogEntries!A17","v":0},{"$f":"BehaviorLogEntries!B17","v":0},{"$f":"BehaviorLogEntries!C17","v":0},{"$f":"BehaviorLogEntries!D17","v":0},{"$f":"BehaviorLogEntries!E17","v":0},{"$f":"BehaviorLogEntries!F17","v":0},{"$f":"BehaviorLogEntries!G17","v":0},{"$f":"BehaviorLogEntries!H17","v":0},{"$f":"BehaviorLogEntries!J17","v":0},"","","","","",{"$f":"IFERROR(VLOOKUP(A17,ObData!$A$2:$I$300,5,0),\"\")","v":0},""]
[{"$f":"IFERROR(INDEX(ObData!$A$2:$A$300,MATCH(1,(Data!M18>=ObData!$H$2:$H$300)*(Data!M18<=ObData!$I$2:$I$300),0)),\"N/A\")","v":""},{"$f":"BehaviorLogEntries!A18","v":0},{"$f":"BehaviorLogEntries!B18","v":0},{"$f":"BehaviorLogEntries!C18","v":0},{"$f":"BehaviorLogEntries!D18","v":0},{"$f":"BehaviorLogEntries!E18","v":0},{"$f":"BehaviorLogEntries!F18","v":0},{"$f":"BehaviorLogEntries!G18","v":0},{"$f":"BehaviorLogEntries!H18","v":0},{"$f":"BehaviorLogEntries!J18","v":0},"","","","","",{"$f":"IFERROR(VLOOKUP(A18,ObData!$A$2:$I$300,5,0),\"\")","v":0},""]
[{"$f":"IFERROR(INDEX(ObData!$A$2:$A$300,MATCH(1,(Data!M19>=ObData!$H$2:$H$300)*(Data!M19<=ObData!$I$2:$I$300),0)),\"N/A\")","v":""},{"$f":"BehaviorLogEntries!A19","v":0},{"$f":"BehaviorLogEntries!B19","v":0},{"$f":"BehaviorLogEntries!C19","v":0},{"$f":"BehaviorLogEntries!D19","v":0},{"$f":"BehaviorLogEntries!E19","v":0},{"$f":"BehaviorLogEntries!F19","v":0},{"$f":"BehaviorLogEntries!G19","v":0},{"$f":"BehaviorLogEntries!H19","v":0},{"$f":"BehaviorLogEntries!J19","v":0},"","","","","",{"$f":"IFERROR(VLOOKUP(A19,ObData!$A$2:$I$300,5,0),\"\")","v":0},""]
[{"$f":"IFERROR(INDEX(ObData!$A$2:$A$300,MATCH(1,(Data!M20>=ObData!$H$2:$H$300)*(Data!M20<=ObData!$I$2:$I$300),0)),\"N/A\")","v":""},{"$f":"BehaviorLogEntries!A20","v":0},{"$f":"BehaviorLogEntries!B20","v":0},{"$f":"BehaviorLogEntries!C20","v":0},{"$f":"BehaviorLogEntries!D20","v":0},{"$f":"BehaviorLogEntries!E20","v":0},{"$f":"BehaviorLogEntries!F20","v":0},{"$f":"BehaviorLogEntries!G20","v":0},{"$f":"BehaviorLogEntries!H20","v":0},{"$f":"BehaviorLogEntries!J20","v":0},"","","","","",{"$f":"IFERROR(VLOOKUP(A20,ObData!$A$2:$I$300,5,0),\"\")","v":0},""]
[{"$f":"IFERROR(INDEX(ObData!$A$2:$A$300,MATCH(1,(Data!M21>=ObData!$H$2:$H$300)*(Data!M21<=ObData!$I$2:$I$300),0)),\"N/A\")","v":""},{"$f":"BehaviorLogEntries!A21","v":0},{"$f":"BehaviorLogEntries!B21","v":0},{"$f":"BehaviorLogEntries!C21","v":0},{"$f":"BehaviorLogEntries!D21","v":0},{"$f":"BehaviorLogEntries!E21","v":0},{"$f":"BehaviorLogEntries!F21","v":0},{"$f":"BehaviorLogEntries!G21","v":0},{"$f":"BehaviorLogEntries!H21","v":0},{"$f":"BehaviorLogEntries!J21","v":0},"","","","","",{"$f":"IFERROR(VLOOKUP(A21,ObData!$A$2:$I$300,5,0),\"\")","v":0},""]
[{"$f":"IFERROR(INDEX(ObData!$A$2:$A$300,MATCH(1,(Data!M22>=ObData!$H$2:$H$300)*(Data!M22<=ObData!$I$2:$I$300),0)),\"N/A\")","v":""},{"$f":"BehaviorLogEntries!A22","v":0},{"$f":"BehaviorLogEntries!B22","v":0},{"$f":"BehaviorLogEntries!C22","v":0},{"$f":"BehaviorLogEntries!D22","v":0},{"$f":"BehaviorLogEntries!E22","v":0},{"$f":"BehaviorLogEntries!F22","v":0},{"$f":"BehaviorLogEntries!G22","v":0},{"$f":"BehaviorLogEntries!H22","v":0},{"$f":"BehaviorLogEntries!J22","v":0},"","","","","",{"$f":"IFERROR(VLOOKUP(A22,ObData!$A$2:$I$300,5,0),\"\")","v":0},""]
[{"$f":"IFERROR(INDEX(ObData!$A$2:$A$300,MATCH(1,(Data!M23>=ObData!$H$2:$H$300)*(Data!M23<=ObData!$I$2:$I$300),0)),\"N/A\")","v":""},{"$f":"BehaviorLogEntries!A23","v":0},{"$f":"BehaviorLogEntries!B23","v":0},{"$f":"BehaviorLogEntries!C23","v":0},{"$f":"BehaviorLogEntries!D23","v":0},{"$f":"BehaviorLogEntries!E23","v":0},{"$f":"BehaviorLogEntries!F23","v":0},{"$f":"BehaviorLogEntries!G23","v":0},{"$f":"BehaviorLogEntries!H23","v":0},{"$f":"BehaviorLogEntries!J23","v":0},"","","","","",{"$f":"IFERROR(VLOOKUP(A23,ObData!$A$2:$I$300,5,0),\"\")","v":0},""]
[{"$f":"IFERROR(INDEX(ObData!$A$2:$A$300,MATCH(1,(Data!M24>=ObData!$H$2:$H$300)*(Data!M24<=ObData!$I$2:$I$300),0)),\"N/A\")","v":""},{"$f":"BehaviorLogEntries!A24","v":0},{"$f":"BehaviorLogEntries!B24","v":0},{"$f":"BehaviorLogEntries!C24","v":0},{"$f":"BehaviorLogEntries!D24","v":0},{"$f":"BehaviorLogEntries!E24","v":0},{"$f":"BehaviorLogEntries!F24","v":0},{"$f":"BehaviorLogEntries!G24","v":0},{"$f":"BehaviorLogEntries!H24","v":0},{"$f":"BehaviorLogEntries!J24","v":0},"","","","","",{"$f":"IFERROR(VLOOKUP(A24,ObData!$A$2:$I$300,5,0),\"\")","v":0},""]
[{"$f":"IFERROR(INDEX(ObData!$A$2:$A$300,MATCH(1,(Data!M25>=ObData!$H$2:$H$300)*(Data!M25<=ObData!$I$2:$I$300),0)),\"N/A\")","v":""},{"$f":"BehaviorLogEntries!A25","v":0},{"$f":"BehaviorLogEntries!B25","v":0},{"$f":"BehaviorLogEntries!C25","v":0},{"$f":"BehaviorLogEntries!D25","v":0},{"$f":"BehaviorLogEntries!E25","v":0},{"$f":"BehaviorLogEntries!F25","v":0},{"$f":"BehaviorLogEntries!G25","v":0},{"$f":"BehaviorLogEntries!H25","v":0},{"$f":"BehaviorLogEntries!J25","v":0},"","","","","",{"$f":"IFERROR(VLOOKUP(A25,ObData!$A$2:$I$300,5,0),\"\")","v":0},""]
[{"$f":"IFERROR(INDEX(ObData!$A$2:$A$300,MATCH(1,(Data!M26>=ObData!$H$2:$H$300)*(Data!M26<=ObData!$I$2:$I$300),0)),\"N/A\")","v":""},{"$f":"BehaviorLogEntries!A26","v":0},{"$f":"BehaviorLogEntries!B26","v":0},{"$f":"BehaviorLogEntries!C26","v":0},{"$f":"BehaviorLogEntries!D26","v":0},{"$f":"BehaviorLogEntries!E26","v":0},{"$f":"BehaviorLogEntries!F26","v":0},{"$f":"BehaviorLogEntries!G26","v":0},{"$f":"BehaviorLogEntries!H26","v":0},{"$f":"BehaviorLogEntries!J26","v":0},"","","","","",{"$f":"IFERROR(VLOOKUP(A26,ObData!$A$2:$I$300,5,0),\"\")","v":0},""]
[{"$f":"IFERROR(INDEX(ObData!$A$2:$A$300,MATCH(1,(Data!M27>=ObData!$H$2:$H$300)*(Data!M27<=ObData!$I$2:$I$300),0)),\"N/A\")","v":""},{"$f":"BehaviorLogEntries!A27","v":0},{"$f":"BehaviorLogEntries!B27","v":0},{"$f":"BehaviorLogEntries!C27","v":0},{"$f":"BehaviorLogEntries!D27","v":0},{"$f":"BehaviorLogEntries!E27","v":0},{"$f":"BehaviorLogEntries!F27","v":0},{"$f":"BehaviorLogEntries!G27","v":0},{"$f":"BehaviorLogEntries!H27","v":0},{"$f":"BehaviorLogEntries!J27","v":0},"","","","","",{"$f":"IFERROR(VLOOKUP(A27,ObData!$A$2:$I$300,5,0),\"\")","v":0},""]
[{"$f":"IFERROR(INDEX(ObData!$A$2:$A$300,MATCH(1,(Data!M28>=ObData!$H$2:$H$300)*(Data!M28<=ObData!$I$2:$I$300),0)),\"N/A\")","v":""},{"$f":"BehaviorLogEntries!A28","v":0},{"$f":"BehaviorLogEntries!B28","v":0},{"$f":"BehaviorLogEntries!C28","v":0},{"$f":"BehaviorLogEntries!D28","v":0},{"$f":"BehaviorLogEntries!E28","v":0},{"$f":"BehaviorLogEntries!F28","v":0},{"$f":"BehaviorLogEntries!G28","v":0},{"$f":"BehaviorLogEntries!H28","v":0},{"$f":"BehaviorLogEntries!J28","v":0},"","","","","",{"$f":"IFERROR(VLOOKUP(A28,ObData!$A$2:$I$300,5,0),\"\")","v":0},""]
[{"$f":"IFERROR(INDEX(ObData!$A$2:$A$300,MATCH(1,(Data!M29>=ObData!$H$2:$H$300)*(Data!M29<=ObData!$I$2:$I$300),0)),\"N/A\")","v":""},{"$f":"BehaviorLogEntries!A29","v":0},{"$f":"BehaviorLogEntries!B29","v":0},{"$f":"BehaviorLogEntries!C29","v":0},{"$f":"BehaviorLogEntries!D29","v":0},{"$f":"BehaviorLogEntries!E29","v":0},{"$f":"BehaviorLogEntries!F29","v":0},{"$f":"BehaviorLogEntries!G29","v":0},{"$f":"BehaviorLogEntries!H29","v":0},{"$f":"BehaviorLogEntries!J29","v":0},"","","","","",{"$f":"IFERROR(VLOOKUP(A29,ObData!$A$2:$I$300,5,0),\"\")","v":0},""]
[{"$f":"IFERROR(INDEX(ObData!$A$2:$A$300,MATCH(1,(Data!M30>=ObData!$H$2:$H$300)*(Data!M30<=ObData!$I$2:$I$300),0)),\"N/A\")","v":""},{"$f":"BehaviorLogEntries!A30","v":0},{"$f":"BehaviorLogEntries!B30","v":0},{"$f":"BehaviorLogEntries!C30","v":0},{"$f":"BehaviorLogEntries!D30","v":0},{"$f":"BehaviorLogEntries!E30","v":0},null,{"$f":"BehaviorLogEntries!G30","v":0},{"$f":"BehaviorLogEntries!H30","v":0},{"$f":"BehaviorLogEntries!J30","v":0},"","","","","",{"$f":"IFERROR(VLOOKUP(A30,ObData!$A$2:$I$300,5,0),\"\")","v":0},""]
[{"$f":"IFERROR(INDEX(ObData!$A$2:$A$300,MATCH(1,(Data!M31>=ObData!$H$2:$H$300)*(Data!M31<=ObData!$I$2:$I$300),0)),\"N/A\")","v":""},{"$f":"BehaviorLogEntries!A31","v":0},{"$f":"BehaviorLogEntries!B31","v":0},{"$f":"BehaviorLogEntries!C31","v":0},{"$f":"BehaviorLogEntries!D31","v":0},{"$f":"BehaviorLogEntries!E31","v":0},{"$f":"BehaviorLogEntries!F31","v":0},{"$f":"BehaviorLogEntries!G31","v":0},{"$f":"BehaviorLogEntries!H31","v":0},{"$f":"BehaviorLogEntries!J31","v":0},"","","","","",{"$f":"IFERROR(VLOOKUP(A31,ObData!$A$2:$I$300,5,0),\"\")","v":0},""]
[{"$f":"IFERROR(INDEX(ObData!$A$2:$A$300,MATCH(1,(Data!M32>=ObData!$H$2:$H$300)*(Data!M32<=ObData!$I$2:$I$300),0)),\"N/A\")","v":""},{"$f":"BehaviorLogEntries!A32","v":0},{"$f":"BehaviorLogEntries!B32","v":0},{"$f":"BehaviorLogEntries!C32","v":0},{"$f":"BehaviorLogEntries!D32","v":0},{"$f":"BehaviorLogEntries!E32","v":0},{"$f":"BehaviorLogEntries!F32","v":0},{"$f":"BehaviorLogEntries!G32","v":0},{"$f":"BehaviorLogEntries!H32","v":0},{"$f":"BehaviorLogEntries!J32","v":0},"","","","","",{"$f":"IFERROR(VLOOKUP(A32,ObData!$A$2:$I$300,5,0),\"\")","v":0},""]
[{"$f":"IFERROR(INDEX(ObData!$A$2:$A$300,MATCH(1,(Data!M33>=ObData!$H$2:$H$300)*(Data!M33<=ObData!$I$2:$I$300),0)),\"N/A\")","v":""},{"$f":"BehaviorLogEntries!A33","v":0},{"$f":"BehaviorLogEntries!B33","v":0},{"$f":"BehaviorLogEntries!C33","v":0},{"$f":"BehaviorLogEntries!D33","v":0},{"$f":"BehaviorLogEntries!E33","v":0},{"$f":"BehaviorLogEntries!F33","v":0},{"$f":"BehaviorLogEntries!G33","v":0},{"$f":"BehaviorLogEntries!H33","v":0},{"$f":"BehaviorLogEntries!J33","v":0},"","","","","",{"$f":"IFERROR(VLOOKUP(A33,ObData!$A$2:$I$300,5,0),\"\")","v":0},""]
[{"$f":"IFERROR(INDEX(ObData!$A$2:$A$300,MATCH(1,(Data!M34>=ObData!$H$2:$H$300)*(Data!M34<=ObData!$I$2:$I$300),0)),\"N/A\")","v":""},{"$f":"BehaviorLogEntries!A34","v":0},{"$f":"BehaviorLogEntries!B34","v":0},{"$f":"BehaviorLogEntries!C34","v":0},{"$f":"BehaviorLogEntries!D34","v":0},{"$f":"BehaviorLogEntries!E34","v":0},{"$f":"BehaviorLogEntries!F34","v":0},{"$f":"BehaviorLogEntries!G34","v":0},{"$f":"BehaviorLogEntries!H34","v":0},{"$f":"BehaviorLogEntries!J34","v":0},"","","","","",{"$f":"IFERROR(VLOOKUP(A34,ObData!$A$2:$I$300,5,0),\"\")","v":0},""]
[{"$f":"IFERROR(INDEX(ObData!$A$2:$A$300,MATCH(1,(Data!M35>=ObData!$H$2:$H$300)*(Data!M35<=ObData!$I$2:$I$300),0)),\"N/A\")","v":""},{"$f":"BehaviorLogEntries!A35","v":0},{"$f":"BehaviorLogEntries!B35","v":0},{"$f":"BehaviorLogEntries!C35","v":0},{"$f":"BehaviorLogEntries!D35","v":0},{"$f":"BehaviorLogEntries!E35","v":0},{"$f":"BehaviorLogEntries!F35","v":0},{"$f":"BehaviorLogEntries!G35","v":0},{"$f":"BehaviorLogEntries!H35","v":0},{"$f":"BehaviorLogEntries!J35","v":0},"","","","","",{"$f":"IFERROR(VLOOKUP(A35,ObData!$A$2:$I$300,5,0),\"\")","v":0},""]
[{"$f":"IFERROR(INDEX(ObData!$A$2:$A$300,MATCH(1,(Data!M36>=ObData!$H$2:$H$300)*(Data!M36<=ObData!$I$2:$I$300),0)),\"N/A\")","v":""},{"$f":"BehaviorLogEntries!A36","v":0},{"$f":"BehaviorLogEntries!B36","v":0},{"$f":"BehaviorLogEntries!C36","v":0},{"$f":"BehaviorLogEntries!D36","v":0},{"$f":"BehaviorLogEntries!E36","v":0},{"$f":"BehaviorLogEntries!F36","v":0},{"$f":"BehaviorLogEntries!G36","v":0},{"$f":"BehaviorLogEntries!H36","v":0},{"$f":"BehaviorLogEntries!J36","v":0},"","","","","",{"$f":"IFERROR(VLOOKUP(A36,ObData!$A$2:$I$300,5,0),\"\")","v":0},""]
[{"$f":"IFERROR(INDEX(ObData!$A$2:$A$300,MATCH(1,(Data!M37>=ObData!$H$2:$H$300)*(Data!M37<=ObData!$I$2:$I$300),0)),\"N/A\")","v":""},{"$f":"BehaviorLogEntries!A37","v":0},{"$f":"BehaviorLogEntries!B37","v":0},{"$f":"BehaviorLogEntries!C37","v":0},{"$f":"BehaviorLogEntries!D37","v":0},{"$f":"BehaviorLogEntries!E37","v":0},{"$f":"BehaviorLogEntries!F37","v":0},{"$f":"BehaviorLogEntries!G37","v":0},{"$f":"BehaviorLogEntries!H37","v":0},{"$f":"BehaviorLogEntries!J37","v":0},"","","","","",{"$f":"IFERROR(VLOOKUP(A37,ObData!$A$2:$I$300,5,0),\"\")","v":0},""]
[{"$f":"IFERROR(INDEX(ObData!$A$2:$A$300,MATCH(1,(Data!M38>=ObData!$H$2:$H$300)*(Data!M38<=ObData!$I$2:$I$300),0)),\"N/A\")","v":""},{"$f":"BehaviorLogEntries!A38","v":0},{"$f":"BehaviorLogEntries!B38","v":0},{"$f":"BehaviorLogEntries!C38","v":0},{"$f":"BehaviorLogEntries!D38","v":0},{"$f":"BehaviorLogEntries!E38","v":0},{"$f":"BehaviorLogEntries!F38","v":0},{"$f":"BehaviorLogEntries!G38","v":0},{"$f":"BehaviorLogEntries!H38","v":0},{"$f":"BehaviorLogEntries!J38","v":0},"","","","","",{"$f":"IFERROR(VLOOKUP(A38,ObData!$A$2:$I$300,5,0),\"\")","v":0},""]
[{"$f":"IFERROR(INDEX(ObData!$A$2:$A$300,MATCH(1,(Data!M39>=ObData!$H$2:$H$300)*(Data!M39<=ObData!$I$2:$I$300),0)),\"N/A\")","v":""},{"$f":"BehaviorLogEntries!A39","v":0},{"$f":"BehaviorLogEntries!B39","v":0},{"$f":"BehaviorLogEntries!C39","v":0},{"$f":"BehaviorLogEntries!D39","v":0},{"$f":"BehaviorLogEntries!E39","v":0},{"$f":"BehaviorLogEntries!F39","v":0},{"$f":"BehaviorLogEntries!G39","v":0},{"$f":"BehaviorLogEntries!H39","v":0},{"$f":"BehaviorLogEntries!J39","v":0},"","","","","",{"$f":"IFERROR(VLOOKUP(A39,ObData!$A$2:$I$300,5,0),\"\")","v":0},""]
[{"$f":"IFERROR(INDEX(ObData!$A$2:$A$300,MATCH(1,(Data!M40>=ObData!$H$2:$H$300)*(Data!M40<=ObData!$I$2:$I$300),0)),\"N/A\")","v":""},{"$f":"BehaviorLogEntries!A40","v":0},{"$f":"BehaviorLogEntries!B40","v":0},{"$f":"BehaviorLogEntries!C40","v":0},{"$f":"BehaviorLogEntries!D40","v":0},{"$f":"BehaviorLogEntries!E40","v":0},{"$f":"BehaviorLogEntries!F40","v":0},{"$f":"BehaviorLogEntries!G40","v":0},{"$f":"BehaviorLogEntries!H40","v":0},{"$f":"BehaviorLogEntries!J40","v":0},"","","","","",{"$f":"IFERROR(VLOOKUP(A40,ObData!$A$2:$I$300,5,0),\"\")","v":0},""]
[{"$f":"IFERROR(INDEX(ObData!$A$2:$A$300,MATCH(1,(Data!M41>=ObData!$H$2:$H$300)*(Data!M41<=ObData!$I$2:$I$300),0)),\"N/A\")","v":""},{"$f":"BehaviorLogEntries!A41","v":0},{"$f":"BehaviorLogEntries!B41","v":0},{"$f":"BehaviorLogEntries!C41","v":0},{"$f":"BehaviorLogEntries!D41","v":0},{"$f":"BehaviorLogEntries!E41","v":0},{"$f":"BehaviorLogEntries!F41","v":0},{"$f":"BehaviorLogEntries!G41","v":0},{"$f":"BehaviorLogEntries!H41","v":0},{"$f":"BehaviorLogEntries!J41","v":0},"","","","","",{"$f":"IFERROR(VLOOKUP(A41,ObData!$A$2:$I$300,5,0),\"\")","v":0},""]
[{"$f":"IFERROR(INDEX(ObData!$A$2:$A$300,MATCH(1,(Data!M42>=ObData!$H$2:$H$300)*(Data!M42<=ObData!$I$2:$I$300),0)),\"N/A\")","v":""},{"$f":"BehaviorLogEntries!A42","v":0},{"$f":"BehaviorLogEntries!B42","v":0},{"$f":"BehaviorLogEntries!C42","v":0},{"$f":"BehaviorLogEntries!D42","v":0},{"$f":"BehaviorLogEntries!E42","v":0},{"$f":"BehaviorLogEntries!F42","v":0},{"$f":"BehaviorLogEntries!G42","v":0},{"$f":"BehaviorLogEntries!H42","v":0},{"$f":"BehaviorLogEntries!J42","v":0},"","","","","",{"$f":"IFERROR(VLOOKUP(A42,ObData!$A$2:$I$300,5,0),\"\")","v":0},""]
[{"$f":"IFERROR(INDEX(ObData!$A$2:$A$300,MATCH(1,(Data!M43>=ObData!$H$2:$H$300)*(Data!M43<=ObData!$I$2:$I$300),0)),\"N/A\")","v":""},{"$f":"BehaviorLogEntries!A43","v":0},{"$f":"BehaviorLogEntries!B43","v":0},{"$f":"BehaviorLogEntries!C43","v":0},{"$f":"BehaviorLogEntries!D43","v":0},{"$f":"BehaviorLogEntries!E43","v":0},{"$f":"BehaviorLogEntries!F43","v":0},{"$f":"BehaviorLogEntries!G43","v":0},{"$f":"BehaviorLogEntries!H43","v":0},{"$f":"BehaviorLogEntries!J43","v":0},"","","","","",{"$f":"IFERROR(VLOOKUP(A43,ObData!$A$2:$I$300,5,0),\"\")","v":0},""]
[{"$f":"IFERROR(INDEX(ObData!$A$2:$A$300,MATCH(1,(Data!M44>=ObData!$H$2:$H$300)*(Data!M44<=ObData!$I$2:$I$300),0)),\"N/A\")","v":""},{"$f":"BehaviorLogEntries!A44","v":0},{"$f":"BehaviorLogEntries!B44","v":0},{"$f":"BehaviorLogEntries!C44","v":0},{"$f":"BehaviorLogEntries!D44","v":0},{"$f":"BehaviorLogEntries!E44","v":0},{"$f":"BehaviorLogEntries!F44","v":0},{"$f":"BehaviorLogEntries!G44","v":0},{"$f":"BehaviorLogEntries!H44","v":0},{"$f":"BehaviorLogEntries!J44","v":0},"","","","","",{"$f":"IFERROR(VLOOKUP(A44,ObData!$A$2:$I$300,5,0),\"\")","v":0},""]
[{"$f":"IFERROR(INDEX(ObData!$A$2:$A$300,MATCH(1,(Data!M45>=ObData!$H$2:$H$300)*(Data!M45<=ObData!$I$2:$I$300),0)),\"N/A\")","v":""},{"$f":"BehaviorLogEntries!A45","v":0},{"$f":"BehaviorLogEntries!B45","v":0},{"$f":"BehaviorLogEntries!C45","v":0},{"$f":"BehaviorLogEntries!D45","v":0},{"$f":"BehaviorLogEntries!E45","v":0},{"$f":"BehaviorLogEntries!F45","v":0},{"$f":"BehaviorLogEntries!G45","v":0},{"$f":"BehaviorLogEntries!H45","v":0},{"$f":"BehaviorLogEntries!J45","v":0},"","","","","",{"$f":"IFERROR(VLOOKUP(A45,ObData!$A$2:$I$300,5,0),\"\")","v":0},""]
[{"$f":"IFERROR(INDEX(ObData!$A$2:$A$300,MATCH(1,(Data!M46>=ObData!$H$2:$H$300)*(Data!M46<=ObData!$I$2:$I$300),0)),\"N/A\")","v":""},{"$f":"BehaviorLogEntries!A46","v":0},{"$f":"BehaviorLogEntries!B46","v":0},{"$f":"BehaviorLogEntries!C46","v":0},{"$f":"BehaviorLogEntries!D46","v":0},{"$f":"BehaviorLogEntries!E46","v":0},{"$f":"BehaviorLogEntries!F46","v":0},{"$f":"BehaviorLogEntries!G46","v":0},{"$f":"BehaviorLogEntries!H46","v":0},{"$f":"BehaviorLogEntries!J46","v":0},"","","","","",{"$f":"IFERROR(VLOOKUP(A46,ObData!$A$2:$I$300,5,0),\"\")","v":0},""]
[{"$f":"IFERROR(INDEX(ObData!$A$2:$A$300,MATCH(1,(Data!M47>=ObData!$H$2:$H$300)*(Data!M47<=ObData!$I$2:$I$300),0)),\"N/A\")","v":""},{"$f":"BehaviorLogEntries!A47","v":0},{"$f":"BehaviorLogEntries!B47","v":0},{"$f":"BehaviorLogEntries!C47","v":0},{"$f":"BehaviorLogEntries!D47","v":0},{"$f":"BehaviorLogEntries!E47","v":0},{"$f":"BehaviorLogEntries!F47","v":0},{"$f":"BehaviorLogEntries!G47","v":0},{"$f":"BehaviorLogEntries!H47","v":0},{"$f":"BehaviorLogEntries!J47","v":0},"","","","","",{"$f":"IFERROR(VLOOKUP(A47,ObData!$A$2:$I$300,5,0),\"\")","v":0},""]
[{"$f":"IFERROR(INDEX(ObData!$A$2:$A$300,MATCH(1,(Data!M48>=ObData!$H$2:$H$300)*(Data!M48<=ObData!$I$2:$I$300),0)),\"N/A\")","v":""},{"$f":"BehaviorLogEntries!A48","v":0},{"$f":"BehaviorLogEntries!B48","v":0},{"$f":"BehaviorLogEntries!C48","v":0},{"$f":"BehaviorLogEntries!D48","v":0},{"$f":"BehaviorLogEntries!E48","v":0},{"$f":"BehaviorLogEntries!F48","v":0},{"$f":"BehaviorLogEntries!G48","v":0},{"$f":"BehaviorLogEntries!H48","v":0},{"$f":"BehaviorLogEntries!J48","v":0},"","","","","",{"$f":"IFERROR(VLOOKUP(A48,ObData!$A$2:$I$300,5,0),\"\")","v":0},""]
[{"$f":"IFERROR(INDEX(ObData!$A$2:$A$300,MATCH(1,(Data!M49>=ObData!$H$2:$H$300)*(Data!M49<=ObData!$I$2:$I$300),0)),\"N/A\")","v":""},{"$f":"BehaviorLogEntries!A49","v":0},{"$f":"BehaviorLogEntries!B49","v":0},{"$f":"BehaviorLogEntries!C49","v":0},{"$f":"BehaviorLogEntries!D49","v":0},{"$f":"BehaviorLogEntries!E49","v":0},{"$f":"BehaviorLogEntries!F49","v":0},{"$f":"BehaviorLogEntries!G49","v":0},{"$f":"BehaviorLogEntries!H49","v":0},{"$f":"BehaviorLogEntries!J49","v":0},"","","","","",{"$f":"IFERROR(VLOOKUP(A49,ObData!$A$2:$I$300,5,0),\"\")","v":0},""]
[{"$f":"IFERROR(INDEX(ObData!$A$2:$A$300,MATCH(1,(Data!M50>=ObData!$H$2:$H$300)*(Data!M50<=ObData!$I$2:$I$300),0)),\"N/A\")","v":""},{"$f":"BehaviorLogEntries!A50","v":0},{"$f":"BehaviorLogEntries!B50","v":0},{"$f":"BehaviorLogEntries!C50","v":0},{"$f":"BehaviorLogEntries!D50","v":0},{"$f":"BehaviorLogEntries!E50","v":0},{"$f":"BehaviorLogEntries!F50","v":0},{"$f":"BehaviorLogEntries!G50","v":0},{"$f":"BehaviorLogEntries!H50","v":0},{"$f":"BehaviorLogEntries!J50","v":0},"","","","","",{"$f":"IFERROR(VLOOKUP(A50,ObData!$A$2:$I$300,5,0),\"\")","v":0},""]
[{"$f":"IFERROR(INDEX(ObData!$A$2:$A$300,MATCH(1,(Data!M51>=ObData!$H$2:$H$300)*(Data!M51<=ObData!$I$2:$I$300),0)),\"N/A\")","v":""},{"$f":"BehaviorLogEntries!A51","v":0},{"$f":"BehaviorLogEntries!B51","v":0},{"$f":"BehaviorLogEntries!C51","v":0},{"$f":"BehaviorLogEntries!D51","v":0},{"$f":"BehaviorLogEntries!E51","v":0},{"$f":"BehaviorLogEntries!F51","v":0},{"$f":"BehaviorLogEntries!G51","v":0},{"$f":"BehaviorLogEntries!H51","v":0},{"$f":"BehaviorLogEntries!J51","v":0},"","","","","",{"$f":"IFERROR(VLOOKUP(A51,ObData!$A$2:$I$300,5,0),\"\")","v":0},""]
[{"$f":"IFERROR(INDEX(ObData!$A$2:$A$300,MATCH(1,(Data!M52>=ObData!$H$2:$H$300)*(Data!M52<=ObData!$I$2:$I$300),0)),\"N/A\")","v":""},{"$f":"BehaviorLogEntries!A52","v":0},{"$f":"BehaviorLogEntries!B52","v":0},{"$f":"BehaviorLogEntries!C52","v":0},{"$f":"BehaviorLogEntries!D52","v":0},{"$f":"BehaviorLogEntries!E52","v":0},{"$f":"BehaviorLogEntries!F52","v":0},{"$f":"BehaviorLogEntries!G52","v":0},{"$f":"BehaviorLogEntries!H52","v":0},{"$f":"BehaviorLogEntries!J52","v":0},"","","","","",{"$f":"IFERROR(VLOOKUP(A52,ObData!$A$2:$I$300,5,0),\"\")","v":0},""]
[{"$f":"IFERROR(INDEX(ObData!$A$2:$A$300,MATCH(1,(Data!M53>=ObData!$H$2:$H$300)*(Data!M53<=ObData!$I$2:$I$300),0)),\"N/A\")","v":""},{"$f":"BehaviorLogEntries!A53","v":0},{"$f":"BehaviorLogEntries!B53","v":0},{"$f":"BehaviorLogEntries!C53","v":0},{"$f":"BehaviorLogEntries!D53","v":0},{"$f":"BehaviorLogEntries!E53","v":0},{"$f":"BehaviorLogEntries!F53","v":0},{"$f":"BehaviorLogEntries!G53","v":0},{"$f":"BehaviorLogEntries!H53","v":0},{"$f":"BehaviorLogEntries!J53","v":0},"","","","","",{"$f":"IFERROR(VLOOKUP(A53,ObData!$A$2:$I$300,5,0),\"\")","v":0},""]
[{"$f":"IFERROR(INDEX(ObData!$A$2:$A$300,MATCH(1,(Data!M54>=ObData!$H$2:$H$300)*(Data!M54<=ObData!$I$2:$I$300),0)),\"N/A\")","v":""},{"$f":"BehaviorLogEntries!A54","v":0},{"$f":"BehaviorLogEntries!B54","v":0},{"$f":"BehaviorLogEntries!C54","v":0},{"$f":"BehaviorLogEntries!D54","v":0},{"$f":"BehaviorLogEntries!E54","v":0},{"$f":"BehaviorLogEntries!F54","v":0},{"$f":"BehaviorLogEntries!G54","v":0},{"$f":"BehaviorLogEntries!H54","v":0},{"$f":"BehaviorLogEntries!J54","v":0},"","","","","",{"$f":"IFERROR(VLOOKUP(A54,ObData!$A$2:$I$300,5,0),\"\")","v":0},""]
[{"$f":"IFERROR(INDEX(ObData!$A$2:$A$300,MATCH(1,(Data!M55>=ObData!$H$2:$H$300)*(Data!M55<=ObData!$I$2:$I$300),0)),\"N/A\")","v":""},{"$f":"BehaviorLogEntries!A55","v":0},{"$f":"BehaviorLogEntries!B55","v":0},{"$f":"BehaviorLogEntries!C55","v":0},{"$f":"BehaviorLogEntries!D55","v":0},{"$f":"BehaviorLogEntries!E55","v":0},{"$f":"BehaviorLogEntries!F55","v":0},{"$f":"BehaviorLogEntries!G55","v":0},{"$f":"BehaviorLogEntries!H55","v":0},{"$f":"BehaviorLogEntries!J55","v":0},"","","","","",{"$f":"IFERROR(VLOOKUP(A55,ObData!$A$2:$I$300,5,0),\"\")","v":0},""]
[{"$f":"IFERROR(INDEX(ObData!$A$2:$A$300,MATCH(1,(Data!M56>=ObData!$H$2:$H$300)*(Data!M56<=ObData!$I$2:$I$300),0)),\"N/A\")","v":""},{"$f":"BehaviorLogEntries!A56","v":0},{"$f":"BehaviorLogEntries!B56","v":0},{"$f":"BehaviorLogEntries!C56","v":0},{"$f":"BehaviorLogEntries!D56","v":0},{"$f":"BehaviorLogEntries!E56","v":0},{"$f":"BehaviorLogEntries!F56","v":0},{"$f":"BehaviorLogEntries!G56","v":0},{"$f":"BehaviorLogEntries!H56","v":0},{"$f":"BehaviorLogEntries!J56","v":0},"","","","","",{"$f":"IFERROR(VLOOKUP(A56,ObData!$A$2:$I$300,5,0),\"\")","v":0},""]
[{"$f":"IFERROR(INDEX(ObData!$A$2:$A$300,MATCH(1,(Data!M57>=ObData!$H$2:$H$300)*(Data!M57<=ObData!$I$2:$I$300),0)),\"N/A\")","v":""},{"$f":"BehaviorLogEntries!A57","v":0},{"$f":"BehaviorLogEntries!B57","v":0},{"$f":"BehaviorLogEntries!C57","v":0},{"$f":"BehaviorLogEntries!D57","v":0},{"$f":"BehaviorLogEntries!E57","v":0},{"$f":"BehaviorLogEntries!F57","v":0},{"$f":"BehaviorLogEntries!G57","v":0},{"$f":"BehaviorLogEntries!H57","v":0},{"$f":"BehaviorLogEntries!J57","v":0},"","","","","",{"$f":"IFERROR(VLOOKUP(A57,ObData!$A$2:$I$300,5,0),\"\")","v":0},""]
[{"$f":"IFERROR(INDEX(ObData!$A$2:$A$300,MATCH(1,(Data!M58>=ObData!$H$2:$H$300)*(Data!M58<=ObData!$I$2:$I$300),0)),\"N/A\")","v":""},{"$f":"BehaviorLogEntries!A58","v":0},{"$f":"BehaviorLogEntries!B58","v":0},{"$f":"BehaviorLogEntries!C58","v":0},{"$f":"BehaviorLogEntries!D58","v":0},{"$f":"BehaviorLogEntries!E58","v":0},{"$f":"BehaviorLogEntries!F58","v":0},{"$f":"BehaviorLogEntries!G58","v":0},{"$f":"BehaviorLogEntries!H58","v":0},{"$f":"BehaviorLogEntries!J58","v":0},"","","","","",{"$f":"IFERROR(VLOOKUP(A58,ObData!$A$2:$I$300,5,0),\"\")","v":0},""]
[{"$f":"IFERROR(INDEX(ObData!$A$2:$A$300,MATCH(1,(Data!M59>=ObData!$H$2:$H$300)*(Data!M59<=ObData!$I$2:$I$300),0)),\"N/A\")","v":""},{"$f":"BehaviorLogEntries!A59","v":0},{"$f":"BehaviorLogEntries!B59","v":0},{"$f":"BehaviorLogEntries!C59","v":0},{"$f":"BehaviorLogEntries!D59","v":0},{"$f":"BehaviorLogEntries!E59","v":0},{"$f":"BehaviorLogEntries!F59","v":0},{"$f":"BehaviorLogEntries!G59","v":0},{"$f":"BehaviorLogEntries!H59","v":0},{"$f":"BehaviorLogEntries!J59","v":0},"","","","","",{"$f":"IFERROR(VLOOKUP(A59,ObData!$A$2:$I$300,5,0),\"\")","v":0},""]
[{"$f":"IFERROR(INDEX(ObData!$A$2:$A$300,MATCH(1,(Data!M60>=ObData!$H$2:$H$300)*(Data!M60<=ObData!$I$2:$I$300),0)),\"N/A\")","v":""},{"$f":"BehaviorLogEntries!A60","v":0},{"$f":"BehaviorLogEntries!B60","v":0},{"$f":"BehaviorLogEntries!C60","v":0},{"$f":"BehaviorLogEntries!D60","v":0},{"$f":"BehaviorLogEntries!E60","v":0},{"$f":"BehaviorLogEntries!F60","v":0},{"$f":"BehaviorLogEntries!G60","v":0},{"$f":"BehaviorLogEntries!H60","v":0},{"$f":"BehaviorLogEntries!J60","v":0},"","","","","",{"$f":"IFERROR(VLOOKUP(A60,ObData!$A$2:$I$300,5,0),\"\")","v":0},""]
[{"$f":"IFERROR(INDEX(ObData!$A$2:$A$300,MATCH(1,(Data!M61>=ObData!$H$2:$H$300)*(Data!M61<=ObData!$I$2:$I$300),0)),\"N/A\")","v":""},{"$f":"BehaviorLogEntries!A61","v":0},{"$f":"BehaviorLogEntries!B61","v":0},{"$f":"BehaviorLogEntries!C61","v":0},{"$f":"BehaviorLogEntries!D61","v":0},{"$f":"BehaviorLogEntries!E61","v":0},{"$f":"BehaviorLogEntries!F61","v":0},{"$f":"BehaviorLogEntries!G61","v":0},{"$f":"BehaviorLogEntries!H61","v":0},{"$f":"BehaviorLogEntries!J61","v":0},"","","","","",{"$f":"IFERROR(VLOOKUP(A61,ObData!$A$2:$I$300,5,0),\"\")","v":0},""]
[{"$f":"IFERROR(INDEX(ObData!$A$2:$A$300,MATCH(1,(Data!M62>=ObData!$H$2:$H$300)*(Data!M62<=ObData!$I$2:$I$300),0)),\"N/A\")","v":""},{"$f":"BehaviorLogEntries!A62","v":0},{"$f":"BehaviorLogEntries!B62","v":0},{"$f":"BehaviorLogEntries!C62","v":0},{"$f":"BehaviorLogEntries!D62","v":0},{"$f":"BehaviorLogEntries!E62","v":0},{"$f":"BehaviorLogEntries!F62","v":0},{"$f":"BehaviorLogEntries!G62","v":0},{"$f":"BehaviorLogEntries!H62","v":0},{"$f":"BehaviorLogEntries!J62","v":0},"","","","","",{"$f":"IFERROR(VLOOKUP(A62,ObData!$A$2:$I$300,5,0),\"\")","v":0},""]
[{"$f":"IFERROR(INDEX(ObData!$A$2:$A$300,MATCH(1,(Data!M63>=ObData!$H$2:$H$300)*(Data!M63<=ObData!$I$2:$I$300),0)),\"N/A\")","v":""},{"$f":"BehaviorLogEntries!A63","v":0},{"$f":"BehaviorLogEntries!B63","v":0},{"$f":"BehaviorLogEntries!C63","v":0},{"$f":"BehaviorLogEntries!D63","v":0},{"$f":"BehaviorLogEntries!E63","v":0},{"$f":"BehaviorLogEntries!F63","v":0},{"$f":"BehaviorLogEntries!G63","v":0},{"$f":"BehaviorLogEntries!H63","v":0},{"$f":"BehaviorLogEntries!J63","v":0},"","","","","",{"$f":"IFERROR(VLOOKUP(A63,ObData!$A$2:$I$300,5,0),\"\")","v":0},""]
[{"$f":"IFERROR(INDEX(ObData!$A$2:$A$300,MATCH(1,(Data!M64>=ObData!$H$2:$H$300)*(Data!M64<=ObData!$I$2:$I$300),0)),\"N/A\")","v":""},{"$f":"BehaviorLogEntries!A64","v":0},{"$f":"BehaviorLogEntries!B64","v":0},{"$f":"BehaviorLogEntries!C64","v":0},{"$f":"BehaviorLogEntries!D64","v":0},{"$f":"BehaviorLogEntries!E64","v":0},{"$f":"BehaviorLogEntries!F64","v":0},{"$f":"BehaviorLogEntries!G64","v":0},{"$f":"BehaviorLogEntries!H64","v":0},{"$f":"BehaviorLogEntries!J64","v":0},"","","","","",{"$f":"IFERROR(VLOOKUP(A64,ObData!$A$2:$I$300,5,0),\"\")","v":0},""]
[{"$f":"IFERROR(INDEX(ObData!$A$2:$A$300,MATCH(1,(Data!M65>=ObData!$H$2:$H$300)*(Data!M65<=ObData!$I$2:$I$300),0)),\"N/A\")","v":""},{"$f":"BehaviorLogEntries!A65","v":0},{"$f":"BehaviorLogEntries!B65","v":0},{"$f":"BehaviorLogEntries!C65","v":0},{"$f":"BehaviorLogEntries!D65","v":0},{"$f":"BehaviorLogEntries!E65","v":0},{"$f":"BehaviorLogEntries!F65","v":0},{"$f":"BehaviorLogEntries!G65","v":0},{"$f":"BehaviorLogEntries!H65","v":0},{"$f":"BehaviorLogEntries!J65","v":0},"","","","","",{"$f":"IFERROR(VLOOKUP(A65,ObData!$A$2:$I$300,5,0),\"\")","v":0},""]
[{"$f":"IFERROR(INDEX(ObData!$A$2:$A$300,MATCH(1,(Data!M66>=ObData!$H$2:$H$300)*(Data!M66<=ObData!$I$2:$I$300),0)),\"N/A\")","v":""},{"$f":"BehaviorLogEntries!A66","v":0},{"$f":"BehaviorLogEntries!B66","v":0},{"$f":"BehaviorLogEntries!C66","v":0},{"$f":"BehaviorLogEntries!D66","v":0},{"$f":"BehaviorLogEntries!E66","v":0},{"$f":"BehaviorLogEntries!F66","v":0},{"$f":"BehaviorLogEntries!G66","v":0},{"$f":"BehaviorLogEntries!H66","v":0},{"$f":"BehaviorLogEntries!J66","v":0},"","","","","",{"$f":"IFERROR(VLOOKUP(A66,ObData!$A$2:$I$300,5,0),\"\")","v":0},""]
[{"$f":"IFERROR(INDEX(ObData!$A$2:$A$300,MATCH(1,(Data!M67>=ObData!$H$2:$H$300)*(Data!M67<=ObData!$I$2:$I$300),0)),\"N/A\")","v":""},{"$f":"BehaviorLogEntries!A67","v":0},{"$f":"BehaviorLogEntries!B67","v":0},{"$f":"BehaviorLogEntries!C67","v":0},{"$f":"BehaviorLogEntries!D67","v":0},{"$f":"BehaviorLogEntries!E67","v":0},{"$f":"BehaviorLogEntries!F67","v":0},{"$f":"BehaviorLogEntries!G67","v":0},{"$f":"BehaviorLogEntries!H67","v":0},{"$f":"BehaviorLogEntries!J67","v":0},{"$f":"IF(F67<>0,IF(K67=\"\",NOW(),K67),\"\")","v":""},{"$f":"IFERROR(IF(J67<>0,J67,DATE(YEAR(K67),MONTH(K67),DAY(K67))),\"\")","v":""},{"$f":"IF(B67=0,\"\",L67+F67)","v":""},{"$f":"IFERROR(IF(G67=\"Yes\",F67+0.00069444,IF(H67<>0,H67,IF(DATE(YEAR(K67),MONTH(K67),DAY(K67))<>DATE(YEAR(L67),MONTH(L67),DAY(L67)),F67+0.00069444,K67-DATE(YEAR(K67),MONTH(K67),DAY(K67))))),\"\")","v":""},{"$f":"IF(B67=0,\"\",L67+N67)","v":""},{"$f":"IFERROR(VLOOKUP(A67,ObData!$A$2:$I$300,5,0),\"\")","v":0},{"$f":"IF(F67=0,\"\",N67-F67)","v":""}]
[{"$f":"IFERROR(INDEX(ObData!$A$2:$A$300,MATCH(1,(Data!M68>=ObData!$H$2:$H$300)*(Data!M68<=ObData!$I$2:$I$300),0)),\"N/A\")","v":""},{"$f":"BehaviorLogEntries!A68","v":0},{"$f":"BehaviorLogEntries!B68","v":0},{"$f":"BehaviorLogEntries!C68","v":0},{"$f":"BehaviorLogEntries!D68","v":0},{"$f":"BehaviorLogEntries!E68","v":0},{"$f":"BehaviorLogEntries!F68","v":0},{"$f":"BehaviorLogEntries!G68","v":0},{"$f":"BehaviorLogEntries!H68","v":0},{"$f":"BehaviorLogEntries!J68","v":0},"","","","","",{"$f":"IFERROR(VLOOKUP(A68,ObData!$A$2:$I$300,5,0),\"\")","v":0},""]
[{"$f":"IFERROR(INDEX(ObData!$A$2:$A$300,MATCH(1,(Data!M69>=ObData!$H$2:$H$300)*(Data!M69<=ObData!$I$2:$I$300),0)),\"N/A\")","v":""},{"$f":"BehaviorLogEntries!A69","v":0},{"$f":"BehaviorLogEntries!B69","v":0},{"$f":"BehaviorLogEntries!C69","v":0},{"$f":"BehaviorLogEntries!D69","v":0},{"$f":"BehaviorLogEntries!E69","v":0},{"$f":"BehaviorLogEntries!F69","v":0},{"$f":"BehaviorLogEntries!G69","v":0},{"$f":"BehaviorLogEntries!H69","v":0},{"$f":"BehaviorLogEntries!J69","v":0},"","","","","",{"$f":"IFERROR(VLOOKUP(A69,ObData!$A$2:$I$300,5,0),\"\")","v":0},""]
[{"$f":"IFERROR(INDEX(ObData!$A$2:$A$300,MATCH(1,(Data!M70>=ObData!$H$2:$H$300)*(Data!M70<=ObData!$I$2:$I$300),0)),\"N/A\")","v":""},{"$f":"BehaviorLogEntries!A70","v":0},{"$f":"BehaviorLogEntries!B70","v":0},{"$f":"BehaviorLogEntries!C70","v":0},{"$f":"BehaviorLogEntries!D70","v":0},{"$f":"BehaviorLogEntries!E70","v":0},{"$f":"BehaviorLogEntries!F70","v":0},{"$f":"BehaviorLogEntries!G70","v":0},{"$f":"BehaviorLogEntries!H70","v":0},{"$f":"BehaviorLogEntries!J70","v":0},"","","","","",{"$f":"IFERROR(VLOOKUP(A70,ObData!$A$2:$I$300,5,0),\"\")","v":0},""]
[{"$f":"IFERROR(INDEX(ObData!$A$2:$A$300,MATCH(1,(Data!M71>=ObData!$H$2:$H$300)*(Data!M71<=ObData!$I$2:$I$300),0)),\"N/A\")","v":""},{"$f":"BehaviorLogEntries!A71","v":0},{"$f":"BehaviorLogEntries!B71","v":0},{"$f":"BehaviorLogEntries!C71","v":0},{"$f":"BehaviorLogEntries!D71","v":0},{"$f":"BehaviorLogEntries!E71","v":0},{"$f":"BehaviorLogEntries!F71","v":0},{"$f":"BehaviorLogEntries!G71","v":0},{"$f":"BehaviorLogEntries!H71","v":0},{"$f":"BehaviorLogEntries!J71","v":0},"","","","","",{"$f":"IFERROR(VLOOKUP(A71,ObData!$A$2:$I$300,5,0),\"\")","v":0},""]
[{"$f":"IFERROR(INDEX(ObData!$A$2:$A$300,MATCH(1,(Data!M72>=ObData!$H$2:$H$300)*(Data!M72<=ObData!$I$2:$I$300),0)),\"N/A\")","v":""},{"$f":"BehaviorLogEntries!A72","v":0},{"$f":"BehaviorLogEntries!B72","v":0},{"$f":"BehaviorLogEntries!C72","v":0},{"$f":"BehaviorLogEntries!D72","v":0},{"$f":"BehaviorLogEntries!E72","v":0},{"$f":"BehaviorLogEntries!F72","v":0},{"$f":"BehaviorLogEntries!G72","v":0},{"$f":"BehaviorLogEntries!H72","v":0},{"$f":"BehaviorLogEntries!J72","v":0},"","","","","",{"$f":"IFERROR(VLOOKUP(A72,ObData!$A$2:$I$300,5,0),\"\")","v":0},""]
[{"$f":"IFERROR(INDEX(ObData!$A$2:$A$300,MATCH(1,(Data!M73>=ObData!$H$2:$H$300)*(Data!M73<=ObData!$I$2:$I$300),0)),\"N/A\")","v":""},{"$f":"BehaviorLogEntries!A73","v":0},{"$f":"BehaviorLogEntries!B73","v":0},{"$f":"BehaviorLogEntries!C73","v":0},{"$f":"BehaviorLogEntries!D73","v":0},{"$f":"BehaviorLogEntries!E73","v":0},{"$f":"BehaviorLogEntries!F73","v":0},{"$f":"BehaviorLogEntries!G73","v":0},{"$f":"BehaviorLogEntries!H73","v":0},{"$f":"BehaviorLogEntries!J73","v":0},"","","","","",{"$f":"IFERROR(VLOOKUP(A73,ObData!$A$2:$I$300,5,0),\"\")","v":0},""]
[{"$f":"IFERROR(INDEX(ObData!$A$2:$A$300,MATCH(1,(Data!M74>=ObData!$H$2:$H$300)*(Data!M74<=ObData!$I$2:$I$300),0)),\"N/A\")","v":""},{"$f":"BehaviorLogEntries!A74","v":0},{"$f":"BehaviorLogEntries!B74","v":0},{"$f":"BehaviorLogEntries!C74","v":0},{"$f":"BehaviorLogEntries!D74","v":0},{"$f":"BehaviorLogEntries!E74","v":0},{"$f":"BehaviorLogEntries!F74","v":0},{"$f":"BehaviorLogEntries!G74","v":0},{"$f":"BehaviorLogEntries!H74","v":0},{"$f":"BehaviorLogEntries!J74","v":0},"","","","","",{"$f":"IFERROR(VLOOKUP(A74,ObData!$A$2:$I$300,5,0),\"\")","v":0},""]
[{"$f":"IFERROR(INDEX(ObData!$A$2:$A$300,MATCH(1,(Data!M75>=ObData!$H$2:$H$300)*(Data!M75<=ObData!$I$2:$I$300),0)),\"N/A\")","v":""},{"$f":"BehaviorLogEntries!A75","v":0},{"$f":"BehaviorLogEntries!B75","v":0},{"$f":"BehaviorLogEntries!C75","v":0},{"$f":"BehaviorLogEntries!D75","v":0},{"$f":"BehaviorLogEntries!E75","v":0},{"$f":"BehaviorLogEntries!F75","v":0},{"$f":"BehaviorLogEntries!G75","v":0},{"$f":"BehaviorLogEntries!H75","v":0},{"$f":"BehaviorLogEntries!J75","v":0},"","","","","",{"$f":"IFERROR(VLOOKUP(A75,ObData!$A$2:$I$300,5,0),\"\")","v":0},""]
[{"$f":"IFERROR(INDEX(ObData!$A$2:$A$300,MATCH(1,(Data!M76>=ObData!$H$2:$H$300)*(Data!M76<=ObData!$I$2:$I$300),0)),\"N/A\")","v":""},{"$f":"BehaviorLogEntries!A76","v":0},{"$f":"BehaviorLogEntries!B76","v":0},{"$f":"BehaviorLogEntries!C76","v":0},{"$f":"BehaviorLogEntries!D76","v":0},{"$f":"BehaviorLogEntries!E76","v":0},{"$f":"BehaviorLogEntries!F76","v":0},{"$f":"BehaviorLogEntries!G76","v":0},{"$f":"BehaviorLogEntries!H76","v":0},{"$f":"BehaviorLogEntries!J76","v":0},"","","","","",{"$f":"IFERROR(VLOOKUP(A76,ObData!$A$2:$I$300,5,0),\"\")","v":0},""]
[{"$f":"IFERROR(INDEX(ObData!$A$2:$A$300,MATCH(1,(Data!M77>=ObData!$H$2:$H$300)*(Data!M77<=ObData!$I$2:$I$300),0)),\"N/A\")","v":""},{"$f":"BehaviorLogEntries!A77","v":0},{"$f":"BehaviorLogEntries!B77","v":0},{"$f":"BehaviorLogEntries!C77","v":0},{"$f":"BehaviorLogEntries!D77","v":0},{"$f":"BehaviorLogEntries!E77","v":0},{"$f":"BehaviorLogEntries!F77","v":0},{"$f":"BehaviorLogEntries!G77","v":0},{"$f":"BehaviorLogEntries!H77","v":0},{"$f":"BehaviorLogEntries!J77","v":0},"","","","","",{"$f":"IFERROR(VLOOKUP(A77,ObData!$A$2:$I$300,5,0),\"\")","v":0},""]
[{"$f":"IFERROR(INDEX(ObData!$A$2:$A$300,MATCH(1,(Data!M78>=ObData!$H$2:$H$300)*(Data!M78<=ObData!$I$2:$I$300),0)),\"N/A\")","v":""},{"$f":"BehaviorLogEntries!A78","v":0},{"$f":"BehaviorLogEntries!B78","v":0},{"$f":"BehaviorLogEntries!C78","v":0},{"$f":"BehaviorLogEntries!D78","v":0},{"$f":"BehaviorLogEntries!E78","v":0},{"$f":"BehaviorLogEntries!F78","v":0},{"$f":"BehaviorLogEntries!G78","v":0},{"$f":"BehaviorLogEntries!H78","v":0},{"$f":"BehaviorLogEntries!J78","v":0},"","","","","",{"$f":"IFERROR(VLOOKUP(A78,ObData!$A$2:$I$300,5,0),\"\")","v":0},""]
[{"$f":"IFERROR(INDEX(ObData!$A$2:$A$300,MATCH(1,(Data!M79>=ObData!$H$2:$H$300)*(Data!M79<=ObData!$I$2:$I$300),0)),\"N/A\")","v":""},{"$f":"BehaviorLogEntries!A79","v":0},{"$f":"BehaviorLogEntries!B79","v":0},{"$f":"BehaviorLogEntries!C79","v":0},{"$f":"BehaviorLogEntries!D79","v":0},{"$f":"BehaviorLogEntries!E79","v":0},{"$f":"BehaviorLogEntries!F79","v":0},{"$f":"BehaviorLogEntries!G79","v":0},{"$f":"BehaviorLogEntries!H79","v":0},{"$f":"BehaviorLogEntries!J79","v":0},"","","","","",{"$f":"IFERROR(VLOOKUP(A79,ObData!$A$2:$I$300,5,0),\"\")","v":0},""]
[{"$f":"IFERROR(INDEX(ObData!$A$2:$A$300,MATCH(1,(Data!M80>=ObData!$H$2:$H$300)*(Data!M80<=ObData!$I$2:$I$300),0)),\"N/A\")","v":""},{"$f":"BehaviorLogEntries!A80","v":0},{"$f":"BehaviorLogEntries!B80","v":0},{"$f":"BehaviorLogEntries!C80","v":0},{"$f":"BehaviorLogEntries!D80","v":0},{"$f":"BehaviorLogEntries!E80","v":0},{"$f":"BehaviorLogEntries!F80","v":0},{"$f":"BehaviorLogEntries!G80","v":0},{"$f":"BehaviorLogEntries!H80","v":0},{"$f":"BehaviorLogEntries!J80","v":0},"","","","","",{"$f":"IFERROR(VLOOKUP(A80,ObData!$A$2:$I$300,5,0),\"\")","v":0},""]
[{"$f":"IFERROR(INDEX(ObData!$A$2:$A$300,MATCH(1,(Data!M81>=ObData!$H$2:$H$300)*(Data!M81<=ObData!$I$2:$I$300),0)),\"N/A\")","v":""},{"$f":"BehaviorLogEntries!A81","v":0},{"$f":"BehaviorLogEntries!B81","v":0},{"$f":"BehaviorLogEntries!C81","v":0},{"$f":"BehaviorLogEntries!D81","v":0},{"$f":"BehaviorLogEntries!E81","v":0},{"$f":"BehaviorLogEntries!F81","v":0},{"$f":"BehaviorLogEntries!G81","v":0},{"$f":"BehaviorLogEntries!H81","v":0},{"$f":"BehaviorLogEntries!J81","v":0},"","","","","",{"$f":"IFERROR(VLOOKUP(A81,ObData!$A$2:$I$300,5,0),\"\")","v":0},""]
[{"$f":"IFERROR(INDEX(ObData!$A$2:$A$300,MATCH(1,(Data!M82>=ObData!$H$2:$H$300)*(Data!M82<=ObData!$I$2:$I$300),0)),\"N/A\")","v":""},{"$f":"BehaviorLogEntries!A82","v":0},{"$f":"BehaviorLogEntries!B82","v":0},{"$f":"BehaviorLogEntries!C82","v":0},{"$f":"BehaviorLogEntries!D82","v":0},{"$f":"BehaviorLogEntries!E82","v":0},{"$f":"BehaviorLogEntries!F82","v":0},{"$f":"BehaviorLogEntries!G82","v":0},{"$f":"BehaviorLogEntries!H82","v":0},{"$f":"BehaviorLogEntries!J82","v":0},"","","","","",{"$f":"IFERROR(VLOOKUP(A82,ObData!$A$2:$I$300,5,0),\"\")","v":0},""]
[{"$f":"IFERROR(INDEX(ObData!$A$2:$A$300,MATCH(1,(Data!M83>=ObData!$H$2:$H$300)*(Data!M83<=ObData!$I$2:$I$300),0)),\"N/A\")","v":""},{"$f":"BehaviorLogEntries!A83","v":0},{"$f":"BehaviorLogEntries!B83","v":0},{"$f":"BehaviorLogEntries!C83","v":0},{"$f":"BehaviorLogEntries!D83","v":0},{"$f":"BehaviorLogEntries!E83","v":0},{"$f":"BehaviorLogEntries!F83","v":0},{"$f":"BehaviorLogEntries!G83","v":0},{"$f":"BehaviorLogEntries!H83","v":0},{"$f":"BehaviorLogEntries!J83","v":0},"","","","","",{"$f":"IFERROR(VLOOKUP(A83,ObData!$A$2:$I$300,5,0),\"\")","v":0},""]
[{"$f":"IFERROR(INDEX(ObData!$A$2:$A$300,MATCH(1,(Data!M84>=ObData!$H$2:$H$300)*(Data!M84<=ObData!$I$2:$I$300),0)),\"N/A\")","v":""},{"$f":"BehaviorLogEntries!A84","v":0},{"$f":"BehaviorLogEntries!B84","v":0},{"$f":"BehaviorLogEntries!C84","v":0},{"$f":"BehaviorLogEntries!D84","v":0},{"$f":"BehaviorLogEntries!E84","v":0},{"$f":"BehaviorLogEntries!F84","v":0},{"$f":"BehaviorLogEntries!G84","v":0},{"$f":"BehaviorLogEntries!H84","v":0},{"$f":"BehaviorLogEntries!J84","v":0},"","","","","",{"$f":"IFERROR(VLOOKUP(A84,ObData!$A$2:$I$300,5,0),\"\")","v":0},""]
[{"$f":"IFERROR(INDEX(ObData!$A$2:$A$300,MATCH(1,(Data!M85>=ObData!$H$2:$H$300)*(Data!M85<=ObData!$I$2:$I$300),0)),\"N/A\")","v":""},{"$f":"BehaviorLogEntries!A85","v":0},{"$f":"BehaviorLogEntries!B85","v":0},{"$f":"BehaviorLogEntries!C85","v":0},{"$f":"BehaviorLogEntries!D85","v":0},{"$f":"BehaviorLogEntries!E85","v":0},{"$f":"BehaviorLogEntries!F85","v":0},{"$f":"BehaviorLogEntries!G85","v":0},{"$f":"BehaviorLogEntries!H85","v":0},{"$f":"BehaviorLogEntries!J85","v":0},"","","","","",{"$f":"IFERROR(VLOOKUP(A85,ObData!$A$2:$I$300,5,0),\"\")","v":0},""]
[{"$f":"IFERROR(INDEX(ObData!$A$2:$A$300,MATCH(1,(Data!M86>=ObData!$H$2:$H$300)*(Data!M86<=ObData!$I$2:$I$300),0)),\"N/A\")","v":""},{"$f":"BehaviorLogEntries!A86","v":0},{"$f":"BehaviorLogEntries!B86","v":0},{"$f":"BehaviorLogEntries!C86","v":0},{"$f":"BehaviorLogEntries!D86","v":0},{"$f":"BehaviorLogEntries!E86","v":0},{"$f":"BehaviorLogEntries!F86","v":0},{"$f":"BehaviorLogEntries!G86","v":0},{"$f":"BehaviorLogEntries!H86","v":0},{"$f":"BehaviorLogEntries!J86","v":0},"","","","","",{"$f":"IFERROR(VLOOKUP(A86,ObData!$A$2:$I$300,5,0),\"\")","v":0},""]
[{"$f":"IFERROR(INDEX(ObData!$A$2:$A$300,MATCH(1,(Data!M87>=ObData!$H$2:$H$300)*(Data!M87<=ObData!$I$2:$I$300),0)),\"N/A\")","v":""},{"$f":"BehaviorLogEntries!A87","v":0},{"$f":"BehaviorLogEntries!B87","v":0},{"$f":"BehaviorLogEntries!C87","v":0},{"$f":"BehaviorLogEntries!D87","v":0},{"$f":"BehaviorLogEntries!E87","v":0},{"$f":"BehaviorLogEntries!F87","v":0},{"$f":"BehaviorLogEntries!G87","v":0},{"$f":"BehaviorLogEntries!H87","v":0},{"$f":"BehaviorLogEntries!J87","v":0},"","","","","",{"$f":"IFERROR(VLOOKUP(A87,ObData!$A$2:$I$300,5,0),\"\")","v":0},""]
[{"$f":"IFERROR(INDEX(ObData!$A$2:$A$300,MATCH(1,(Data!M88>=ObData!$H$2:$H$300)*(Data!M88<=ObData!$I$2:$I$300),0)),\"N/A\")","v":""},{"$f":"BehaviorLogEntries!A88","v":0},{"$f":"BehaviorLogEntries!B88","v":0},{"$f":"BehaviorLogEntries!C88","v":0},{"$f":"BehaviorLogEntries!D88","v":0},{"$f":"BehaviorLogEntries!E88","v":0},{"$f":"BehaviorLogEntries!F88","v":0},{"$f":"BehaviorLogEntries!G88","v":0},{"$f":"BehaviorLogEntries!H88","v":0},{"$f":"BehaviorLogEntries!J88","v":0},"","","","","",{"$f":"IFERROR(VLOOKUP(A88,ObData!$A$2:$I$300,5,0),\"\")","v":0},""]
[{"$f":"IFERROR(INDEX(ObData!$A$2:$A$300,MATCH(1,(Data!M89>=ObData!$H$2:$H$300)*(Data!M89<=ObData!$I$2:$I$300),0)),\"N/A\")","v":""},{"$f":"BehaviorLogEntries!A89","v":0},{"$f":"BehaviorLogEntries!B89","v":0},{"$f":"BehaviorLogEntries!C89","v":0},{"$f":"BehaviorLogEntries!D89","v":0},{"$f":"BehaviorLogEntries!E89","v":0},{"$f":"BehaviorLogEntries!F89","v":0},{"$f":"BehaviorLogEntries!G89","v":0},{"$f":"BehaviorLogEntries!H89","v":0},{"$f":"BehaviorLogEntries!J89","v":0},"","","","","",{"$f":"IFERROR(VLOOKUP(A89,ObData!$A$2:$I$300,5,0),\"\")","v":0},""]
[{"$f":"IFERROR(INDEX(ObData!$A$2:$A$300,MATCH(1,(Data!M90>=ObData!$H$2:$H$300)*(Data!M90<=ObData!$I$2:$I$300),0)),\"N/A\")","v":""},{"$f":"BehaviorLogEntries!A90","v":0},{"$f":"BehaviorLogEntries!B90","v":0},{"$f":"BehaviorLogEntries!C90","v":0},{"$f":"BehaviorLogEntries!D90","v":0},{"$f":"BehaviorLogEntries!E90","v":0},{"$f":"BehaviorLogEntries!F90","v":0},{"$f":"BehaviorLogEntries!G90","v":0},{"$f":"BehaviorLogEntries!H90","v":0},{"$f":"BehaviorLogEntries!J90","v":0},"","","","","",{"$f":"IFERROR(VLOOKUP(A90,ObData!$A$2:$I$300,5,0),\"\")","v":0},""]
[{"$f":"IFERROR(INDEX(ObData!$A$2:$A$300,MATCH(1,(Data!M91>=ObData!$H$2:$H$300)*(Data!M91<=ObData!$I$2:$I$300),0)),\"N/A\")","v":""},{"$f":"BehaviorLogEntries!A91","v":0},{"$f":"BehaviorLogEntries!B91","v":0},{"$f":"BehaviorLogEntries!C91","v":0},{"$f":"BehaviorLogEntries!D91","v":0},{"$f":"BehaviorLogEntries!E91","v":0},{"$f":"BehaviorLogEntries!F91","v":0},{"$f":"BehaviorLogEntries!G91","v":0},{"$f":"BehaviorLogEntries!H91","v":0},{"$f":"BehaviorLogEntries!J91","v":0},"","","","","",{"$f":"IFERROR(VLOOKUP(A91,ObData!$A$2:$I$300,5,0),\"\")","v":0},""]
[{"$f":"IFERROR(INDEX(ObData!$A$2:$A$300,MATCH(1,(Data!M92>=ObData!$H$2:$H$300)*(Data!M92<=ObData!$I$2:$I$300),0)),\"N/A\")","v":""},{"$f":"BehaviorLogEntries!A92","v":0},{"$f":"BehaviorLogEntries!B92","v":0},{"$f":"BehaviorLogEntries!C92","v":0},{"$f":"BehaviorLogEntries!D92","v":0},{"$f":"BehaviorLogEntries!E92","v":0},{"$f":"BehaviorLogEntries!F92","v":0},{"$f":"BehaviorLogEntries!G92","v":0},{"$f":"BehaviorLogEntries!H92","v":0},{"$f":"BehaviorLogEntries!J92","v":0},"","","","","",{"$f":"IFERROR(VLOOKUP(A92,ObData!$A$2:$I$300,5,0),\"\")","v":0},""]
[{"$f":"IFERROR(INDEX(ObData!$A$2:$A$300,MATCH(1,(Data!M93>=ObData!$H$2:$H$300)*(Data!M93<=ObData!$I$2:$I$300),0)),\"N/A\")","v":""},{"$f":"BehaviorLogEntries!A93","v":0},{"$f":"BehaviorLogEntries!B93","v":0},{"$f":"BehaviorLogEntries!C93","v":0},{"$f":"BehaviorLogEntries!D93","v":0},{"$f":"BehaviorLogEntries!E93","v":0},{"$f":"BehaviorLogEntries!F93","v":0},{"$f":"BehaviorLogEntries!G93","v":0},{"$f":"BehaviorLogEntries!H93","v":0},{"$f":"BehaviorLogEntries!J93","v":0},"","","","","",{"$f":"IFERROR(VLOOKUP(A93,ObData!$A$2:$I$300,5,0),\"\")","v":0},""]
[{"$f":"IFERROR(INDEX(ObData!$A$2:$A$300,MATCH(1,(Data!M94>=ObData!$H$2:$H$300)*(Data!M94<=ObData!$I$2:$I$300),0)),\"N/A\")","v":""},{"$f":"BehaviorLogEntries!A94","v":0},{"$f":"BehaviorLogEntries!B94","v":0},{"$f":"BehaviorLogEntries!C94","v":0},{"$f":"BehaviorLogEntries!D94","v":0},{"$f":"BehaviorLogEntries!E94","v":0},{"$f":"BehaviorLogEntries!F94","v":0},{"$f":"BehaviorLogEntries!G94","v":0},{"$f":"BehaviorLogEntries!H94","v":0},{"$f":"BehaviorLogEntries!J94","v":0},"","","","","",{"$f":"IFERROR(VLOOKUP(A94,ObData!$A$2:$I$300,5,0),\"\")","v":0},""]
[{"$f":"IFERROR(INDEX(ObData!$A$2:$A$300,MATCH(1,(Data!M95>=ObData!$H$2:$H$300)*(Data!M95<=ObData!$I$2:$I$300),0)),\"N/A\")","v":""},{"$f":"BehaviorLogEntries!A95","v":0},{"$f":"BehaviorLogEntries!B95","v":0},{"$f":"BehaviorLogEntries!C95","v":0},{"$f":"BehaviorLogEntries!D95","v":0},{"$f":"BehaviorLogEntries!E95","v":0},{"$f":"BehaviorLogEntries!F95","v":0},{"$f":"BehaviorLogEntries!G95","v":0},{"$f":"BehaviorLogEntries!H95","v":0},{"$f":"BehaviorLogEntries!J95","v":0},"","","","","",{"$f":"IFERROR(VLOOKUP(A95,ObData!$A$2:$I$300,5,0),\"\")","v":0},""]
[{"$f":"IFERROR(INDEX(ObData!$A$2:$A$300,MATCH(1,(Data!M96>=ObData!$H$2:$H$300)*(Data!M96<=ObData!$I$2:$I$300),0)),\"N/A\")","v":""},{"$f":"BehaviorLogEntries!A96","v":0},{"$f":"BehaviorLogEntries!B96","v":0},{"$f":"BehaviorLogEntries!C96","v":0},{"$f":"BehaviorLogEntries!D96","v":0},{"$f":"BehaviorLogEntries!E96","v":0},{"$f":"BehaviorLogEntries!F96","v":0},{"$f":"BehaviorLogEntries!G96","v":0},{"$f":"BehaviorLogEntries!H96","v":0},{"$f":"BehaviorLogEntries!J96","v":0},"","","","","",{"$f":"IFERROR(VLOOKUP(A96,ObData!$A$2:$I$300,5,0),\"\")","v":0},""]
[{"$f":"IFERROR(INDEX(ObData!$A$2:$A$300,MATCH(1,(Data!M97>=ObData!$H$2:$H$300)*(Data!M97<=ObData!$I$2:$I$300),0)),\"N/A\")","v":""},{"$f":"BehaviorLogEntries!A97","v":0},{"$f":"BehaviorLogEntries!B97","v":0},{"$f":"BehaviorLogEntries!C97","v":0},{"$f":"BehaviorLogEntries!D97","v":0},{"$f":"BehaviorLogEntries!E97","v":0},{"$f":"BehaviorLogEntries!F97","v":0},{"$f":"BehaviorLogEntries!G97","v":0},{"$f":"BehaviorLogEntries!H97","v":0},{"$f":"BehaviorLogEntries!J97","v":0},"","","","","",{"$f":"IFERROR(VLOOKUP(A97,ObData!$A$2:$I$300,5,0),\"\")","v":0},""]
[{"$f":"IFERROR(INDEX(ObData!$A$2:$A$300,MATCH(1,(Data!M98>=ObData!$H$2:$H$300)*(Data!M98<=ObData!$I$2:$I$300),0)),\"N/A\")","v":""},{"$f":"BehaviorLogEntries!A98","v":0},{"$f":"BehaviorLogEntries!B98","v":0},{"$f":"BehaviorLogEntries!C98","v":0},{"$f":"BehaviorLogEntries!D98","v":0},{"$f":"BehaviorLogEntries!E98","v":0},{"$f":"BehaviorLogEntries!F98","v":0},{"$f":"BehaviorLogEntries!G98","v":0},{"$f":"BehaviorLogEntries!H98","v":0},{"$f":"BehaviorLogEntries!J98","v":0},"","","","","",{"$f":"IFERROR(VLOOKUP(A98,ObData!$A$2:$I$300,5,0),\"\")","v":0},""]
[{"$f":"IFERROR(INDEX(ObData!$A$2:$A$300,MATCH(1,(Data!M99>=ObData!$H$2:$H$300)*(Data!M99<=ObData!$I$2:$I$300),0)),\"N/A\")","v":""},{"$f":"BehaviorLogEntries!A99","v":0},{"$f":"BehaviorLogEntries!B99","v":0},{"$f":"BehaviorLogEntries!C99","v":0},{"$f":"BehaviorLogEntries!D99","v":0},{"$f":"BehaviorLogEntries!E99","v":0},{"$f":"BehaviorLogEntries!F99","v":0},{"$f":"BehaviorLogEntries!G99","v":0},{"$f":"BehaviorLogEntries!H99","v":0},{"$f":"BehaviorLogEntries!J99","v":0},"","","","","",{"$f":"IFERROR(VLOOKUP(A99,ObData!$A$2:$I$300,5,0),\"\")","v":0},""]
[{"$f":"IFERROR(INDEX(ObData!$A$2:$A$300,MATCH(1,(Data!M100>=ObData!$H$2:$H$300)*(Data!M100<=ObData!$I$2:$I$300),0)),\"N/A\")","v":""},{"$f":"BehaviorLogEntries!A100","v":0},{"$f":"BehaviorLogEntries!B100","v":0},{"$f":"BehaviorLogEntries!C100","v":0},{"$f":"BehaviorLogEntries!D100","v":0},{"$f":"BehaviorLogEntries!E100","v":0},{"$f":"BehaviorLogEntries!F100","v":0},{"$f":"BehaviorLogEntries!G100","v":0},{"$f":"BehaviorLogEntries!H100","v":0},{"$f":"BehaviorLogEntries!J100","v":0},"","","","","",{"$f":"IFERROR(VLOOKUP(A100,ObData!$A$2:$I$300,5,0),\"\")","v":0},""]
[{"$f":"IFERROR(INDEX(ObData!$A$2:$A$300,MATCH(1,(Data!M101>=ObData!$H$2:$H$300)*(Data!M101<=ObData!$I$2:$I$300),0)),\"N/A\")","v":""},{"$f":"BehaviorLogEntries!A101","v":0},{"$f":"BehaviorLogEntries!B101","v":0},{"$f":"BehaviorLogEntries!C101","v":0},{"$f":"BehaviorLogEntries!D101","v":0},{"$f":"BehaviorLogEntries!E101","v":0},{"$f":"BehaviorLogEntries!F101","v":0},{"$f":"BehaviorLogEntries!G101","v":0},{"$f":"BehaviorLogEntries!H101","v":0},{"$f":"BehaviorLogEntries!J101","v":0},"","","","","",{"$f":"IFERROR(VLOOKUP(A101,ObData!$A$2:$I$300,5,0),\"\")","v":0},""]
[{"$f":"IFERROR(INDEX(ObData!$A$2:$A$300,MATCH(1,(Data!M102>=ObData!$H$2:$H$300)*(Data!M102<=ObData!$I$2:$I$300),0)),\"N/A\")","v":""},{"$f":"BehaviorLogEntries!A102","v":0},{"$f":"BehaviorLogEntries!B102","v":0},{"$f":"BehaviorLogEntries!C102","v":0},{"$f":"BehaviorLogEntries!D102","v":0},{"$f":"BehaviorLogEntries!E102","v":0},{"$f":"BehaviorLogEntries!F102","v":0},{"$f":"BehaviorLogEntries!G102","v":0},{"$f":"BehaviorLogEntries!H102","v":0},{"$f":"BehaviorLogEntries!J102","v":0},"","","","","",{"$f":"IFERROR(VLOOKUP(A102,ObData!$A$2:$I$300,5,0),\"\")","v":0},""]
[{"$f":"IFERROR(INDEX(ObData!$A$2:$A$300,MATCH(1,(Data!M103>=ObData!$H$2:$H$300)*(Data!M103<=ObData!$I$2:$I$300),0)),\"N/A\")","v":""},{"$f":"BehaviorLogEntries!A103","v":0},{"$f":"BehaviorLogEntries!B103","v":0},{"$f":"BehaviorLogEntries!C103","v":0},{"$f":"BehaviorLogEntries!D103","v":0},{"$f":"BehaviorLogEntries!E103","v":0},{"$f":"BehaviorLogEntries!F103","v":0},{"$f":"BehaviorLogEntries!G103","v":0},{"$f":"BehaviorLogEntries!H103","v":0},{"$f":"BehaviorLogEntries!J103","v":0},"","","","","",{"$f":"IFERROR(VLOOKUP(A103,ObData!$A$2:$I$300,5,0),\"\")","v":0},""]
[{"$f":"IFERROR(INDEX(ObData!$A$2:$A$300,MATCH(1,(Data!M104>=ObData!$H$2:$H$300)*(Data!M104<=ObData!$I$2:$I$300),0)),\"N/A\")","v":""},{"$f":"BehaviorLogEntries!A104","v":0},{"$f":"BehaviorLogEntries!B104","v":0},{"$f":"BehaviorLogEntries!C104","v":0},{"$f":"BehaviorLogEntries!D104","v":0},{"$f":"BehaviorLogEntries!E104","v":0},{"$f":"BehaviorLogEntries!F104","v":0},{"$f":"BehaviorLogEntries!G104","v":0},{"$f":"BehaviorLogEntries!H104","v":0},{"$f":"BehaviorLogEntries!J104","v":0},"","","","","",{"$f":"IFERROR(VLOOKUP(A104,ObData!$A$2:$I$300,5,0),\"\")","v":0},""]
[{"$f":"IFERROR(INDEX(ObData!$A$2:$A$300,MATCH(1,(Data!M105>=ObData!$H$2:$H$300)*(Data!M105<=ObData!$I$2:$I$300),0)),\"N/A\")","v":""},{"$f":"BehaviorLogEntries!A105","v":0},{"$f":"BehaviorLogEntries!B105","v":0},{"$f":"BehaviorLogEntries!C105","v":0},{"$f":"BehaviorLogEntries!D105","v":0},{"$f":"BehaviorLogEntries!E105","v":0},{"$f":"BehaviorLogEntries!F105","v":0},{"$f":"BehaviorLogEntries!G105","v":0},{"$f":"BehaviorLogEntries!H105","v":0},{"$f":"BehaviorLogEntries!J105","v":0},"","","","","",{"$f":"IFERROR(VLOOKUP(A105,ObData!$A$2:$I$300,5,0),\"\")","v":0},""]
[{"$f":"IFERROR(INDEX(ObData!$A$2:$A$300,MATCH(1,(Data!M106>=ObData!$H$2:$H$300)*(Data!M106<=ObData!$I$2:$I$300),0)),\"N/A\")","v":""},{"$f":"BehaviorLogEntries!A106","v":0},{"$f":"BehaviorLogEntries!B106","v":0},{"$f":"BehaviorLogEntries!C106","v":0},{"$f":"BehaviorLogEntries!D106","v":0},{"$f":"BehaviorLogEntries!E106","v":0},{"$f":"BehaviorLogEntries!F106","v":0},{"$f":"BehaviorLogEntries!G106","v":0},{"$f":"BehaviorLogEntries!H106","v":0},{"$f":"BehaviorLogEntries!J106","v":0},"","","","","",{"$f":"IFERROR(VLOOKUP(A106,ObData!$A$2:$I$300,5,0),\"\")","v":0},""]
[{"$f":"IFERROR(INDEX(ObData!$A$2:$A$300,MATCH(1,(Data!M107>=ObData!$H$2:$H$300)*(Data!M107<=ObData!$I$2:$I$300),0)),\"N/A\")","v":""},{"$f":"BehaviorLogEntries!A107","v":0},{"$f":"BehaviorLogEntries!B107","v":0},{"$f":"BehaviorLogEntries!C107","v":0},{"$f":"BehaviorLogEntries!D107","v":0},{"$f":"BehaviorLogEntries!E107","v":0},{"$f":"BehaviorLogEntries!F107","v":0},{"$f":"BehaviorLogEntries!G107","v":0},{"$f":"BehaviorLogEntries!H107","v":0},{"$f":"BehaviorLogEntries!J107","v":0},"","","","","",{"$f":"IFERROR(VLOOKUP(A107,ObData!$A$2:$I$300,5,0),\"\")","v":0},""]
[{"$f":"IFERROR(INDEX(ObData!$A$2:$A$300,MATCH(1,(Data!M108>=ObData!$H$2:$H$300)*(Data!M108<=ObData!$I$2:$I$300),0)),\"N/A\")","v":""},{"$f":"BehaviorLogEntries!A108","v":0},{"$f":"BehaviorLogEntries!B108","v":0},{"$f":"BehaviorLogEntries!C108","v":0},{"$f":"BehaviorLogEntries!D108","v":0},{"$f":"BehaviorLogEntries!E108","v":0},{"$f":"BehaviorLogEntries!F108","v":0},{"$f":"BehaviorLogEntries!G108","v":0},{"$f":"BehaviorLogEntries!H108","v":0},{"$f":"BehaviorLogEntries!J108","v":0},"","","","","",{"$f":"IFERROR(VLOOKUP(A108,ObData!$A$2:$I$300,5,0),\"\")","v":0},""]
[{"$f":"IFERROR(INDEX(ObData!$A$2:$A$300,MATCH(1,(Data!M109>=ObData!$H$2:$H$300)*(Data!M109<=ObData!$I$2:$I$300),0)),\"N/A\")","v":""},{"$f":"BehaviorLogEntries!A109","v":0},{"$f":"BehaviorLogEntries!B109","v":0},{"$f":"BehaviorLogEntries!C109","v":0},{"$f":"BehaviorLogEntries!D109","v":0},{"$f":"BehaviorLogEntries!E109","v":0},{"$f":"BehaviorLogEntries!F109","v":0},{"$f":"BehaviorLogEntries!G109","v":0},{"$f":"BehaviorLogEntries!H109","v":0},{"$f":"BehaviorLogEntries!J109","v":0},"","","","","",{"$f":"IFERROR(VLOOKUP(A109,ObData!$A$2:$I$300,5,0),\"\")","v":0},""]
[{"$f":"IFERROR(INDEX(ObData!$A$2:$A$300,MATCH(1,(Data!M110>=ObData!$H$2:$H$300)*(Data!M110<=ObData!$I$2:$I$300),0)),\"N/A\")","v":""},{"$f":"BehaviorLogEntries!A110","v":0},{"$f":"BehaviorLogEntries!B110","v":0},{"$f":"BehaviorLogEntries!C110","v":0},{"$f":"BehaviorLogEntries!D110","v":0},{"$f":"BehaviorLogEntries!E110","v":0},{"$f":"BehaviorLogEntries!F110","v":0},{"$f":"BehaviorLogEntries!G110","v":0},{"$f":"BehaviorLogEntries!H110","v":0},{"$f":"BehaviorLogEntries!J110","v":0},"","","","","",{"$f":"IFERROR(VLOOKUP(A110,ObData!$A$2:$I$300,5,0),\"\")","v":0},""]
[{"$f":"IFERROR(INDEX(ObData!$A$2:$A$300,MATCH(1,(Data!M111>=ObData!$H$2:$H$300)*(Data!M111<=ObData!$I$2:$I$300),0)),\"N/A\")","v":""},{"$f":"BehaviorLogEntries!A111","v":0},{"$f":"BehaviorLogEntries!B111","v":0},{"$f":"BehaviorLogEntries!C111","v":0},{"$f":"BehaviorLogEntries!D111","v":0},{"$f":"BehaviorLogEntries!E111","v":0},{"$f":"BehaviorLogEntries!F111","v":0},{"$f":"BehaviorLogEntries!G111","v":0},{"$f":"BehaviorLogEntries!H111","v":0},{"$f":"BehaviorLogEntries!J111","v":0},"","","","","",{"$f":"IFERROR(VLOOKUP(A111,ObData!$A$2:$I$300,5,0),\"\")","v":0},""]
[{"$f":"IFERROR(INDEX(ObData!$A$2:$A$300,MATCH(1,(Data!M112>=ObData!$H$2:$H$300)*(Data!M112<=ObData!$I$2:$I$300),0)),\"N/A\")","v":""},{"$f":"BehaviorLogEntries!A112","v":0},{"$f":"BehaviorLogEntries!B112","v":0},{"$f":"BehaviorLogEntries!C112","v":0},{"$f":"BehaviorLogEntries!D112","v":0},{"$f":"BehaviorLogEntries!E112","v":0},{"$f":"BehaviorLogEntries!F112","v":0},{"$f":"BehaviorLogEntries!G112","v":0},{"$f":"BehaviorLogEntries!H112","v":0},{"$f":"BehaviorLogEntries!J112","v":0},"","","","","",{"$f":"IFERROR(VLOOKUP(A112,ObData!$A$2:$I$300,5,0),\"\")","v":0},""]
[{"$f":"IFERROR(INDEX(ObData!$A$2:$A$300,MATCH(1,(Data!M113>=ObData!$H$2:$H$300)*(Data!M113<=ObData!$I$2:$I$300),0)),\"N/A\")","v":""},{"$f":"BehaviorLogEntries!A113","v":0},{"$f":"BehaviorLogEntries!B113","v":0},{"$f":"BehaviorLogEntries!C113","v":0},{"$f":"BehaviorLogEntries!D113","v":0},{"$f":"BehaviorLogEntries!E113","v":0},{"$f":"BehaviorLogEntries!F113","v":0},{"$f":"BehaviorLogEntries!G113","v":0},{"$f":"BehaviorLogEntries!H113","v":0},{"$f":"BehaviorLogEntries!J113","v":0},"","","","","",{"$f":"IFERROR(VLOOKUP(A113,ObData!$A$2:$I$300,5,0),\"\")","v":0},""]
[{"$f":"IFERROR(INDEX(ObData!$A$2:$A$300,MATCH(1,(Data!M114>=ObData!$H$2:$H$300)*(Data!M114<=ObData!$I$2:$I$300),0)),\"N/A\")","v":""},{"$f":"BehaviorLogEntries!A114","v":0},{"$f":"BehaviorLogEntries!B114","v":0},{"$f":"BehaviorLogEntries!C114","v":0},{"$f":"BehaviorLogEntries!D114","v":0},{"$f":"BehaviorLogEntries!E114","v":0},{"$f":"BehaviorLogEntries!F114","v":0},{"$f":"BehaviorLogEntries!G114","v":0},{"$f":"BehaviorLogEntries!H114","v":0},{"$f":"BehaviorLogEntries!J114","v":0},"","","","","",{"$f":"IFERROR(VLOOKUP(A114,ObData!$A$2:$I$300,5,0),\"\")","v":0},""]
[{"$f":"IFERROR(INDEX(ObData!$A$2:$A$300,MATCH(1,(Data!M115>=ObData!$H$2:$H$300)*(Data!M115<=ObData!$I$2:$I$300),0)),\"N/A\")","v":""},{"$f":"BehaviorLogEntries!A115","v":0},{"$f":"BehaviorLogEntries!B115","v":0},{"$f":"BehaviorLogEntries!C115","v":0},{"$f":"BehaviorLogEntries!D115","v":0},{"$f":"BehaviorLogEntries!E115","v":0},{"$f":"BehaviorLogEntries!F115","v":0},{"$f":"BehaviorLogEntries!G115","v":0},{"$f":"BehaviorLogEntries!H115","v":0},{"$f":"BehaviorLogEntries!J115","v":0},"","","","","",{"$f":"IFERROR(VLOOKUP(A115,ObData!$A$2:$I$300,5,0),\"\")","v":0},""]
[{"$f":"IFERROR(INDEX(ObData!$A$2:$A$300,MATCH(1,(Data!M116>=ObData!$H$2:$H$300)*(Data!M116<=ObData!$I$2:$I$300),0)),\"N/A\")","v":""},{"$f":"BehaviorLogEntries!A116","v":0},{"$f":"BehaviorLogEntries!B116","v":0},{"$f":"BehaviorLogEntries!C116","v":0},{"$f":"BehaviorLogEntries!D116","v":0},{"$f":"BehaviorLogEntries!E116","v":0},{"$f":"BehaviorLogEntries!F116","v":0},{"$f":"BehaviorLogEntries!G116","v":0},{"$f":"BehaviorLogEntries!H116","v":0},{"$f":"BehaviorLogEntries!J116","v":0},"","","","","",{"$f":"IFERROR(VLOOKUP(A116,ObData!$A$2:$I$300,5,0),\"\")","v":0},""]
[{"$f":"IFERROR(INDEX(ObData!$A$2:$A$300,MATCH(1,(Data!M117>=ObData!$H$2:$H$300)*(Data!M117<=ObData!$I$2:$I$300),0)),\"N/A\")","v":""},{"$f":"BehaviorLogEntries!A117","v":0},{"$f":"BehaviorLogEntries!B117","v":0},{"$f":"BehaviorLogEntries!C117","v":0},{"$f":"BehaviorLogEntries!D117","v":0},{"$f":"BehaviorLogEntries!E117","v":0},{"$f":"BehaviorLogEntries!F117","v":0},{"$f":"BehaviorLogEntries!G117","v":0},{"$f":"BehaviorLogEntries!H117","v":0},{"$f":"BehaviorLogEntries!J117","v":0},"","","","","",{"$f":"IFERROR(VLOOKUP(A117,ObData!$A$2:$I$300,5,0),\"\")","v":0},""]
[{"$f":"IFERROR(INDEX(ObData!$A$2:$A$300,MATCH(1,(Data!M118>=ObData!$H$2:$H$300)*(Data!M118<=ObData!$I$2:$I$300),0)),\"N/A\")","v":""},{"$f":"BehaviorLogEntries!A118","v":0},{"$f":"BehaviorLogEntries!B118","v":0},{"$f":"BehaviorLogEntries!C118","v":0},{"$f":"BehaviorLogEntries!D118","v":0},{"$f":"BehaviorLogEntries!E118","v":0},{"$f":"BehaviorLogEntries!F118","v":0},{"$f":"BehaviorLogEntries!G118","v":0},{"$f":"BehaviorLogEntries!H118","v":0},{"$f":"BehaviorLogEntries!J118","v":0},"","","","","",{"$f":"IFERROR(VLOOKUP(A118,ObData!$A$2:$I$300,5,0),\"\")","v":0},""]
[{"$f":"IFERROR(INDEX(ObData!$A$2:$A$300,MATCH(1,(Data!M119>=ObData!$H$2:$H$300)*(Data!M119<=ObData!$I$2:$I$300),0)),\"N/A\")","v":""},{"$f":"BehaviorLogEntries!A119","v":0},{"$f":"BehaviorLogEntries!B119","v":0},{"$f":"BehaviorLogEntries!C119","v":0},{"$f":"BehaviorLogEntries!D119","v":0},{"$f":"BehaviorLogEntries!E119","v":0},{"$f":"BehaviorLogEntries!F119","v":0},{"$f":"BehaviorLogEntries!G119","v":0},{"$f":"BehaviorLogEntries!H119","v":0},{"$f":"BehaviorLogEntries!J119","v":0},"","","","","",{"$f":"IFERROR(VLOOKUP(A119,ObData!$A$2:$I$300,5,0),\"\")","v":0},""]
[{"$f":"IFERROR(INDEX(ObData!$A$2:$A$300,MATCH(1,(Data!M120>=ObData!$H$2:$H$300)*(Data!M120<=ObData!$I$2:$I$300),0)),\"N/A\")","v":""},{"$f":"BehaviorLogEntries!A120","v":0},{"$f":"BehaviorLogEntries!B120","v":0},{"$f":"BehaviorLogEntries!C120","v":0},{"$f":"BehaviorLogEntries!D120","v":0},{"$f":"BehaviorLogEntries!E120","v":0},{"$f":"BehaviorLogEntries!F120","v":0},{"$f":"BehaviorLogEntries!G120","v":0},{"$f":"BehaviorLogEntries!H120","v":0},{"$f":"BehaviorLogEntries!J120","v":0},"","","","","",{"$f":"IFERROR(VLOOKUP(A120,ObData!$A$2:$I$300,5,0),\"\")","v":0},""]
[{"$f":"IFERROR(INDEX(ObData!$A$2:$A$300,MATCH(1,(Data!M121>=ObData!$H$2:$H$300)*(Data!M121<=ObData!$I$2:$I$300),0)),\"N/A\")","v":""},{"$f":"BehaviorLogEntries!A121","v":0},{"$f":"BehaviorLogEntries!B121","v":0},{"$f":"BehaviorLogEntries!C121","v":0},{"$f":"BehaviorLogEntries!D121","v":0},{"$f":"BehaviorLogEntries!E121","v":0},{"$f":"BehaviorLogEntries!F121","v":0},{"$f":"BehaviorLogEntries!G121","v":0},{"$f":"BehaviorLogEntries!H121","v":0},{"$f":"BehaviorLogEntries!J121","v":0},"","","","","",{"$f":"IFERROR(VLOOKUP(A121,ObData!$A$2:$I$300,5,0),\"\")","v":0},""]
[{"$f":"IFERROR(INDEX(ObData!$A$2:$A$300,MATCH(1,(Data!M122>=ObData!$H$2:$H$300)*(Data!M122<=ObData!$I$2:$I$300),0)),\"N/A\")","v":""},{"$f":"BehaviorLogEntries!A122","v":0},{"$f":"BehaviorLogEntries!B122","v":0},{"$f":"BehaviorLogEntries!C122","v":0},{"$f":"BehaviorLogEntries!D122","v":0},{"$f":"BehaviorLogEntries!E122","v":0},{"$f":"BehaviorLogEntries!F122","v":0},{"$f":"BehaviorLogEntries!G122","v":0},{"$f":"BehaviorLogEntries!H122","v":0},{"$f":"BehaviorLogEntries!J122","v":0},"","","","","",{"$f":"IFERROR(VLOOKUP(A122,ObData!$A$2:$I$300,5,0),\"\")","v":0},""]
[{"$f":"IFERROR(INDEX(ObData!$A$2:$A$300,MATCH(1,(Data!M123>=ObData!$H$2:$H$300)*(Data!M123<=ObData!$I$2:$I$300),0)),\"N/A\")","v":""},{"$f":"BehaviorLogEntries!A123","v":0},{"$f":"BehaviorLogEntries!B123","v":0},{"$f":"BehaviorLogEntries!C123","v":0},{"$f":"BehaviorLogEntries!D123","v":0},{"$f":"BehaviorLogEntries!E123","v":0},{"$f":"BehaviorLogEntries!F123","v":0},{"$f":"BehaviorLogEntries!G123","v":0},{"$f":"BehaviorLogEntries!H123","v":0},{"$f":"BehaviorLogEntries!J123","v":0},"","","","","",{"$f":"IFERROR(VLOOKUP(A123,ObData!$A$2:$I$300,5,0),\"\")","v":0},""]
[{"$f":"IFERROR(INDEX(ObData!$A$2:$A$300,MATCH(1,(Data!M124>=ObData!$H$2:$H$300)*(Data!M124<=ObData!$I$2:$I$300),0)),\"N/A\")","v":""},{"$f":"BehaviorLogEntries!A124","v":0},{"$f":"BehaviorLogEntries!B124","v":0},{"$f":"BehaviorLogEntries!C124","v":0},{"$f":"BehaviorLogEntries!D124","v":0},{"$f":"BehaviorLogEntries!E124","v":0},{"$f":"BehaviorLogEntries!F124","v":0},{"$f":"BehaviorLogEntries!G124","v":0},{"$f":"BehaviorLogEntries!H124","v":0},{"$f":"BehaviorLogEntries!J124","v":0},"","","","","",{"$f":"IFERROR(VLOOKUP(A124,ObData!$A$2:$I$300,5,0),\"\")","v":0},""]
[{"$f":"IFERROR(INDEX(ObData!$A$2:$A$300,MATCH(1,(Data!M125>=ObData!$H$2:$H$300)*(Data!M125<=ObData!$I$2:$I$300),0)),\"N/A\")","v":""},{"$f":"BehaviorLogEntries!A125","v":0},{"$f":"BehaviorLogEntries!B125","v":0},{"$f":"BehaviorLogEntries!C125","v":0},{"$f":"BehaviorLogEntries!D125","v":0},{"$f":"BehaviorLogEntries!E125","v":0},{"$f":"BehaviorLogEntries!F125","v":0},{"$f":"BehaviorLogEntries!G125","v":0},{"$f":"BehaviorLogEntries!H125","v":0},{"$f":"BehaviorLogEntries!J125","v":0},"","","","","",{"$f":"IFERROR(VLOOKUP(A125,ObData!$A$2:$I$300,5,0),\"\")","v":0},""]
[{"$f":"IFERROR(INDEX(ObData!$A$2:$A$300,MATCH(1,(Data!M126>=ObData!$H$2:$H$300)*(Data!M126<=ObData!$I$2:$I$300),0)),\"N/A\")","v":""},{"$f":"BehaviorLogEntries!A126","v":0},{"$f":"BehaviorLogEntries!B126","v":0},{"$f":"BehaviorLogEntries!C126","v":0},{"$f":"BehaviorLogEntries!D126","v":0},{"$f":"BehaviorLogEntries!E126","v":0},{"$f":"BehaviorLogEntries!F126","v":0},{"$f":"BehaviorLogEntries!G126","v":0},{"$f":"BehaviorLogEntries!H126","v":0},{"$f":"BehaviorLogEntries!J126","v":0},"","","","","",{"$f":"IFERROR(VLOOKUP(A126,ObData!$A$2:$I$300,5,0),\"\")","v":0},""]
[{"$f":"IFERROR(INDEX(ObData!$A$2:$A$300,MATCH(1,(Data!M127>=ObData!$H$2:$H$300)*(Data!M127<=ObData!$I$2:$I$300),0)),\"N/A\")","v":""},{"$f":"BehaviorLogEntries!A127","v":0},{"$f":"BehaviorLogEntries!B127","v":0},{"$f":"BehaviorLogEntries!C127","v":0},{"$f":"BehaviorLogEntries!D127","v":0},{"$f":"BehaviorLogEntries!E127","v":0},{"$f":"BehaviorLogEntries!F127","v":0},{"$f":"BehaviorLogEntries!G127","v":0},{"$f":"BehaviorLogEntries!H127","v":0},{"$f":"BehaviorLogEntries!J127","v":0},"","","","","",{"$f":"IFERROR(VLOOKUP(A127,ObData!$A$2:$I$300,5,0),\"\")","v":0},""]
[{"$f":"IFERROR(INDEX(ObData!$A$2:$A$300,MATCH(1,(Data!M128>=ObData!$H$2:$H$300)*(Data!M128<=ObData!$I$2:$I$300),0)),\"N/A\")","v":""},{"$f":"BehaviorLogEntries!A128","v":0},{"$f":"BehaviorLogEntries!B128","v":0},{"$f":"BehaviorLogEntries!C128","v":0},{"$f":"BehaviorLogEntries!D128","v":0},{"$f":"BehaviorLogEntries!E128","v":0},{"$f":"BehaviorLogEntries!F128","v":0},{"$f":"BehaviorLogEntries!G128","v":0},{"$f":"BehaviorLogEntries!H128","v":0},{"$f":"BehaviorLogEntries!J128","v":0},"","","","","",{"$f":"IFERROR(VLOOKUP(A128,ObData!$A$2:$I$300,5,0),\"\")","v":0},""]
[{"$f":"IFERROR(INDEX(ObData!$A$2:$A$300,MATCH(1,(Data!M129>=ObData!$H$2:$H$300)*(Data!M129<=ObData!$I$2:$I$300),0)),\"N/A\")","v":""},{"$f":"BehaviorLogEntries!A129","v":0},{"$f":"BehaviorLogEntries!B129","v":0},{"$f":"BehaviorLogEntries!C129","v":0},{"$f":"BehaviorLogEntries!D129","v":0},{"$f":"BehaviorLogEntries!E129","v":0},{"$f":"BehaviorLogEntries!F129","v":0},{"$f":"BehaviorLogEntries!G129","v":0},{"$f":"BehaviorLogEntries!H129","v":0},{"$f":"BehaviorLogEntries!J129","v":0},"","","","","",{"$f":"IFERROR(VLOOKUP(A129,ObData!$A$2:$I$300,5,0),\"\")","v":0},""]
[{"$f":"IFERROR(INDEX(ObData!$A$2:$A$300,MATCH(1,(Data!M130>=ObData!$H$2:$H$300)*(Data!M130<=ObData!$I$2:$I$300),0)),\"N/A\")","v":""},{"$f":"BehaviorLogEntries!A130","v":0},{"$f":"BehaviorLogEntries!B130","v":0},{"$f":"BehaviorLogEntries!C130","v":0},{"$f":"BehaviorLogEntries!D130","v":0},{"$f":"BehaviorLogEntries!E130","v":0},{"$f":"BehaviorLogEntries!F130","v":0},{"$f":"BehaviorLogEntries!G130","v":0},{"$f":"BehaviorLogEntries!H130","v":0},{"$f":"BehaviorLogEntries!J130","v":0},"","","","","",{"$f":"IFERROR(VLOOKUP(A130,ObData!$A$2:$I$300,5,0),\"\")","v":0},""]
[{"$f":"IFERROR(INDEX(ObData!$A$2:$A$300,MATCH(1,(Data!M131>=ObData!$H$2:$H$300)*(Data!M131<=ObData!$I$2:$I$300),0)),\"N/A\")","v":""},{"$f":"BehaviorLogEntries!A131","v":0},{"$f":"BehaviorLogEntries!B131","v":0},{"$f":"BehaviorLogEntries!C131","v":0},{"$f":"BehaviorLogEntries!D131","v":0},{"$f":"BehaviorLogEntries!E131","v":0},{"$f":"BehaviorLogEntries!F131","v":0},{"$f":"BehaviorLogEntries!G131","v":0},{"$f":"BehaviorLogEntries!H131","v":0},{"$f":"BehaviorLogEntries!J131","v":0},{"$f":"IF(F131<>0,IF(K131=\"\",NOW(),K131),\"\")","v":""},{"$f":"IFERROR(IF(J131<>0,J131,DATE(YEAR(K131),MONTH(K131),DAY(K131))),\"\")","v":""},{"$f":"IF(B131=0,\"\",L131+F131)","v":""},{"$f":"IFERROR(IF(G131=\"Yes\",F131+0.00069444,IF(H131<>0,H131,IF(DATE(YEAR(K131),MONTH(K131),DAY(K131))<>DATE(YEAR(L131),MONTH(L131),DAY(L131)),F131+0.00069444,K131-DATE(YEAR(K131),MONTH(K131),DAY(K131))))),\"\")","v":""},{"$f":"IF(B131=0,\"\",L131+N131)","v":""},{"$f":"IFERROR(VLOOKUP(A131,ObData!$A$2:$I$300,5,0),\"\")","v":0},{"$f":"IF(F131=0,\"\",N131-F131)","v":""}]
[{"$f":"IFERROR(INDEX(ObData!$A$2:$A$300,MATCH(1,(Data!M132>=ObData!$H$2:$H$300)*(Data!M132<=ObData!$I$2:$I$300),0)),\"N/A\")","v":""},{"$f":"BehaviorLogEntries!A132","v":0},{"$f":"BehaviorLogEntries!B132","v":0},{"$f":"BehaviorLogEntries!C132","v":0},{"$f":"BehaviorLogEntries!D132","v":0},{"$f":"BehaviorLogEntries!E132","v":0},{"$f":"BehaviorLogEntries!F132","v":0},{"$f":"BehaviorLogEntries!G132","v":0},{"$f":"BehaviorLogEntries!H132","v":0},{"$f":"BehaviorLogEntries!J132","v":0},"","","","","",{"$f":"IFERROR(VLOOKUP(A132,ObData!$A$2:$I$300,5,0),\"\")","v":0},""]
[{"$f":"IFERROR(INDEX(ObData!$A$2:$A$300,MATCH(1,(Data!M133>=ObData!$H$2:$H$300)*(Data!M133<=ObData!$I$2:$I$300),0)),\"N/A\")","v":""},{"$f":"BehaviorLogEntries!A133","v":0},{"$f":"BehaviorLogEntries!B133","v":0},{"$f":"BehaviorLogEntries!C133","v":0},{"$f":"BehaviorLogEntries!D133","v":0},{"$f":"BehaviorLogEntries!E133","v":0},{"$f":"BehaviorLogEntries!F133","v":0},{"$f":"BehaviorLogEntries!G133","v":0},{"$f":"BehaviorLogEntries!H133","v":0},{"$f":"BehaviorLogEntries!J133","v":0},"","","","","",{"$f":"IFERROR(VLOOKUP(A133,ObData!$A$2:$I$300,5,0),\"\")","v":0},""]
[{"$f":"IFERROR(INDEX(ObData!$A$2:$A$300,MATCH(1,(Data!M134>=ObData!$H$2:$H$300)*(Data!M134<=ObData!$I$2:$I$300),0)),\"N/A\")","v":""},{"$f":"BehaviorLogEntries!A134","v":0},{"$f":"BehaviorLogEntries!B134","v":0},{"$f":"BehaviorLogEntries!C134","v":0},{"$f":"BehaviorLogEntries!D134","v":0},{"$f":"BehaviorLogEntries!E134","v":0},{"$f":"BehaviorLogEntries!F134","v":0},{"$f":"BehaviorLogEntries!G134","v":0},{"$f":"BehaviorLogEntries!H134","v":0},{"$f":"BehaviorLogEntries!J134","v":0},"","","","","",{"$f":"IFERROR(VLOOKUP(A134,ObData!$A$2:$I$300,5,0),\"\")","v":0},""]
[{"$f":"IFERROR(INDEX(ObData!$A$2:$A$300,MATCH(1,(Data!M135>=ObData!$H$2:$H$300)*(Data!M135<=ObData!$I$2:$I$300),0)),\"N/A\")","v":""},{"$f":"BehaviorLogEntries!A135","v":0},{"$f":"BehaviorLogEntries!B135","v":0},{"$f":"BehaviorLogEntries!C135","v":0},{"$f":"BehaviorLogEntries!D135","v":0},{"$f":"BehaviorLogEntries!E135","v":0},{"$f":"BehaviorLogEntries!F135","v":0},{"$f":"BehaviorLogEntries!G135","v":0},{"$f":"BehaviorLogEntries!H135","v":0},{"$f":"BehaviorLogEntries!J135","v":0},"","","","","",{"$f":"IFERROR(VLOOKUP(A135,ObData!$A$2:$I$300,5,0),\"\")","v":0},""]
[{"$f":"IFERROR(INDEX(ObData!$A$2:$A$300,MATCH(1,(Data!M136>=ObData!$H$2:$H$300)*(Data!M136<=ObData!$I$2:$I$300),0)),\"N/A\")","v":""},{"$f":"BehaviorLogEntries!A136","v":0},{"$f":"BehaviorLogEntries!B136","v":0},{"$f":"BehaviorLogEntries!C136","v":0},{"$f":"BehaviorLogEntries!D136","v":0},{"$f":"BehaviorLogEntries!E136","v":0},{"$f":"BehaviorLogEntries!F136","v":0},{"$f":"BehaviorLogEntries!G136","v":0},{"$f":"BehaviorLogEntries!H136","v":0},{"$f":"BehaviorLogEntries!J136","v":0},"","","","","",{"$f":"IFERROR(VLOOKUP(A136,ObData!$A$2:$I$300,5,0),\"\")","v":0},""]
[{"$f":"IFERROR(INDEX(ObData!$A$2:$A$300,MATCH(1,(Data!M137>=ObData!$H$2:$H$300)*(Data!M137<=ObData!$I$2:$I$300),0)),\"N/A\")","v":""},{"$f":"BehaviorLogEntries!A137","v":0},{"$f":"BehaviorLogEntries!B137","v":0},{"$f":"BehaviorLogEntries!C137","v":0},{"$f":"BehaviorLogEntries!D137","v":0},{"$f":"BehaviorLogEntries!E137","v":0},{"$f":"BehaviorLogEntries!F137","v":0},{"$f":"BehaviorLogEntries!G137","v":0},{"$f":"BehaviorLogEntries!H137","v":0},{"$f":"BehaviorLogEntries!J137","v":0},"","","","","",{"$f":"IFERROR(VLOOKUP(A137,ObData!$A$2:$I$300,5,0),\"\")","v":0},""]
[{"$f":"IFERROR(INDEX(ObData!$A$2:$A$300,MATCH(1,(Data!M138>=ObData!$H$2:$H$300)*(Data!M138<=ObData!$I$2:$I$300),0)),\"N/A\")","v":""},{"$f":"BehaviorLogEntries!A138","v":0},{"$f":"BehaviorLogEntries!B138","v":0},{"$f":"BehaviorLogEntries!C138","v":0},{"$f":"BehaviorLogEntries!D138","v":0},{"$f":"BehaviorLogEntries!E138","v":0},{"$f":"BehaviorLogEntries!F138","v":0},{"$f":"BehaviorLogEntries!G138","v":0},{"$f":"BehaviorLogEntries!H138","v":0},{"$f":"BehaviorLogEntries!J138","v":0},"","","","","",{"$f":"IFERROR(VLOOKUP(A138,ObData!$A$2:$I$300,5,0),\"\")","v":0},""]
[{"$f":"IFERROR(INDEX(ObData!$A$2:$A$300,MATCH(1,(Data!M139>=ObData!$H$2:$H$300)*(Data!M139<=ObData!$I$2:$I$300),0)),\"N/A\")","v":""},{"$f":"BehaviorLogEntries!A139","v":0},{"$f":"BehaviorLogEntries!B139","v":0},{"$f":"BehaviorLogEntries!C139","v":0},{"$f":"BehaviorLogEntries!D139","v":0},{"$f":"BehaviorLogEntries!E139","v":0},{"$f":"BehaviorLogEntries!F139","v":0},{"$f":"BehaviorLogEntries!G139","v":0},{"$f":"BehaviorLogEntries!H139","v":0},{"$f":"BehaviorLogEntries!J139","v":0},"","","","","",{"$f":"IFERROR(VLOOKUP(A139,ObData!$A$2:$I$300,5,0),\"\")","v":0},""]
[{"$f":"IFERROR(INDEX(ObData!$A$2:$A$300,MATCH(1,(Data!M140>=ObData!$H$2:$H$300)*(Data!M140<=ObData!$I$2:$I$300),0)),\"N/A\")","v":""},{"$f":"BehaviorLogEntries!A140","v":0},{"$f":"BehaviorLogEntries!B140","v":0},{"$f":"BehaviorLogEntries!C140","v":0},{"$f":"BehaviorLogEntries!D140","v":0},{"$f":"BehaviorLogEntries!E140","v":0},{"$f":"BehaviorLogEntries!F140","v":0},{"$f":"BehaviorLogEntries!G140","v":0},{"$f":"BehaviorLogEntries!H140","v":0},{"$f":"BehaviorLogEntries!J140","v":0},"","","","","",{"$f":"IFERROR(VLOOKUP(A140,ObData!$A$2:$I$300,5,0),\"\")","v":0},""]
[{"$f":"IFERROR(INDEX(ObData!$A$2:$A$300,MATCH(1,(Data!M141>=ObData!$H$2:$H$300)*(Data!M141<=ObData!$I$2:$I$300),0)),\"N/A\")","v":""},{"$f":"BehaviorLogEntries!A141","v":0},{"$f":"BehaviorLogEntries!B141","v":0},{"$f":"BehaviorLogEntries!C141","v":0},{"$f":"BehaviorLogEntries!D141","v":0},{"$f":"BehaviorLogEntries!E141","v":0},{"$f":"BehaviorLogEntries!F141","v":0},{"$f":"BehaviorLogEntries!G141","v":0},{"$f":"BehaviorLogEntries!H141","v":0},{"$f":"BehaviorLogEntries!J141","v":0},"","","","","",{"$f":"IFERROR(VLOOKUP(A141,ObData!$A$2:$I$300,5,0),\"\")","v":0},""]
[{"$f":"IFERROR(INDEX(ObData!$A$2:$A$300,MATCH(1,(Data!M142>=ObData!$H$2:$H$300)*(Data!M142<=ObData!$I$2:$I$300),0)),\"N/A\")","v":""},{"$f":"BehaviorLogEntries!A142","v":0},{"$f":"BehaviorLogEntries!B142","v":0},{"$f":"BehaviorLogEntries!C142","v":0},{"$f":"BehaviorLogEntries!D142","v":0},{"$f":"BehaviorLogEntries!E142","v":0},{"$f":"BehaviorLogEntries!F142","v":0},{"$f":"BehaviorLogEntries!G142","v":0},{"$f":"BehaviorLogEntries!H142","v":0},{"$f":"BehaviorLogEntries!J142","v":0},"","","","","",{"$f":"IFERROR(VLOOKUP(A142,ObData!$A$2:$I$300,5,0),\"\")","v":0},""]
[{"$f":"IFERROR(INDEX(ObData!$A$2:$A$300,MATCH(1,(Data!M143>=ObData!$H$2:$H$300)*(Data!M143<=ObData!$I$2:$I$300),0)),\"N/A\")","v":""},{"$f":"BehaviorLogEntries!A143","v":0},{"$f":"BehaviorLogEntries!B143","v":0},{"$f":"BehaviorLogEntries!C143","v":0},{"$f":"BehaviorLogEntries!D143","v":0},{"$f":"BehaviorLogEntries!E143","v":0},{"$f":"BehaviorLogEntries!F143","v":0},{"$f":"BehaviorLogEntries!G143","v":0},{"$f":"BehaviorLogEntries!H143","v":0},{"$f":"BehaviorLogEntries!J143","v":0},"","","","","",{"$f":"IFERROR(VLOOKUP(A143,ObData!$A$2:$I$300,5,0),\"\")","v":0},""]
[{"$f":"IFERROR(INDEX(ObData!$A$2:$A$300,MATCH(1,(Data!M144>=ObData!$H$2:$H$300)*(Data!M144<=ObData!$I$2:$I$300),0)),\"N/A\")","v":""},{"$f":"BehaviorLogEntries!A144","v":0},{"$f":"BehaviorLogEntries!B144","v":0},{"$f":"BehaviorLogEntries!C144","v":0},{"$f":"BehaviorLogEntries!D144","v":0},{"$f":"BehaviorLogEntries!E144","v":0},{"$f":"BehaviorLogEntries!F144","v":0},{"$f":"BehaviorLogEntries!G144","v":0},{"$f":"BehaviorLogEntries!H144","v":0},{"$f":"BehaviorLogEntries!J144","v":0},"","","","","",{"$f":"IFERROR(VLOOKUP(A144,ObData!$A$2:$I$300,5,0),\"\")","v":0},""]
[{"$f":"IFERROR(INDEX(ObData!$A$2:$A$300,MATCH(1,(Data!M145>=ObData!$H$2:$H$300)*(Data!M145<=ObData!$I$2:$I$300),0)),\"N/A\")","v":""},{"$f":"BehaviorLogEntries!A145","v":0},{"$f":"BehaviorLogEntries!B145","v":0},{"$f":"BehaviorLogEntries!C145","v":0},{"$f":"BehaviorLogEntries!D145","v":0},{"$f":"BehaviorLogEntries!E145","v":0},{"$f":"BehaviorLogEntries!F145","v":0},{"$f":"BehaviorLogEntries!G145","v":0},{"$f":"BehaviorLogEntries!H145","v":0},{"$f":"BehaviorLogEntries!J145","v":0},"","","","","",{"$f":"IFERROR(VLOOKUP(A145,ObData!$A$2:$I$300,5,0),\"\")","v":0},""]
[{"$f":"IFERROR(INDEX(ObData!$A$2:$A$300,MATCH(1,(Data!M146>=ObData!$H$2:$H$300)*(Data!M146<=ObData!$I$2:$I$300),0)),\"N/A\")","v":""},{"$f":"BehaviorLogEntries!A146","v":0},{"$f":"BehaviorLogEntries!B146","v":0},{"$f":"BehaviorLogEntries!C146","v":0},{"$f":"BehaviorLogEntries!D146","v":0},{"$f":"BehaviorLogEntries!E146","v":0},{"$f":"BehaviorLogEntries!F146","v":0},{"$f":"BehaviorLogEntries!G146","v":0},{"$f":"BehaviorLogEntries!H146","v":0},{"$f":"BehaviorLogEntries!J146","v":0},"","","","","",{"$f":"IFERROR(VLOOKUP(A146,ObData!$A$2:$I$300,5,0),\"\")","v":0},""]
[{"$f":"IFERROR(INDEX(ObData!$A$2:$A$300,MATCH(1,(Data!M147>=ObData!$H$2:$H$300)*(Data!M147<=ObData!$I$2:$I$300),0)),\"N/A\")","v":""},{"$f":"BehaviorLogEntries!A147","v":0},{"$f":"BehaviorLogEntries!B147","v":0},{"$f":"BehaviorLogEntries!C147","v":0},{"$f":"BehaviorLogEntries!D147","v":0},{"$f":"BehaviorLogEntries!E147","v":0},{"$f":"BehaviorLogEntries!F147","v":0},{"$f":"BehaviorLogEntries!G147","v":0},{"$f":"BehaviorLogEntries!H147","v":0},{"$f":"BehaviorLogEntries!J147","v":0},"","","","","",{"$f":"IFERROR(VLOOKUP(A147,ObData!$A$2:$I$300,5,0),\"\")","v":0},""]
[{"$f":"IFERROR(INDEX(ObData!$A$2:$A$300,MATCH(1,(Data!M148>=ObData!$H$2:$H$300)*(Data!M148<=ObData!$I$2:$I$300),0)),\"N/A\")","v":""},{"$f":"BehaviorLogEntries!A148","v":0},{"$f":"BehaviorLogEntries!B148","v":0},{"$f":"BehaviorLogEntries!C148","v":0},{"$f":"BehaviorLogEntries!D148","v":0},{"$f":"BehaviorLogEntries!E148","v":0},{"$f":"BehaviorLogEntries!F148","v":0},{"$f":"BehaviorLogEntries!G148","v":0},{"$f":"BehaviorLogEntries!H148","v":0},{"$f":"BehaviorLogEntries!J148","v":0},"","","","","",{"$f":"IFERROR(VLOOKUP(A148,ObData!$A$2:$I$300,5,0),\"\")","v":0},""]
[{"$f":"IFERROR(INDEX(ObData!$A$2:$A$300,MATCH(1,(Data!M149>=ObData!$H$2:$H$300)*(Data!M149<=ObData!$I$2:$I$300),0)),\"N/A\")","v":""},{"$f":"BehaviorLogEntries!A149","v":0},{"$f":"BehaviorLogEntries!B149","v":0},{"$f":"BehaviorLogEntries!C149","v":0},{"$f":"BehaviorLogEntries!D149","v":0},{"$f":"BehaviorLogEntries!E149","v":0},{"$f":"BehaviorLogEntries!F149","v":0},{"$f":"BehaviorLogEntries!G149","v":0},{"$f":"BehaviorLogEntries!H149","v":0},{"$f":"BehaviorLogEntries!J149","v":0},"","","","","",{"$f":"IFERROR(VLOOKUP(A149,ObData!$A$2:$I$300,5,0),\"\")","v":0},""]
[{"$f":"IFERROR(INDEX(ObData!$A$2:$A$300,MATCH(1,(Data!M150>=ObData!$H$2:$H$300)*(Data!M150<=ObData!$I$2:$I$300),0)),\"N/A\")","v":""},{"$f":"BehaviorLogEntries!A150","v":0},{"$f":"BehaviorLogEntries!B150","v":0},{"$f":"BehaviorLogEntries!C150","v":0},{"$f":"BehaviorLogEntries!D150","v":0},{"$f":"BehaviorLogEntries!E150","v":0},{"$f":"BehaviorLogEntries!F150","v":0},{"$f":"BehaviorLogEntries!G150","v":0},{"$f":"BehaviorLogEntries!H150","v":0},{"$f":"BehaviorLogEntries!J150","v":0},"","","","","",{"$f":"IFERROR(VLOOKUP(A150,ObData!$A$2:$I$300,5,0),\"\")","v":0},""]
[{"$f":"IFERROR(INDEX(ObData!$A$2:$A$300,MATCH(1,(Data!M151>=ObData!$H$2:$H$300)*(Data!M151<=ObData!$I$2:$I$300),0)),\"N/A\")","v":""},{"$f":"BehaviorLogEntries!A151","v":0},{"$f":"BehaviorLogEntries!B151","v":0},{"$f":"BehaviorLogEntries!C151","v":0},{"$f":"BehaviorLogEntries!D151","v":0},{"$f":"BehaviorLogEntries!E151","v":0},{"$f":"BehaviorLogEntries!F151","v":0},{"$f":"BehaviorLogEntries!G151","v":0},{"$f":"BehaviorLogEntries!H151","v":0},{"$f":"BehaviorLogEntries!J151","v":0},"","","","","",{"$f":"IFERROR(VLOOKUP(A151,ObData!$A$2:$I$300,5,0),\"\")","v":0},""]
[{"$f":"IFERROR(INDEX(ObData!$A$2:$A$300,MATCH(1,(Data!M152>=ObData!$H$2:$H$300)*(Data!M152<=ObData!$I$2:$I$300),0)),\"N/A\")","v":""},{"$f":"BehaviorLogEntries!A152","v":0},{"$f":"BehaviorLogEntries!B152","v":0},{"$f":"BehaviorLogEntries!C152","v":0},{"$f":"BehaviorLogEntries!D152","v":0},{"$f":"BehaviorLogEntries!E152","v":0},{"$f":"BehaviorLogEntries!F152","v":0},{"$f":"BehaviorLogEntries!G152","v":0},{"$f":"BehaviorLogEntries!H152","v":0},{"$f":"BehaviorLogEntries!J152","v":0},"","","","","",{"$f":"IFERROR(VLOOKUP(A152,ObData!$A$2:$I$300,5,0),\"\")","v":0},""]
[{"$f":"IFERROR(INDEX(ObData!$A$2:$A$300,MATCH(1,(Data!M153>=ObData!$H$2:$H$300)*(Data!M153<=ObData!$I$2:$I$300),0)),\"N/A\")","v":""},{"$f":"BehaviorLogEntries!A153","v":0},{"$f":"BehaviorLogEntries!B153","v":0},{"$f":"BehaviorLogEntries!C153","v":0},{"$f":"BehaviorLogEntries!D153","v":0},{"$f":"BehaviorLogEntries!E153","v":0},{"$f":"BehaviorLogEntries!F153","v":0},{"$f":"BehaviorLogEntries!G153","v":0},{"$f":"BehaviorLogEntries!H153","v":0},{"$f":"BehaviorLogEntries!J153","v":0},"","","","","",{"$f":"IFERROR(VLOOKUP(A153,ObData!$A$2:$I$300,5,0),\"\")","v":0},""]
[{"$f":"IFERROR(INDEX(ObData!$A$2:$A$300,MATCH(1,(Data!M154>=ObData!$H$2:$H$300)*(Data!M154<=ObData!$I$2:$I$300),0)),\"N/A\")","v":""},{"$f":"BehaviorLogEntries!A154","v":0},{"$f":"BehaviorLogEntries!B154","v":0},{"$f":"BehaviorLogEntries!C154","v":0},{"$f":"BehaviorLogEntries!D154","v":0},{"$f":"BehaviorLogEntries!E154","v":0},{"$f":"BehaviorLogEntries!F154","v":0},{"$f":"BehaviorLogEntries!G154","v":0},{"$f":"BehaviorLogEntries!H154","v":0},{"$f":"BehaviorLogEntries!J154","v":0},"","","","","",{"$f":"IFERROR(VLOOKUP(A154,ObData!$A$2:$I$300,5,0),\"\")","v":0},""]
[{"$f":"IFERROR(INDEX(ObData!$A$2:$A$300,MATCH(1,(Data!M155>=ObData!$H$2:$H$300)*(Data!M155<=ObData!$I$2:$I$300),0)),\"N/A\")","v":""},{"$f":"BehaviorLogEntries!A155","v":0},{"$f":"BehaviorLogEntries!B155","v":0},{"$f":"BehaviorLogEntries!C155","v":0},{"$f":"BehaviorLogEntries!D155","v":0},{"$f":"BehaviorLogEntries!E155","v":0},{"$f":"BehaviorLogEntries!F155","v":0},{"$f":"BehaviorLogEntries!G155","v":0},{"$f":"BehaviorLogEntries!H155","v":0},{"$f":"BehaviorLogEntries!J155","v":0},"","","","","",{"$f":"IFERROR(VLOOKUP(A155,ObData!$A$2:$I$300,5,0),\"\")","v":0},""]
[{"$f":"IFERROR(INDEX(ObData!$A$2:$A$300,MATCH(1,(Data!M156>=ObData!$H$2:$H$300)*(Data!M156<=ObData!$I$2:$I$300),0)),\"N/A\")","v":""},{"$f":"BehaviorLogEntries!A156","v":0},{"$f":"BehaviorLogEntries!B156","v":0},{"$f":"BehaviorLogEntries!C156","v":0},{"$f":"BehaviorLogEntries!D156","v":0},{"$f":"BehaviorLogEntries!E156","v":0},{"$f":"BehaviorLogEntries!F156","v":0},{"$f":"BehaviorLogEntries!G156","v":0},{"$f":"BehaviorLogEntries!H156","v":0},{"$f":"BehaviorLogEntries!J156","v":0},"","","","","",{"$f":"IFERROR(VLOOKUP(A156,ObData!$A$2:$I$300,5,0),\"\")","v":0},""]
[{"$f":"IFERROR(INDEX(ObData!$A$2:$A$300,MATCH(1,(Data!M157>=ObData!$H$2:$H$300)*(Data!M157<=ObData!$I$2:$I$300),0)),\"N/A\")","v":""},{"$f":"BehaviorLogEntries!A157","v":0},{"$f":"BehaviorLogEntries!B157","v":0},{"$f":"BehaviorLogEntries!C157","v":0},{"$f":"BehaviorLogEntries!D157","v":0},{"$f":"BehaviorLogEntries!E157","v":0},{"$f":"BehaviorLogEntries!F157","v":0},{"$f":"BehaviorLogEntries!G157","v":0},{"$f":"BehaviorLogEntries!H157","v":0},{"$f":"BehaviorLogEntries!J157","v":0},"","","","","",{"$f":"IFERROR(VLOOKUP(A157,ObData!$A$2:$I$300,5,0),\"\")","v":0},""]
[{"$f":"IFERROR(INDEX(ObData!$A$2:$A$300,MATCH(1,(Data!M158>=ObData!$H$2:$H$300)*(Data!M158<=ObData!$I$2:$I$300),0)),\"N/A\")","v":""},{"$f":"BehaviorLogEntries!A158","v":0},{"$f":"BehaviorLogEntries!B158","v":0},{"$f":"BehaviorLogEntries!C158","v":0},{"$f":"BehaviorLogEntries!D158","v":0},{"$f":"BehaviorLogEntries!E158","v":0},{"$f":"BehaviorLogEntries!F158","v":0},{"$f":"BehaviorLogEntries!G158","v":0},{"$f":"BehaviorLogEntries!H158","v":0},{"$f":"BehaviorLogEntries!J158","v":0},"","","","","",{"$f":"IFERROR(VLOOKUP(A158,ObData!$A$2:$I$300,5,0),\"\")","v":0},""]
[{"$f":"IFERROR(INDEX(ObData!$A$2:$A$300,MATCH(1,(Data!M159>=ObData!$H$2:$H$300)*(Data!M159<=ObData!$I$2:$I$300),0)),\"N/A\")","v":""},{"$f":"BehaviorLogEntries!A159","v":0},{"$f":"BehaviorLogEntries!B159","v":0},{"$f":"BehaviorLogEntries!C159","v":0},{"$f":"BehaviorLogEntries!D159","v":0},{"$f":"BehaviorLogEntries!E159","v":0},{"$f":"BehaviorLogEntries!F159","v":0},{"$f":"BehaviorLogEntries!G159","v":0},{"$f":"BehaviorLogEntries!H159","v":0},{"$f":"BehaviorLogEntries!J159","v":0},"","","","","",{"$f":"IFERROR(VLOOKUP(A159,ObData!$A$2:$I$300,5,0),\"\")","v":0},""]
[{"$f":"IFERROR(INDEX(ObData!$A$2:$A$300,MATCH(1,(Data!M160>=ObData!$H$2:$H$300)*(Data!M160<=ObData!$I$2:$I$300),0)),\"N/A\")","v":""},{"$f":"BehaviorLogEntries!A160","v":0},{"$f":"BehaviorLogEntries!B160","v":0},{"$f":"BehaviorLogEntries!C160","v":0},{"$f":"BehaviorLogEntries!D160","v":0},{"$f":"BehaviorLogEntries!E160","v":0},{"$f":"BehaviorLogEntries!F160","v":0},{"$f":"BehaviorLogEntries!G160","v":0},{"$f":"BehaviorLogEntries!H160","v":0},{"$f":"BehaviorLogEntries!J160","v":0},"","","","","",{"$f":"IFERROR(VLOOKUP(A160,ObData!$A$2:$I$300,5,0),\"\")","v":0},""]
[{"$f":"IFERROR(INDEX(ObData!$A$2:$A$300,MATCH(1,(Data!M161>=ObData!$H$2:$H$300)*(Data!M161<=ObData!$I$2:$I$300),0)),\"N/A\")","v":""},{"$f":"BehaviorLogEntries!A161","v":0},{"$f":"BehaviorLogEntries!B161","v":0},{"$f":"BehaviorLogEntries!C161","v":0},{"$f":"BehaviorLogEntries!D161","v":0},{"$f":"BehaviorLogEntries!E161","v":0},{"$f":"BehaviorLogEntries!F161","v":0},{"$f":"BehaviorLogEntries!G161","v":0},{"$f":"BehaviorLogEntries!H161","v":0},{"$f":"BehaviorLogEntries!J161","v":0},"","","","","",{"$f":"IFERROR(VLOOKUP(A161,ObData!$A$2:$I$300,5,0),\"\")","v":0},""]
[{"$f":"IFERROR(INDEX(ObData!$A$2:$A$300,MATCH(1,(Data!M162>=ObData!$H$2:$H$300)*(Data!M162<=ObData!$I$2:$I$300),0)),\"N/A\")","v":""},{"$f":"BehaviorLogEntries!A162","v":0},{"$f":"BehaviorLogEntries!B162","v":0},{"$f":"BehaviorLogEntries!C162","v":0},{"$f":"BehaviorLogEntries!D162","v":0},{"$f":"BehaviorLogEntries!E162","v":0},{"$f":"BehaviorLogEntries!F162","v":0},{"$f":"BehaviorLogEntries!G162","v":0},{"$f":"BehaviorLogEntries!H162","v":0},{"$f":"BehaviorLogEntries!J162","v":0},"","","","","",{"$f":"IFERROR(VLOOKUP(A162,ObData!$A$2:$I$300,5,0),\"\")","v":0},""]
[{"$f":"IFERROR(INDEX(ObData!$A$2:$A$300,MATCH(1,(Data!M163>=ObData!$H$2:$H$300)*(Data!M163<=ObData!$I$2:$I$300),0)),\"N/A\")","v":""},{"$f":"BehaviorLogEntries!A163","v":0},{"$f":"BehaviorLogEntries!B163","v":0},{"$f":"BehaviorLogEntries!C163","v":0},{"$f":"BehaviorLogEntries!D163","v":0},{"$f":"BehaviorLogEntries!E163","v":0},{"$f":"BehaviorLogEntries!F163","v":0},{"$f":"BehaviorLogEntries!G163","v":0},{"$f":"BehaviorLogEntries!H163","v":0},{"$f":"BehaviorLogEntries!J163","v":0},"","","","","",{"$f":"IFERROR(VLOOKUP(A163,ObData!$A$2:$I$300,5,0),\"\")","v":0},""]
[{"$f":"IFERROR(INDEX(ObData!$A$2:$A$300,MATCH(1,(Data!M164>=ObData!$H$2:$H$300)*(Data!M164<=ObData!$I$2:$I$300),0)),\"N/A\")","v":""},{"$f":"BehaviorLogEntries!A164","v":0},{"$f":"BehaviorLogEntries!B164","v":0},{"$f":"BehaviorLogEntries!C164","v":0},{"$f":"BehaviorLogEntries!D164","v":0},{"$f":"BehaviorLogEntries!E164","v":0},{"$f":"BehaviorLogEntries!F164","v":0},{"$f":"BehaviorLogEntries!G164","v":0},{"$f":"BehaviorLogEntries!H164","v":0},{"$f":"BehaviorLogEntries!J164","v":0},"","","","","",{"$f":"IFERROR(VLOOKUP(A164,ObData!$A$2:$I$300,5,0),\"\")","v":0},""]
[{"$f":"IFERROR(INDEX(ObData!$A$2:$A$300,MATCH(1,(Data!M165>=ObData!$H$2:$H$300)*(Data!M165<=ObData!$I$2:$I$300),0)),\"N/A\")","v":""},{"$f":"BehaviorLogEntries!A165","v":0},{"$f":"BehaviorLogEntries!B165","v":0},{"$f":"BehaviorLogEntries!C165","v":0},{"$f":"BehaviorLogEntries!D165","v":0},{"$f":"BehaviorLogEntries!E165","v":0},{"$f":"BehaviorLogEntries!F165","v":0},{"$f":"BehaviorLogEntries!G165","v":0},{"$f":"BehaviorLogEntries!H165","v":0},{"$f":"BehaviorLogEntries!J165","v":0},"","","","","",{"$f":"IFERROR(VLOOKUP(A165,ObData!$A$2:$I$300,5,0),\"\")","v":0},""]
[{"$f":"IFERROR(INDEX(ObData!$A$2:$A$300,MATCH(1,(Data!M166>=ObData!$H$2:$H$300)*(Data!M166<=ObData!$I$2:$I$300),0)),\"N/A\")","v":""},{"$f":"BehaviorLogEntries!A166","v":0},{"$f":"BehaviorLogEntries!B166","v":0},{"$f":"BehaviorLogEntries!C166","v":0},{"$f":"BehaviorLogEntries!D166","v":0},{"$f":"BehaviorLogEntries!E166","v":0},{"$f":"BehaviorLogEntries!F166","v":0},{"$f":"BehaviorLogEntries!G166","v":0},{"$f":"BehaviorLogEntries!H166","v":0},{"$f":"BehaviorLogEntries!J166","v":0},"","","","","",{"$f":"IFERROR(VLOOKUP(A166,ObData!$A$2:$I$300,5,0),\"\")","v":0},""]
[{"$f":"IFERROR(INDEX(ObData!$A$2:$A$300,MATCH(1,(Data!M167>=ObData!$H$2:$H$300)*(Data!M167<=ObData!$I$2:$I$300),0)),\"N/A\")","v":""},{"$f":"BehaviorLogEntries!A167","v":0},{"$f":"BehaviorLogEntries!B167","v":0},{"$f":"BehaviorLogEntries!C167","v":0},{"$f":"BehaviorLogEntries!D167","v":0},{"$f":"BehaviorLogEntries!E167","v":0},{"$f":"BehaviorLogEntries!F167","v":0},{"$f":"BehaviorLogEntries!G167","v":0},{"$f":"BehaviorLogEntries!H167","v":0},{"$f":"BehaviorLogEntries!J167","v":0},"","","","","",{"$f":"IFERROR(VLOOKUP(A167,ObData!$A$2:$I$300,5,0),\"\")","v":0},""]
[{"$f":"IFERROR(INDEX(ObData!$A$2:$A$300,MATCH(1,(Data!M168>=ObData!$H$2:$H$300)*(Data!M168<=ObData!$I$2:$I$300),0)),\"N/A\")","v":""},{"$f":"BehaviorLogEntries!A168","v":0},{"$f":"BehaviorLogEntries!B168","v":0},{"$f":"BehaviorLogEntries!C168","v":0},{"$f":"BehaviorLogEntries!D168","v":0},{"$f":"BehaviorLogEntries!E168","v":0},{"$f":"BehaviorLogEntries!F168","v":0},{"$f":"BehaviorLogEntries!G168","v":0},{"$f":"BehaviorLogEntries!H168","v":0},{"$f":"BehaviorLogEntries!J168","v":0},"","","","","",{"$f":"IFERROR(VLOOKUP(A168,ObData!$A$2:$I$300,5,0),\"\")","v":0},""]
[{"$f":"IFERROR(INDEX(ObData!$A$2:$A$300,MATCH(1,(Data!M169>=ObData!$H$2:$H$300)*(Data!M169<=ObData!$I$2:$I$300),0)),\"N/A\")","v":""},{"$f":"BehaviorLogEntries!A169","v":0},{"$f":"BehaviorLogEntries!B169","v":0},{"$f":"BehaviorLogEntries!C169","v":0},{"$f":"BehaviorLogEntries!D169","v":0},{"$f":"BehaviorLogEntries!E169","v":0},{"$f":"BehaviorLogEntries!F169","v":0},{"$f":"BehaviorLogEntries!G169","v":0},{"$f":"BehaviorLogEntries!H169","v":0},{"$f":"BehaviorLogEntries!J169","v":0},"","","","","",{"$f":"IFERROR(VLOOKUP(A169,ObData!$A$2:$I$300,5,0),\"\")","v":0},""]
[{"$f":"IFERROR(INDEX(ObData!$A$2:$A$300,MATCH(1,(Data!M170>=ObData!$H$2:$H$300)*(Data!M170<=ObData!$I$2:$I$300),0)),\"N/A\")","v":""},{"$f":"BehaviorLogEntries!A170","v":0},{"$f":"BehaviorLogEntries!B170","v":0},{"$f":"BehaviorLogEntries!C170","v":0},{"$f":"BehaviorLogEntries!D170","v":0},{"$f":"BehaviorLogEntries!E170","v":0},{"$f":"BehaviorLogEntries!F170","v":0},{"$f":"BehaviorLogEntries!G170","v":0},{"$f":"BehaviorLogEntries!H170","v":0},{"$f":"BehaviorLogEntries!J170","v":0},"","","","","",{"$f":"IFERROR(VLOOKUP(A170,ObData!$A$2:$I$300,5,0),\"\")","v":0},""]
[{"$f":"IFERROR(INDEX(ObData!$A$2:$A$300,MATCH(1,(Data!M171>=ObData!$H$2:$H$300)*(Data!M171<=ObData!$I$2:$I$300),0)),\"N/A\")","v":""},{"$f":"BehaviorLogEntries!A171","v":0},{"$f":"BehaviorLogEntries!B171","v":0},{"$f":"BehaviorLogEntries!C171","v":0},{"$f":"BehaviorLogEntries!D171","v":0},{"$f":"BehaviorLogEntries!E171","v":0},{"$f":"BehaviorLogEntries!F171","v":0},{"$f":"BehaviorLogEntries!G171","v":0},{"$f":"BehaviorLogEntries!H171","v":0},{"$f":"BehaviorLogEntries!J171","v":0},"","","","","",{"$f":"IFERROR(VLOOKUP(A171,ObData!$A$2:$I$300,5,0),\"\")","v":0},""]
[{"$f":"IFERROR(INDEX(ObData!$A$2:$A$300,MATCH(1,(Data!M172>=ObData!$H$2:$H$300)*(Data!M172<=ObData!$I$2:$I$300),0)),\"N/A\")","v":""},{"$f":"BehaviorLogEntries!A172","v":0},{"$f":"BehaviorLogEntries!B172","v":0},{"$f":"BehaviorLogEntries!C172","v":0},{"$f":"BehaviorLogEntries!D172","v":0},{"$f":"BehaviorLogEntries!E172","v":0},{"$f":"BehaviorLogEntries!F172","v":0},{"$f":"BehaviorLogEntries!G172","v":0},{"$f":"BehaviorLogEntries!H172","v":0},{"$f":"BehaviorLogEntries!J172","v":0},"","","","","",{"$f":"IFERROR(VLOOKUP(A172,ObData!$A$2:$I$300,5,0),\"\")","v":0},""]
[{"$f":"IFERROR(INDEX(ObData!$A$2:$A$300,MATCH(1,(Data!M173>=ObData!$H$2:$H$300)*(Data!M173<=ObData!$I$2:$I$300),0)),\"N/A\")","v":""},{"$f":"BehaviorLogEntries!A173","v":0},{"$f":"BehaviorLogEntries!B173","v":0},{"$f":"BehaviorLogEntries!C173","v":0},{"$f":"BehaviorLogEntries!D173","v":0},{"$f":"BehaviorLogEntries!E173","v":0},{"$f":"BehaviorLogEntries!F173","v":0},{"$f":"BehaviorLogEntries!G173","v":0},{"$f":"BehaviorLogEntries!H173","v":0},{"$f":"BehaviorLogEntries!J173","v":0},"","","","","",{"$f":"IFERROR(VLOOKUP(A173,ObData!$A$2:$I$300,5,0),\"\")","v":0},""]
[{"$f":"IFERROR(INDEX(ObData!$A$2:$A$300,MATCH(1,(Data!M174>=ObData!$H$2:$H$300)*(Data!M174<=ObData!$I$2:$I$300),0)),\"N/A\")","v":""},{"$f":"BehaviorLogEntries!A174","v":0},{"$f":"BehaviorLogEntries!B174","v":0},{"$f":"BehaviorLogEntries!C174","v":0},{"$f":"BehaviorLogEntries!D174","v":0},{"$f":"BehaviorLogEntries!E174","v":0},{"$f":"BehaviorLogEntries!F174","v":0},{"$f":"BehaviorLogEntries!G174","v":0},{"$f":"BehaviorLogEntries!H174","v":0},{"$f":"BehaviorLogEntries!J174","v":0},"","","","","",{"$f":"IFERROR(VLOOKUP(A174,ObData!$A$2:$I$300,5,0),\"\")","v":0},""]
[{"$f":"IFERROR(INDEX(ObData!$A$2:$A$300,MATCH(1,(Data!M175>=ObData!$H$2:$H$300)*(Data!M175<=ObData!$I$2:$I$300),0)),\"N/A\")","v":""},{"$f":"BehaviorLogEntries!A175","v":0},{"$f":"BehaviorLogEntries!B175","v":0},{"$f":"BehaviorLogEntries!C175","v":0},{"$f":"BehaviorLogEntries!D175","v":0},{"$f":"BehaviorLogEntries!E175","v":0},{"$f":"BehaviorLogEntries!F175","v":0},{"$f":"BehaviorLogEntries!G175","v":0},{"$f":"BehaviorLogEntries!H175","v":0},{"$f":"BehaviorLogEntries!J175","v":0},"","","","","",{"$f":"IFERROR(VLOOKUP(A175,ObData!$A$2:$I$300,5,0),\"\")","v":0},""]
[{"$f":"IFERROR(INDEX(ObData!$A$2:$A$300,MATCH(1,(Data!M176>=ObData!$H$2:$H$300)*(Data!M176<=ObData!$I$2:$I$300),0)),\"N/A\")","v":""},{"$f":"BehaviorLogEntries!A176","v":0},{"$f":"BehaviorLogEntries!B176","v":0},{"$f":"BehaviorLogEntries!C176","v":0},{"$f":"BehaviorLogEntries!D176","v":0},{"$f":"BehaviorLogEntries!E176","v":0},{"$f":"BehaviorLogEntries!F176","v":0},{"$f":"BehaviorLogEntries!G176","v":0},{"$f":"BehaviorLogEntries!H176","v":0},{"$f":"BehaviorLogEntries!J176","v":0},"","","","","",{"$f":"IFERROR(VLOOKUP(A176,ObData!$A$2:$I$300,5,0),\"\")","v":0},""]
[{"$f":"IFERROR(INDEX(ObData!$A$2:$A$300,MATCH(1,(Data!M177>=ObData!$H$2:$H$300)*(Data!M177<=ObData!$I$2:$I$300),0)),\"N/A\")","v":""},{"$f":"BehaviorLogEntries!A177","v":0},{"$f":"BehaviorLogEntries!B177","v":0},{"$f":"BehaviorLogEntries!C177","v":0},{"$f":"BehaviorLogEntries!D177","v":0},{"$f":"BehaviorLogEntries!E177","v":0},{"$f":"BehaviorLogEntries!F177","v":0},{"$f":"BehaviorLogEntries!G177","v":0},{"$f":"BehaviorLogEntries!H177","v":0},{"$f":"BehaviorLogEntries!J177","v":0},"","","","","",{"$f":"IFERROR(VLOOKUP(A177,ObData!$A$2:$I$300,5,0),\"\")","v":0},""]
[{"$f":"IFERROR(INDEX(ObData!$A$2:$A$300,MATCH(1,(Data!M178>=ObData!$H$2:$H$300)*(Data!M178<=ObData!$I$2:$I$300),0)),\"N/A\")","v":""},{"$f":"BehaviorLogEntries!A178","v":0},{"$f":"BehaviorLogEntries!B178","v":0},{"$f":"BehaviorLogEntries!C178","v":0},{"$f":"BehaviorLogEntries!D178","v":0},{"$f":"BehaviorLogEntries!E178","v":0},{"$f":"BehaviorLogEntries!F178","v":0},{"$f":"BehaviorLogEntries!G178","v":0},{"$f":"BehaviorLogEntries!H178","v":0},{"$f":"BehaviorLogEntries!J178","v":0},"","","","","",{"$f":"IFERROR(VLOOKUP(A178,ObData!$A$2:$I$300,5,0),\"\")","v":0},""]
[{"$f":"IFERROR(INDEX(ObData!$A$2:$A$300,MATCH(1,(Data!M179>=ObData!$H$2:$H$300)*(Data!M179<=ObData!$I$2:$I$300),0)),\"N/A\")","v":""},{"$f":"BehaviorLogEntries!A179","v":0},{"$f":"BehaviorLogEntries!B179","v":0},{"$f":"BehaviorLogEntries!C179","v":0},{"$f":"BehaviorLogEntries!D179","v":0},{"$f":"BehaviorLogEntries!E179","v":0},{"$f":"BehaviorLogEntries!F179","v":0},{"$f":"BehaviorLogEntries!G179","v":0},{"$f":"BehaviorLogEntries!H179","v":0},{"$f":"BehaviorLogEntries!J179","v":0},"","","","","",{"$f":"IFERROR(VLOOKUP(A179,ObData!$A$2:$I$300,5,0),\"\")","v":0},""]
[{"$f":"IFERROR(INDEX(ObData!$A$2:$A$300,MATCH(1,(Data!M180>=ObData!$H$2:$H$300)*(Data!M180<=ObData!$I$2:$I$300),0)),\"N/A\")","v":""},{"$f":"BehaviorLogEntries!A180","v":0},{"$f":"BehaviorLogEntries!B180","v":0},{"$f":"BehaviorLogEntries!C180","v":0},{"$f":"BehaviorLogEntries!D180","v":0},{"$f":"BehaviorLogEntries!E180","v":0},{"$f":"BehaviorLogEntries!F180","v":0},{"$f":"BehaviorLogEntries!G180","v":0},{"$f":"BehaviorLogEntries!H180","v":0},{"$f":"BehaviorLogEntries!J180","v":0},"","","","","",{"$f":"IFERROR(VLOOKUP(A180,ObData!$A$2:$I$300,5,0),\"\")","v":0},""]
[{"$f":"IFERROR(INDEX(ObData!$A$2:$A$300,MATCH(1,(Data!M181>=ObData!$H$2:$H$300)*(Data!M181<=ObData!$I$2:$I$300),0)),\"N/A\")","v":""},{"$f":"BehaviorLogEntries!A181","v":0},{"$f":"BehaviorLogEntries!B181","v":0},{"$f":"BehaviorLogEntries!C181","v":0},{"$f":"BehaviorLogEntries!D181","v":0},{"$f":"BehaviorLogEntries!E181","v":0},{"$f":"BehaviorLogEntries!F181","v":0},{"$f":"BehaviorLogEntries!G181","v":0},{"$f":"BehaviorLogEntries!H181","v":0},{"$f":"BehaviorLogEntries!J181","v":0},"","","","","",{"$f":"IFERROR(VLOOKUP(A181,ObData!$A$2:$I$300,5,0),\"\")","v":0},""]
[{"$f":"IFERROR(INDEX(ObData!$A$2:$A$300,MATCH(1,(Data!M182>=ObData!$H$2:$H$300)*(Data!M182<=ObData!$I$2:$I$300),0)),\"N/A\")","v":""},{"$f":"BehaviorLogEntries!A182","v":0},{"$f":"BehaviorLogEntries!B182","v":0},{"$f":"BehaviorLogEntries!C182","v":0},{"$f":"BehaviorLogEntries!D182","v":0},{"$f":"BehaviorLogEntries!E182","v":0},{"$f":"BehaviorLogEntries!F182","v":0},{"$f":"BehaviorLogEntries!G182","v":0},{"$f":"BehaviorLogEntries!H182","v":0},{"$f":"BehaviorLogEntries!J182","v":0},"","","","","",{"$f":"IFERROR(VLOOKUP(A182,ObData!$A$2:$I$300,5,0),\"\")","v":0},""]
[{"$f":"IFERROR(INDEX(ObData!$A$2:$A$300,MATCH(1,(Data!M183>=ObData!$H$2:$H$300)*(Data!M183<=ObData!$I$2:$I$300),0)),\"N/A\")","v":""},{"$f":"BehaviorLogEntries!A183","v":0},{"$f":"BehaviorLogEntries!B183","v":0},{"$f":"BehaviorLogEntries!C183","v":0},{"$f":"BehaviorLogEntries!D183","v":0},{"$f":"BehaviorLogEntries!E183","v":0},{"$f":"BehaviorLogEntries!F183","v":0},{"$f":"BehaviorLogEntries!G183","v":0},{"$f":"BehaviorLogEntries!H183","v":0},{"$f":"BehaviorLogEntries!J183","v":0},"","","","","",{"$f":"IFERROR(VLOOKUP(A183,ObData!$A$2:$I$300,5,0),\"\")","v":0},""]
[{"$f":"IFERROR(INDEX(ObData!$A$2:$A$300,MATCH(1,(Data!M184>=ObData!$H$2:$H$300)*(Data!M184<=ObData!$I$2:$I$300),0)),\"N/A\")","v":""},{"$f":"BehaviorLogEntries!A184","v":0},{"$f":"BehaviorLogEntries!B184","v":0},{"$f":"BehaviorLogEntries!C184","v":0},{"$f":"BehaviorLogEntries!D184","v":0},{"$f":"BehaviorLogEntries!E184","v":0},{"$f":"BehaviorLogEntries!F184","v":0},{"$f":"BehaviorLogEntries!G184","v":0},{"$f":"BehaviorLogEntries!H184","v":0},{"$f":"BehaviorLogEntries!J184","v":0},"","","","","",{"$f":"IFERROR(VLOOKUP(A184,ObData!$A$2:$I$300,5,0),\"\")","v":0},""]
[{"$f":"IFERROR(INDEX(ObData!$A$2:$A$300,MATCH(1,(Data!M185>=ObData!$H$2:$H$300)*(Data!M185<=ObData!$I$2:$I$300),0)),\"N/A\")","v":""},{"$f":"BehaviorLogEntries!A185","v":0},{"$f":"BehaviorLogEntries!B185","v":0},{"$f":"BehaviorLogEntries!C185","v":0},{"$f":"BehaviorLogEntries!D185","v":0},{"$f":"BehaviorLogEntries!E185","v":0},{"$f":"BehaviorLogEntries!F185","v":0},{"$f":"BehaviorLogEntries!G185","v":0},{"$f":"BehaviorLogEntries!H185","v":0},{"$f":"BehaviorLogEntries!J185","v":0},"","","","","",{"$f":"IFERROR(VLOOKUP(A185,ObData!$A$2:$I$300,5,0),\"\")","v":0},""]
[{"$f":"IFERROR(INDEX(ObData!$A$2:$A$300,MATCH(1,(Data!M186>=ObData!$H$2:$H$300)*(Data!M186<=ObData!$I$2:$I$300),0)),\"N/A\")","v":""},{"$f":"BehaviorLogEntries!A186","v":0},{"$f":"BehaviorLogEntries!B186","v":0},{"$f":"BehaviorLogEntries!C186","v":0},{"$f":"BehaviorLogEntries!D186","v":0},{"$f":"BehaviorLogEntries!E186","v":0},{"$f":"BehaviorLogEntries!F186","v":0},{"$f":"BehaviorLogEntries!G186","v":0},{"$f":"BehaviorLogEntries!H186","v":0},{"$f":"BehaviorLogEntries!J186","v":0},"","","","","",{"$f":"IFERROR(VLOOKUP(A186,ObData!$A$2:$I$300,5,0),\"\")","v":0},""]
[{"$f":"IFERROR(INDEX(ObData!$A$2:$A$300,MATCH(1,(Data!M187>=ObData!$H$2:$H$300)*(Data!M187<=ObData!$I$2:$I$300),0)),\"N/A\")","v":""},{"$f":"BehaviorLogEntries!A187","v":0},{"$f":"BehaviorLogEntries!B187","v":0},{"$f":"BehaviorLogEntries!C187","v":0},{"$f":"BehaviorLogEntries!D187","v":0},{"$f":"BehaviorLogEntries!E187","v":0},{"$f":"BehaviorLogEntries!F187","v":0},{"$f":"BehaviorLogEntries!G187","v":0},{"$f":"BehaviorLogEntries!H187","v":0},{"$f":"BehaviorLogEntries!J187","v":0},"","","","","",{"$f":"IFERROR(VLOOKUP(A187,ObData!$A$2:$I$300,5,0),\"\")","v":0},""]
[{"$f":"IFERROR(INDEX(ObData!$A$2:$A$300,MATCH(1,(Data!M188>=ObData!$H$2:$H$300)*(Data!M188<=ObData!$I$2:$I$300),0)),\"N/A\")","v":""},{"$f":"BehaviorLogEntries!A188","v":0},{"$f":"BehaviorLogEntries!B188","v":0},{"$f":"BehaviorLogEntries!C188","v":0},{"$f":"BehaviorLogEntries!D188","v":0},{"$f":"BehaviorLogEntries!E188","v":0},{"$f":"BehaviorLogEntries!F188","v":0},{"$f":"BehaviorLogEntries!G188","v":0},{"$f":"BehaviorLogEntries!H188","v":0},{"$f":"BehaviorLogEntries!J188","v":0},"","","","","",{"$f":"IFERROR(VLOOKUP(A188,ObData!$A$2:$I$300,5,0),\"\")","v":0},""]
[{"$f":"IFERROR(INDEX(ObData!$A$2:$A$300,MATCH(1,(Data!M189>=ObData!$H$2:$H$300)*(Data!M189<=ObData!$I$2:$I$300),0)),\"N/A\")","v":""},{"$f":"BehaviorLogEntries!A189","v":0},{"$f":"BehaviorLogEntries!B189","v":0},{"$f":"BehaviorLogEntries!C189","v":0},{"$f":"BehaviorLogEntries!D189","v":0},{"$f":"BehaviorLogEntries!E189","v":0},{"$f":"BehaviorLogEntries!F189","v":0},{"$f":"BehaviorLogEntries!G189","v":0},{"$f":"BehaviorLogEntries!H189","v":0},{"$f":"BehaviorLogEntries!J189","v":0},"","","","","",{"$f":"IFERROR(VLOOKUP(A189,ObData!$A$2:$I$300,5,0),\"\")","v":0},""]
[{"$f":"IFERROR(INDEX(ObData!$A$2:$A$300,MATCH(1,(Data!M190>=ObData!$H$2:$H$300)*(Data!M190<=ObData!$I$2:$I$300),0)),\"N/A\")","v":""},{"$f":"BehaviorLogEntries!A190","v":0},{"$f":"BehaviorLogEntries!B190","v":0},{"$f":"BehaviorLogEntries!C190","v":0},{"$f":"BehaviorLogEntries!D190","v":0},{"$f":"BehaviorLogEntries!E190","v":0},{"$f":"BehaviorLogEntries!F190","v":0},{"$f":"BehaviorLogEntries!G190","v":0},{"$f":"BehaviorLogEntries!H190","v":0},{"$f":"BehaviorLogEntries!J190","v":0},"","","","","",{"$f":"IFERROR(VLOOKUP(A190,ObData!$A$2:$I$300,5,0),\"\")","v":0},""]
[{"$f":"IFERROR(INDEX(ObData!$A$2:$A$300,MATCH(1,(Data!M191>=ObData!$H$2:$H$300)*(Data!M191<=ObData!$I$2:$I$300),0)),\"N/A\")","v":""},{"$f":"BehaviorLogEntries!A191","v":0},{"$f":"BehaviorLogEntries!B191","v":0},{"$f":"BehaviorLogEntries!C191","v":0},{"$f":"BehaviorLogEntries!D191","v":0},{"$f":"BehaviorLogEntries!E191","v":0},{"$f":"BehaviorLogEntries!F191","v":0},{"$f":"BehaviorLogEntries!G191","v":0},{"$f":"BehaviorLogEntries!H191","v":0},{"$f":"BehaviorLogEntries!J191","v":0},"","","","","",{"$f":"IFERROR(VLOOKUP(A191,ObData!$A$2:$I$300,5,0),\"\")","v":0},""]
[{"$f":"IFERROR(INDEX(ObData!$A$2:$A$300,MATCH(1,(Data!M192>=ObData!$H$2:$H$300)*(Data!M192<=ObData!$I$2:$I$300),0)),\"N/A\")","v":""},{"$f":"BehaviorLogEntries!A192","v":0},{"$f":"BehaviorLogEntries!B192","v":0},{"$f":"BehaviorLogEntries!C192","v":0},{"$f":"BehaviorLogEntries!D192","v":0},{"$f":"BehaviorLogEntries!E192","v":0},{"$f":"BehaviorLogEntries!F192","v":0},{"$f":"BehaviorLogEntries!G192","v":0},{"$f":"BehaviorLogEntries!H192","v":0},{"$f":"BehaviorLogEntries!J192","v":0},"","","","","",{"$f":"IFERROR(VLOOKUP(A192,ObData!$A$2:$I$300,5,0),\"\")","v":0},""]
[{"$f":"IFERROR(INDEX(ObData!$A$2:$A$300,MATCH(1,(Data!M193>=ObData!$H$2:$H$300)*(Data!M193<=ObData!$I$2:$I$300),0)),\"N/A\")","v":""},{"$f":"BehaviorLogEntries!A193","v":0},{"$f":"BehaviorLogEntries!B193","v":0},{"$f":"BehaviorLogEntries!C193","v":0},{"$f":"BehaviorLogEntries!D193","v":0},{"$f":"BehaviorLogEntries!E193","v":0},{"$f":"BehaviorLogEntries!F193","v":0},{"$f":"BehaviorLogEntries!G193","v":0},{"$f":"BehaviorLogEntries!H193","v":0},{"$f":"BehaviorLogEntries!J193","v":0},"","","","","",{"$f":"IFERROR(VLOOKUP(A193,ObData!$A$2:$I$300,5,0),\"\")","v":0},""]
[{"$f":"IFERROR(INDEX(ObData!$A$2:$A$300,MATCH(1,(Data!M194>=ObData!$H$2:$H$300)*(Data!M194<=ObData!$I$2:$I$300),0)),\"N/A\")","v":""},{"$f":"BehaviorLogEntries!A194","v":0},{"$f":"BehaviorLogEntries!B194","v":0},{"$f":"BehaviorLogEntries!C194","v":0},{"$f":"BehaviorLogEntries!D194","v":0},{"$f":"BehaviorLogEntries!E194","v":0},{"$f":"BehaviorLogEntries!F194","v":0},{"$f":"BehaviorLogEntries!G194","v":0},{"$f":"BehaviorLogEntries!H194","v":0},{"$f":"BehaviorLogEntries!J194","v":0},"","","","","",{"$f":"IFERROR(VLOOKUP(A194,ObData!$A$2:$I$300,5,0),\"\")","v":0},""]
[{"$f":"IFERROR(INDEX(ObData!$A$2:$A$300,MATCH(1,(Data!M195>=ObData!$H$2:$H$300)*(Data!M195<=ObData!$I$2:$I$300),0)),\"N/A\")","v":""},{"$f":"BehaviorLogEntries!A195","v":0},{"$f":"BehaviorLogEntries!B195","v":0},{"$f":"BehaviorLogEntries!C195","v":0},{"$f":"BehaviorLogEntries!D195","v":0},{"$f":"BehaviorLogEntries!E195","v":0},{"$f":"BehaviorLogEntries!F195","v":0},{"$f":"BehaviorLogEntries!G195","v":0},{"$f":"BehaviorLogEntries!H195","v":0},{"$f":"BehaviorLogEntries!J195","v":0},{"$f":"IF(F195<>0,IF(K195=\"\",NOW(),K195),\"\")","v":""},{"$f":"IFERROR(IF(J195<>0,J195,DATE(YEAR(K195),MONTH(K195),DAY(K195))),\"\")","v":""},{"$f":"IF(B195=0,\"\",L195+F195)","v":""},{"$f":"IFERROR(IF(G195=\"Yes\",F195+0.00069444,IF(H195<>0,H195,IF(DATE(YEAR(K195),MONTH(K195),DAY(K195))<>DATE(YEAR(L195),MONTH(L195),DAY(L195)),F195+0.00069444,K195-DATE(YEAR(K195),MONTH(K195),DAY(K195))))),\"\")","v":""},{"$f":"IF(B195=0,\"\",L195+N195)","v":""},{"$f":"IFERROR(VLOOKUP(A195,ObData!$A$2:$I$300,5,0),\"\")","v":0},{"$f":"IF(F195=0,\"\",N195-F195)","v":""}]
[{"$f":"IFERROR(INDEX(ObData!$A$2:$A$300,MATCH(1,(Data!M196>=ObData!$H$2:$H$300)*(Data!M196<=ObData!$I$2:$I$300),0)),\"N/A\")","v":""},{"$f":"BehaviorLogEntries!A196","v":0},{"$f":"BehaviorLogEntries!B196","v":0},{"$f":"BehaviorLogEntries!C196","v":0},{"$f":"BehaviorLogEntries!D196","v":0},{"$f":"BehaviorLogEntries!E196","v":0},{"$f":"BehaviorLogEntries!F196","v":0},{"$f":"BehaviorLogEntries!G196","v":0},{"$f":"BehaviorLogEntries!H196","v":0},{"$f":"BehaviorLogEntries!J196","v":0},"","","","","",{"$f":"IFERROR(VLOOKUP(A196,ObData!$A$2:$I$300,5,0),\"\")","v":0},""]
[{"$f":"IFERROR(INDEX(ObData!$A$2:$A$300,MATCH(1,(Data!M197>=ObData!$H$2:$H$300)*(Data!M197<=ObData!$I$2:$I$300),0)),\"N/A\")","v":""},{"$f":"BehaviorLogEntries!A197","v":0},{"$f":"BehaviorLogEntries!B197","v":0},{"$f":"BehaviorLogEntries!C197","v":0},{"$f":"BehaviorLogEntries!D197","v":0},{"$f":"BehaviorLogEntries!E197","v":0},{"$f":"BehaviorLogEntries!F197","v":0},{"$f":"BehaviorLogEntries!G197","v":0},{"$f":"BehaviorLogEntries!H197","v":0},{"$f":"BehaviorLogEntries!J197","v":0},"","","","","",{"$f":"IFERROR(VLOOKUP(A197,ObData!$A$2:$I$300,5,0),\"\")","v":0},""]
[{"$f":"IFERROR(INDEX(ObData!$A$2:$A$300,MATCH(1,(Data!M198>=ObData!$H$2:$H$300)*(Data!M198<=ObData!$I$2:$I$300),0)),\"N/A\")","v":""},{"$f":"BehaviorLogEntries!A198","v":0},{"$f":"BehaviorLogEntries!B198","v":0},{"$f":"BehaviorLogEntries!C198","v":0},{"$f":"BehaviorLogEntries!D198","v":0},{"$f":"BehaviorLogEntries!E198","v":0},{"$f":"BehaviorLogEntries!F198","v":0},{"$f":"BehaviorLogEntries!G198","v":0},{"$f":"BehaviorLogEntries!H198","v":0},{"$f":"BehaviorLogEntries!J198","v":0},"","","","","",{"$f":"IFERROR(VLOOKUP(A198,ObData!$A$2:$I$300,5,0),\"\")","v":0},""]
[{"$f":"IFERROR(INDEX(ObData!$A$2:$A$300,MATCH(1,(Data!M199>=ObData!$H$2:$H$300)*(Data!M199<=ObData!$I$2:$I$300),0)),\"N/A\")","v":""},{"$f":"BehaviorLogEntries!A199","v":0},{"$f":"BehaviorLogEntries!B199","v":0},{"$f":"BehaviorLogEntries!C199","v":0},{"$f":"BehaviorLogEntries!D199","v":0},{"$f":"BehaviorLogEntries!E199","v":0},{"$f":"BehaviorLogEntries!F199","v":0},{"$f":"BehaviorLogEntries!G199","v":0},{"$f":"BehaviorLogEntries!H199","v":0},{"$f":"BehaviorLogEntries!J199","v":0},"","","","","",{"$f":"IFERROR(VLOOKUP(A199,ObData!$A$2:$I$300,5,0),\"\")","v":0},""]
[{"$f":"IFERROR(INDEX(ObData!$A$2:$A$300,MATCH(1,(Data!M200>=ObData!$H$2:$H$300)*(Data!M200<=ObData!$I$2:$I$300),0)),\"N/A\")","v":""},{"$f":"BehaviorLogEntries!A200","v":0},{"$f":"BehaviorLogEntries!B200","v":0},{"$f":"BehaviorLogEntries!C200","v":0},{"$f":"BehaviorLogEntries!D200","v":0},{"$f":"BehaviorLogEntries!E200","v":0},{"$f":"BehaviorLogEntries!F200","v":0},{"$f":"BehaviorLogEntries!G200","v":0},{"$f":"BehaviorLogEntries!H200","v":0},{"$f":"BehaviorLogEntries!J200","v":0},"","","","","",{"$f":"IFERROR(VLOOKUP(A200,ObData!$A$2:$I$300,5,0),\"\")","v":0},""]
[{"$f":"IFERROR(INDEX(ObData!$A$2:$A$300,MATCH(1,(Data!M201>=ObData!$H$2:$H$300)*(Data!M201<=ObData!$I$2:$I$300),0)),\"N/A\")","v":""},{"$f":"BehaviorLogEntries!A201","v":0},{"$f":"BehaviorLogEntries!B201","v":0},{"$f":"BehaviorLogEntries!C201","v":0},{"$f":"BehaviorLogEntries!D201","v":0},{"$f":"BehaviorLogEntries!E201","v":0},{"$f":"BehaviorLogEntries!F201","v":0},{"$f":"BehaviorLogEntries!G201","v":0},{"$f":"BehaviorLogEntries!H201","v":0},{"$f":"BehaviorLogEntries!J201","v":0},"","","","","",{"$f":"IFERROR(VLOOKUP(A201,ObData!$A$2:$I$300,5,0),\"\")","v":0},""]
[{"$f":"IFERROR(INDEX(ObData!$A$2:$A$300,MATCH(1,(Data!M202>=ObData!$H$2:$H$300)*(Data!M202<=ObData!$I$2:$I$300),0)),\"N/A\")","v":""},{"$f":"BehaviorLogEntries!A202","v":0},{"$f":"BehaviorLogEntries!B202","v":0},{"$f":"BehaviorLogEntries!C202","v":0},{"$f":"BehaviorLogEntries!D202","v":0},{"$f":"BehaviorLogEntries!E202","v":0},{"$f":"BehaviorLogEntries!F202","v":0},{"$f":"BehaviorLogEntries!G202","v":0},{"$f":"BehaviorLogEntries!H202","v":0},{"$f":"BehaviorLogEntries!J202","v":0},"","","","","",{"$f":"IFERROR(VLOOKUP(A202,ObData!$A$2:$I$300,5,0),\"\")","v":0},""]
[{"$f":"IFERROR(INDEX(ObData!$A$2:$A$300,MATCH(1,(Data!M203>=ObData!$H$2:$H$300)*(Data!M203<=ObData!$I$2:$I$300),0)),\"N/A\")","v":""},{"$f":"BehaviorLogEntries!A203","v":0},{"$f":"BehaviorLogEntries!B203","v":0},{"$f":"BehaviorLogEntries!C203","v":0},{"$f":"BehaviorLogEntries!D203","v":0},{"$f":"BehaviorLogEntries!E203","v":0},{"$f":"BehaviorLogEntries!F203","v":0},{"$f":"BehaviorLogEntries!G203","v":0},{"$f":"BehaviorLogEntries!H203","v":0},{"$f":"BehaviorLogEntries!J203","v":0},"","","","","",{"$f":"IFERROR(VLOOKUP(A203,ObData!$A$2:$I$300,5,0),\"\")","v":0},""]
[{"$f":"IFERROR(INDEX(ObData!$A$2:$A$300,MATCH(1,(Data!M204>=ObData!$H$2:$H$300)*(Data!M204<=ObData!$I$2:$I$300),0)),\"N/A\")","v":""},{"$f":"BehaviorLogEntries!A204","v":0},{"$f":"BehaviorLogEntries!B204","v":0},{"$f":"BehaviorLogEntries!C204","v":0},{"$f":"BehaviorLogEntries!D204","v":0},{"$f":"BehaviorLogEntries!E204","v":0},{"$f":"BehaviorLogEntries!F204","v":0},{"$f":"BehaviorLogEntries!G204","v":0},{"$f":"BehaviorLogEntries!H204","v":0},{"$f":"BehaviorLogEntries!J204","v":0},"","","","","",{"$f":"IFERROR(VLOOKUP(A204,ObData!$A$2:$I$300,5,0),\"\")","v":0},""]
[{"$f":"IFERROR(INDEX(ObData!$A$2:$A$300,MATCH(1,(Data!M205>=ObData!$H$2:$H$300)*(Data!M205<=ObData!$I$2:$I$300),0)),\"N/A\")","v":""},{"$f":"BehaviorLogEntries!A205","v":0},{"$f":"BehaviorLogEntries!B205","v":0},{"$f":"BehaviorLogEntries!C205","v":0},{"$f":"BehaviorLogEntries!D205","v":0},{"$f":"BehaviorLogEntries!E205","v":0},{"$f":"BehaviorLogEntries!F205","v":0},{"$f":"BehaviorLogEntries!G205","v":0},{"$f":"BehaviorLogEntries!H205","v":0},{"$f":"BehaviorLogEntries!J205","v":0},"","","","","",{"$f":"IFERROR(VLOOKUP(A205,ObData!$A$2:$I$300,5,0),\"\")","v":0},""]
[{"$f":"IFERROR(INDEX(ObData!$A$2:$A$300,MATCH(1,(Data!M206>=ObData!$H$2:$H$300)*(Data!M206<=ObData!$I$2:$I$300),0)),\"N/A\")","v":""},{"$f":"BehaviorLogEntries!A206","v":0},{"$f":"BehaviorLogEntries!B206","v":0},{"$f":"BehaviorLogEntries!C206","v":0},{"$f":"BehaviorLogEntries!D206","v":0},{"$f":"BehaviorLogEntries!E206","v":0},{"$f":"BehaviorLogEntries!F206","v":0},{"$f":"BehaviorLogEntries!G206","v":0},{"$f":"BehaviorLogEntries!H206","v":0},{"$f":"BehaviorLogEntries!J206","v":0},"","","","","",{"$f":"IFERROR(VLOOKUP(A206,ObData!$A$2:$I$300,5,0),\"\")","v":0},""]
[{"$f":"IFERROR(INDEX(ObData!$A$2:$A$300,MATCH(1,(Data!M207>=ObData!$H$2:$H$300)*(Data!M207<=ObData!$I$2:$I$300),0)),\"N/A\")","v":""},{"$f":"BehaviorLogEntries!A207","v":0},{"$f":"BehaviorLogEntries!B207","v":0},{"$f":"BehaviorLogEntries!C207","v":0},{"$f":"BehaviorLogEntries!D207","v":0},{"$f":"BehaviorLogEntries!E207","v":0},{"$f":"BehaviorLogEntries!F207","v":0},{"$f":"BehaviorLogEntries!G207","v":0},{"$f":"BehaviorLogEntries!H207","v":0},{"$f":"BehaviorLogEntries!J207","v":0},"","","","","",{"$f":"IFERROR(VLOOKUP(A207,ObData!$A$2:$I$300,5,0),\"\")","v":0},""]
[{"$f":"IFERROR(INDEX(ObData!$A$2:$A$300,MATCH(1,(Data!M208>=ObData!$H$2:$H$300)*(Data!M208<=ObData!$I$2:$I$300),0)),\"N/A\")","v":""},{"$f":"BehaviorLogEntries!A208","v":0},{"$f":"BehaviorLogEntries!B208","v":0},{"$f":"BehaviorLogEntries!C208","v":0},{"$f":"BehaviorLogEntries!D208","v":0},{"$f":"BehaviorLogEntries!E208","v":0},{"$f":"BehaviorLogEntries!F208","v":0},{"$f":"BehaviorLogEntries!G208","v":0},{"$f":"BehaviorLogEntries!H208","v":0},{"$f":"BehaviorLogEntries!J208","v":0},"","","","","",{"$f":"IFERROR(VLOOKUP(A208,ObData!$A$2:$I$300,5,0),\"\")","v":0},""]
[{"$f":"IFERROR(INDEX(ObData!$A$2:$A$300,MATCH(1,(Data!M209>=ObData!$H$2:$H$300)*(Data!M209<=ObData!$I$2:$I$300),0)),\"N/A\")","v":""},{"$f":"BehaviorLogEntries!A209","v":0},{"$f":"BehaviorLogEntries!B209","v":0},{"$f":"BehaviorLogEntries!C209","v":0},{"$f":"BehaviorLogEntries!D209","v":0},{"$f":"BehaviorLogEntries!E209","v":0},{"$f":"BehaviorLogEntries!F209","v":0},{"$f":"BehaviorLogEntries!G209","v":0},{"$f":"BehaviorLogEntries!H209","v":0},{"$f":"BehaviorLogEntries!J209","v":0},"","","","","",{"$f":"IFERROR(VLOOKUP(A209,ObData!$A$2:$I$300,5,0),\"\")","v":0},""]
[{"$f":"IFERROR(INDEX(ObData!$A$2:$A$300,MATCH(1,(Data!M210>=ObData!$H$2:$H$300)*(Data!M210<=ObData!$I$2:$I$300),0)),\"N/A\")","v":""},{"$f":"BehaviorLogEntries!A210","v":0},{"$f":"BehaviorLogEntries!B210","v":0},{"$f":"BehaviorLogEntries!C210","v":0},{"$f":"BehaviorLogEntries!D210","v":0},{"$f":"BehaviorLogEntries!E210","v":0},{"$f":"BehaviorLogEntries!F210","v":0},{"$f":"BehaviorLogEntries!G210","v":0},{"$f":"BehaviorLogEntries!H210","v":0},{"$f":"BehaviorLogEntries!J210","v":0},"","","","","",{"$f":"IFERROR(VLOOKUP(A210,ObData!$A$2:$I$300,5,0),\"\")","v":0},""]
[{"$f":"IFERROR(INDEX(ObData!$A$2:$A$300,MATCH(1,(Data!M211>=ObData!$H$2:$H$300)*(Data!M211<=ObData!$I$2:$I$300),0)),\"N/A\")","v":""},{"$f":"BehaviorLogEntries!A211","v":0},{"$f":"BehaviorLogEntries!B211","v":0},{"$f":"BehaviorLogEntries!C211","v":0},{"$f":"BehaviorLogEntries!D211","v":0},{"$f":"BehaviorLogEntries!E211","v":0},{"$f":"BehaviorLogEntries!F211","v":0},{"$f":"BehaviorLogEntries!G211","v":0},{"$f":"BehaviorLogEntries!H211","v":0},{"$f":"BehaviorLogEntries!J211","v":0},"","","","","",{"$f":"IFERROR(VLOOKUP(A211,ObData!$A$2:$I$300,5,0),\"\")","v":0},""]
[{"$f":"IFERROR(INDEX(ObData!$A$2:$A$300,MATCH(1,(Data!M212>=ObData!$H$2:$H$300)*(Data!M212<=ObData!$I$2:$I$300),0)),\"N/A\")","v":""},{"$f":"BehaviorLogEntries!A212","v":0},{"$f":"BehaviorLogEntries!B212","v":0},{"$f":"BehaviorLogEntries!C212","v":0},{"$f":"BehaviorLogEntries!D212","v":0},{"$f":"BehaviorLogEntries!E212","v":0},{"$f":"BehaviorLogEntries!F212","v":0},{"$f":"BehaviorLogEntries!G212","v":0},{"$f":"BehaviorLogEntries!H212","v":0},{"$f":"BehaviorLogEntries!J212","v":0},"","","","","",{"$f":"IFERROR(VLOOKUP(A212,ObData!$A$2:$I$300,5,0),\"\")","v":0},""]
[{"$f":"IFERROR(INDEX(ObData!$A$2:$A$300,MATCH(1,(Data!M213>=ObData!$H$2:$H$300)*(Data!M213<=ObData!$I$2:$I$300),0)),\"N/A\")","v":""},{"$f":"BehaviorLogEntries!A213","v":0},{"$f":"BehaviorLogEntries!B213","v":0},{"$f":"BehaviorLogEntries!C213","v":0},{"$f":"BehaviorLogEntries!D213","v":0},{"$f":"BehaviorLogEntries!E213","v":0},{"$f":"BehaviorLogEntries!F213","v":0},{"$f":"BehaviorLogEntries!G213","v":0},{"$f":"BehaviorLogEntries!H213","v":0},{"$f":"BehaviorLogEntries!J213","v":0},"","","","","",{"$f":"IFERROR(VLOOKUP(A213,ObData!$A$2:$I$300,5,0),\"\")","v":0},""]
[{"$f":"IFERROR(INDEX(ObData!$A$2:$A$300,MATCH(1,(Data!M214>=ObData!$H$2:$H$300)*(Data!M214<=ObData!$I$2:$I$300),0)),\"N/A\")","v":""},{"$f":"BehaviorLogEntries!A214","v":0},{"$f":"BehaviorLogEntries!B214","v":0},{"$f":"BehaviorLogEntries!C214","v":0},{"$f":"BehaviorLogEntries!D214","v":0},{"$f":"BehaviorLogEntries!E214","v":0},{"$f":"BehaviorLogEntries!F214","v":0},{"$f":"BehaviorLogEntries!G214","v":0},{"$f":"BehaviorLogEntries!H214","v":0},{"$f":"BehaviorLogEntries!J214","v":0},"","","","","",{"$f":"IFERROR(VLOOKUP(A214,ObData!$A$2:$I$300,5,0),\"\")","v":0},""]
[{"$f":"IFERROR(INDEX(ObData!$A$2:$A$300,MATCH(1,(Data!M215>=ObData!$H$2:$H$300)*(Data!M215<=ObData!$I$2:$I$300),0)),\"N/A\")","v":""},{"$f":"BehaviorLogEntries!A215","v":0},{"$f":"BehaviorLogEntries!B215","v":0},{"$f":"BehaviorLogEntries!C215","v":0},{"$f":"BehaviorLogEntries!D215","v":0},{"$f":"BehaviorLogEntries!E215","v":0},{"$f":"BehaviorLogEntries!F215","v":0},{"$f":"BehaviorLogEntries!G215","v":0},{"$f":"BehaviorLogEntries!H215","v":0},{"$f":"BehaviorLogEntries!J215","v":0},"","","","","",{"$f":"IFERROR(VLOOKUP(A215,ObData!$A$2:$I$300,5,0),\"\")","v":0},""]
[{"$f":"IFERROR(INDEX(ObData!$A$2:$A$300,MATCH(1,(Data!M216>=ObData!$H$2:$H$300)*(Data!M216<=ObData!$I$2:$I$300),0)),\"N/A\")","v":""},{"$f":"BehaviorLogEntries!A216","v":0},{"$f":"BehaviorLogEntries!B216","v":0},{"$f":"BehaviorLogEntries!C216","v":0},{"$f":"BehaviorLogEntries!D216","v":0},{"$f":"BehaviorLogEntries!E216","v":0},{"$f":"BehaviorLogEntries!F216","v":0},{"$f":"BehaviorLogEntries!G216","v":0},{"$f":"BehaviorLogEntries!H216","v":0},{"$f":"BehaviorLogEntries!J216","v":0},"","","","","",{"$f":"IFERROR(VLOOKUP(A216,ObData!$A$2:$I$300,5,0),\"\")","v":0},""]
[{"$f":"IFERROR(INDEX(ObData!$A$2:$A$300,MATCH(1,(Data!M217>=ObData!$H$2:$H$300)*(Data!M217<=ObData!$I$2:$I$300),0)),\"N/A\")","v":""},{"$f":"BehaviorLogEntries!A217","v":0},{"$f":"BehaviorLogEntries!B217","v":0},{"$f":"BehaviorLogEntries!C217","v":0},{"$f":"BehaviorLogEntries!D217","v":0},{"$f":"BehaviorLogEntries!E217","v":0},{"$f":"BehaviorLogEntries!F217","v":0},{"$f":"BehaviorLogEntries!G217","v":0},{"$f":"BehaviorLogEntries!H217","v":0},{"$f":"BehaviorLogEntries!J217","v":0},"","","","","",{"$f":"IFERROR(VLOOKUP(A217,ObData!$A$2:$I$300,5,0),\"\")","v":0},""]
[{"$f":"IFERROR(INDEX(ObData!$A$2:$A$300,MATCH(1,(Data!M218>=ObData!$H$2:$H$300)*(Data!M218<=ObData!$I$2:$I$300),0)),\"N/A\")","v":""},{"$f":"BehaviorLogEntries!A218","v":0},{"$f":"BehaviorLogEntries!B218","v":0},{"$f":"BehaviorLogEntries!C218","v":0},{"$f":"BehaviorLogEntries!D218","v":0},{"$f":"BehaviorLogEntries!E218","v":0},{"$f":"BehaviorLogEntries!F218","v":0},{"$f":"BehaviorLogEntries!G218","v":0},{"$f":"BehaviorLogEntries!H218","v":0},{"$f":"BehaviorLogEntries!J218","v":0},"","","","","",{"$f":"IFERROR(VLOOKUP(A218,ObData!$A$2:$I$300,5,0),\"\")","v":0},""]
[{"$f":"IFERROR(INDEX(ObData!$A$2:$A$300,MATCH(1,(Data!M219>=ObData!$H$2:$H$300)*(Data!M219<=ObData!$I$2:$I$300),0)),\"N/A\")","v":""},{"$f":"BehaviorLogEntries!A219","v":0},{"$f":"BehaviorLogEntries!B219","v":0},{"$f":"BehaviorLogEntries!C219","v":0},{"$f":"BehaviorLogEntries!D219","v":0},{"$f":"BehaviorLogEntries!E219","v":0},{"$f":"BehaviorLogEntries!F219","v":0},{"$f":"BehaviorLogEntries!G219","v":0},{"$f":"BehaviorLogEntries!H219","v":0},{"$f":"BehaviorLogEntries!J219","v":0},"","","","","",{"$f":"IFERROR(VLOOKUP(A219,ObData!$A$2:$I$300,5,0),\"\")","v":0},""]
[{"$f":"IFERROR(INDEX(ObData!$A$2:$A$300,MATCH(1,(Data!M220>=ObData!$H$2:$H$300)*(Data!M220<=ObData!$I$2:$I$300),0)),\"N/A\")","v":""},{"$f":"BehaviorLogEntries!A220","v":0},{"$f":"BehaviorLogEntries!B220","v":0},{"$f":"BehaviorLogEntries!C220","v":0},{"$f":"BehaviorLogEntries!D220","v":0},{"$f":"BehaviorLogEntries!E220","v":0},{"$f":"BehaviorLogEntries!F220","v":0},{"$f":"BehaviorLogEntries!G220","v":0},{"$f":"BehaviorLogEntries!H220","v":0},{"$f":"BehaviorLogEntries!J220","v":0},"","","","","",{"$f":"IFERROR(VLOOKUP(A220,ObData!$A$2:$I$300,5,0),\"\")","v":0},""]
[{"$f":"IFERROR(INDEX(ObData!$A$2:$A$300,MATCH(1,(Data!M221>=ObData!$H$2:$H$300)*(Data!M221<=ObData!$I$2:$I$300),0)),\"N/A\")","v":""},{"$f":"BehaviorLogEntries!A221","v":0},{"$f":"BehaviorLogEntries!B221","v":0},{"$f":"BehaviorLogEntries!C221","v":0},{"$f":"BehaviorLogEntries!D221","v":0},{"$f":"BehaviorLogEntries!E221","v":0},{"$f":"BehaviorLogEntries!F221","v":0},{"$f":"BehaviorLogEntries!G221","v":0},{"$f":"BehaviorLogEntries!H221","v":0},{"$f":"BehaviorLogEntries!J221","v":0},"","","","","",{"$f":"IFERROR(VLOOKUP(A221,ObData!$A$2:$I$300,5,0),\"\")","v":0},""]
[{"$f":"IFERROR(INDEX(ObData!$A$2:$A$300,MATCH(1,(Data!M222>=ObData!$H$2:$H$300)*(Data!M222<=ObData!$I$2:$I$300),0)),\"N/A\")","v":""},{"$f":"BehaviorLogEntries!A222","v":0},{"$f":"BehaviorLogEntries!B222","v":0},{"$f":"BehaviorLogEntries!C222","v":0},{"$f":"BehaviorLogEntries!D222","v":0},{"$f":"BehaviorLogEntries!E222","v":0},{"$f":"BehaviorLogEntries!F222","v":0},{"$f":"BehaviorLogEntries!G222","v":0},{"$f":"BehaviorLogEntries!H222","v":0},{"$f":"BehaviorLogEntries!J222","v":0},"","","","","",{"$f":"IFERROR(VLOOKUP(A222,ObData!$A$2:$I$300,5,0),\"\")","v":0},""]
[{"$f":"IFERROR(INDEX(ObData!$A$2:$A$300,MATCH(1,(Data!M223>=ObData!$H$2:$H$300)*(Data!M223<=ObData!$I$2:$I$300),0)),\"N/A\")","v":""},{"$f":"BehaviorLogEntries!A223","v":0},{"$f":"BehaviorLogEntries!B223","v":0},{"$f":"BehaviorLogEntries!C223","v":0},{"$f":"BehaviorLogEntries!D223","v":0},{"$f":"BehaviorLogEntries!E223","v":0},{"$f":"BehaviorLogEntries!F223","v":0},{"$f":"BehaviorLogEntries!G223","v":0},{"$f":"BehaviorLogEntries!H223","v":0},{"$f":"BehaviorLogEntries!J223","v":0},"","","","","",{"$f":"IFERROR(VLOOKUP(A223,ObData!$A$2:$I$300,5,0),\"\")","v":0},""]
[{"$f":"IFERROR(INDEX(ObData!$A$2:$A$300,MATCH(1,(Data!M224>=ObData!$H$2:$H$300)*(Data!M224<=ObData!$I$2:$I$300),0)),\"N/A\")","v":""},{"$f":"BehaviorLogEntries!A224","v":0},{"$f":"BehaviorLogEntries!B224","v":0},{"$f":"BehaviorLogEntries!C224","v":0},{"$f":"BehaviorLogEntries!D224","v":0},{"$f":"BehaviorLogEntries!E224","v":0},{"$f":"BehaviorLogEntries!F224","v":0},{"$f":"BehaviorLogEntries!G224","v":0},{"$f":"BehaviorLogEntries!H224","v":0},{"$f":"BehaviorLogEntries!J224","v":0},"","","","","",{"$f":"IFERROR(VLOOKUP(A224,ObData!$A$2:$I$300,5,0),\"\")","v":0},""]
[{"$f":"IFERROR(INDEX(ObData!$A$2:$A$300,MATCH(1,(Data!M225>=ObData!$H$2:$H$300)*(Data!M225<=ObData!$I$2:$I$300),0)),\"N/A\")","v":""},{"$f":"BehaviorLogEntries!A225","v":0},{"$f":"BehaviorLogEntries!B225","v":0},{"$f":"BehaviorLogEntries!C225","v":0},{"$f":"BehaviorLogEntries!D225","v":0},{"$f":"BehaviorLogEntries!E225","v":0},{"$f":"BehaviorLogEntries!F225","v":0},{"$f":"BehaviorLogEntries!G225","v":0},{"$f":"BehaviorLogEntries!H225","v":0},{"$f":"BehaviorLogEntries!J225","v":0},"","","","","",{"$f":"IFERROR(VLOOKUP(A225,ObData!$A$2:$I$300,5,0),\"\")","v":0},""]
[{"$f":"IFERROR(INDEX(ObData!$A$2:$A$300,MATCH(1,(Data!M226>=ObData!$H$2:$H$300)*(Data!M226<=ObData!$I$2:$I$300),0)),\"N/A\")","v":""},{"$f":"BehaviorLogEntries!A226","v":0},{"$f":"BehaviorLogEntries!B226","v":0},{"$f":"BehaviorLogEntries!C226","v":0},{"$f":"BehaviorLogEntries!D226","v":0},{"$f":"BehaviorLogEntries!E226","v":0},{"$f":"BehaviorLogEntries!F226","v":0},{"$f":"BehaviorLogEntries!G226","v":0},{"$f":"BehaviorLogEntries!H226","v":0},{"$f":"BehaviorLogEntries!J226","v":0},"","","","","",{"$f":"IFERROR(VLOOKUP(A226,ObData!$A$2:$I$300,5,0),\"\")","v":0},""]
[{"$f":"IFERROR(INDEX(ObData!$A$2:$A$300,MATCH(1,(Data!M227>=ObData!$H$2:$H$300)*(Data!M227<=ObData!$I$2:$I$300),0)),\"N/A\")","v":""},{"$f":"BehaviorLogEntries!A227","v":0},{"$f":"BehaviorLogEntries!B227","v":0},{"$f":"BehaviorLogEntries!C227","v":0},{"$f":"BehaviorLogEntries!D227","v":0},{"$f":"BehaviorLogEntries!E227","v":0},{"$f":"BehaviorLogEntries!F227","v":0},{"$f":"BehaviorLogEntries!G227","v":0},{"$f":"BehaviorLogEntries!H227","v":0},{"$f":"BehaviorLogEntries!J227","v":0},"","","","","",{"$f":"IFERROR(VLOOKUP(A227,ObData!$A$2:$I$300,5,0),\"\")","v":0},""]
[{"$f":"IFERROR(INDEX(ObData!$A$2:$A$300,MATCH(1,(Data!M228>=ObData!$H$2:$H$300)*(Data!M228<=ObData!$I$2:$I$300),0)),\"N/A\")","v":""},{"$f":"BehaviorLogEntries!A228","v":0},{"$f":"BehaviorLogEntries!B228","v":0},{"$f":"BehaviorLogEntries!C228","v":0},{"$f":"BehaviorLogEntries!D228","v":0},{"$f":"BehaviorLogEntries!E228","v":0},{"$f":"BehaviorLogEntries!F228","v":0},{"$f":"BehaviorLogEntries!G228","v":0},{"$f":"BehaviorLogEntries!H228","v":0},{"$f":"BehaviorLogEntries!J228","v":0},"","","","","",{"$f":"IFERROR(VLOOKUP(A228,ObData!$A$2:$I$300,5,0),\"\")","v":0},""]
[{"$f":"IFERROR(INDEX(ObData!$A$2:$A$300,MATCH(1,(Data!M229>=ObData!$H$2:$H$300)*(Data!M229<=ObData!$I$2:$I$300),0)),\"N/A\")","v":""},{"$f":"BehaviorLogEntries!A229","v":0},{"$f":"BehaviorLogEntries!B229","v":0},{"$f":"BehaviorLogEntries!C229","v":0},{"$f":"BehaviorLogEntries!D229","v":0},{"$f":"BehaviorLogEntries!E229","v":0},{"$f":"BehaviorLogEntries!F229","v":0},{"$f":"BehaviorLogEntries!G229","v":0},{"$f":"BehaviorLogEntries!H229","v":0},{"$f":"BehaviorLogEntries!J229","v":0},"","","","","",{"$f":"IFERROR(VLOOKUP(A229,ObData!$A$2:$I$300,5,0),\"\")","v":0},""]
[{"$f":"IFERROR(INDEX(ObData!$A$2:$A$300,MATCH(1,(Data!M230>=ObData!$H$2:$H$300)*(Data!M230<=ObData!$I$2:$I$300),0)),\"N/A\")","v":""},{"$f":"BehaviorLogEntries!A230","v":0},{"$f":"BehaviorLogEntries!B230","v":0},{"$f":"BehaviorLogEntries!C230","v":0},{"$f":"BehaviorLogEntries!D230","v":0},{"$f":"BehaviorLogEntries!E230","v":0},{"$f":"BehaviorLogEntries!F230","v":0},{"$f":"BehaviorLogEntries!G230","v":0},{"$f":"BehaviorLogEntries!H230","v":0},{"$f":"BehaviorLogEntries!J230","v":0},"","","","","",{"$f":"IFERROR(VLOOKUP(A230,ObData!$A$2:$I$300,5,0),\"\")","v":0},""]
[{"$f":"IFERROR(INDEX(ObData!$A$2:$A$300,MATCH(1,(Data!M231>=ObData!$H$2:$H$300)*(Data!M231<=ObData!$I$2:$I$300),0)),\"N/A\")","v":""},{"$f":"BehaviorLogEntries!A231","v":0},{"$f":"BehaviorLogEntries!B231","v":0},{"$f":"BehaviorLogEntries!C231","v":0},{"$f":"BehaviorLogEntries!D231","v":0},{"$f":"BehaviorLogEntries!E231","v":0},{"$f":"BehaviorLogEntries!F231","v":0},{"$f":"BehaviorLogEntries!G231","v":0},{"$f":"BehaviorLogEntries!H231","v":0},{"$f":"BehaviorLogEntries!J231","v":0},"","","","","",{"$f":"IFERROR(VLOOKUP(A231,ObData!$A$2:$I$300,5,0),\"\")","v":0},""]
[{"$f":"IFERROR(INDEX(ObData!$A$2:$A$300,MATCH(1,(Data!M232>=ObData!$H$2:$H$300)*(Data!M232<=ObData!$I$2:$I$300),0)),\"N/A\")","v":""},{"$f":"BehaviorLogEntries!A232","v":0},{"$f":"BehaviorLogEntries!B232","v":0},{"$f":"BehaviorLogEntries!C232","v":0},{"$f":"BehaviorLogEntries!D232","v":0},{"$f":"BehaviorLogEntries!E232","v":0},{"$f":"BehaviorLogEntries!F232","v":0},{"$f":"BehaviorLogEntries!G232","v":0},{"$f":"BehaviorLogEntries!H232","v":0},{"$f":"BehaviorLogEntries!J232","v":0},"","","","","",{"$f":"IFERROR(VLOOKUP(A232,ObData!$A$2:$I$300,5,0),\"\")","v":0},""]
[{"$f":"IFERROR(INDEX(ObData!$A$2:$A$300,MATCH(1,(Data!M233>=ObData!$H$2:$H$300)*(Data!M233<=ObData!$I$2:$I$300),0)),\"N/A\")","v":""},{"$f":"BehaviorLogEntries!A233","v":0},{"$f":"BehaviorLogEntries!B233","v":0},{"$f":"BehaviorLogEntries!C233","v":0},{"$f":"BehaviorLogEntries!D233","v":0},{"$f":"BehaviorLogEntries!E233","v":0},{"$f":"BehaviorLogEntries!F233","v":0},{"$f":"BehaviorLogEntries!G233","v":0},{"$f":"BehaviorLogEntries!H233","v":0},{"$f":"BehaviorLogEntries!J233","v":0},"","","","","",{"$f":"IFERROR(VLOOKUP(A233,ObData!$A$2:$I$300,5,0),\"\")","v":0},""]
[{"$f":"IFERROR(INDEX(ObData!$A$2:$A$300,MATCH(1,(Data!M234>=ObData!$H$2:$H$300)*(Data!M234<=ObData!$I$2:$I$300),0)),\"N/A\")","v":""},{"$f":"BehaviorLogEntries!A234","v":0},{"$f":"BehaviorLogEntries!B234","v":0},{"$f":"BehaviorLogEntries!C234","v":0},{"$f":"BehaviorLogEntries!D234","v":0},{"$f":"BehaviorLogEntries!E234","v":0},{"$f":"BehaviorLogEntries!F234","v":0},{"$f":"BehaviorLogEntries!G234","v":0},{"$f":"BehaviorLogEntries!H234","v":0},{"$f":"BehaviorLogEntries!J234","v":0},"","","","","",{"$f":"IFERROR(VLOOKUP(A234,ObData!$A$2:$I$300,5,0),\"\")","v":0},""]
[{"$f":"IFERROR(INDEX(ObData!$A$2:$A$300,MATCH(1,(Data!M235>=ObData!$H$2:$H$300)*(Data!M235<=ObData!$I$2:$I$300),0)),\"N/A\")","v":""},{"$f":"BehaviorLogEntries!A235","v":0},{"$f":"BehaviorLogEntries!B235","v":0},{"$f":"BehaviorLogEntries!C235","v":0},{"$f":"BehaviorLogEntries!D235","v":0},{"$f":"BehaviorLogEntries!E235","v":0},{"$f":"BehaviorLogEntries!F235","v":0},{"$f":"BehaviorLogEntries!G235","v":0},{"$f":"BehaviorLogEntries!H235","v":0},{"$f":"BehaviorLogEntries!J235","v":0},"","","","","",{"$f":"IFERROR(VLOOKUP(A235,ObData!$A$2:$I$300,5,0),\"\")","v":0},""]
[{"$f":"IFERROR(INDEX(ObData!$A$2:$A$300,MATCH(1,(Data!M236>=ObData!$H$2:$H$300)*(Data!M236<=ObData!$I$2:$I$300),0)),\"N/A\")","v":""},{"$f":"BehaviorLogEntries!A236","v":0},{"$f":"BehaviorLogEntries!B236","v":0},{"$f":"BehaviorLogEntries!C236","v":0},{"$f":"BehaviorLogEntries!D236","v":0},{"$f":"BehaviorLogEntries!E236","v":0},{"$f":"BehaviorLogEntries!F236","v":0},{"$f":"BehaviorLogEntries!G236","v":0},{"$f":"BehaviorLogEntries!H236","v":0},{"$f":"BehaviorLogEntries!J236","v":0},"","","","","",{"$f":"IFERROR(VLOOKUP(A236,ObData!$A$2:$I$300,5,0),\"\")","v":0},""]
[{"$f":"IFERROR(INDEX(ObData!$A$2:$A$300,MATCH(1,(Data!M237>=ObData!$H$2:$H$300)*(Data!M237<=ObData!$I$2:$I$300),0)),\"N/A\")","v":""},{"$f":"BehaviorLogEntries!A237","v":0},{"$f":"BehaviorLogEntries!B237","v":0},{"$f":"BehaviorLogEntries!C237","v":0},{"$f":"BehaviorLogEntries!D237","v":0},{"$f":"BehaviorLogEntries!E237","v":0},{"$f":"BehaviorLogEntries!F237","v":0},{"$f":"BehaviorLogEntries!G237","v":0},{"$f":"BehaviorLogEntries!H237","v":0},{"$f":"BehaviorLogEntries!J237","v":0},"","","","","",{"$f":"IFERROR(VLOOKUP(A237,ObData!$A$2:$I$300,5,0),\"\")","v":0},""]
[{"$f":"IFERROR(INDEX(ObData!$A$2:$A$300,MATCH(1,(Data!M238>=ObData!$H$2:$H$300)*(Data!M238<=ObData!$I$2:$I$300),0)),\"N/A\")","v":""},{"$f":"BehaviorLogEntries!A238","v":0},{"$f":"BehaviorLogEntries!B238","v":0},{"$f":"BehaviorLogEntries!C238","v":0},{"$f":"BehaviorLogEntries!D238","v":0},{"$f":"BehaviorLogEntries!E238","v":0},{"$f":"BehaviorLogEntries!F238","v":0},{"$f":"BehaviorLogEntries!G238","v":0},{"$f":"BehaviorLogEntries!H238","v":0},{"$f":"BehaviorLogEntries!J238","v":0},"","","","","",{"$f":"IFERROR(VLOOKUP(A238,ObData!$A$2:$I$300,5,0),\"\")","v":0},""]
[{"$f":"IFERROR(INDEX(ObData!$A$2:$A$300,MATCH(1,(Data!M239>=ObData!$H$2:$H$300)*(Data!M239<=ObData!$I$2:$I$300),0)),\"N/A\")","v":""},{"$f":"BehaviorLogEntries!A239","v":0},{"$f":"BehaviorLogEntries!B239","v":0},{"$f":"BehaviorLogEntries!C239","v":0},{"$f":"BehaviorLogEntries!D239","v":0},{"$f":"BehaviorLogEntries!E239","v":0},{"$f":"BehaviorLogEntries!F239","v":0},{"$f":"BehaviorLogEntries!G239","v":0},{"$f":"BehaviorLogEntries!H239","v":0},{"$f":"BehaviorLogEntries!J239","v":0},"","","","","",{"$f":"IFERROR(VLOOKUP(A239,ObData!$A$2:$I$300,5,0),\"\")","v":0},""]
[{"$f":"IFERROR(INDEX(ObData!$A$2:$A$300,MATCH(1,(Data!M240>=ObData!$H$2:$H$300)*(Data!M240<=ObData!$I$2:$I$300),0)),\"N/A\")","v":""},{"$f":"BehaviorLogEntries!A240","v":0},{"$f":"BehaviorLogEntries!B240","v":0},{"$f":"BehaviorLogEntries!C240","v":0},{"$f":"BehaviorLogEntries!D240","v":0},{"$f":"BehaviorLogEntries!E240","v":0},{"$f":"BehaviorLogEntries!F240","v":0},{"$f":"BehaviorLogEntries!G240","v":0},{"$f":"BehaviorLogEntries!H240","v":0},{"$f":"BehaviorLogEntries!J240","v":0},"","","","","",{"$f":"IFERROR(VLOOKUP(A240,ObData!$A$2:$I$300,5,0),\"\")","v":0},""]
[{"$f":"IFERROR(INDEX(ObData!$A$2:$A$300,MATCH(1,(Data!M241>=ObData!$H$2:$H$300)*(Data!M241<=ObData!$I$2:$I$300),0)),\"N/A\")","v":""},{"$f":"BehaviorLogEntries!A241","v":0},{"$f":"BehaviorLogEntries!B241","v":0},{"$f":"BehaviorLogEntries!C241","v":0},{"$f":"BehaviorLogEntries!D241","v":0},{"$f":"BehaviorLogEntries!E241","v":0},{"$f":"BehaviorLogEntries!F241","v":0},{"$f":"BehaviorLogEntries!G241","v":0},{"$f":"BehaviorLogEntries!H241","v":0},{"$f":"BehaviorLogEntries!J241","v":0},"","","","","",{"$f":"IFERROR(VLOOKUP(A241,ObData!$A$2:$I$300,5,0),\"\")","v":0},""]
[{"$f":"IFERROR(INDEX(ObData!$A$2:$A$300,MATCH(1,(Data!M242>=ObData!$H$2:$H$300)*(Data!M242<=ObData!$I$2:$I$300),0)),\"N/A\")","v":""},{"$f":"BehaviorLogEntries!A242","v":0},{"$f":"BehaviorLogEntries!B242","v":0},{"$f":"BehaviorLogEntries!C242","v":0},{"$f":"BehaviorLogEntries!D242","v":0},{"$f":"BehaviorLogEntries!E242","v":0},{"$f":"BehaviorLogEntries!F242","v":0},{"$f":"BehaviorLogEntries!G242","v":0},{"$f":"BehaviorLogEntries!H242","v":0},{"$f":"BehaviorLogEntries!J242","v":0},"","","","","",{"$f":"IFERROR(VLOOKUP(A242,ObData!$A$2:$I$300,5,0),\"\")","v":0},""]
[{"$f":"IFERROR(INDEX(ObData!$A$2:$A$300,MATCH(1,(Data!M243>=ObData!$H$2:$H$300)*(Data!M243<=ObData!$I$2:$I$300),0)),\"N/A\")","v":""},{"$f":"BehaviorLogEntries!A243","v":0},{"$f":"BehaviorLogEntries!B243","v":0},{"$f":"BehaviorLogEntries!C243","v":0},{"$f":"BehaviorLogEntries!D243","v":0},{"$f":"BehaviorLogEntries!E243","v":0},{"$f":"BehaviorLogEntries!F243","v":0},{"$f":"BehaviorLogEntries!G243","v":0},{"$f":"BehaviorLogEntries!H243","v":0},{"$f":"BehaviorLogEntries!J243","v":0},"","","","","",{"$f":"IFERROR(VLOOKUP(A243,ObData!$A$2:$I$300,5,0),\"\")","v":0},""]
[{"$f":"IFERROR(INDEX(ObData!$A$2:$A$300,MATCH(1,(Data!M244>=ObData!$H$2:$H$300)*(Data!M244<=ObData!$I$2:$I$300),0)),\"N/A\")","v":""},{"$f":"BehaviorLogEntries!A244","v":0},{"$f":"BehaviorLogEntries!B244","v":0},{"$f":"BehaviorLogEntries!C244","v":0},{"$f":"BehaviorLogEntries!D244","v":0},{"$f":"BehaviorLogEntries!E244","v":0},{"$f":"BehaviorLogEntries!F244","v":0},{"$f":"BehaviorLogEntries!G244","v":0},{"$f":"BehaviorLogEntries!H244","v":0},{"$f":"BehaviorLogEntries!J244","v":0},"","","","","",{"$f":"IFERROR(VLOOKUP(A244,ObData!$A$2:$I$300,5,0),\"\")","v":0},""]
[{"$f":"IFERROR(INDEX(ObData!$A$2:$A$300,MATCH(1,(Data!M245>=ObData!$H$2:$H$300)*(Data!M245<=ObData!$I$2:$I$300),0)),\"N/A\")","v":""},{"$f":"BehaviorLogEntries!A245","v":0},{"$f":"BehaviorLogEntries!B245","v":0},{"$f":"BehaviorLogEntries!C245","v":0},{"$f":"BehaviorLogEntries!D245","v":0},{"$f":"BehaviorLogEntries!E245","v":0},{"$f":"BehaviorLogEntries!F245","v":0},{"$f":"BehaviorLogEntries!G245","v":0},{"$f":"BehaviorLogEntries!H245","v":0},{"$f":"BehaviorLogEntries!J245","v":0},"","","","","",{"$f":"IFERROR(VLOOKUP(A245,ObData!$A$2:$I$300,5,0),\"\")","v":0},""]
[{"$f":"IFERROR(INDEX(ObData!$A$2:$A$300,MATCH(1,(Data!M246>=ObData!$H$2:$H$300)*(Data!M246<=ObData!$I$2:$I$300),0)),\"N/A\")","v":""},{"$f":"BehaviorLogEntries!A246","v":0},{"$f":"BehaviorLogEntries!B246","v":0},{"$f":"BehaviorLogEntries!C246","v":0},{"$f":"BehaviorLogEntries!D246","v":0},{"$f":"BehaviorLogEntries!E246","v":0},{"$f":"BehaviorLogEntries!F246","v":0},{"$f":"BehaviorLogEntries!G246","v":0},{"$f":"BehaviorLogEntries!H246","v":0},{"$f":"BehaviorLogEntries!J246","v":0},"","","","","",{"$f":"IFERROR(VLOOKUP(A246,ObData!$A$2:$I$300,5,0),\"\")","v":0},""]
[{"$f":"IFERROR(INDEX(ObData!$A$2:$A$300,MATCH(1,(Data!M247>=ObData!$H$2:$H$300)*(Data!M247<=ObData!$I$2:$I$300),0)),\"N/A\")","v":""},{"$f":"BehaviorLogEntries!A247","v":0},{"$f":"BehaviorLogEntries!B247","v":0},{"$f":"BehaviorLogEntries!C247","v":0},{"$f":"BehaviorLogEntries!D247","v":0},{"$f":"BehaviorLogEntries!E247","v":0},{"$f":"BehaviorLogEntries!F247","v":0},{"$f":"BehaviorLogEntries!G247","v":0},{"$f":"BehaviorLogEntries!H247","v":0},{"$f":"BehaviorLogEntries!J247","v":0},"","","","","",{"$f":"IFERROR(VLOOKUP(A247,ObData!$A$2:$I$300,5,0),\"\")","v":0},""]
[{"$f":"IFERROR(INDEX(ObData!$A$2:$A$300,MATCH(1,(Data!M248>=ObData!$H$2:$H$300)*(Data!M248<=ObData!$I$2:$I$300),0)),\"N/A\")","v":""},{"$f":"BehaviorLogEntries!A248","v":0},{"$f":"BehaviorLogEntries!B248","v":0},{"$f":"BehaviorLogEntries!C248","v":0},{"$f":"BehaviorLogEntries!D248","v":0},{"$f":"BehaviorLogEntries!E248","v":0},{"$f":"BehaviorLogEntries!F248","v":0},{"$f":"BehaviorLogEntries!G248","v":0},{"$f":"BehaviorLogEntries!H248","v":0},{"$f":"BehaviorLogEntries!J248","v":0},"","","","","",{"$f":"IFERROR(VLOOKUP(A248,ObData!$A$2:$I$300,5,0),\"\")","v":0},""]
[{"$f":"IFERROR(INDEX(ObData!$A$2:$A$300,MATCH(1,(Data!M249>=ObData!$H$2:$H$300)*(Data!M249<=ObData!$I$2:$I$300),0)),\"N/A\")","v":""},{"$f":"BehaviorLogEntries!A249","v":0},{"$f":"BehaviorLogEntries!B249","v":0},{"$f":"BehaviorLogEntries!C249","v":0},{"$f":"BehaviorLogEntries!D249","v":0},{"$f":"BehaviorLogEntries!E249","v":0},{"$f":"BehaviorLogEntries!F249","v":0},{"$f":"BehaviorLogEntries!G249","v":0},{"$f":"BehaviorLogEntries!H249","v":0},{"$f":"BehaviorLogEntries!J249","v":0},"","","","","",{"$f":"IFERROR(VLOOKUP(A249,ObData!$A$2:$I$300,5,0),\"\")","v":0},""]
[{"$f":"IFERROR(INDEX(ObData!$A$2:$A$300,MATCH(1,(Data!M250>=ObData!$H$2:$H$300)*(Data!M250<=ObData!$I$2:$I$300),0)),\"N/A\")","v":""},{"$f":"BehaviorLogEntries!A250","v":0},{"$f":"BehaviorLogEntries!B250","v":0},{"$f":"BehaviorLogEntries!C250","v":0},{"$f":"BehaviorLogEntries!D250","v":0},{"$f":"BehaviorLogEntries!E250","v":0},{"$f":"BehaviorLogEntries!F250","v":0},{"$f":"BehaviorLogEntries!G250","v":0},{"$f":"BehaviorLogEntries!H250","v":0},{"$f":"BehaviorLogEntries!J250","v":0},"","","","","",{"$f":"IFERROR(VLOOKUP(A250,ObData!$A$2:$I$300,5,0),\"\")","v":0},""]
[{"$f":"IFERROR(INDEX(ObData!$A$2:$A$300,MATCH(1,(Data!M251>=ObData!$H$2:$H$300)*(Data!M251<=ObData!$I$2:$I$300),0)),\"N/A\")","v":""},{"$f":"BehaviorLogEntries!A251","v":0},{"$f":"BehaviorLogEntries!B251","v":0},{"$f":"BehaviorLogEntries!C251","v":0},{"$f":"BehaviorLogEntries!D251","v":0},{"$f":"BehaviorLogEntries!E251","v":0},{"$f":"BehaviorLogEntries!F251","v":0},{"$f":"BehaviorLogEntries!G251","v":0},{"$f":"BehaviorLogEntries!H251","v":0},{"$f":"BehaviorLogEntries!J251","v":0},"","","","","",{"$f":"IFERROR(VLOOKUP(A251,ObData!$A$2:$I$300,5,0),\"\")","v":0},""]
[{"$f":"IFERROR(INDEX(ObData!$A$2:$A$300,MATCH(1,(Data!M252>=ObData!$H$2:$H$300)*(Data!M252<=ObData!$I$2:$I$300),0)),\"N/A\")","v":""},{"$f":"BehaviorLogEntries!A252","v":0},{"$f":"BehaviorLogEntries!B252","v":0},{"$f":"BehaviorLogEntries!C252","v":0},{"$f":"BehaviorLogEntries!D252","v":0},{"$f":"BehaviorLogEntries!E252","v":0},{"$f":"BehaviorLogEntries!F252","v":0},{"$f":"BehaviorLogEntries!G252","v":0},{"$f":"BehaviorLogEntries!H252","v":0},{"$f":"BehaviorLogEntries!J252","v":0},"","","","","",{"$f":"IFERROR(VLOOKUP(A252,ObData!$A$2:$I$300,5,0),\"\")","v":0},""]
[{"$f":"IFERROR(INDEX(ObData!$A$2:$A$300,MATCH(1,(Data!M253>=ObData!$H$2:$H$300)*(Data!M253<=ObData!$I$2:$I$300),0)),\"N/A\")","v":""},{"$f":"BehaviorLogEntries!A253","v":0},{"$f":"BehaviorLogEntries!B253","v":0},{"$f":"BehaviorLogEntries!C253","v":0},{"$f":"BehaviorLogEntries!D253","v":0},{"$f":"BehaviorLogEntries!E253","v":0},{"$f":"BehaviorLogEntries!F253","v":0},{"$f":"BehaviorLogEntries!G253","v":0},{"$f":"BehaviorLogEntries!H253","v":0},{"$f":"BehaviorLogEntries!J253","v":0},"","","","","",{"$f":"IFERROR(VLOOKUP(A253,ObData!$A$2:$I$300,5,0),\"\")","v":0},""]
[{"$f":"IFERROR(INDEX(ObData!$A$2:$A$300,MATCH(1,(Data!M254>=ObData!$H$2:$H$300)*(Data!M254<=ObData!$I$2:$I$300),0)),\"N/A\")","v":""},{"$f":"BehaviorLogEntries!A254","v":0},{"$f":"BehaviorLogEntries!B254","v":0},{"$f":"BehaviorLogEntries!C254","v":0},{"$f":"BehaviorLogEntries!D254","v":0},{"$f":"BehaviorLogEntries!E254","v":0},{"$f":"BehaviorLogEntries!F254","v":0},{"$f":"BehaviorLogEntries!G254","v":0},{"$f":"BehaviorLogEntries!H254","v":0},{"$f":"BehaviorLogEntries!J254","v":0},"","","","","",{"$f":"IFERROR(VLOOKUP(A254,ObData!$A$2:$I$300,5,0),\"\")","v":0},""]
[{"$f":"IFERROR(INDEX(ObData!$A$2:$A$300,MATCH(1,(Data!M255>=ObData!$H$2:$H$300)*(Data!M255<=ObData!$I$2:$I$300),0)),\"N/A\")","v":""},{"$f":"BehaviorLogEntries!A255","v":0},{"$f":"BehaviorLogEntries!B255","v":0},{"$f":"BehaviorLogEntries!C255","v":0},{"$f":"BehaviorLogEntries!D255","v":0},{"$f":"BehaviorLogEntries!E255","v":0},{"$f":"BehaviorLogEntries!F255","v":0},{"$f":"BehaviorLogEntries!G255","v":0},{"$f":"BehaviorLogEntries!H255","v":0},{"$f":"BehaviorLogEntries!J255","v":0},"","","","","",{"$f":"IFERROR(VLOOKUP(A255,ObData!$A$2:$I$300,5,0),\"\")","v":0},""]
[{"$f":"IFERROR(INDEX(ObData!$A$2:$A$300,MATCH(1,(Data!M256>=ObData!$H$2:$H$300)*(Data!M256<=ObData!$I$2:$I$300),0)),\"N/A\")","v":""},{"$f":"BehaviorLogEntries!A256","v":0},{"$f":"BehaviorLogEntries!B256","v":0},{"$f":"BehaviorLogEntries!C256","v":0},{"$f":"BehaviorLogEntries!D256","v":0},{"$f":"BehaviorLogEntries!E256","v":0},{"$f":"BehaviorLogEntries!F256","v":0},{"$f":"BehaviorLogEntries!G256","v":0},{"$f":"BehaviorLogEntries!H256","v":0},{"$f":"BehaviorLogEntries!J256","v":0},"","","","","",{"$f":"IFERROR(VLOOKUP(A256,ObData!$A$2:$I$300,5,0),\"\")","v":0},""]
[{"$f":"IFERROR(INDEX(ObData!$A$2:$A$300,MATCH(1,(Data!M257>=ObData!$H$2:$H$300)*(Data!M257<=ObData!$I$2:$I$300),0)),\"N/A\")","v":""},{"$f":"BehaviorLogEntries!A257","v":0},{"$f":"BehaviorLogEntries!B257","v":0},{"$f":"BehaviorLogEntries!C257","v":0},{"$f":"BehaviorLogEntries!D257","v":0},{"$f":"BehaviorLogEntries!E257","v":0},{"$f":"BehaviorLogEntries!F257","v":0},{"$f":"BehaviorLogEntries!G257","v":0},{"$f":"BehaviorLogEntries!H257","v":0},{"$f":"BehaviorLogEntries!J257","v":0},"","","","","",{"$f":"IFERROR(VLOOKUP(A257,ObData!$A$2:$I$300,5,0),\"\")","v":0},""]
[{"$f":"IFERROR(INDEX(ObData!$A$2:$A$300,MATCH(1,(Data!M258>=ObData!$H$2:$H$300)*(Data!M258<=ObData!$I$2:$I$300),0)),\"N/A\")","v":""},{"$f":"BehaviorLogEntries!A258","v":0},{"$f":"BehaviorLogEntries!B258","v":0},{"$f":"BehaviorLogEntries!C258","v":0},{"$f":"BehaviorLogEntries!D258","v":0},{"$f":"BehaviorLogEntries!E258","v":0},{"$f":"BehaviorLogEntries!F258","v":0},{"$f":"BehaviorLogEntries!G258","v":0},{"$f":"BehaviorLogEntries!H258","v":0},{"$f":"BehaviorLogEntries!J258","v":0},"","","","","",{"$f":"IFERROR(VLOOKUP(A258,ObData!$A$2:$I$300,5,0),\"\")","v":0},""]
[{"$f":"IFERROR(INDEX(ObData!$A$2:$A$300,MATCH(1,(Data!M259>=ObData!$H$2:$H$300)*(Data!M259<=ObData!$I$2:$I$300),0)),\"N/A\")","v":""},{"$f":"BehaviorLogEntries!A259","v":0},{"$f":"BehaviorLogEntries!B259","v":0},{"$f":"BehaviorLogEntries!C259","v":0},{"$f":"BehaviorLogEntries!D259","v":0},{"$f":"BehaviorLogEntries!E259","v":0},{"$f":"BehaviorLogEntries!F259","v":0},{"$f":"BehaviorLogEntries!G259","v":0},{"$f":"BehaviorLogEntries!H259","v":0},{"$f":"BehaviorLogEntries!J259","v":0},{"$f":"IF(F259<>0,IF(K259=\"\",NOW(),K259),\"\")","v":""},{"$f":"IFERROR(IF(J259<>0,J259,DATE(YEAR(K259),MONTH(K259),DAY(K259))),\"\")","v":""},{"$f":"IF(B259=0,\"\",L259+F259)","v":""},{"$f":"IFERROR(IF(G259=\"Yes\",F259+0.00069444,IF(H259<>0,H259,IF(DATE(YEAR(K259),MONTH(K259),DAY(K259))<>DATE(YEAR(L259),MONTH(L259),DAY(L259)),F259+0.00069444,K259-DATE(YEAR(K259),MONTH(K259),DAY(K259))))),\"\")","v":""},{"$f":"IF(B259=0,\"\",L259+N259)","v":""},{"$f":"IFERROR(VLOOKUP(A259,ObData!$A$2:$I$300,5,0),\"\")","v":0},{"$f":"IF(F259=0,\"\",N259-F259)","v":""}]
[{"$f":"IFERROR(INDEX(ObData!$A$2:$A$300,MATCH(1,(Data!M260>=ObData!$H$2:$H$300)*(Data!M260<=ObData!$I$2:$I$300),0)),\"N/A\")","v":""},{"$f":"BehaviorLogEntries!A260","v":0},{"$f":"BehaviorLogEntries!B260","v":0},{"$f":"BehaviorLogEntries!C260","v":0},{"$f":"BehaviorLogEntries!D260","v":0},{"$f":"BehaviorLogEntries!E260","v":0},{"$f":"BehaviorLogEntries!F260","v":0},{"$f":"BehaviorLogEntries!G260","v":0},{"$f":"BehaviorLogEntries!H260","v":0},{"$f":"BehaviorLogEntries!J260","v":0},"","","","","",{"$f":"IFERROR(VLOOKUP(A260,ObData!$A$2:$I$300,5,0),\"\")","v":0},""]
[{"$f":"IFERROR(INDEX(ObData!$A$2:$A$300,MATCH(1,(Data!M261>=ObData!$H$2:$H$300)*(Data!M261<=ObData!$I$2:$I$300),0)),\"N/A\")","v":""},{"$f":"BehaviorLogEntries!A261","v":0},{"$f":"BehaviorLogEntries!B261","v":0},{"$f":"BehaviorLogEntries!C261","v":0},{"$f":"BehaviorLogEntries!D261","v":0},{"$f":"BehaviorLogEntries!E261","v":0},{"$f":"BehaviorLogEntries!F261","v":0},{"$f":"BehaviorLogEntries!G261","v":0},{"$f":"BehaviorLogEntries!H261","v":0},{"$f":"BehaviorLogEntries!J261","v":0},"","","","","",{"$f":"IFERROR(VLOOKUP(A261,ObData!$A$2:$I$300,5,0),\"\")","v":0},""]
[{"$f":"IFERROR(INDEX(ObData!$A$2:$A$300,MATCH(1,(Data!M262>=ObData!$H$2:$H$300)*(Data!M262<=ObData!$I$2:$I$300),0)),\"N/A\")","v":""},{"$f":"BehaviorLogEntries!A262","v":0},{"$f":"BehaviorLogEntries!B262","v":0},{"$f":"BehaviorLogEntries!C262","v":0},{"$f":"BehaviorLogEntries!D262","v":0},{"$f":"BehaviorLogEntries!E262","v":0},{"$f":"BehaviorLogEntries!F262","v":0},{"$f":"BehaviorLogEntries!G262","v":0},{"$f":"BehaviorLogEntries!H262","v":0},{"$f":"BehaviorLogEntries!J262","v":0},"","","","","",{"$f":"IFERROR(VLOOKUP(A262,ObData!$A$2:$I$300,5,0),\"\")","v":0},""]
[{"$f":"IFERROR(INDEX(ObData!$A$2:$A$300,MATCH(1,(Data!M263>=ObData!$H$2:$H$300)*(Data!M263<=ObData!$I$2:$I$300),0)),\"N/A\")","v":""},{"$f":"BehaviorLogEntries!A263","v":0},{"$f":"BehaviorLogEntries!B263","v":0},{"$f":"BehaviorLogEntries!C263","v":0},{"$f":"BehaviorLogEntries!D263","v":0},{"$f":"BehaviorLogEntries!E263","v":0},{"$f":"BehaviorLogEntries!F263","v":0},{"$f":"BehaviorLogEntries!G263","v":0},{"$f":"BehaviorLogEntries!H263","v":0},{"$f":"BehaviorLogEntries!J263","v":0},"","","","","",{"$f":"IFERROR(VLOOKUP(A263,ObData!$A$2:$I$300,5,0),\"\")","v":0},""]
[{"$f":"IFERROR(INDEX(ObData!$A$2:$A$300,MATCH(1,(Data!M264>=ObData!$H$2:$H$300)*(Data!M264<=ObData!$I$2:$I$300),0)),\"N/A\")","v":""},{"$f":"BehaviorLogEntries!A264","v":0},{"$f":"BehaviorLogEntries!B264","v":0},{"$f":"BehaviorLogEntries!C264","v":0},{"$f":"BehaviorLogEntries!D264","v":0},{"$f":"BehaviorLogEntries!E264","v":0},{"$f":"BehaviorLogEntries!F264","v":0},{"$f":"BehaviorLogEntries!G264","v":0},{"$f":"BehaviorLogEntries!H264","v":0},{"$f":"BehaviorLogEntries!J264","v":0},"","","","","",{"$f":"IFERROR(VLOOKUP(A264,ObData!$A$2:$I$300,5,0),\"\")","v":0},""]
[{"$f":"IFERROR(INDEX(ObData!$A$2:$A$300,MATCH(1,(Data!M265>=ObData!$H$2:$H$300)*(Data!M265<=ObData!$I$2:$I$300),0)),\"N/A\")","v":""},{"$f":"BehaviorLogEntries!A265","v":0},{"$f":"BehaviorLogEntries!B265","v":0},{"$f":"BehaviorLogEntries!C265","v":0},{"$f":"BehaviorLogEntries!D265","v":0},{"$f":"BehaviorLogEntries!E265","v":0},{"$f":"BehaviorLogEntries!F265","v":0},{"$f":"BehaviorLogEntries!G265","v":0},{"$f":"BehaviorLogEntries!H265","v":0},{"$f":"BehaviorLogEntries!J265","v":0},"","","","","",{"$f":"IFERROR(VLOOKUP(A265,ObData!$A$2:$I$300,5,0),\"\")","v":0},""]
[{"$f":"IFERROR(INDEX(ObData!$A$2:$A$300,MATCH(1,(Data!M266>=ObData!$H$2:$H$300)*(Data!M266<=ObData!$I$2:$I$300),0)),\"N/A\")","v":""},{"$f":"BehaviorLogEntries!A266","v":0},{"$f":"BehaviorLogEntries!B266","v":0},{"$f":"BehaviorLogEntries!C266","v":0},{"$f":"BehaviorLogEntries!D266","v":0},{"$f":"BehaviorLogEntries!E266","v":0},{"$f":"BehaviorLogEntries!F266","v":0},{"$f":"BehaviorLogEntries!G266","v":0},{"$f":"BehaviorLogEntries!H266","v":0},{"$f":"BehaviorLogEntries!J266","v":0},"","","","","",{"$f":"IFERROR(VLOOKUP(A266,ObData!$A$2:$I$300,5,0),\"\")","v":0},""]
[{"$f":"IFERROR(INDEX(ObData!$A$2:$A$300,MATCH(1,(Data!M267>=ObData!$H$2:$H$300)*(Data!M267<=ObData!$I$2:$I$300),0)),\"N/A\")","v":""},{"$f":"BehaviorLogEntries!A267","v":0},{"$f":"BehaviorLogEntries!B267","v":0},{"$f":"BehaviorLogEntries!C267","v":0},{"$f":"BehaviorLogEntries!D267","v":0},{"$f":"BehaviorLogEntries!E267","v":0},{"$f":"BehaviorLogEntries!F267","v":0},{"$f":"BehaviorLogEntries!G267","v":0},{"$f":"BehaviorLogEntries!H267","v":0},{"$f":"BehaviorLogEntries!J267","v":0},"","","","","",{"$f":"IFERROR(VLOOKUP(A267,ObData!$A$2:$I$300,5,0),\"\")","v":0},""]
[{"$f":"IFERROR(INDEX(ObData!$A$2:$A$300,MATCH(1,(Data!M268>=ObData!$H$2:$H$300)*(Data!M268<=ObData!$I$2:$I$300),0)),\"N/A\")","v":""},{"$f":"BehaviorLogEntries!A268","v":0},{"$f":"BehaviorLogEntries!B268","v":0},{"$f":"BehaviorLogEntries!C268","v":0},{"$f":"BehaviorLogEntries!D268","v":0},{"$f":"BehaviorLogEntries!E268","v":0},{"$f":"BehaviorLogEntries!F268","v":0},{"$f":"BehaviorLogEntries!G268","v":0},{"$f":"BehaviorLogEntries!H268","v":0},{"$f":"BehaviorLogEntries!J268","v":0},"","","","","",{"$f":"IFERROR(VLOOKUP(A268,ObData!$A$2:$I$300,5,0),\"\")","v":0},""]
[{"$f":"IFERROR(INDEX(ObData!$A$2:$A$300,MATCH(1,(Data!M269>=ObData!$H$2:$H$300)*(Data!M269<=ObData!$I$2:$I$300),0)),\"N/A\")","v":""},{"$f":"BehaviorLogEntries!A269","v":0},{"$f":"BehaviorLogEntries!B269","v":0},{"$f":"BehaviorLogEntries!C269","v":0},{"$f":"BehaviorLogEntries!D269","v":0},{"$f":"BehaviorLogEntries!E269","v":0},{"$f":"BehaviorLogEntries!F269","v":0},{"$f":"BehaviorLogEntries!G269","v":0},{"$f":"BehaviorLogEntries!H269","v":0},{"$f":"BehaviorLogEntries!J269","v":0},"","","","","",{"$f":"IFERROR(VLOOKUP(A269,ObData!$A$2:$I$300,5,0),\"\")","v":0},""]
[{"$f":"IFERROR(INDEX(ObData!$A$2:$A$300,MATCH(1,(Data!M270>=ObData!$H$2:$H$300)*(Data!M270<=ObData!$I$2:$I$300),0)),\"N/A\")","v":""},{"$f":"BehaviorLogEntries!A270","v":0},{"$f":"BehaviorLogEntries!B270","v":0},{"$f":"BehaviorLogEntries!C270","v":0},{"$f":"BehaviorLogEntries!D270","v":0},{"$f":"BehaviorLogEntries!E270","v":0},{"$f":"BehaviorLogEntries!F270","v":0},{"$f":"BehaviorLogEntries!G270","v":0},{"$f":"BehaviorLogEntries!H270","v":0},{"$f":"BehaviorLogEntries!J270","v":0},"","","","","",{"$f":"IFERROR(VLOOKUP(A270,ObData!$A$2:$I$300,5,0),\"\")","v":0},""]
[{"$f":"IFERROR(INDEX(ObData!$A$2:$A$300,MATCH(1,(Data!M271>=ObData!$H$2:$H$300)*(Data!M271<=ObData!$I$2:$I$300),0)),\"N/A\")","v":""},{"$f":"BehaviorLogEntries!A271","v":0},{"$f":"BehaviorLogEntries!B271","v":0},{"$f":"BehaviorLogEntries!C271","v":0},{"$f":"BehaviorLogEntries!D271","v":0},{"$f":"BehaviorLogEntries!E271","v":0},{"$f":"BehaviorLogEntries!F271","v":0},{"$f":"BehaviorLogEntries!G271","v":0},{"$f":"BehaviorLogEntries!H271","v":0},{"$f":"BehaviorLogEntries!J271","v":0},"","","","","",{"$f":"IFERROR(VLOOKUP(A271,ObData!$A$2:$I$300,5,0),\"\")","v":0},""]
[{"$f":"IFERROR(INDEX(ObData!$A$2:$A$300,MATCH(1,(Data!M272>=ObData!$H$2:$H$300)*(Data!M272<=ObData!$I$2:$I$300),0)),\"N/A\")","v":""},{"$f":"BehaviorLogEntries!A272","v":0},{"$f":"BehaviorLogEntries!B272","v":0},{"$f":"BehaviorLogEntries!C272","v":0},{"$f":"BehaviorLogEntries!D272","v":0},{"$f":"BehaviorLogEntries!E272","v":0},{"$f":"BehaviorLogEntries!F272","v":0},{"$f":"BehaviorLogEntries!G272","v":0},{"$f":"BehaviorLogEntries!H272","v":0},{"$f":"BehaviorLogEntries!J272","v":0},"","","","","",{"$f":"IFERROR(VLOOKUP(A272,ObData!$A$2:$I$300,5,0),\"\")","v":0},""]
[{"$f":"IFERROR(INDEX(ObData!$A$2:$A$300,MATCH(1,(Data!M273>=ObData!$H$2:$H$300)*(Data!M273<=ObData!$I$2:$I$300),0)),\"N/A\")","v":""},{"$f":"BehaviorLogEntries!A273","v":0},{"$f":"BehaviorLogEntries!B273","v":0},{"$f":"BehaviorLogEntries!C273","v":0},{"$f":"BehaviorLogEntries!D273","v":0},{"$f":"BehaviorLogEntries!E273","v":0},{"$f":"BehaviorLogEntries!F273","v":0},{"$f":"BehaviorLogEntries!G273","v":0},{"$f":"BehaviorLogEntries!H273","v":0},{"$f":"BehaviorLogEntries!J273","v":0},"","","","","",{"$f":"IFERROR(VLOOKUP(A273,ObData!$A$2:$I$300,5,0),\"\")","v":0},""]
[{"$f":"IFERROR(INDEX(ObData!$A$2:$A$300,MATCH(1,(Data!M274>=ObData!$H$2:$H$300)*(Data!M274<=ObData!$I$2:$I$300),0)),\"N/A\")","v":""},{"$f":"BehaviorLogEntries!A274","v":0},{"$f":"BehaviorLogEntries!B274","v":0},{"$f":"BehaviorLogEntries!C274","v":0},{"$f":"BehaviorLogEntries!D274","v":0},{"$f":"BehaviorLogEntries!E274","v":0},{"$f":"BehaviorLogEntries!F274","v":0},{"$f":"BehaviorLogEntries!G274","v":0},{"$f":"BehaviorLogEntries!H274","v":0},{"$f":"BehaviorLogEntries!J274","v":0},"","","","","",{"$f":"IFERROR(VLOOKUP(A274,ObData!$A$2:$I$300,5,0),\"\")","v":0},""]
[{"$f":"IFERROR(INDEX(ObData!$A$2:$A$300,MATCH(1,(Data!M275>=ObData!$H$2:$H$300)*(Data!M275<=ObData!$I$2:$I$300),0)),\"N/A\")","v":""},{"$f":"BehaviorLogEntries!A275","v":0},{"$f":"BehaviorLogEntries!B275","v":0},{"$f":"BehaviorLogEntries!C275","v":0},{"$f":"BehaviorLogEntries!D275","v":0},{"$f":"BehaviorLogEntries!E275","v":0},{"$f":"BehaviorLogEntries!F275","v":0},{"$f":"BehaviorLogEntries!G275","v":0},{"$f":"BehaviorLogEntries!H275","v":0},{"$f":"BehaviorLogEntries!J275","v":0},"","","","","",{"$f":"IFERROR(VLOOKUP(A275,ObData!$A$2:$I$300,5,0),\"\")","v":0},""]
[{"$f":"IFERROR(INDEX(ObData!$A$2:$A$300,MATCH(1,(Data!M276>=ObData!$H$2:$H$300)*(Data!M276<=ObData!$I$2:$I$300),0)),\"N/A\")","v":""},{"$f":"BehaviorLogEntries!A276","v":0},{"$f":"BehaviorLogEntries!B276","v":0},{"$f":"BehaviorLogEntries!C276","v":0},{"$f":"BehaviorLogEntries!D276","v":0},{"$f":"BehaviorLogEntries!E276","v":0},{"$f":"BehaviorLogEntries!F276","v":0},{"$f":"BehaviorLogEntries!G276","v":0},{"$f":"BehaviorLogEntries!H276","v":0},{"$f":"BehaviorLogEntries!J276","v":0},"","","","","",{"$f":"IFERROR(VLOOKUP(A276,ObData!$A$2:$I$300,5,0),\"\")","v":0},""]
[{"$f":"IFERROR(INDEX(ObData!$A$2:$A$300,MATCH(1,(Data!M277>=ObData!$H$2:$H$300)*(Data!M277<=ObData!$I$2:$I$300),0)),\"N/A\")","v":""},{"$f":"BehaviorLogEntries!A277","v":0},{"$f":"BehaviorLogEntries!B277","v":0},{"$f":"BehaviorLogEntries!C277","v":0},{"$f":"BehaviorLogEntries!D277","v":0},{"$f":"BehaviorLogEntries!E277","v":0},{"$f":"BehaviorLogEntries!F277","v":0},{"$f":"BehaviorLogEntries!G277","v":0},{"$f":"BehaviorLogEntries!H277","v":0},{"$f":"BehaviorLogEntries!J277","v":0},"","","","","",{"$f":"IFERROR(VLOOKUP(A277,ObData!$A$2:$I$300,5,0),\"\")","v":0},""]
[{"$f":"IFERROR(INDEX(ObData!$A$2:$A$300,MATCH(1,(Data!M278>=ObData!$H$2:$H$300)*(Data!M278<=ObData!$I$2:$I$300),0)),\"N/A\")","v":""},{"$f":"BehaviorLogEntries!A278","v":0},{"$f":"BehaviorLogEntries!B278","v":0},{"$f":"BehaviorLogEntries!C278","v":0},{"$f":"BehaviorLogEntries!D278","v":0},{"$f":"BehaviorLogEntries!E278","v":0},{"$f":"BehaviorLogEntries!F278","v":0},{"$f":"BehaviorLogEntries!G278","v":0},{"$f":"BehaviorLogEntries!H278","v":0},{"$f":"BehaviorLogEntries!J278","v":0},"","","","","",{"$f":"IFERROR(VLOOKUP(A278,ObData!$A$2:$I$300,5,0),\"\")","v":0},""]
[{"$f":"IFERROR(INDEX(ObData!$A$2:$A$300,MATCH(1,(Data!M279>=ObData!$H$2:$H$300)*(Data!M279<=ObData!$I$2:$I$300),0)),\"N/A\")","v":""},{"$f":"BehaviorLogEntries!A279","v":0},{"$f":"BehaviorLogEntries!B279","v":0},{"$f":"BehaviorLogEntries!C279","v":0},{"$f":"BehaviorLogEntries!D279","v":0},{"$f":"BehaviorLogEntries!E279","v":0},{"$f":"BehaviorLogEntries!F279","v":0},{"$f":"BehaviorLogEntries!G279","v":0},{"$f":"BehaviorLogEntries!H279","v":0},{"$f":"BehaviorLogEntries!J279","v":0},"","","","","",{"$f":"IFERROR(VLOOKUP(A279,ObData!$A$2:$I$300,5,0),\"\")","v":0},""]
[{"$f":"IFERROR(INDEX(ObData!$A$2:$A$300,MATCH(1,(Data!M280>=ObData!$H$2:$H$300)*(Data!M280<=ObData!$I$2:$I$300),0)),\"N/A\")","v":""},{"$f":"BehaviorLogEntries!A280","v":0},{"$f":"BehaviorLogEntries!B280","v":0},{"$f":"BehaviorLogEntries!C280","v":0},{"$f":"BehaviorLogEntries!D280","v":0},{"$f":"BehaviorLogEntries!E280","v":0},{"$f":"BehaviorLogEntries!F280","v":0},{"$f":"BehaviorLogEntries!G280","v":0},{"$f":"BehaviorLogEntries!H280","v":0},{"$f":"BehaviorLogEntries!J280","v":0},"","","","","",{"$f":"IFERROR(VLOOKUP(A280,ObData!$A$2:$I$300,5,0),\"\")","v":0},""]
[{"$f":"IFERROR(INDEX(ObData!$A$2:$A$300,MATCH(1,(Data!M281>=ObData!$H$2:$H$300)*(Data!M281<=ObData!$I$2:$I$300),0)),\"N/A\")","v":""},{"$f":"BehaviorLogEntries!A281","v":0},{"$f":"BehaviorLogEntries!B281","v":0},{"$f":"BehaviorLogEntries!C281","v":0},{"$f":"BehaviorLogEntries!D281","v":0},{"$f":"BehaviorLogEntries!E281","v":0},{"$f":"BehaviorLogEntries!F281","v":0},{"$f":"BehaviorLogEntries!G281","v":0},{"$f":"BehaviorLogEntries!H281","v":0},{"$f":"BehaviorLogEntries!J281","v":0},"","","","","",{"$f":"IFERROR(VLOOKUP(A281,ObData!$A$2:$I$300,5,0),\"\")","v":0},""]
[{"$f":"IFERROR(INDEX(ObData!$A$2:$A$300,MATCH(1,(Data!M282>=ObData!$H$2:$H$300)*(Data!M282<=ObData!$I$2:$I$300),0)),\"N/A\")","v":""},{"$f":"BehaviorLogEntries!A282","v":0},{"$f":"BehaviorLogEntries!B282","v":0},{"$f":"BehaviorLogEntries!C282","v":0},{"$f":"BehaviorLogEntries!D282","v":0},{"$f":"BehaviorLogEntries!E282","v":0},{"$f":"BehaviorLogEntries!F282","v":0},{"$f":"BehaviorLogEntries!G282","v":0},{"$f":"BehaviorLogEntries!H282","v":0},{"$f":"BehaviorLogEntries!J282","v":0},"","","","","",{"$f":"IFERROR(VLOOKUP(A282,ObData!$A$2:$I$300,5,0),\"\")","v":0},""]
[{"$f":"IFERROR(INDEX(ObData!$A$2:$A$300,MATCH(1,(Data!M283>=ObData!$H$2:$H$300)*(Data!M283<=ObData!$I$2:$I$300),0)),\"N/A\")","v":""},{"$f":"BehaviorLogEntries!A283","v":0},{"$f":"BehaviorLogEntries!B283","v":0},{"$f":"BehaviorLogEntries!C283","v":0},{"$f":"BehaviorLogEntries!D283","v":0},{"$f":"BehaviorLogEntries!E283","v":0},{"$f":"BehaviorLogEntries!F283","v":0},{"$f":"BehaviorLogEntries!G283","v":0},{"$f":"BehaviorLogEntries!H283","v":0},{"$f":"BehaviorLogEntries!J283","v":0},"","","","","",{"$f":"IFERROR(VLOOKUP(A283,ObData!$A$2:$I$300,5,0),\"\")","v":0},""]
[{"$f":"IFERROR(INDEX(ObData!$A$2:$A$300,MATCH(1,(Data!M284>=ObData!$H$2:$H$300)*(Data!M284<=ObData!$I$2:$I$300),0)),\"N/A\")","v":""},{"$f":"BehaviorLogEntries!A284","v":0},{"$f":"BehaviorLogEntries!B284","v":0},{"$f":"BehaviorLogEntries!C284","v":0},{"$f":"BehaviorLogEntries!D284","v":0},{"$f":"BehaviorLogEntries!E284","v":0},{"$f":"BehaviorLogEntries!F284","v":0},{"$f":"BehaviorLogEntries!G284","v":0},{"$f":"BehaviorLogEntries!H284","v":0},{"$f":"BehaviorLogEntries!J284","v":0},"","","","","",{"$f":"IFERROR(VLOOKUP(A284,ObData!$A$2:$I$300,5,0),\"\")","v":0},""]
[{"$f":"IFERROR(INDEX(ObData!$A$2:$A$300,MATCH(1,(Data!M285>=ObData!$H$2:$H$300)*(Data!M285<=ObData!$I$2:$I$300),0)),\"N/A\")","v":""},{"$f":"BehaviorLogEntries!A285","v":0},{"$f":"BehaviorLogEntries!B285","v":0},{"$f":"BehaviorLogEntries!C285","v":0},{"$f":"BehaviorLogEntries!D285","v":0},{"$f":"BehaviorLogEntries!E285","v":0},{"$f":"BehaviorLogEntries!F285","v":0},{"$f":"BehaviorLogEntries!G285","v":0},{"$f":"BehaviorLogEntries!H285","v":0},{"$f":"BehaviorLogEntries!J285","v":0},"","","","","",{"$f":"IFERROR(VLOOKUP(A285,ObData!$A$2:$I$300,5,0),\"\")","v":0},""]
[{"$f":"IFERROR(INDEX(ObData!$A$2:$A$300,MATCH(1,(Data!M286>=ObData!$H$2:$H$300)*(Data!M286<=ObData!$I$2:$I$300),0)),\"N/A\")","v":""},{"$f":"BehaviorLogEntries!A286","v":0},{"$f":"BehaviorLogEntries!B286","v":0},{"$f":"BehaviorLogEntries!C286","v":0},{"$f":"BehaviorLogEntries!D286","v":0},{"$f":"BehaviorLogEntries!E286","v":0},{"$f":"BehaviorLogEntries!F286","v":0},{"$f":"BehaviorLogEntries!G286","v":0},{"$f":"BehaviorLogEntries!H286","v":0},{"$f":"BehaviorLogEntries!J286","v":0},"","","","","",{"$f":"IFERROR(VLOOKUP(A286,ObData!$A$2:$I$300,5,0),\"\")","v":0},""]
[{"$f":"IFERROR(INDEX(ObData!$A$2:$A$300,MATCH(1,(Data!M287>=ObData!$H$2:$H$300)*(Data!M287<=ObData!$I$2:$I$300),0)),\"N/A\")","v":""},{"$f":"BehaviorLogEntries!A287","v":0},{"$f":"BehaviorLogEntries!B287","v":0},{"$f":"BehaviorLogEntries!C287","v":0},{"$f":"BehaviorLogEntries!D287","v":0},{"$f":"BehaviorLogEntries!E287","v":0},{"$f":"BehaviorLogEntries!F287","v":0},{"$f":"BehaviorLogEntries!G287","v":0},{"$f":"BehaviorLogEntries!H287","v":0},{"$f":"BehaviorLogEntries!J287","v":0},"","","","","",{"$f":"IFERROR(VLOOKUP(A287,ObData!$A$2:$I$300,5,0),\"\")","v":0},""]
[{"$f":"IFERROR(INDEX(ObData!$A$2:$A$300,MATCH(1,(Data!M288>=ObData!$H$2:$H$300)*(Data!M288<=ObData!$I$2:$I$300),0)),\"N/A\")","v":""},{"$f":"BehaviorLogEntries!A288","v":0},{"$f":"BehaviorLogEntries!B288","v":0},{"$f":"BehaviorLogEntries!C288","v":0},{"$f":"BehaviorLogEntries!D288","v":0},{"$f":"BehaviorLogEntries!E288","v":0},{"$f":"BehaviorLogEntries!F288","v":0},{"$f":"BehaviorLogEntries!G288","v":0},{"$f":"BehaviorLogEntries!H288","v":0},{"$f":"BehaviorLogEntries!J288","v":0},"","","","","",{"$f":"IFERROR(VLOOKUP(A288,ObData!$A$2:$I$300,5,0),\"\")","v":0},""]
[{"$f":"IFERROR(INDEX(ObData!$A$2:$A$300,MATCH(1,(Data!M289>=ObData!$H$2:$H$300)*(Data!M289<=ObData!$I$2:$I$300),0)),\"N/A\")","v":""},{"$f":"BehaviorLogEntries!A289","v":0},{"$f":"BehaviorLogEntries!B289","v":0},{"$f":"BehaviorLogEntries!C289","v":0},{"$f":"BehaviorLogEntries!D289","v":0},{"$f":"BehaviorLogEntries!E289","v":0},{"$f":"BehaviorLogEntries!F289","v":0},{"$f":"BehaviorLogEntries!G289","v":0},{"$f":"BehaviorLogEntries!H289","v":0},{"$f":"BehaviorLogEntries!J289","v":0},"","","","","",{"$f":"IFERROR(VLOOKUP(A289,ObData!$A$2:$I$300,5,0),\"\")","v":0},""]
[{"$f":"IFERROR(INDEX(ObData!$A$2:$A$300,MATCH(1,(Data!M290>=ObData!$H$2:$H$300)*(Data!M290<=ObData!$I$2:$I$300),0)),\"N/A\")","v":""},{"$f":"BehaviorLogEntries!A290","v":0},{"$f":"BehaviorLogEntries!B290","v":0},{"$f":"BehaviorLogEntries!C290","v":0},{"$f":"BehaviorLogEntries!D290","v":0},{"$f":"BehaviorLogEntries!E290","v":0},{"$f":"BehaviorLogEntries!F290","v":0},{"$f":"BehaviorLogEntries!G290","v":0},{"$f":"BehaviorLogEntries!H290","v":0},{"$f":"BehaviorLogEntries!J290","v":0},"","","","","",{"$f":"IFERROR(VLOOKUP(A290,ObData!$A$2:$I$300,5,0),\"\")","v":0},""]
[{"$f":"IFERROR(INDEX(ObData!$A$2:$A$300,MATCH(1,(Data!M291>=ObData!$H$2:$H$300)*(Data!M291<=ObData!$I$2:$I$300),0)),\"N/A\")","v":""},{"$f":"BehaviorLogEntries!A291","v":0},{"$f":"BehaviorLogEntries!B291","v":0},{"$f":"BehaviorLogEntries!C291","v":0},{"$f":"BehaviorLogEntries!D291","v":0},{"$f":"BehaviorLogEntries!E291","v":0},{"$f":"BehaviorLogEntries!F291","v":0},{"$f":"BehaviorLogEntries!G291","v":0},{"$f":"BehaviorLogEntries!H291","v":0},{"$f":"BehaviorLogEntries!J291","v":0},"","","","","",{"$f":"IFERROR(VLOOKUP(A291,ObData!$A$2:$I$300,5,0),\"\")","v":0},""]
[{"$f":"IFERROR(INDEX(ObData!$A$2:$A$300,MATCH(1,(Data!M292>=ObData!$H$2:$H$300)*(Data!M292<=ObData!$I$2:$I$300),0)),\"N/A\")","v":""},{"$f":"BehaviorLogEntries!A292","v":0},{"$f":"BehaviorLogEntries!B292","v":0},{"$f":"BehaviorLogEntries!C292","v":0},{"$f":"BehaviorLogEntries!D292","v":0},{"$f":"BehaviorLogEntries!E292","v":0},{"$f":"BehaviorLogEntries!F292","v":0},{"$f":"BehaviorLogEntries!G292","v":0},{"$f":"BehaviorLogEntries!H292","v":0},{"$f":"BehaviorLogEntries!J292","v":0},"","","","","",{"$f":"IFERROR(VLOOKUP(A292,ObData!$A$2:$I$300,5,0),\"\")","v":0},""]
[{"$f":"IFERROR(INDEX(ObData!$A$2:$A$300,MATCH(1,(Data!M293>=ObData!$H$2:$H$300)*(Data!M293<=ObData!$I$2:$I$300),0)),\"N/A\")","v":""},{"$f":"BehaviorLogEntries!A293","v":0},{"$f":"BehaviorLogEntries!B293","v":0},{"$f":"BehaviorLogEntries!C293","v":0},{"$f":"BehaviorLogEntries!D293","v":0},{"$f":"BehaviorLogEntries!E293","v":0},{"$f":"BehaviorLogEntries!F293","v":0},{"$f":"BehaviorLogEntries!G293","v":0},{"$f":"BehaviorLogEntries!H293","v":0},{"$f":"BehaviorLogEntries!J293","v":0},"","","","","",{"$f":"IFERROR(VLOOKUP(A293,ObData!$A$2:$I$300,5,0),\"\")","v":0},""]
[{"$f":"IFERROR(INDEX(ObData!$A$2:$A$300,MATCH(1,(Data!M294>=ObData!$H$2:$H$300)*(Data!M294<=ObData!$I$2:$I$300),0)),\"N/A\")","v":""},{"$f":"BehaviorLogEntries!A294","v":0},{"$f":"BehaviorLogEntries!B294","v":0},{"$f":"BehaviorLogEntries!C294","v":0},{"$f":"BehaviorLogEntries!D294","v":0},{"$f":"BehaviorLogEntries!E294","v":0},{"$f":"BehaviorLogEntries!F294","v":0},{"$f":"BehaviorLogEntries!G294","v":0},{"$f":"BehaviorLogEntries!H294","v":0},{"$f":"BehaviorLogEntries!J294","v":0},"","","","","",{"$f":"IFERROR(VLOOKUP(A294,ObData!$A$2:$I$300,5,0),\"\")","v":0},""]
[{"$f":"IFERROR(INDEX(ObData!$A$2:$A$300,MATCH(1,(Data!M295>=ObData!$H$2:$H$300)*(Data!M295<=ObData!$I$2:$I$300),0)),\"N/A\")","v":""},{"$f":"BehaviorLogEntries!A295","v":0},{"$f":"BehaviorLogEntries!B295","v":0},{"$f":"BehaviorLogEntries!C295","v":0},{"$f":"BehaviorLogEntries!D295","v":0},{"$f":"BehaviorLogEntries!E295","v":0},{"$f":"BehaviorLogEntries!G295","v":0},{"$f":"BehaviorLogEntries!#REF!","v":{"$error":"#REF!"}},{"$f":"BehaviorLogEntries!H295","v":0},{"$f":"BehaviorLogEntries!J295","v":0},"","","","","",{"$f":"IFERROR(VLOOKUP(A295,ObData!$A$2:$I$300,5,0),\"\")","v":0},""]
[{"$f":"IFERROR(INDEX(ObData!$A$2:$A$300,MATCH(1,(Data!M296>=ObData!$H$2:$H$300)*(Data!M296<=ObData!$I$2:$I$300),0)),\"N/A\")","v":""},{"$f":"BehaviorLogEntries!A296","v":0},{"$f":"BehaviorLogEntries!B296","v":0},{"$f":"BehaviorLogEntries!C296","v":0},{"$f":"BehaviorLogEntries!D296","v":0},{"$f":"BehaviorLogEntries!E296","v":0},{"$f":"BehaviorLogEntries!F296","v":0},{"$f":"BehaviorLogEntries!G296","v":0},{"$f":"BehaviorLogEntries!H296","v":0},{"$f":"BehaviorLogEntries!J296","v":0},"","","","","",{"$f":"IFERROR(VLOOKUP(A296,ObData!$A$2:$I$300,5,0),\"\")","v":0},""]
[{"$f":"IFERROR(INDEX(ObData!$A$2:$A$300,MATCH(1,(Data!M297>=ObData!$H$2:$H$300)*(Data!M297<=ObData!$I$2:$I$300),0)),\"N/A\")","v":""},{"$f":"BehaviorLogEntries!A297","v":0},{"$f":"BehaviorLogEntries!B297","v":0},{"$f":"BehaviorLogEntries!C297","v":0},{"$f":"BehaviorLogEntries!D297","v":0},{"$f":"BehaviorLogEntries!E297","v":0},{"$f":"BehaviorLogEntries!F297","v":0},{"$f":"BehaviorLogEntries!G297","v":0},{"$f":"BehaviorLogEntries!H297","v":0},{"$f":"BehaviorLogEntries!J297","v":0},"","","","","",{"$f":"IFERROR(VLOOKUP(A297,ObData!$A$2:$I$300,5,0),\"\")","v":0},""]
[{"$f":"IFERROR(INDEX(ObData!$A$2:$A$300,MATCH(1,(Data!M298>=ObData!$H$2:$H$300)*(Data!M298<=ObData!$I$2:$I$300),0)),\"N/A\")","v":""},{"$f":"BehaviorLogEntries!A298","v":0},{"$f":"BehaviorLogEntries!B298","v":0},{"$f":"BehaviorLogEntries!C298","v":0},{"$f":"BehaviorLogEntries!D298","v":0},{"$f":"BehaviorLogEntries!E298","v":0},{"$f":"BehaviorLogEntries!F298","v":0},{"$f":"BehaviorLogEntries!G298","v":0},{"$f":"BehaviorLogEntries!H298","v":0},{"$f":"BehaviorLogEntries!J298","v":0},"","","","","",{"$f":"IFERROR(VLOOKUP(A298,ObData!$A$2:$I$300,5,0),\"\")","v":0},""]
[{"$f":"IFERROR(INDEX(ObData!$A$2:$A$300,MATCH(1,(Data!M299>=ObData!$H$2:$H$300)*(Data!M299<=ObData!$I$2:$I$300),0)),\"N/A\")","v":""},{"$f":"BehaviorLogEntries!A299","v":0},{"$f":"BehaviorLogEntries!B299","v":0},{"$f":"BehaviorLogEntries!C299","v":0},{"$f":"BehaviorLogEntries!D299","v":0},{"$f":"BehaviorLogEntries!E299","v":0},{"$f":"BehaviorLogEntries!F299","v":0},{"$f":"BehaviorLogEntries!G299","v":0},{"$f":"BehaviorLogEntries!H299","v":0},{"$f":"BehaviorLogEntries!J299","v":0},"","","","","",{"$f":"IFERROR(VLOOKUP(A299,ObData!$A$2:$I$300,5,0),\"\")","v":0},""]
[{"$f":"IFERROR(INDEX(ObData!$A$2:$A$300,MATCH(1,(Data!M300>=ObData!$H$2:$H$300)*(Data!M300<=ObData!$I$2:$I$300),0)),\"N/A\")","v":""},{"$f":"BehaviorLogEntries!A300","v":0},{"$f":"BehaviorLogEntries!B300","v":0},{"$f":"BehaviorLogEntries!C300","v":0},{"$f":"BehaviorLogEntries!D300","v":0},{"$f":"BehaviorLogEntries!E300","v":0},{"$f":"BehaviorLogEntries!F300","v":0},{"$f":"BehaviorLogEntries!G300","v":0},{"$f":"BehaviorLogEntries!H300","v":0},{"$f":"BehaviorLogEntries!J300","v":0},"","","","","",{"$f":"IFERROR(VLOOKUP(A300,ObData!$A$2:$I$300,5,0),\"\")","v":0},""]
[{"$f":"IFERROR(INDEX(ObData!$A$2:$A$300,MATCH(1,(Data!M301>=ObData!$H$2:$H$300)*(Data!M301<=ObData!$I$2:$I$300),0)),\"N/A\")","v":""},{"$f":"BehaviorLogEntries!A301","v":0},{"$f":"BehaviorLogEntries!B301","v":0},{"$f":"BehaviorLogEntries!C301","v":0},{"$f":"BehaviorLogEntries!D301","v":0},{"$f":"BehaviorLogEntries!E301","v":0},{"$f":"BehaviorLogEntries!F301","v":0},{"$f":"BehaviorLogEntries!G301","v":0},{"$f":"BehaviorLogEntries!H301","v":0},{"$f":"BehaviorLogEntries!J301","v":0},"","","","","",{"$f":"IFERROR(VLOOKUP(A301,ObData!$A$2:$I$300,5,0),\"\")","v":0},""]
[{"$f":"IFERROR(INDEX(ObData!$A$2:$A$300,MATCH(1,(Data!M302>=ObData!$H$2:$H$300)*(Data!M302<=ObData!$I$2:$I$300),0)),\"N/A\")","v":""},{"$f":"BehaviorLogEntries!A302","v":0},{"$f":"BehaviorLogEntries!B302","v":0},{"$f":"BehaviorLogEntries!C302","v":0},{"$f":"BehaviorLogEntries!D302","v":0},{"$f":"BehaviorLogEntries!E302","v":0},{"$f":"BehaviorLogEntries!F302","v":0},{"$f":"BehaviorLogEntries!G302","v":0},{"$f":"BehaviorLogEntries!H302","v":0},{"$f":"BehaviorLogEntries!J302","v":0},"","","","","",{"$f":"IFERROR(VLOOKUP(A302,ObData!$A$2:$I$300,5,0),\"\")","v":0},""]
[{"$f":"IFERROR(INDEX(ObData!$A$2:$A$300,MATCH(1,(Data!M303>=ObData!$H$2:$H$300)*(Data!M303<=ObData!$I$2:$I$300),0)),\"N/A\")","v":""},{"$f":"BehaviorLogEntries!A303","v":0},{"$f":"BehaviorLogEntries!B303","v":0},{"$f":"BehaviorLogEntries!C303","v":0},{"$f":"BehaviorLogEntries!D303","v":0},{"$f":"BehaviorLogEntries!E303","v":0},{"$f":"BehaviorLogEntries!F303","v":0},{"$f":"BehaviorLogEntries!G303","v":0},{"$f":"BehaviorLogEntries!H303","v":0},{"$f":"BehaviorLogEntries!J303","v":0},"","","","","",{"$f":"IFERROR(VLOOKUP(A303,ObData!$A$2:$I$300,5,0),\"\")","v":0},""]
[{"$f":"IFERROR(INDEX(ObData!$A$2:$A$300,MATCH(1,(Data!M304>=ObData!$H$2:$H$300)*(Data!M304<=ObData!$I$2:$I$300),0)),\"N/A\")","v":""},{"$f":"BehaviorLogEntries!A304","v":0},{"$f":"BehaviorLogEntries!B304","v":0},{"$f":"BehaviorLogEntries!C304","v":0},{"$f":"BehaviorLogEntries!D304","v":0},{"$f":"BehaviorLogEntries!E304","v":0},{"$f":"BehaviorLogEntries!F304","v":0},{"$f":"BehaviorLogEntries!G304","v":0},{"$f":"BehaviorLogEntries!H304","v":0},{"$f":"BehaviorLogEntries!J304","v":0},"","","","","",{"$f":"IFERROR(VLOOKUP(A304,ObData!$A$2:$I$300,5,0),\"\")","v":0},""]
[{"$f":"IFERROR(INDEX(ObData!$A$2:$A$300,MATCH(1,(Data!M305>=ObData!$H$2:$H$300)*(Data!M305<=ObData!$I$2:$I$300),0)),\"N/A\")","v":""},{"$f":"BehaviorLogEntries!A305","v":0},{"$f":"BehaviorLogEntries!B305","v":0},{"$f":"BehaviorLogEntries!C305","v":0},{"$f":"BehaviorLogEntries!D305","v":0},{"$f":"BehaviorLogEntries!E305","v":0},{"$f":"BehaviorLogEntries!F305","v":0},{"$f":"BehaviorLogEntries!G305","v":0},{"$f":"BehaviorLogEntries!H305","v":0},{"$f":"BehaviorLogEntries!J305","v":0},"","","","","",{"$f":"IFERROR(VLOOKUP(A305,ObData!$A$2:$I$300,5,0),\"\")","v":0},""]
[{"$f":"IFERROR(INDEX(ObData!$A$2:$A$300,MATCH(1,(Data!M306>=ObData!$H$2:$H$300)*(Data!M306<=ObData!$I$2:$I$300),0)),\"N/A\")","v":""},{"$f":"BehaviorLogEntries!A306","v":0},{"$f":"BehaviorLogEntries!B306","v":0},{"$f":"BehaviorLogEntries!C306","v":0},{"$f":"BehaviorLogEntries!D306","v":0},{"$f":"BehaviorLogEntries!E306","v":0},{"$f":"BehaviorLogEntries!F306","v":0},{"$f":"BehaviorLogEntries!G306","v":0},{"$f":"BehaviorLogEntries!H306","v":0},{"$f":"BehaviorLogEntries!J306","v":0},"","","","","",{"$f":"IFERROR(VLOOKUP(A306,ObData!$A$2:$I$300,5,0),\"\")","v":0},""]
[{"$f":"IFERROR(INDEX(ObData!$A$2:$A$300,MATCH(1,(Data!M307>=ObData!$H$2:$H$300)*(Data!M307<=ObData!$I$2:$I$300),0)),\"N/A\")","v":""},{"$f":"BehaviorLogEntries!A307","v":0},{"$f":"BehaviorLogEntries!B307","v":0},{"$f":"BehaviorLogEntries!C307","v":0},{"$f":"BehaviorLogEntries!D307","v":0},{"$f":"BehaviorLogEntries!E307","v":0},{"$f":"BehaviorLogEntries!F307","v":0},{"$f":"BehaviorLogEntries!G307","v":0},{"$f":"BehaviorLogEntries!H307","v":0},{"$f":"BehaviorLogEntries!J307","v":0},"","","","","",{"$f":"IFERROR(VLOOKUP(A307,ObData!$A$2:$I$300,5,0),\"\")","v":0},""]
[{"$f":"IFERROR(INDEX(ObData!$A$2:$A$300,MATCH(1,(Data!M308>=ObData!$H$2:$H$300)*(Data!M308<=ObData!$I$2:$I$300),0)),\"N/A\")","v":""},{"$f":"BehaviorLogEntries!A308","v":0},{"$f":"BehaviorLogEntries!B308","v":0},{"$f":"BehaviorLogEntries!C308","v":0},{"$f":"BehaviorLogEntries!D308","v":0},{"$f":"BehaviorLogEntries!E308","v":0},{"$f":"BehaviorLogEntries!F308","v":0},{"$f":"BehaviorLogEntries!G308","v":0},{"$f":"BehaviorLogEntries!H308","v":0},{"$f":"BehaviorLogEntries!J308","v":0},"","","","","",{"$f":"IFERROR(VLOOKUP(A308,ObData!$A$2:$I$300,5,0),\"\")","v":0},""]
[{"$f":"IFERROR(INDEX(ObData!$A$2:$A$300,MATCH(1,(Data!M309>=ObData!$H$2:$H$300)*(Data!M309<=ObData!$I$2:$I$300),0)),\"N/A\")","v":""},{"$f":"BehaviorLogEntries!A309","v":0},{"$f":"BehaviorLogEntries!B309","v":0},{"$f":"BehaviorLogEntries!C309","v":0},{"$f":"BehaviorLogEntries!D309","v":0},{"$f":"BehaviorLogEntries!E309","v":0},{"$f":"BehaviorLogEntries!F309","v":0},{"$f":"BehaviorLogEntries!G309","v":0},{"$f":"BehaviorLogEntries!H309","v":0},{"$f":"BehaviorLogEntries!J309","v":0},"","","","","",{"$f":"IFERROR(VLOOKUP(A309,ObData!$A$2:$I$300,5,0),\"\")","v":0},""]
[{"$f":"IFERROR(INDEX(ObData!$A$2:$A$300,MATCH(1,(Data!M310>=ObData!$H$2:$H$300)*(Data!M310<=ObData!$I$2:$I$300),0)),\"N/A\")","v":""},{"$f":"BehaviorLogEntries!A310","v":0},{"$f":"BehaviorLogEntries!B310","v":0},{"$f":"BehaviorLogEntries!C310","v":0},{"$f":"BehaviorLogEntries!D310","v":0},{"$f":"BehaviorLogEntries!E310","v":0},{"$f":"BehaviorLogEntries!F310","v":0},{"$f":"BehaviorLogEntries!G310","v":0},{"$f":"BehaviorLogEntries!H310","v":0},{"$f":"BehaviorLogEntries!J310","v":0},"","","","","",{"$f":"IFERROR(VLOOKUP(A310,ObData!$A$2:$I$300,5,0),\"\")","v":0},""]
[{"$f":"IFERROR(INDEX(ObData!$A$2:$A$300,MATCH(1,(Data!M311>=ObData!$H$2:$H$300)*(Data!M311<=ObData!$I$2:$I$300),0)),\"N/A\")","v":""},{"$f":"BehaviorLogEntries!A311","v":0},{"$f":"BehaviorLogEntries!B311","v":0},{"$f":"BehaviorLogEntries!C311","v":0},{"$f":"BehaviorLogEntries!D311","v":0},{"$f":"BehaviorLogEntries!E311","v":0},{"$f":"BehaviorLogEntries!F311","v":0},{"$f":"BehaviorLogEntries!G311","v":0},{"$f":"BehaviorLogEntries!H311","v":0},{"$f":"BehaviorLogEntries!J311","v":0},"","","","","",{"$f":"IFERROR(VLOOKUP(A311,ObData!$A$2:$I$300,5,0),\"\")","v":0},""]
[{"$f":"IFERROR(INDEX(ObData!$A$2:$A$300,MATCH(1,(Data!M312>=ObData!$H$2:$H$300)*(Data!M312<=ObData!$I$2:$I$300),0)),\"N/A\")","v":""},{"$f":"BehaviorLogEntries!A312","v":0},{"$f":"BehaviorLogEntries!B312","v":0},{"$f":"BehaviorLogEntries!C312","v":0},{"$f":"BehaviorLogEntries!D312","v":0},{"$f":"BehaviorLogEntries!E312","v":0},{"$f":"BehaviorLogEntries!F312","v":0},{"$f":"BehaviorLogEntries!G312","v":0},{"$f":"BehaviorLogEntries!H312","v":0},{"$f":"BehaviorLogEntries!J312","v":0},"","","","","",{"$f":"IFERROR(VLOOKUP(A312,ObData!$A$2:$I$300,5,0),\"\")","v":0},""]
[{"$f":"IFERROR(INDEX(ObData!$A$2:$A$300,MATCH(1,(Data!M313>=ObData!$H$2:$H$300)*(Data!M313<=ObData!$I$2:$I$300),0)),\"N/A\")","v":""},{"$f":"BehaviorLogEntries!A313","v":0},{"$f":"BehaviorLogEntries!B313","v":0},{"$f":"BehaviorLogEntries!C313","v":0},{"$f":"BehaviorLogEntries!D313","v":0},{"$f":"BehaviorLogEntries!E313","v":0},{"$f":"BehaviorLogEntries!F313","v":0},{"$f":"BehaviorLogEntries!G313","v":0},{"$f":"BehaviorLogEntries!H313","v":0},{"$f":"BehaviorLogEntries!J313","v":0},"","","","","",{"$f":"IFERROR(VLOOKUP(A313,ObData!$A$2:$I$300,5,0),\"\")","v":0},""]
[{"$f":"IFERROR(INDEX(ObData!$A$2:$A$300,MATCH(1,(Data!M314>=ObData!$H$2:$H$300)*(Data!M314<=ObData!$I$2:$I$300),0)),\"N/A\")","v":""},{"$f":"BehaviorLogEntries!A314","v":0},{"$f":"BehaviorLogEntries!B314","v":0},{"$f":"BehaviorLogEntries!C314","v":0},{"$f":"BehaviorLogEntries!D314","v":0},{"$f":"BehaviorLogEntries!E314","v":0},{"$f":"BehaviorLogEntries!F314","v":0},{"$f":"BehaviorLogEntries!G314","v":0},{"$f":"BehaviorLogEntries!H314","v":0},{"$f":"BehaviorLogEntries!J314","v":0},"","","","","",{"$f":"IFERROR(VLOOKUP(A314,ObData!$A$2:$I$300,5,0),\"\")","v":0},""]
[{"$f":"IFERROR(INDEX(ObData!$A$2:$A$300,MATCH(1,(Data!M315>=ObData!$H$2:$H$300)*(Data!M315<=ObData!$I$2:$I$300),0)),\"N/A\")","v":""},{"$f":"BehaviorLogEntries!A315","v":0},{"$f":"BehaviorLogEntries!B315","v":0},{"$f":"BehaviorLogEntries!C315","v":0},{"$f":"BehaviorLogEntries!D315","v":0},{"$f":"BehaviorLogEntries!E315","v":0},{"$f":"BehaviorLogEntries!F315","v":0},{"$f":"BehaviorLogEntries!G315","v":0},{"$f":"BehaviorLogEntries!H315","v":0},{"$f":"BehaviorLogEntries!J315","v":0},"","","","","",{"$f":"IFERROR(VLOOKUP(A315,ObData!$A$2:$I$300,5,0),\"\")","v":0},""]
[{"$f":"IFERROR(INDEX(ObData!$A$2:$A$300,MATCH(1,(Data!M316>=ObData!$H$2:$H$300)*(Data!M316<=ObData!$I$2:$I$300),0)),\"N/A\")","v":""},{"$f":"BehaviorLogEntries!A316","v":0},{"$f":"BehaviorLogEntries!B316","v":0},{"$f":"BehaviorLogEntries!C316","v":0},{"$f":"BehaviorLogEntries!D316","v":0},{"$f":"BehaviorLogEntries!E316","v":0},{"$f":"BehaviorLogEntries!F316","v":0},{"$f":"BehaviorLogEntries!G316","v":0},{"$f":"BehaviorLogEntries!H316","v":0},{"$f":"BehaviorLogEntries!J316","v":0},"","","","","",{"$f":"IFERROR(VLOOKUP(A316,ObData!$A$2:$I$300,5,0),\"\")","v":0},""]
[{"$f":"IFERROR(INDEX(ObData!$A$2:$A$300,MATCH(1,(Data!M317>=ObData!$H$2:$H$300)*(Data!M317<=ObData!$I$2:$I$300),0)),\"N/A\")","v":""},{"$f":"BehaviorLogEntries!A317","v":0},{"$f":"BehaviorLogEntries!B317","v":0},{"$f":"BehaviorLogEntries!C317","v":0},{"$f":"BehaviorLogEntries!D317","v":0},{"$f":"BehaviorLogEntries!E317","v":0},{"$f":"BehaviorLogEntries!F317","v":0},{"$f":"BehaviorLogEntries!G317","v":0},{"$f":"BehaviorLogEntries!H317","v":0},{"$f":"BehaviorLogEntries!J317","v":0},"","","","","",{"$f":"IFERROR(VLOOKUP(A317,ObData!$A$2:$I$300,5,0),\"\")","v":0},""]
[{"$f":"IFERROR(INDEX(ObData!$A$2:$A$300,MATCH(1,(Data!M318>=ObData!$H$2:$H$300)*(Data!M318<=ObData!$I$2:$I$300),0)),\"N/A\")","v":""},{"$f":"BehaviorLogEntries!A318","v":0},{"$f":"BehaviorLogEntries!B318","v":0},{"$f":"BehaviorLogEntries!C318","v":0},{"$f":"BehaviorLogEntries!D318","v":0},{"$f":"BehaviorLogEntries!E318","v":0},{"$f":"BehaviorLogEntries!F318","v":0},{"$f":"BehaviorLogEntries!G318","v":0},{"$f":"BehaviorLogEntries!H318","v":0},{"$f":"BehaviorLogEntries!J318","v":0},"","","","","",{"$f":"IFERROR(VLOOKUP(A318,ObData!$A$2:$I$300,5,0),\"\")","v":0},""]
[{"$f":"IFERROR(INDEX(ObData!$A$2:$A$300,MATCH(1,(Data!M319>=ObData!$H$2:$H$300)*(Data!M319<=ObData!$I$2:$I$300),0)),\"N/A\")","v":""},{"$f":"BehaviorLogEntries!A319","v":0},{"$f":"BehaviorLogEntries!B319","v":0},{"$f":"BehaviorLogEntries!C319","v":0},{"$f":"BehaviorLogEntries!D319","v":0},{"$f":"BehaviorLogEntries!E319","v":0},{"$f":"BehaviorLogEntries!F319","v":0},{"$f":"BehaviorLogEntries!G319","v":0},{"$f":"BehaviorLogEntries!H319","v":0},{"$f":"BehaviorLogEntries!J319","v":0},"","","","","",{"$f":"IFERROR(VLOOKUP(A319,ObData!$A$2:$I$300,5,0),\"\")","v":0},""]
[{"$f":"IFERROR(INDEX(ObData!$A$2:$A$300,MATCH(1,(Data!M320>=ObData!$H$2:$H$300)*(Data!M320<=ObData!$I$2:$I$300),0)),\"N/A\")","v":""},{"$f":"BehaviorLogEntries!A320","v":0},{"$f":"BehaviorLogEntries!B320","v":0},{"$f":"BehaviorLogEntries!C320","v":0},{"$f":"BehaviorLogEntries!D320","v":0},{"$f":"BehaviorLogEntries!E320","v":0},{"$f":"BehaviorLogEntries!F320","v":0},{"$f":"BehaviorLogEntries!G320","v":0},{"$f":"BehaviorLogEntries!H320","v":0},{"$f":"BehaviorLogEntries!J320","v":0},"","","","","",{"$f":"IFERROR(VLOOKUP(A320,ObData!$A$2:$I$300,5,0),\"\")","v":0},""]
[{"$f":"IFERROR(INDEX(ObData!$A$2:$A$300,MATCH(1,(Data!M321>=ObData!$H$2:$H$300)*(Data!M321<=ObData!$I$2:$I$300),0)),\"N/A\")","v":""},{"$f":"BehaviorLogEntries!A321","v":0},{"$f":"BehaviorLogEntries!B321","v":0},{"$f":"BehaviorLogEntries!C321","v":0},{"$f":"BehaviorLogEntries!D321","v":0},{"$f":"BehaviorLogEntries!E321","v":0},{"$f":"BehaviorLogEntries!F321","v":0},{"$f":"BehaviorLogEntries!G321","v":0},{"$f":"BehaviorLogEntries!H321","v":0},{"$f":"BehaviorLogEntries!J321","v":0},"","","","","",{"$f":"IFERROR(VLOOKUP(A321,ObData!$A$2:$I$300,5,0),\"\")","v":0},""]
[{"$f":"IFERROR(INDEX(ObData!$A$2:$A$300,MATCH(1,(Data!M322>=ObData!$H$2:$H$300)*(Data!M322<=ObData!$I$2:$I$300),0)),\"N/A\")","v":""},{"$f":"BehaviorLogEntries!A322","v":0},{"$f":"BehaviorLogEntries!B322","v":0},{"$f":"BehaviorLogEntries!C322","v":0},{"$f":"BehaviorLogEntries!D322","v":0},{"$f":"BehaviorLogEntries!E322","v":0},{"$f":"BehaviorLogEntries!F322","v":0},{"$f":"BehaviorLogEntries!G322","v":0},{"$f":"BehaviorLogEntries!H322","v":0},{"$f":"BehaviorLogEntries!J322","v":0},"","","","","",{"$f":"IFERROR(VLOOKUP(A322,ObData!$A$2:$I$300,5,0),\"\")","v":0},""]
[{"$f":"IFERROR(INDEX(ObData!$A$2:$A$300,MATCH(1,(Data!M323>=ObData!$H$2:$H$300)*(Data!M323<=ObData!$I$2:$I$300),0)),\"N/A\")","v":""},{"$f":"BehaviorLogEntries!A323","v":0},{"$f":"BehaviorLogEntries!B323","v":0},{"$f":"BehaviorLogEntries!C323","v":0},{"$f":"BehaviorLogEntries!D323","v":0},{"$f":"BehaviorLogEntries!E323","v":0},{"$f":"BehaviorLogEntries!F323","v":0},{"$f":"BehaviorLogEntries!G323","v":0},{"$f":"BehaviorLogEntries!H323","v":0},{"$f":"BehaviorLogEntries!J323","v":0},{"$f":"IF(F323<>0,IF(K323=\"\",NOW(),K323),\"\")","v":""},{"$f":"IFERROR(IF(J323<>0,J323,DATE(YEAR(K323),MONTH(K323),DAY(K323))),\"\")","v":""},{"$f":"IF(B323=0,\"\",L323+F323)","v":""},{"$f":"IFERROR(IF(G323=\"Yes\",F323+0.00069444,IF(H323<>0,H323,IF(DATE(YEAR(K323),MONTH(K323),DAY(K323))<>DATE(YEAR(L323),MONTH(L323),DAY(L323)),F323+0.00069444,K323-DATE(YEAR(K323),MONTH(K323),DAY(K323))))),\"\")","v":""},{"$f":"IF(B323=0,\"\",L323+N323)","v":""},{"$f":"IFERROR(VLOOKUP(A323,ObData!$A$2:$I$300,5,0),\"\")","v":0},{"$f":"IF(F323=0,\"\",N323-F323)","v":""}]
[{"$f":"IFERROR(INDEX(ObData!$A$2:$A$300,MATCH(1,(Data!M324>=ObData!$H$2:$H$300)*(Data!M324<=ObData!$I$2:$I$300),0)),\"N/A\")","v":""},{"$f":"BehaviorLogEntries!A324","v":0},{"$f":"BehaviorLogEntries!B324","v":0},{"$f":"BehaviorLogEntries!C324","v":0},{"$f":"BehaviorLogEntries!D324","v":0},{"$f":"BehaviorLogEntries!E324","v":0},{"$f":"BehaviorLogEntries!F324","v":0},{"$f":"BehaviorLogEntries!G324","v":0},{"$f":"BehaviorLogEntries!H324","v":0},{"$f":"BehaviorLogEntries!J324","v":0},"","","","","",{"$f":"IFERROR(VLOOKUP(A324,ObData!$A$2:$I$300,5,0),\"\")","v":0},""]
[{"$f":"IFERROR(INDEX(ObData!$A$2:$A$300,MATCH(1,(Data!M325>=ObData!$H$2:$H$300)*(Data!M325<=ObData!$I$2:$I$300),0)),\"N/A\")","v":""},{"$f":"BehaviorLogEntries!A325","v":0},{"$f":"BehaviorLogEntries!B325","v":0},{"$f":"BehaviorLogEntries!C325","v":0},{"$f":"BehaviorLogEntries!D325","v":0},{"$f":"BehaviorLogEntries!E325","v":0},{"$f":"BehaviorLogEntries!F325","v":0},{"$f":"BehaviorLogEntries!G325","v":0},{"$f":"BehaviorLogEntries!H325","v":0},{"$f":"BehaviorLogEntries!J325","v":0},"","","","","",{"$f":"IFERROR(VLOOKUP(A325,ObData!$A$2:$I$300,5,0),\"\")","v":0},""]
[{"$f":"IFERROR(INDEX(ObData!$A$2:$A$300,MATCH(1,(Data!M326>=ObData!$H$2:$H$300)*(Data!M326<=ObData!$I$2:$I$300),0)),\"N/A\")","v":""},{"$f":"BehaviorLogEntries!A326","v":0},{"$f":"BehaviorLogEntries!B326","v":0},{"$f":"BehaviorLogEntries!C326","v":0},{"$f":"BehaviorLogEntries!D326","v":0},{"$f":"BehaviorLogEntries!E326","v":0},{"$f":"BehaviorLogEntries!F326","v":0},{"$f":"BehaviorLogEntries!G326","v":0},{"$f":"BehaviorLogEntries!H326","v":0},{"$f":"BehaviorLogEntries!J326","v":0},"","","","","",{"$f":"IFERROR(VLOOKUP(A326,ObData!$A$2:$I$300,5,0),\"\")","v":0},""]
[{"$f":"IFERROR(INDEX(ObData!$A$2:$A$300,MATCH(1,(Data!M327>=ObData!$H$2:$H$300)*(Data!M327<=ObData!$I$2:$I$300),0)),\"N/A\")","v":""},{"$f":"BehaviorLogEntries!A327","v":0},{"$f":"BehaviorLogEntries!B327","v":0},{"$f":"BehaviorLogEntries!C327","v":0},{"$f":"BehaviorLogEntries!D327","v":0},{"$f":"BehaviorLogEntries!E327","v":0},{"$f":"BehaviorLogEntries!F327","v":0},{"$f":"BehaviorLogEntries!G327","v":0},{"$f":"BehaviorLogEntries!H327","v":0},{"$f":"BehaviorLogEntries!J327","v":0},"","","","","",{"$f":"IFERROR(VLOOKUP(A327,ObData!$A$2:$I$300,5,0),\"\")","v":0},""]
[{"$f":"IFERROR(INDEX(ObData!$A$2:$A$300,MATCH(1,(Data!M328>=ObData!$H$2:$H$300)*(Data!M328<=ObData!$I$2:$I$300),0)),\"N/A\")","v":""},{"$f":"BehaviorLogEntries!A328","v":0},{"$f":"BehaviorLogEntries!B328","v":0},{"$f":"BehaviorLogEntries!C328","v":0},{"$f":"BehaviorLogEntries!D328","v":0},{"$f":"BehaviorLogEntries!E328","v":0},{"$f":"BehaviorLogEntries!F328","v":0},{"$f":"BehaviorLogEntries!G328","v":0},{"$f":"BehaviorLogEntries!H328","v":0},{"$f":"BehaviorLogEntries!J328","v":0},"","","","","",{"$f":"IFERROR(VLOOKUP(A328,ObData!$A$2:$I$300,5,0),\"\")","v":0},""]
[{"$f":"IFERROR(INDEX(ObData!$A$2:$A$300,MATCH(1,(Data!M329>=ObData!$H$2:$H$300)*(Data!M329<=ObData!$I$2:$I$300),0)),\"N/A\")","v":""},{"$f":"BehaviorLogEntries!A329","v":0},{"$f":"BehaviorLogEntries!B329","v":0},{"$f":"BehaviorLogEntries!C329","v":0},{"$f":"BehaviorLogEntries!D329","v":0},{"$f":"BehaviorLogEntries!E329","v":0},{"$f":"BehaviorLogEntries!F329","v":0},{"$f":"BehaviorLogEntries!G329","v":0},{"$f":"BehaviorLogEntries!H329","v":0},{"$f":"BehaviorLogEntries!J329","v":0},"","","","","",{"$f":"IFERROR(VLOOKUP(A329,ObData!$A$2:$I$300,5,0),\"\")","v":0},""]
[{"$f":"IFERROR(INDEX(ObData!$A$2:$A$300,MATCH(1,(Data!M330>=ObData!$H$2:$H$300)*(Data!M330<=ObData!$I$2:$I$300),0)),\"N/A\")","v":""},{"$f":"BehaviorLogEntries!A330","v":0},{"$f":"BehaviorLogEntries!B330","v":0},{"$f":"BehaviorLogEntries!C330","v":0},{"$f":"BehaviorLogEntries!D330","v":0},{"$f":"BehaviorLogEntries!E330","v":0},{"$f":"BehaviorLogEntries!F330","v":0},{"$f":"BehaviorLogEntries!G330","v":0},{"$f":"BehaviorLogEntries!H330","v":0},{"$f":"BehaviorLogEntries!J330","v":0},"","","","","",{"$f":"IFERROR(VLOOKUP(A330,ObData!$A$2:$I$300,5,0),\"\")","v":0},""]
[{"$f":"IFERROR(INDEX(ObData!$A$2:$A$300,MATCH(1,(Data!M331>=ObData!$H$2:$H$300)*(Data!M331<=ObData!$I$2:$I$300),0)),\"N/A\")","v":""},{"$f":"BehaviorLogEntries!A331","v":0},{"$f":"BehaviorLogEntries!B331","v":0},{"$f":"BehaviorLogEntries!C331","v":0},{"$f":"BehaviorLogEntries!D331","v":0},{"$f":"BehaviorLogEntries!E331","v":0},{"$f":"BehaviorLogEntries!F331","v":0},{"$f":"BehaviorLogEntries!G331","v":0},{"$f":"BehaviorLogEntries!H331","v":0},{"$f":"BehaviorLogEntries!J331","v":0},"","","","","",{"$f":"IFERROR(VLOOKUP(A331,ObData!$A$2:$I$300,5,0),\"\")","v":0},""]
[{"$f":"IFERROR(INDEX(ObData!$A$2:$A$300,MATCH(1,(Data!M332>=ObData!$H$2:$H$300)*(Data!M332<=ObData!$I$2:$I$300),0)),\"N/A\")","v":""},{"$f":"BehaviorLogEntries!A332","v":0},{"$f":"BehaviorLogEntries!B332","v":0},{"$f":"BehaviorLogEntries!C332","v":0},{"$f":"BehaviorLogEntries!D332","v":0},{"$f":"BehaviorLogEntries!E332","v":0},{"$f":"BehaviorLogEntries!F332","v":0},{"$f":"BehaviorLogEntries!G332","v":0},{"$f":"BehaviorLogEntries!H332","v":0},{"$f":"BehaviorLogEntries!J332","v":0},"","","","","",{"$f":"IFERROR(VLOOKUP(A332,ObData!$A$2:$I$300,5,0),\"\")","v":0},""]
[{"$f":"IFERROR(INDEX(ObData!$A$2:$A$300,MATCH(1,(Data!M333>=ObData!$H$2:$H$300)*(Data!M333<=ObData!$I$2:$I$300),0)),\"N/A\")","v":""},{"$f":"BehaviorLogEntries!A333","v":0},{"$f":"BehaviorLogEntries!B333","v":0},{"$f":"BehaviorLogEntries!C333","v":0},{"$f":"BehaviorLogEntries!D333","v":0},{"$f":"BehaviorLogEntries!E333","v":0},{"$f":"BehaviorLogEntries!F333","v":0},{"$f":"BehaviorLogEntries!G333","v":0},{"$f":"BehaviorLogEntries!H333","v":0},{"$f":"BehaviorLogEntries!J333","v":0},"","","","","",{"$f":"IFERROR(VLOOKUP(A333,ObData!$A$2:$I$300,5,0),\"\")","v":0},""]
[{"$f":"IFERROR(INDEX(ObData!$A$2:$A$300,MATCH(1,(Data!M334>=ObData!$H$2:$H$300)*(Data!M334<=ObData!$I$2:$I$300),0)),\"N/A\")","v":""},{"$f":"BehaviorLogEntries!A334","v":0},{"$f":"BehaviorLogEntries!B334","v":0},{"$f":"BehaviorLogEntries!C334","v":0},{"$f":"BehaviorLogEntries!D334","v":0},{"$f":"BehaviorLogEntries!E334","v":0},{"$f":"BehaviorLogEntries!F334","v":0},{"$f":"BehaviorLogEntries!G334","v":0},{"$f":"BehaviorLogEntries!H334","v":0},{"$f":"BehaviorLogEntries!J334","v":0},"","","","","",{"$f":"IFERROR(VLOOKUP(A334,ObData!$A$2:$I$300,5,0),\"\")","v":0},""]
[{"$f":"IFERROR(INDEX(ObData!$A$2:$A$300,MATCH(1,(Data!M335>=ObData!$H$2:$H$300)*(Data!M335<=ObData!$I$2:$I$300),0)),\"N/A\")","v":""},{"$f":"BehaviorLogEntries!A335","v":0},{"$f":"BehaviorLogEntries!B335","v":0},{"$f":"BehaviorLogEntries!C335","v":0},{"$f":"BehaviorLogEntries!D335","v":0},{"$f":"BehaviorLogEntries!E335","v":0},{"$f":"BehaviorLogEntries!F335","v":0},{"$f":"BehaviorLogEntries!G335","v":0},{"$f":"BehaviorLogEntries!H335","v":0},{"$f":"BehaviorLogEntries!J335","v":0},"","","","","",{"$f":"IFERROR(VLOOKUP(A335,ObData!$A$2:$I$300,5,0),\"\")","v":0},""]
[{"$f":"IFERROR(INDEX(ObData!$A$2:$A$300,MATCH(1,(Data!M336>=ObData!$H$2:$H$300)*(Data!M336<=ObData!$I$2:$I$300),0)),\"N/A\")","v":""},{"$f":"BehaviorLogEntries!A336","v":0},{"$f":"BehaviorLogEntries!B336","v":0},{"$f":"BehaviorLogEntries!C336","v":0},{"$f":"BehaviorLogEntries!D336","v":0},{"$f":"BehaviorLogEntries!E336","v":0},{"$f":"BehaviorLogEntries!F336","v":0},{"$f":"BehaviorLogEntries!G336","v":0},{"$f":"BehaviorLogEntries!H336","v":0},{"$f":"BehaviorLogEntries!J336","v":0},"","","","","",{"$f":"IFERROR(VLOOKUP(A336,ObData!$A$2:$I$300,5,0),\"\")","v":0},""]
[{"$f":"IFERROR(INDEX(ObData!$A$2:$A$300,MATCH(1,(Data!M337>=ObData!$H$2:$H$300)*(Data!M337<=ObData!$I$2:$I$300),0)),\"N/A\")","v":""},{"$f":"BehaviorLogEntries!A337","v":0},{"$f":"BehaviorLogEntries!B337","v":0},{"$f":"BehaviorLogEntries!C337","v":0},{"$f":"BehaviorLogEntries!D337","v":0},{"$f":"BehaviorLogEntries!E337","v":0},{"$f":"BehaviorLogEntries!F337","v":0},{"$f":"BehaviorLogEntries!G337","v":0},{"$f":"BehaviorLogEntries!H337","v":0},{"$f":"BehaviorLogEntries!J337","v":0},"","","","","",{"$f":"IFERROR(VLOOKUP(A337,ObData!$A$2:$I$300,5,0),\"\")","v":0},""]
[{"$f":"IFERROR(INDEX(ObData!$A$2:$A$300,MATCH(1,(Data!M338>=ObData!$H$2:$H$300)*(Data!M338<=ObData!$I$2:$I$300),0)),\"N/A\")","v":""},{"$f":"BehaviorLogEntries!A338","v":0},{"$f":"BehaviorLogEntries!B338","v":0},{"$f":"BehaviorLogEntries!C338","v":0},{"$f":"BehaviorLogEntries!D338","v":0},{"$f":"BehaviorLogEntries!E338","v":0},{"$f":"BehaviorLogEntries!F338","v":0},{"$f":"BehaviorLogEntries!G338","v":0},{"$f":"BehaviorLogEntries!H338","v":0},{"$f":"BehaviorLogEntries!J338","v":0},"","","","","",{"$f":"IFERROR(VLOOKUP(A338,ObData!$A$2:$I$300,5,0),\"\")","v":0},""]
[{"$f":"IFERROR(INDEX(ObData!$A$2:$A$300,MATCH(1,(Data!M339>=ObData!$H$2:$H$300)*(Data!M339<=ObData!$I$2:$I$300),0)),\"N/A\")","v":""},{"$f":"BehaviorLogEntries!A339","v":0},{"$f":"BehaviorLogEntries!B339","v":0},{"$f":"BehaviorLogEntries!C339","v":0},{"$f":"BehaviorLogEntries!D339","v":0},{"$f":"BehaviorLogEntries!E339","v":0},{"$f":"BehaviorLogEntries!F339","v":0},{"$f":"BehaviorLogEntries!G339","v":0},{"$f":"BehaviorLogEntries!H339","v":0},{"$f":"BehaviorLogEntries!J339","v":0},"","","","","",{"$f":"IFERROR(VLOOKUP(A339,ObData!$A$2:$I$300,5,0),\"\")","v":0},""]
[{"$f":"IFERROR(INDEX(ObData!$A$2:$A$300,MATCH(1,(Data!M340>=ObData!$H$2:$H$300)*(Data!M340<=ObData!$I$2:$I$300),0)),\"N/A\")","v":""},{"$f":"BehaviorLogEntries!A340","v":0},{"$f":"BehaviorLogEntries!B340","v":0},{"$f":"BehaviorLogEntries!C340","v":0},{"$f":"BehaviorLogEntries!D340","v":0},{"$f":"BehaviorLogEntries!E340","v":0},{"$f":"BehaviorLogEntries!F340","v":0},{"$f":"BehaviorLogEntries!G340","v":0},{"$f":"BehaviorLogEntries!H340","v":0},{"$f":"BehaviorLogEntries!J340","v":0},"","","","","",{"$f":"IFERROR(VLOOKUP(A340,ObData!$A$2:$I$300,5,0),\"\")","v":0},""]
[{"$f":"IFERROR(INDEX(ObData!$A$2:$A$300,MATCH(1,(Data!M341>=ObData!$H$2:$H$300)*(Data!M341<=ObData!$I$2:$I$300),0)),\"N/A\")","v":""},{"$f":"BehaviorLogEntries!A341","v":0},{"$f":"BehaviorLogEntries!B341","v":0},{"$f":"BehaviorLogEntries!C341","v":0},{"$f":"BehaviorLogEntries!D341","v":0},{"$f":"BehaviorLogEntries!E341","v":0},{"$f":"BehaviorLogEntries!F341","v":0},{"$f":"BehaviorLogEntries!G341","v":0},{"$f":"BehaviorLogEntries!H341","v":0},{"$f":"BehaviorLogEntries!J341","v":0},"","","","","",{"$f":"IFERROR(VLOOKUP(A341,ObData!$A$2:$I$300,5,0),\"\")","v":0},""]
[{"$f":"IFERROR(INDEX(ObData!$A$2:$A$300,MATCH(1,(Data!M342>=ObData!$H$2:$H$300)*(Data!M342<=ObData!$I$2:$I$300),0)),\"N/A\")","v":""},{"$f":"BehaviorLogEntries!A342","v":0},{"$f":"BehaviorLogEntries!B342","v":0},{"$f":"BehaviorLogEntries!C342","v":0},{"$f":"BehaviorLogEntries!D342","v":0},{"$f":"BehaviorLogEntries!E342","v":0},{"$f":"BehaviorLogEntries!F342","v":0},{"$f":"BehaviorLogEntries!G342","v":0},{"$f":"BehaviorLogEntries!H342","v":0},{"$f":"BehaviorLogEntries!J342","v":0},"","","","","",{"$f":"IFERROR(VLOOKUP(A342,ObData!$A$2:$I$300,5,0),\"\")","v":0},""]
[{"$f":"IFERROR(INDEX(ObData!$A$2:$A$300,MATCH(1,(Data!M343>=ObData!$H$2:$H$300)*(Data!M343<=ObData!$I$2:$I$300),0)),\"N/A\")","v":""},{"$f":"BehaviorLogEntries!A343","v":0},{"$f":"BehaviorLogEntries!B343","v":0},{"$f":"BehaviorLogEntries!C343","v":0},{"$f":"BehaviorLogEntries!D343","v":0},{"$f":"BehaviorLogEntries!E343","v":0},{"$f":"BehaviorLogEntries!F343","v":0},{"$f":"BehaviorLogEntries!G343","v":0},{"$f":"BehaviorLogEntries!H343","v":0},{"$f":"BehaviorLogEntries!J343","v":0},"","","","","",{"$f":"IFERROR(VLOOKUP(A343,ObData!$A$2:$I$300,5,0),\"\")","v":0},""]
[{"$f":"IFERROR(INDEX(ObData!$A$2:$A$300,MATCH(1,(Data!M344>=ObData!$H$2:$H$300)*(Data!M344<=ObData!$I$2:$I$300),0)),\"N/A\")","v":""},{"$f":"BehaviorLogEntries!A344","v":0},{"$f":"BehaviorLogEntries!B344","v":0},{"$f":"BehaviorLogEntries!C344","v":0},{"$f":"BehaviorLogEntries!D344","v":0},{"$f":"BehaviorLogEntries!E344","v":0},{"$f":"BehaviorLogEntries!F344","v":0},{"$f":"BehaviorLogEntries!G344","v":0},{"$f":"BehaviorLogEntries!H344","v":0},{"$f":"BehaviorLogEntries!J344","v":0},"","","","","",{"$f":"IFERROR(VLOOKUP(A344,ObData!$A$2:$I$300,5,0),\"\")","v":0},""]
[{"$f":"IFERROR(INDEX(ObData!$A$2:$A$300,MATCH(1,(Data!M345>=ObData!$H$2:$H$300)*(Data!M345<=ObData!$I$2:$I$300),0)),\"N/A\")","v":""},{"$f":"BehaviorLogEntries!A345","v":0},{"$f":"BehaviorLogEntries!B345","v":0},{"$f":"BehaviorLogEntries!C345","v":0},{"$f":"BehaviorLogEntries!D345","v":0},{"$f":"BehaviorLogEntries!E345","v":0},{"$f":"BehaviorLogEntries!F345","v":0},{"$f":"BehaviorLogEntries!G345","v":0},{"$f":"BehaviorLogEntries!H345","v":0},{"$f":"BehaviorLogEntries!J345","v":0},"","","","","",{"$f":"IFERROR(VLOOKUP(A345,ObData!$A$2:$I$300,5,0),\"\")","v":0},""]
[{"$f":"IFERROR(INDEX(ObData!$A$2:$A$300,MATCH(1,(Data!M346>=ObData!$H$2:$H$300)*(Data!M346<=ObData!$I$2:$I$300),0)),\"N/A\")","v":""},{"$f":"BehaviorLogEntries!A346","v":0},{"$f":"BehaviorLogEntries!B346","v":0},{"$f":"BehaviorLogEntries!C346","v":0},{"$f":"BehaviorLogEntries!D346","v":0},{"$f":"BehaviorLogEntries!E346","v":0},{"$f":"BehaviorLogEntries!F346","v":0},{"$f":"BehaviorLogEntries!G346","v":0},{"$f":"BehaviorLogEntries!H346","v":0},{"$f":"BehaviorLogEntries!J346","v":0},"","","","","",{"$f":"IFERROR(VLOOKUP(A346,ObData!$A$2:$I$300,5,0),\"\")","v":0},""]
[{"$f":"IFERROR(INDEX(ObData!$A$2:$A$300,MATCH(1,(Data!M347>=ObData!$H$2:$H$300)*(Data!M347<=ObData!$I$2:$I$300),0)),\"N/A\")","v":""},{"$f":"BehaviorLogEntries!A347","v":0},{"$f":"BehaviorLogEntries!B347","v":0},{"$f":"BehaviorLogEntries!C347","v":0},{"$f":"BehaviorLogEntries!D347","v":0},{"$f":"BehaviorLogEntries!E347","v":0},{"$f":"BehaviorLogEntries!F347","v":0},{"$f":"BehaviorLogEntries!G347","v":0},{"$f":"BehaviorLogEntries!H347","v":0},{"$f":"BehaviorLogEntries!J347","v":0},"","","","","",{"$f":"IFERROR(VLOOKUP(A347,ObData!$A$2:$I$300,5,0),\"\")","v":0},""]
[{"$f":"IFERROR(INDEX(ObData!$A$2:$A$300,MATCH(1,(Data!M348>=ObData!$H$2:$H$300)*(Data!M348<=ObData!$I$2:$I$300),0)),\"N/A\")","v":""},{"$f":"BehaviorLogEntries!A348","v":0},{"$f":"BehaviorLogEntries!B348","v":0},{"$f":"BehaviorLogEntries!C348","v":0},{"$f":"BehaviorLogEntries!D348","v":0},{"$f":"BehaviorLogEntries!E348","v":0},{"$f":"BehaviorLogEntries!F348","v":0},{"$f":"BehaviorLogEntries!G348","v":0},{"$f":"BehaviorLogEntries!H348","v":0},{"$f":"BehaviorLogEntries!J348","v":0},"","","","","",{"$f":"IFERROR(VLOOKUP(A348,ObData!$A$2:$I$300,5,0),\"\")","v":0},""]
[{"$f":"IFERROR(INDEX(ObData!$A$2:$A$300,MATCH(1,(Data!M349>=ObData!$H$2:$H$300)*(Data!M349<=ObData!$I$2:$I$300),0)),\"N/A\")","v":""},{"$f":"BehaviorLogEntries!A349","v":0},{"$f":"BehaviorLogEntries!B349","v":0},{"$f":"BehaviorLogEntries!C349","v":0},{"$f":"BehaviorLogEntries!D349","v":0},{"$f":"BehaviorLogEntries!E349","v":0},{"$f":"BehaviorLogEntries!F349","v":0},{"$f":"BehaviorLogEntries!G349","v":0},{"$f":"BehaviorLogEntries!H349","v":0},{"$f":"BehaviorLogEntries!J349","v":0},"","","","","",{"$f":"IFERROR(VLOOKUP(A349,ObData!$A$2:$I$300,5,0),\"\")","v":0},""]
[{"$f":"IFERROR(INDEX(ObData!$A$2:$A$300,MATCH(1,(Data!M350>=ObData!$H$2:$H$300)*(Data!M350<=ObData!$I$2:$I$300),0)),\"N/A\")","v":""},{"$f":"BehaviorLogEntries!A350","v":0},{"$f":"BehaviorLogEntries!B350","v":0},{"$f":"BehaviorLogEntries!C350","v":0},{"$f":"BehaviorLogEntries!D350","v":0},{"$f":"BehaviorLogEntries!E350","v":0},{"$f":"BehaviorLogEntries!F350","v":0},{"$f":"BehaviorLogEntries!G350","v":0},{"$f":"BehaviorLogEntries!H350","v":0},{"$f":"BehaviorLogEntries!J350","v":0},"","","","","",{"$f":"IFERROR(VLOOKUP(A350,ObData!$A$2:$I$300,5,0),\"\")","v":0},""]
[{"$f":"IFERROR(INDEX(ObData!$A$2:$A$300,MATCH(1,(Data!M351>=ObData!$H$2:$H$300)*(Data!M351<=ObData!$I$2:$I$300),0)),\"N/A\")","v":""},{"$f":"BehaviorLogEntries!A351","v":0},{"$f":"BehaviorLogEntries!B351","v":0},{"$f":"BehaviorLogEntries!C351","v":0},{"$f":"BehaviorLogEntries!D351","v":0},{"$f":"BehaviorLogEntries!E351","v":0},{"$f":"BehaviorLogEntries!F351","v":0},{"$f":"BehaviorLogEntries!G351","v":0},{"$f":"BehaviorLogEntries!H351","v":0},{"$f":"BehaviorLogEntries!J351","v":0},"","","","","",{"$f":"IFERROR(VLOOKUP(A351,ObData!$A$2:$I$300,5,0),\"\")","v":0},""]
[{"$f":"IFERROR(INDEX(ObData!$A$2:$A$300,MATCH(1,(Data!M352>=ObData!$H$2:$H$300)*(Data!M352<=ObData!$I$2:$I$300),0)),\"N/A\")","v":""},{"$f":"BehaviorLogEntries!A352","v":0},{"$f":"BehaviorLogEntries!B352","v":0},{"$f":"BehaviorLogEntries!C352","v":0},{"$f":"BehaviorLogEntries!D352","v":0},{"$f":"BehaviorLogEntries!E352","v":0},{"$f":"BehaviorLogEntries!F352","v":0},{"$f":"BehaviorLogEntries!G352","v":0},{"$f":"BehaviorLogEntries!H352","v":0},{"$f":"BehaviorLogEntries!J352","v":0},"","","","","",{"$f":"IFERROR(VLOOKUP(A352,ObData!$A$2:$I$300,5,0),\"\")","v":0},""]
[{"$f":"IFERROR(INDEX(ObData!$A$2:$A$300,MATCH(1,(Data!M353>=ObData!$H$2:$H$300)*(Data!M353<=ObData!$I$2:$I$300),0)),\"N/A\")","v":""},{"$f":"BehaviorLogEntries!A353","v":0},{"$f":"BehaviorLogEntries!B353","v":0},{"$f":"BehaviorLogEntries!C353","v":0},{"$f":"BehaviorLogEntries!D353","v":0},{"$f":"BehaviorLogEntries!E353","v":0},{"$f":"BehaviorLogEntries!F353","v":0},{"$f":"BehaviorLogEntries!G353","v":0},{"$f":"BehaviorLogEntries!H353","v":0},{"$f":"BehaviorLogEntries!J353","v":0},"","","","","",{"$f":"IFERROR(VLOOKUP(A353,ObData!$A$2:$I$300,5,0),\"\")","v":0},""]
[{"$f":"IFERROR(INDEX(ObData!$A$2:$A$300,MATCH(1,(Data!M354>=ObData!$H$2:$H$300)*(Data!M354<=ObData!$I$2:$I$300),0)),\"N/A\")","v":""},{"$f":"BehaviorLogEntries!A354","v":0},{"$f":"BehaviorLogEntries!B354","v":0},{"$f":"BehaviorLogEntries!C354","v":0},{"$f":"BehaviorLogEntries!D354","v":0},{"$f":"BehaviorLogEntries!E354","v":0},{"$f":"BehaviorLogEntries!F354","v":0},{"$f":"BehaviorLogEntries!G354","v":0},{"$f":"BehaviorLogEntries!H354","v":0},{"$f":"BehaviorLogEntries!J354","v":0},"","","","","",{"$f":"IFERROR(VLOOKUP(A354,ObData!$A$2:$I$300,5,0),\"\")","v":0},""]
[{"$f":"IFERROR(INDEX(ObData!$A$2:$A$300,MATCH(1,(Data!M355>=ObData!$H$2:$H$300)*(Data!M355<=ObData!$I$2:$I$300),0)),\"N/A\")","v":""},{"$f":"BehaviorLogEntries!A355","v":0},{"$f":"BehaviorLogEntries!B355","v":0},{"$f":"BehaviorLogEntries!C355","v":0},{"$f":"BehaviorLogEntries!D355","v":0},{"$f":"BehaviorLogEntries!E355","v":0},{"$f":"BehaviorLogEntries!F355","v":0},{"$f":"BehaviorLogEntries!G355","v":0},{"$f":"BehaviorLogEntries!H355","v":0},{"$f":"BehaviorLogEntries!J355","v":0},"","","","","",{"$f":"IFERROR(VLOOKUP(A355,ObData!$A$2:$I$300,5,0),\"\")","v":0},""]
[{"$f":"IFERROR(INDEX(ObData!$A$2:$A$300,MATCH(1,(Data!M356>=ObData!$H$2:$H$300)*(Data!M356<=ObData!$I$2:$I$300),0)),\"N/A\")","v":""},{"$f":"BehaviorLogEntries!A356","v":0},{"$f":"BehaviorLogEntries!B356","v":0},{"$f":"BehaviorLogEntries!C356","v":0},{"$f":"BehaviorLogEntries!D356","v":0},{"$f":"BehaviorLogEntries!E356","v":0},{"$f":"BehaviorLogEntries!F356","v":0},{"$f":"BehaviorLogEntries!G356","v":0},{"$f":"BehaviorLogEntries!H356","v":0},{"$f":"BehaviorLogEntries!J356","v":0},"","","","","",{"$f":"IFERROR(VLOOKUP(A356,ObData!$A$2:$I$300,5,0),\"\")","v":0},""]
[{"$f":"IFERROR(INDEX(ObData!$A$2:$A$300,MATCH(1,(Data!M357>=ObData!$H$2:$H$300)*(Data!M357<=ObData!$I$2:$I$300),0)),\"N/A\")","v":""},{"$f":"BehaviorLogEntries!A357","v":0},{"$f":"BehaviorLogEntries!B357","v":0},{"$f":"BehaviorLogEntries!C357","v":0},{"$f":"BehaviorLogEntries!D357","v":0},{"$f":"BehaviorLogEntries!E357","v":0},{"$f":"BehaviorLogEntries!F357","v":0},{"$f":"BehaviorLogEntries!G357","v":0},{"$f":"BehaviorLogEntries!H357","v":0},{"$f":"BehaviorLogEntries!J357","v":0},"","","","","",{"$f":"IFERROR(VLOOKUP(A357,ObData!$A$2:$I$300,5,0),\"\")","v":0},""]
[{"$f":"IFERROR(INDEX(ObData!$A$2:$A$300,MATCH(1,(Data!M358>=ObData!$H$2:$H$300)*(Data!M358<=ObData!$I$2:$I$300),0)),\"N/A\")","v":""},{"$f":"BehaviorLogEntries!A358","v":0},{"$f":"BehaviorLogEntries!B358","v":0},{"$f":"BehaviorLogEntries!C358","v":0},{"$f":"BehaviorLogEntries!D358","v":0},{"$f":"BehaviorLogEntries!E358","v":0},{"$f":"BehaviorLogEntries!F358","v":0},{"$f":"BehaviorLogEntries!G358","v":0},{"$f":"BehaviorLogEntries!H358","v":0},{"$f":"BehaviorLogEntries!J358","v":0},"","","","","",{"$f":"IFERROR(VLOOKUP(A358,ObData!$A$2:$I$300,5,0),\"\")","v":0},""]
[{"$f":"IFERROR(INDEX(ObData!$A$2:$A$300,MATCH(1,(Data!M359>=ObData!$H$2:$H$300)*(Data!M359<=ObData!$I$2:$I$300),0)),\"N/A\")","v":""},{"$f":"BehaviorLogEntries!A359","v":0},{"$f":"BehaviorLogEntries!B359","v":0},{"$f":"BehaviorLogEntries!C359","v":0},{"$f":"BehaviorLogEntries!D359","v":0},{"$f":"BehaviorLogEntries!E359","v":0},{"$f":"BehaviorLogEntries!F359","v":0},{"$f":"BehaviorLogEntries!G359","v":0},{"$f":"BehaviorLogEntries!H359","v":0},{"$f":"BehaviorLogEntries!J359","v":0},"","","","","",{"$f":"IFERROR(VLOOKUP(A359,ObData!$A$2:$I$300,5,0),\"\")","v":0},""]
[{"$f":"IFERROR(INDEX(ObData!$A$2:$A$300,MATCH(1,(Data!M360>=ObData!$H$2:$H$300)*(Data!M360<=ObData!$I$2:$I$300),0)),\"N/A\")","v":""},{"$f":"BehaviorLogEntries!A360","v":0},{"$f":"BehaviorLogEntries!B360","v":0},{"$f":"BehaviorLogEntries!C360","v":0},{"$f":"BehaviorLogEntries!D360","v":0},{"$f":"BehaviorLogEntries!E360","v":0},{"$f":"BehaviorLogEntries!F360","v":0},{"$f":"BehaviorLogEntries!G360","v":0},{"$f":"BehaviorLogEntries!H360","v":0},{"$f":"BehaviorLogEntries!J360","v":0},"","","","","",{"$f":"IFERROR(VLOOKUP(A360,ObData!$A$2:$I$300,5,0),\"\")","v":0},""]
[{"$f":"IFERROR(INDEX(ObData!$A$2:$A$300,MATCH(1,(Data!M361>=ObData!$H$2:$H$300)*(Data!M361<=ObData!$I$2:$I$300),0)),\"N/A\")","v":""},{"$f":"BehaviorLogEntries!A361","v":0},{"$f":"BehaviorLogEntries!B361","v":0},{"$f":"BehaviorLogEntries!C361","v":0},{"$f":"BehaviorLogEntries!D361","v":0},{"$f":"BehaviorLogEntries!E361","v":0},{"$f":"BehaviorLogEntries!F361","v":0},{"$f":"BehaviorLogEntries!G361","v":0},{"$f":"BehaviorLogEntries!H361","v":0},{"$f":"BehaviorLogEntries!J361","v":0},"","","","","",{"$f":"IFERROR(VLOOKUP(A361,ObData!$A$2:$I$300,5,0),\"\")","v":0},""]
[{"$f":"IFERROR(INDEX(ObData!$A$2:$A$300,MATCH(1,(Data!M362>=ObData!$H$2:$H$300)*(Data!M362<=ObData!$I$2:$I$300),0)),\"N/A\")","v":""},{"$f":"BehaviorLogEntries!A362","v":0},{"$f":"BehaviorLogEntries!B362","v":0},{"$f":"BehaviorLogEntries!C362","v":0},{"$f":"BehaviorLogEntries!D362","v":0},{"$f":"BehaviorLogEntries!E362","v":0},{"$f":"BehaviorLogEntries!F362","v":0},{"$f":"BehaviorLogEntries!G362","v":0},{"$f":"BehaviorLogEntries!H362","v":0},{"$f":"BehaviorLogEntries!J362","v":0},"","","","","",{"$f":"IFERROR(VLOOKUP(A362,ObData!$A$2:$I$300,5,0),\"\")","v":0},""]
[{"$f":"IFERROR(INDEX(ObData!$A$2:$A$300,MATCH(1,(Data!M363>=ObData!$H$2:$H$300)*(Data!M363<=ObData!$I$2:$I$300),0)),\"N/A\")","v":""},{"$f":"BehaviorLogEntries!A363","v":0},{"$f":"BehaviorLogEntries!B363","v":0},{"$f":"BehaviorLogEntries!C363","v":0},{"$f":"BehaviorLogEntries!D363","v":0},{"$f":"BehaviorLogEntries!E363","v":0},{"$f":"BehaviorLogEntries!F363","v":0},{"$f":"BehaviorLogEntries!G363","v":0},{"$f":"BehaviorLogEntries!H363","v":0},{"$f":"BehaviorLogEntries!J363","v":0},"","","","","",{"$f":"IFERROR(VLOOKUP(A363,ObData!$A$2:$I$300,5,0),\"\")","v":0},""]
[{"$f":"IFERROR(INDEX(ObData!$A$2:$A$300,MATCH(1,(Data!M364>=ObData!$H$2:$H$300)*(Data!M364<=ObData!$I$2:$I$300),0)),\"N/A\")","v":""},{"$f":"BehaviorLogEntries!A364","v":0},{"$f":"BehaviorLogEntries!B364","v":0},{"$f":"BehaviorLogEntries!C364","v":0},{"$f":"BehaviorLogEntries!D364","v":0},{"$f":"BehaviorLogEntries!E364","v":0},{"$f":"BehaviorLogEntries!F364","v":0},{"$f":"BehaviorLogEntries!G364","v":0},{"$f":"BehaviorLogEntries!H364","v":0},{"$f":"BehaviorLogEntries!J364","v":0},"","","","","",{"$f":"IFERROR(VLOOKUP(A364,ObData!$A$2:$I$300,5,0),\"\")","v":0},""]
[{"$f":"IFERROR(INDEX(ObData!$A$2:$A$300,MATCH(1,(Data!M365>=ObData!$H$2:$H$300)*(Data!M365<=ObData!$I$2:$I$300),0)),\"N/A\")","v":""},{"$f":"BehaviorLogEntries!A365","v":0},{"$f":"BehaviorLogEntries!B365","v":0},{"$f":"BehaviorLogEntries!C365","v":0},{"$f":"BehaviorLogEntries!D365","v":0},{"$f":"BehaviorLogEntries!E365","v":0},{"$f":"BehaviorLogEntries!F365","v":0},{"$f":"BehaviorLogEntries!G365","v":0},{"$f":"BehaviorLogEntries!H365","v":0},{"$f":"BehaviorLogEntries!J365","v":0},"","","","","",{"$f":"IFERROR(VLOOKUP(A365,ObData!$A$2:$I$300,5,0),\"\")","v":0},""]
[{"$f":"IFERROR(INDEX(ObData!$A$2:$A$300,MATCH(1,(Data!M366>=ObData!$H$2:$H$300)*(Data!M366<=ObData!$I$2:$I$300),0)),\"N/A\")","v":""},{"$f":"BehaviorLogEntries!A366","v":0},{"$f":"BehaviorLogEntries!B366","v":0},{"$f":"BehaviorLogEntries!C366","v":0},{"$f":"BehaviorLogEntries!D366","v":0},{"$f":"BehaviorLogEntries!E366","v":0},{"$f":"BehaviorLogEntries!F366","v":0},{"$f":"BehaviorLogEntries!G366","v":0},{"$f":"BehaviorLogEntries!H366","v":0},{"$f":"BehaviorLogEntries!J366","v":0},"","","","","",{"$f":"IFERROR(VLOOKUP(A366,ObData!$A$2:$I$300,5,0),\"\")","v":0},""]
[{"$f":"IFERROR(INDEX(ObData!$A$2:$A$300,MATCH(1,(Data!M367>=ObData!$H$2:$H$300)*(Data!M367<=ObData!$I$2:$I$300),0)),\"N/A\")","v":""},{"$f":"BehaviorLogEntries!A367","v":0},{"$f":"BehaviorLogEntries!B367","v":0},{"$f":"BehaviorLogEntries!C367","v":0},{"$f":"BehaviorLogEntries!D367","v":0},{"$f":"BehaviorLogEntries!E367","v":0},{"$f":"BehaviorLogEntries!F367","v":0},{"$f":"BehaviorLogEntries!G367","v":0},{"$f":"BehaviorLogEntries!H367","v":0},{"$f":"BehaviorLogEntries!J367","v":0},"","","","","",{"$f":"IFERROR(VLOOKUP(A367,ObData!$A$2:$I$300,5,0),\"\")","v":0},""]
[{"$f":"IFERROR(INDEX(ObData!$A$2:$A$300,MATCH(1,(Data!M368>=ObData!$H$2:$H$300)*(Data!M368<=ObData!$I$2:$I$300),0)),\"N/A\")","v":""},{"$f":"BehaviorLogEntries!A368","v":0},{"$f":"BehaviorLogEntries!B368","v":0},{"$f":"BehaviorLogEntries!C368","v":0},{"$f":"BehaviorLogEntries!D368","v":0},{"$f":"BehaviorLogEntries!E368","v":0},{"$f":"BehaviorLogEntries!F368","v":0},{"$f":"BehaviorLogEntries!G368","v":0},{"$f":"BehaviorLogEntries!H368","v":0},{"$f":"BehaviorLogEntries!J368","v":0},"","","","","",{"$f":"IFERROR(VLOOKUP(A368,ObData!$A$2:$I$300,5,0),\"\")","v":0},""]
[{"$f":"IFERROR(INDEX(ObData!$A$2:$A$300,MATCH(1,(Data!M369>=ObData!$H$2:$H$300)*(Data!M369<=ObData!$I$2:$I$300),0)),\"N/A\")","v":""},{"$f":"BehaviorLogEntries!A369","v":0},{"$f":"BehaviorLogEntries!B369","v":0},{"$f":"BehaviorLogEntries!C369","v":0},{"$f":"BehaviorLogEntries!D369","v":0},{"$f":"BehaviorLogEntries!E369","v":0},{"$f":"BehaviorLogEntries!F369","v":0},{"$f":"BehaviorLogEntries!G369","v":0},{"$f":"BehaviorLogEntries!H369","v":0},{"$f":"BehaviorLogEntries!J369","v":0},"","","","","",{"$f":"IFERROR(VLOOKUP(A369,ObData!$A$2:$I$300,5,0),\"\")","v":0},""]
[{"$f":"IFERROR(INDEX(ObData!$A$2:$A$300,MATCH(1,(Data!M370>=ObData!$H$2:$H$300)*(Data!M370<=ObData!$I$2:$I$300),0)),\"N/A\")","v":""},{"$f":"BehaviorLogEntries!A370","v":0},{"$f":"BehaviorLogEntries!B370","v":0},{"$f":"BehaviorLogEntries!C370","v":0},{"$f":"BehaviorLogEntries!D370","v":0},{"$f":"BehaviorLogEntries!E370","v":0},{"$f":"BehaviorLogEntries!F370","v":0},{"$f":"BehaviorLogEntries!G370","v":0},{"$f":"BehaviorLogEntries!H370","v":0},{"$f":"BehaviorLogEntries!J370","v":0},"","","","","",{"$f":"IFERROR(VLOOKUP(A370,ObData!$A$2:$I$300,5,0),\"\")","v":0},""]
[{"$f":"IFERROR(INDEX(ObData!$A$2:$A$300,MATCH(1,(Data!M371>=ObData!$H$2:$H$300)*(Data!M371<=ObData!$I$2:$I$300),0)),\"N/A\")","v":""},{"$f":"BehaviorLogEntries!A371","v":0},{"$f":"BehaviorLogEntries!B371","v":0},{"$f":"BehaviorLogEntries!C371","v":0},{"$f":"BehaviorLogEntries!D371","v":0},{"$f":"BehaviorLogEntries!E371","v":0},{"$f":"BehaviorLogEntries!F371","v":0},{"$f":"BehaviorLogEntries!G371","v":0},{"$f":"BehaviorLogEntries!H371","v":0},{"$f":"BehaviorLogEntries!J371","v":0},"","","","","",{"$f":"IFERROR(VLOOKUP(A371,ObData!$A$2:$I$300,5,0),\"\")","v":0},""]
[{"$f":"IFERROR(INDEX(ObData!$A$2:$A$300,MATCH(1,(Data!M372>=ObData!$H$2:$H$300)*(Data!M372<=ObData!$I$2:$I$300),0)),\"N/A\")","v":""},{"$f":"BehaviorLogEntries!A372","v":0},{"$f":"BehaviorLogEntries!B372","v":0},{"$f":"BehaviorLogEntries!C372","v":0},{"$f":"BehaviorLogEntries!D372","v":0},{"$f":"BehaviorLogEntries!E372","v":0},{"$f":"BehaviorLogEntries!F372","v":0},{"$f":"BehaviorLogEntries!G372","v":0},{"$f":"BehaviorLogEntries!H372","v":0},{"$f":"BehaviorLogEntries!J372","v":0},"","","","","",{"$f":"IFERROR(VLOOKUP(A372,ObData!$A$2:$I$300,5,0),\"\")","v":0},""]
[{"$f":"IFERROR(INDEX(ObData!$A$2:$A$300,MATCH(1,(Data!M373>=ObData!$H$2:$H$300)*(Data!M373<=ObData!$I$2:$I$300),0)),\"N/A\")","v":""},{"$f":"BehaviorLogEntries!A373","v":0},{"$f":"BehaviorLogEntries!B373","v":0},{"$f":"BehaviorLogEntries!C373","v":0},{"$f":"BehaviorLogEntries!D373","v":0},{"$f":"BehaviorLogEntries!E373","v":0},{"$f":"BehaviorLogEntries!F373","v":0},{"$f":"BehaviorLogEntries!G373","v":0},{"$f":"BehaviorLogEntries!H373","v":0},{"$f":"BehaviorLogEntries!J373","v":0},"","","","","",{"$f":"IFERROR(VLOOKUP(A373,ObData!$A$2:$I$300,5,0),\"\")","v":0},""]
[{"$f":"IFERROR(INDEX(ObData!$A$2:$A$300,MATCH(1,(Data!M374>=ObData!$H$2:$H$300)*(Data!M374<=ObData!$I$2:$I$300),0)),\"N/A\")","v":""},{"$f":"BehaviorLogEntries!A374","v":0},{"$f":"BehaviorLogEntries!B374","v":0},{"$f":"BehaviorLogEntries!C374","v":0},{"$f":"BehaviorLogEntries!D374","v":0},{"$f":"BehaviorLogEntries!E374","v":0},{"$f":"BehaviorLogEntries!F374","v":0},{"$f":"BehaviorLogEntries!G374","v":0},{"$f":"BehaviorLogEntries!H374","v":0},{"$f":"BehaviorLogEntries!J374","v":0},"","","","","",{"$f":"IFERROR(VLOOKUP(A374,ObData!$A$2:$I$300,5,0),\"\")","v":0},""]
[{"$f":"IFERROR(INDEX(ObData!$A$2:$A$300,MATCH(1,(Data!M375>=ObData!$H$2:$H$300)*(Data!M375<=ObData!$I$2:$I$300),0)),\"N/A\")","v":""},{"$f":"BehaviorLogEntries!A375","v":0},{"$f":"BehaviorLogEntries!B375","v":0},{"$f":"BehaviorLogEntries!C375","v":0},{"$f":"BehaviorLogEntries!D375","v":0},{"$f":"BehaviorLogEntries!E375","v":0},{"$f":"BehaviorLogEntries!F375","v":0},{"$f":"BehaviorLogEntries!G375","v":0},{"$f":"BehaviorLogEntries!H375","v":0},{"$f":"BehaviorLogEntries!J375","v":0},"","","","","",{"$f":"IFERROR(VLOOKUP(A375,ObData!$A$2:$I$300,5,0),\"\")","v":0},""]
[{"$f":"IFERROR(INDEX(ObData!$A$2:$A$300,MATCH(1,(Data!M376>=ObData!$H$2:$H$300)*(Data!M376<=ObData!$I$2:$I$300),0)),\"N/A\")","v":""},{"$f":"BehaviorLogEntries!A376","v":0},{"$f":"BehaviorLogEntries!B376","v":0},{"$f":"BehaviorLogEntries!C376","v":0},{"$f":"BehaviorLogEntries!D376","v":0},{"$f":"BehaviorLogEntries!E376","v":0},{"$f":"BehaviorLogEntries!F376","v":0},{"$f":"BehaviorLogEntries!G376","v":0},{"$f":"BehaviorLogEntries!H376","v":0},{"$f":"BehaviorLogEntries!J376","v":0},"","","","","",{"$f":"IFERROR(VLOOKUP(A376,ObData!$A$2:$I$300,5,0),\"\")","v":0},""]
[{"$f":"IFERROR(INDEX(ObData!$A$2:$A$300,MATCH(1,(Data!M377>=ObData!$H$2:$H$300)*(Data!M377<=ObData!$I$2:$I$300),0)),\"N/A\")","v":""},{"$f":"BehaviorLogEntries!A377","v":0},{"$f":"BehaviorLogEntries!B377","v":0},{"$f":"BehaviorLogEntries!C377","v":0},{"$f":"BehaviorLogEntries!D377","v":0},{"$f":"BehaviorLogEntries!E377","v":0},{"$f":"BehaviorLogEntries!F377","v":0},{"$f":"BehaviorLogEntries!G377","v":0},{"$f":"BehaviorLogEntries!H377","v":0},{"$f":"BehaviorLogEntries!J377","v":0},"","","","","",{"$f":"IFERROR(VLOOKUP(A377,ObData!$A$2:$I$300,5,0),\"\")","v":0},""]
[{"$f":"IFERROR(INDEX(ObData!$A$2:$A$300,MATCH(1,(Data!M378>=ObData!$H$2:$H$300)*(Data!M378<=ObData!$I$2:$I$300),0)),\"N/A\")","v":""},{"$f":"BehaviorLogEntries!A378","v":0},{"$f":"BehaviorLogEntries!B378","v":0},{"$f":"BehaviorLogEntries!C378","v":0},{"$f":"BehaviorLogEntries!D378","v":0},{"$f":"BehaviorLogEntries!E378","v":0},{"$f":"BehaviorLogEntries!F378","v":0},{"$f":"BehaviorLogEntries!G378","v":0},{"$f":"BehaviorLogEntries!H378","v":0},{"$f":"BehaviorLogEntries!J378","v":0},"","","","","",{"$f":"IFERROR(VLOOKUP(A378,ObData!$A$2:$I$300,5,0),\"\")","v":0},""]
[{"$f":"IFERROR(INDEX(ObData!$A$2:$A$300,MATCH(1,(Data!M379>=ObData!$H$2:$H$300)*(Data!M379<=ObData!$I$2:$I$300),0)),\"N/A\")","v":""},{"$f":"BehaviorLogEntries!A379","v":0},{"$f":"BehaviorLogEntries!B379","v":0},{"$f":"BehaviorLogEntries!C379","v":0},{"$f":"BehaviorLogEntries!D379","v":0},{"$f":"BehaviorLogEntries!E379","v":0},{"$f":"BehaviorLogEntries!F379","v":0},{"$f":"BehaviorLogEntries!G379","v":0},{"$f":"BehaviorLogEntries!H379","v":0},{"$f":"BehaviorLogEntries!J379","v":0},"","","","","",{"$f":"IFERROR(VLOOKUP(A379,ObData!$A$2:$I$300,5,0),\"\")","v":0},""]
[{"$f":"IFERROR(INDEX(ObData!$A$2:$A$300,MATCH(1,(Data!M380>=ObData!$H$2:$H$300)*(Data!M380<=ObData!$I$2:$I$300),0)),\"N/A\")","v":""},{"$f":"BehaviorLogEntries!A380","v":0},{"$f":"BehaviorLogEntries!B380","v":0},{"$f":"BehaviorLogEntries!C380","v":0},{"$f":"BehaviorLogEntries!D380","v":0},{"$f":"BehaviorLogEntries!E380","v":0},{"$f":"BehaviorLogEntries!F380","v":0},{"$f":"BehaviorLogEntries!G380","v":0},{"$f":"BehaviorLogEntries!H380","v":0},{"$f":"BehaviorLogEntries!J380","v":0},"","","","","",{"$f":"IFERROR(VLOOKUP(A380,ObData!$A$2:$I$300,5,0),\"\")","v":0},""]
[{"$f":"IFERROR(INDEX(ObData!$A$2:$A$300,MATCH(1,(Data!M381>=ObData!$H$2:$H$300)*(Data!M381<=ObData!$I$2:$I$300),0)),\"N/A\")","v":""},{"$f":"BehaviorLogEntries!A381","v":0},{"$f":"BehaviorLogEntries!B381","v":0},{"$f":"BehaviorLogEntries!C381","v":0},{"$f":"BehaviorLogEntries!D381","v":0},{"$f":"BehaviorLogEntries!E381","v":0},{"$f":"BehaviorLogEntries!F381","v":0},{"$f":"BehaviorLogEntries!G381","v":0},{"$f":"BehaviorLogEntries!H381","v":0},{"$f":"BehaviorLogEntries!J381","v":0},"","","","","",{"$f":"IFERROR(VLOOKUP(A381,ObData!$A$2:$I$300,5,0),\"\")","v":0},""]
[{"$f":"IFERROR(INDEX(ObData!$A$2:$A$300,MATCH(1,(Data!M382>=ObData!$H$2:$H$300)*(Data!M382<=ObData!$I$2:$I$300),0)),\"N/A\")","v":""},{"$f":"BehaviorLogEntries!A382","v":0},{"$f":"BehaviorLogEntries!B382","v":0},{"$f":"BehaviorLogEntries!C382","v":0},{"$f":"BehaviorLogEntries!D382","v":0},{"$f":"BehaviorLogEntries!E382","v":0},{"$f":"BehaviorLogEntries!F382","v":0},{"$f":"BehaviorLogEntries!G382","v":0},{"$f":"BehaviorLogEntries!H382","v":0},{"$f":"BehaviorLogEntries!J382","v":0},"","","","","",{"$f":"IFERROR(VLOOKUP(A382,ObData!$A$2:$I$300,5,0),\"\")","v":0},""]
[{"$f":"IFERROR(INDEX(ObData!$A$2:$A$300,MATCH(1,(Data!M383>=ObData!$H$2:$H$300)*(Data!M383<=ObData!$I$2:$I$300),0)),\"N/A\")","v":""},{"$f":"BehaviorLogEntries!A383","v":0},{"$f":"BehaviorLogEntries!B383","v":0},{"$f":"BehaviorLogEntries!C383","v":0},{"$f":"BehaviorLogEntries!D383","v":0},{"$f":"BehaviorLogEntries!E383","v":0},{"$f":"BehaviorLogEntries!F383","v":0},{"$f":"BehaviorLogEntries!G383","v":0},{"$f":"BehaviorLogEntries!H383","v":0},{"$f":"BehaviorLogEntries!J383","v":0},"","","","","",{"$f":"IFERROR(VLOOKUP(A383,ObData!$A$2:$I$300,5,0),\"\")","v":0},""]
[{"$f":"IFERROR(INDEX(ObData!$A$2:$A$300,MATCH(1,(Data!M384>=ObData!$H$2:$H$300)*(Data!M384<=ObData!$I$2:$I$300),0)),\"N/A\")","v":""},{"$f":"BehaviorLogEntries!A384","v":0},{"$f":"BehaviorLogEntries!B384","v":0},{"$f":"BehaviorLogEntries!C384","v":0},{"$f":"BehaviorLogEntries!D384","v":0},{"$f":"BehaviorLogEntries!E384","v":0},{"$f":"BehaviorLogEntries!F384","v":0},{"$f":"BehaviorLogEntries!G384","v":0},{"$f":"BehaviorLogEntries!H384","v":0},{"$f":"BehaviorLogEntries!J384","v":0},"","","","","",{"$f":"IFERROR(VLOOKUP(A384,ObData!$A$2:$I$300,5,0),\"\")","v":0},""]
[{"$f":"IFERROR(INDEX(ObData!$A$2:$A$300,MATCH(1,(Data!M385>=ObData!$H$2:$H$300)*(Data!M385<=ObData!$I$2:$I$300),0)),\"N/A\")","v":""},{"$f":"BehaviorLogEntries!A385","v":0},{"$f":"BehaviorLogEntries!B385","v":0},{"$f":"BehaviorLogEntries!C385","v":0},{"$f":"BehaviorLogEntries!D385","v":0},{"$f":"BehaviorLogEntries!E385","v":0},{"$f":"BehaviorLogEntries!F385","v":0},{"$f":"BehaviorLogEntries!G385","v":0},{"$f":"BehaviorLogEntries!H385","v":0},{"$f":"BehaviorLogEntries!J385","v":0},"","","","","",{"$f":"IFERROR(VLOOKUP(A385,ObData!$A$2:$I$300,5,0),\"\")","v":0},""]
[{"$f":"IFERROR(INDEX(ObData!$A$2:$A$300,MATCH(1,(Data!M386>=ObData!$H$2:$H$300)*(Data!M386<=ObData!$I$2:$I$300),0)),\"N/A\")","v":""},{"$f":"BehaviorLogEntries!A386","v":0},{"$f":"BehaviorLogEntries!B386","v":0},{"$f":"BehaviorLogEntries!C386","v":0},{"$f":"BehaviorLogEntries!D386","v":0},{"$f":"BehaviorLogEntries!E386","v":0},{"$f":"BehaviorLogEntries!F386","v":0},{"$f":"BehaviorLogEntries!G386","v":0},{"$f":"BehaviorLogEntries!H386","v":0},{"$f":"BehaviorLogEntries!J386","v":0},"","","","","",{"$f":"IFERROR(VLOOKUP(A386,ObData!$A$2:$I$300,5,0),\"\")","v":0},""]
[{"$f":"IFERROR(INDEX(ObData!$A$2:$A$300,MATCH(1,(Data!M387>=ObData!$H$2:$H$300)*(Data!M387<=ObData!$I$2:$I$300),0)),\"N/A\")","v":""},{"$f":"BehaviorLogEntries!A387","v":0},{"$f":"BehaviorLogEntries!B387","v":0},{"$f":"BehaviorLogEntries!C387","v":0},{"$f":"BehaviorLogEntries!D387","v":0},{"$f":"BehaviorLogEntries!E387","v":0},{"$f":"BehaviorLogEntries!F387","v":0},{"$f":"BehaviorLogEntries!G387","v":0},{"$f":"BehaviorLogEntries!H387","v":0},{"$f":"BehaviorLogEntries!J387","v":0},{"$f":"IF(F387<>0,IF(K387=\"\",NOW(),K387),\"\")","v":""},{"$f":"IFERROR(IF(J387<>0,J387,DATE(YEAR(K387),MONTH(K387),DAY(K387))),\"\")","v":""},{"$f":"IF(B387=0,\"\",L387+F387)","v":""},{"$f":"IFERROR(IF(G387=\"Yes\",F387+0.00069444,IF(H387<>0,H387,IF(DATE(YEAR(K387),MONTH(K387),DAY(K387))<>DATE(YEAR(L387),MONTH(L387),DAY(L387)),F387+0.00069444,K387-DATE(YEAR(K387),MONTH(K387),DAY(K387))))),\"\")","v":""},{"$f":"IF(B387=0,\"\",L387+N387)","v":""},{"$f":"IFERROR(VLOOKUP(A387,ObData!$A$2:$I$300,5,0),\"\")","v":0},{"$f":"IF(F387=0,\"\",N387-F387)","v":""}]
[{"$f":"IFERROR(INDEX(ObData!$A$2:$A$300,MATCH(1,(Data!M388>=ObData!$H$2:$H$300)*(Data!M388<=ObData!$I$2:$I$300),0)),\"N/A\")","v":""},{"$f":"BehaviorLogEntries!A388","v":0},{"$f":"BehaviorLogEntries!B388","v":0},{"$f":"BehaviorLogEntries!C388","v":0},{"$f":"BehaviorLogEntries!D388","v":0},{"$f":"BehaviorLogEntries!E388","v":0},{"$f":"BehaviorLogEntries!F388","v":0},{"$f":"BehaviorLogEntries!G388","v":0},{"$f":"BehaviorLogEntries!H388","v":0},{"$f":"BehaviorLogEntries!J388","v":0},"","","","","",{"$f":"IFERROR(VLOOKUP(A388,ObData!$A$2:$I$300,5,0),\"\")","v":0},""]
[{"$f":"IFERROR(INDEX(ObData!$A$2:$A$300,MATCH(1,(Data!M389>=ObData!$H$2:$H$300)*(Data!M389<=ObData!$I$2:$I$300),0)),\"N/A\")","v":""},{"$f":"BehaviorLogEntries!A389","v":0},{"$f":"BehaviorLogEntries!B389","v":0},{"$f":"BehaviorLogEntries!C389","v":0},{"$f":"BehaviorLogEntries!D389","v":0},{"$f":"BehaviorLogEntries!E389","v":0},{"$f":"BehaviorLogEntries!F389","v":0},{"$f":"BehaviorLogEntries!G389","v":0},{"$f":"BehaviorLogEntries!H389","v":0},{"$f":"BehaviorLogEntries!J389","v":0},"","","","","",{"$f":"IFERROR(VLOOKUP(A389,ObData!$A$2:$I$300,5,0),\"\")","v":0},""]
[{"$f":"IFERROR(INDEX(ObData!$A$2:$A$300,MATCH(1,(Data!M390>=ObData!$H$2:$H$300)*(Data!M390<=ObData!$I$2:$I$300),0)),\"N/A\")","v":""},{"$f":"BehaviorLogEntries!A390","v":0},{"$f":"BehaviorLogEntries!B390","v":0},{"$f":"BehaviorLogEntries!C390","v":0},{"$f":"BehaviorLogEntries!D390","v":0},{"$f":"BehaviorLogEntries!E390","v":0},{"$f":"BehaviorLogEntries!F390","v":0},{"$f":"BehaviorLogEntries!G390","v":0},{"$f":"BehaviorLogEntries!H390","v":0},{"$f":"BehaviorLogEntries!J390","v":0},"","","","","",{"$f":"IFERROR(VLOOKUP(A390,ObData!$A$2:$I$300,5,0),\"\")","v":0},""]
[{"$f":"IFERROR(INDEX(ObData!$A$2:$A$300,MATCH(1,(Data!M391>=ObData!$H$2:$H$300)*(Data!M391<=ObData!$I$2:$I$300),0)),\"N/A\")","v":""},{"$f":"BehaviorLogEntries!A391","v":0},{"$f":"BehaviorLogEntries!B391","v":0},{"$f":"BehaviorLogEntries!C391","v":0},{"$f":"BehaviorLogEntries!D391","v":0},{"$f":"BehaviorLogEntries!E391","v":0},{"$f":"BehaviorLogEntries!F391","v":0},{"$f":"BehaviorLogEntries!G391","v":0},{"$f":"BehaviorLogEntries!H391","v":0},{"$f":"BehaviorLogEntries!J391","v":0},"","","","","",{"$f":"IFERROR(VLOOKUP(A391,ObData!$A$2:$I$300,5,0),\"\")","v":0},""]
[{"$f":"IFERROR(INDEX(ObData!$A$2:$A$300,MATCH(1,(Data!M392>=ObData!$H$2:$H$300)*(Data!M392<=ObData!$I$2:$I$300),0)),\"N/A\")","v":""},{"$f":"BehaviorLogEntries!A392","v":0},{"$f":"BehaviorLogEntries!B392","v":0},{"$f":"BehaviorLogEntries!C392","v":0},{"$f":"BehaviorLogEntries!D392","v":0},{"$f":"BehaviorLogEntries!E392","v":0},{"$f":"BehaviorLogEntries!F392","v":0},{"$f":"BehaviorLogEntries!G392","v":0},{"$f":"BehaviorLogEntries!H392","v":0},{"$f":"BehaviorLogEntries!J392","v":0},"","","","","",{"$f":"IFERROR(VLOOKUP(A392,ObData!$A$2:$I$300,5,0),\"\")","v":0},""]
[{"$f":"IFERROR(INDEX(ObData!$A$2:$A$300,MATCH(1,(Data!M393>=ObData!$H$2:$H$300)*(Data!M393<=ObData!$I$2:$I$300),0)),\"N/A\")","v":""},{"$f":"BehaviorLogEntries!A393","v":0},{"$f":"BehaviorLogEntries!B393","v":0},{"$f":"BehaviorLogEntries!C393","v":0},{"$f":"BehaviorLogEntries!D393","v":0},{"$f":"BehaviorLogEntries!E393","v":0},{"$f":"BehaviorLogEntries!F393","v":0},{"$f":"BehaviorLogEntries!G393","v":0},{"$f":"BehaviorLogEntries!H393","v":0},{"$f":"BehaviorLogEntries!J393","v":0},"","","","","",{"$f":"IFERROR(VLOOKUP(A393,ObData!$A$2:$I$300,5,0),\"\")","v":0},""]
[{"$f":"IFERROR(INDEX(ObData!$A$2:$A$300,MATCH(1,(Data!M394>=ObData!$H$2:$H$300)*(Data!M394<=ObData!$I$2:$I$300),0)),\"N/A\")","v":""},{"$f":"BehaviorLogEntries!A394","v":0},{"$f":"BehaviorLogEntries!B394","v":0},{"$f":"BehaviorLogEntries!C394","v":0},{"$f":"BehaviorLogEntries!D394","v":0},{"$f":"BehaviorLogEntries!E394","v":0},{"$f":"BehaviorLogEntries!F394","v":0},{"$f":"BehaviorLogEntries!G394","v":0},{"$f":"BehaviorLogEntries!H394","v":0},{"$f":"BehaviorLogEntries!J394","v":0},"","","","","",{"$f":"IFERROR(VLOOKUP(A394,ObData!$A$2:$I$300,5,0),\"\")","v":0},""]
[{"$f":"IFERROR(INDEX(ObData!$A$2:$A$300,MATCH(1,(Data!M395>=ObData!$H$2:$H$300)*(Data!M395<=ObData!$I$2:$I$300),0)),\"N/A\")","v":""},{"$f":"BehaviorLogEntries!A395","v":0},{"$f":"BehaviorLogEntries!B395","v":0},{"$f":"BehaviorLogEntries!C395","v":0},{"$f":"BehaviorLogEntries!D395","v":0},{"$f":"BehaviorLogEntries!E395","v":0},{"$f":"BehaviorLogEntries!F395","v":0},{"$f":"BehaviorLogEntries!G395","v":0},{"$f":"BehaviorLogEntries!H395","v":0},{"$f":"BehaviorLogEntries!J395","v":0},"","","","","",{"$f":"IFERROR(VLOOKUP(A395,ObData!$A$2:$I$300,5,0),\"\")","v":0},""]
[{"$f":"IFERROR(INDEX(ObData!$A$2:$A$300,MATCH(1,(Data!M396>=ObData!$H$2:$H$300)*(Data!M396<=ObData!$I$2:$I$300),0)),\"N/A\")","v":""},{"$f":"BehaviorLogEntries!A396","v":0},{"$f":"BehaviorLogEntries!B396","v":0},{"$f":"BehaviorLogEntries!C396","v":0},{"$f":"BehaviorLogEntries!D396","v":0},{"$f":"BehaviorLogEntries!E396","v":0},{"$f":"BehaviorLogEntries!F396","v":0},{"$f":"BehaviorLogEntries!G396","v":0},{"$f":"BehaviorLogEntries!H396","v":0},{"$f":"BehaviorLogEntries!J396","v":0},"","","","","",{"$f":"IFERROR(VLOOKUP(A396,ObData!$A$2:$I$300,5,0),\"\")","v":0},""]
[{"$f":"IFERROR(INDEX(ObData!$A$2:$A$300,MATCH(1,(Data!M397>=ObData!$H$2:$H$300)*(Data!M397<=ObData!$I$2:$I$300),0)),\"N/A\")","v":""},{"$f":"BehaviorLogEntries!A397","v":0},{"$f":"BehaviorLogEntries!B397","v":0},{"$f":"BehaviorLogEntries!C397","v":0},{"$f":"BehaviorLogEntries!D397","v":0},{"$f":"BehaviorLogEntries!E397","v":0},{"$f":"BehaviorLogEntries!F397","v":0},{"$f":"BehaviorLogEntries!G397","v":0},{"$f":"BehaviorLogEntries!H397","v":0},{"$f":"BehaviorLogEntries!J397","v":0},"","","","","",{"$f":"IFERROR(VLOOKUP(A397,ObData!$A$2:$I$300,5,0),\"\")","v":0},""]
[{"$f":"IFERROR(INDEX(ObData!$A$2:$A$300,MATCH(1,(Data!M398>=ObData!$H$2:$H$300)*(Data!M398<=ObData!$I$2:$I$300),0)),\"N/A\")","v":""},{"$f":"BehaviorLogEntries!A398","v":0},{"$f":"BehaviorLogEntries!B398","v":0},{"$f":"BehaviorLogEntries!C398","v":0},{"$f":"BehaviorLogEntries!D398","v":0},{"$f":"BehaviorLogEntries!E398","v":0},{"$f":"BehaviorLogEntries!F398","v":0},{"$f":"BehaviorLogEntries!G398","v":0},{"$f":"BehaviorLogEntries!H398","v":0},{"$f":"BehaviorLogEntries!J398","v":0},"","","","","",{"$f":"IFERROR(VLOOKUP(A398,ObData!$A$2:$I$300,5,0),\"\")","v":0},""]
[{"$f":"IFERROR(INDEX(ObData!$A$2:$A$300,MATCH(1,(Data!M399>=ObData!$H$2:$H$300)*(Data!M399<=ObData!$I$2:$I$300),0)),\"N/A\")","v":""},{"$f":"BehaviorLogEntries!A399","v":0},{"$f":"BehaviorLogEntries!B399","v":0},{"$f":"BehaviorLogEntries!C399","v":0},{"$f":"BehaviorLogEntries!D399","v":0},{"$f":"BehaviorLogEntries!E399","v":0},{"$f":"BehaviorLogEntries!F399","v":0},{"$f":"BehaviorLogEntries!G399","v":0},{"$f":"BehaviorLogEntries!H399","v":0},{"$f":"BehaviorLogEntries!J399","v":0},"","","","","",{"$f":"IFERROR(VLOOKUP(A399,ObData!$A$2:$I$300,5,0),\"\")","v":0},""]
[{"$f":"IFERROR(INDEX(ObData!$A$2:$A$300,MATCH(1,(Data!M400>=ObData!$H$2:$H$300)*(Data!M400<=ObData!$I$2:$I$300),0)),\"N/A\")","v":""},{"$f":"BehaviorLogEntries!A400","v":0},{"$f":"BehaviorLogEntries!B400","v":0},{"$f":"BehaviorLogEntries!C400","v":0},{"$f":"BehaviorLogEntries!D400","v":0},{"$f":"BehaviorLogEntries!E400","v":0},{"$f":"BehaviorLogEntries!F400","v":0},{"$f":"BehaviorLogEntries!G400","v":0},{"$f":"BehaviorLogEntries!H400","v":0},{"$f":"BehaviorLogEntries!J400","v":0},"","","","","",{"$f":"IFERROR(VLOOKUP(A400,ObData!$A$2:$I$300,5,0),\"\")","v":0},""]
[{"$f":"IFERROR(INDEX(ObData!$A$2:$A$300,MATCH(1,(Data!M401>=ObData!$H$2:$H$300)*(Data!M401<=ObData!$I$2:$I$300),0)),\"N/A\")","v":""},{"$f":"BehaviorLogEntries!A401","v":0},{"$f":"BehaviorLogEntries!B401","v":0},{"$f":"BehaviorLogEntries!C401","v":0},{"$f":"BehaviorLogEntries!D401","v":0},{"$f":"BehaviorLogEntries!E401","v":0},{"$f":"BehaviorLogEntries!F401","v":0},{"$f":"BehaviorLogEntries!G401","v":0},{"$f":"BehaviorLogEntries!H401","v":0},{"$f":"BehaviorLogEntries!J401","v":0},"","","","","",{"$f":"IFERROR(VLOOKUP(A401,ObData!$A$2:$I$300,5,0),\"\")","v":0},""]
[{"$f":"IFERROR(INDEX(ObData!$A$2:$A$300,MATCH(1,(Data!M402>=ObData!$H$2:$H$300)*(Data!M402<=ObData!$I$2:$I$300),0)),\"N/A\")","v":""},{"$f":"BehaviorLogEntries!A402","v":0},{"$f":"BehaviorLogEntries!B402","v":0},{"$f":"BehaviorLogEntries!C402","v":0},{"$f":"BehaviorLogEntries!D402","v":0},{"$f":"BehaviorLogEntries!E402","v":0},{"$f":"BehaviorLogEntries!F402","v":0},{"$f":"BehaviorLogEntries!G402","v":0},{"$f":"BehaviorLogEntries!H402","v":0},{"$f":"BehaviorLogEntries!J402","v":0},"","","","","",{"$f":"IFERROR(VLOOKUP(A402,ObData!$A$2:$I$300,5,0),\"\")","v":0},""]
[{"$f":"IFERROR(INDEX(ObData!$A$2:$A$300,MATCH(1,(Data!M403>=ObData!$H$2:$H$300)*(Data!M403<=ObData!$I$2:$I$300),0)),\"N/A\")","v":""},{"$f":"BehaviorLogEntries!A403","v":0},{"$f":"BehaviorLogEntries!B403","v":0},{"$f":"BehaviorLogEntries!C403","v":0},{"$f":"BehaviorLogEntries!D403","v":0},{"$f":"BehaviorLogEntries!E403","v":0},{"$f":"BehaviorLogEntries!F403","v":0},{"$f":"BehaviorLogEntries!G403","v":0},{"$f":"BehaviorLogEntries!H403","v":0},{"$f":"BehaviorLogEntries!J403","v":0},"","","","","",{"$f":"IFERROR(VLOOKUP(A403,ObData!$A$2:$I$300,5,0),\"\")","v":0},""]
[{"$f":"IFERROR(INDEX(ObData!$A$2:$A$300,MATCH(1,(Data!M404>=ObData!$H$2:$H$300)*(Data!M404<=ObData!$I$2:$I$300),0)),\"N/A\")","v":""},{"$f":"BehaviorLogEntries!A404","v":0},{"$f":"BehaviorLogEntries!B404","v":0},{"$f":"BehaviorLogEntries!C404","v":0},{"$f":"BehaviorLogEntries!D404","v":0},{"$f":"BehaviorLogEntries!E404","v":0},{"$f":"BehaviorLogEntries!F404","v":0},{"$f":"BehaviorLogEntries!G404","v":0},{"$f":"BehaviorLogEntries!H404","v":0},{"$f":"BehaviorLogEntries!J404","v":0},"","","","","",{"$f":"IFERROR(VLOOKUP(A404,ObData!$A$2:$I$300,5,0),\"\")","v":0},""]
[{"$f":"IFERROR(INDEX(ObData!$A$2:$A$300,MATCH(1,(Data!M405>=ObData!$H$2:$H$300)*(Data!M405<=ObData!$I$2:$I$300),0)),\"N/A\")","v":""},{"$f":"BehaviorLogEntries!A405","v":0},{"$f":"BehaviorLogEntries!B405","v":0},{"$f":"BehaviorLogEntries!C405","v":0},{"$f":"BehaviorLogEntries!D405","v":0},{"$f":"BehaviorLogEntries!E405","v":0},{"$f":"BehaviorLogEntries!F405","v":0},{"$f":"BehaviorLogEntries!G405","v":0},{"$f":"BehaviorLogEntries!H405","v":0},{"$f":"BehaviorLogEntries!J405","v":0},"","","","","",{"$f":"IFERROR(VLOOKUP(A405,ObData!$A$2:$I$300,5,0),\"\")","v":0},""]
[{"$f":"IFERROR(INDEX(ObData!$A$2:$A$300,MATCH(1,(Data!M406>=ObData!$H$2:$H$300)*(Data!M406<=ObData!$I$2:$I$300),0)),\"N/A\")","v":""},{"$f":"BehaviorLogEntries!A406","v":0},{"$f":"BehaviorLogEntries!B406","v":0},{"$f":"BehaviorLogEntries!C406","v":0},{"$f":"BehaviorLogEntries!D406","v":0},{"$f":"BehaviorLogEntries!E406","v":0},{"$f":"BehaviorLogEntries!F406","v":0},{"$f":"BehaviorLogEntries!G406","v":0},{"$f":"BehaviorLogEntries!H406","v":0},{"$f":"BehaviorLogEntries!J406","v":0},"","","","","",{"$f":"IFERROR(VLOOKUP(A406,ObData!$A$2:$I$300,5,0),\"\")","v":0},""]
[{"$f":"IFERROR(INDEX(ObData!$A$2:$A$300,MATCH(1,(Data!M407>=ObData!$H$2:$H$300)*(Data!M407<=ObData!$I$2:$I$300),0)),\"N/A\")","v":""},{"$f":"BehaviorLogEntries!A407","v":0},{"$f":"BehaviorLogEntries!B407","v":0},{"$f":"BehaviorLogEntries!C407","v":0},{"$f":"BehaviorLogEntries!D407","v":0},{"$f":"BehaviorLogEntries!E407","v":0},{"$f":"BehaviorLogEntries!F407","v":0},{"$f":"BehaviorLogEntries!G407","v":0},{"$f":"BehaviorLogEntries!H407","v":0},{"$f":"BehaviorLogEntries!J407","v":0},"","","","","",{"$f":"IFERROR(VLOOKUP(A407,ObData!$A$2:$I$300,5,0),\"\")","v":0},""]
[{"$f":"IFERROR(INDEX(ObData!$A$2:$A$300,MATCH(1,(Data!M408>=ObData!$H$2:$H$300)*(Data!M408<=ObData!$I$2:$I$300),0)),\"N/A\")","v":""},{"$f":"BehaviorLogEntries!A408","v":0},{"$f":"BehaviorLogEntries!B408","v":0},{"$f":"BehaviorLogEntries!C408","v":0},{"$f":"BehaviorLogEntries!D408","v":0},{"$f":"BehaviorLogEntries!E408","v":0},{"$f":"BehaviorLogEntries!F408","v":0},{"$f":"BehaviorLogEntries!G408","v":0},{"$f":"BehaviorLogEntries!H408","v":0},{"$f":"BehaviorLogEntries!J408","v":0},"","","","","",{"$f":"IFERROR(VLOOKUP(A408,ObData!$A$2:$I$300,5,0),\"\")","v":0},""]
[{"$f":"IFERROR(INDEX(ObData!$A$2:$A$300,MATCH(1,(Data!M409>=ObData!$H$2:$H$300)*(Data!M409<=ObData!$I$2:$I$300),0)),\"N/A\")","v":""},{"$f":"BehaviorLogEntries!A409","v":0},{"$f":"BehaviorLogEntries!B409","v":0},{"$f":"BehaviorLogEntries!C409","v":0},{"$f":"BehaviorLogEntries!D409","v":0},{"$f":"BehaviorLogEntries!E409","v":0},{"$f":"BehaviorLogEntries!F409","v":0},{"$f":"BehaviorLogEntries!G409","v":0},{"$f":"BehaviorLogEntries!H409","v":0},{"$f":"BehaviorLogEntries!J409","v":0},"","","","","",{"$f":"IFERROR(VLOOKUP(A409,ObData!$A$2:$I$300,5,0),\"\")","v":0},""]
[{"$f":"IFERROR(INDEX(ObData!$A$2:$A$300,MATCH(1,(Data!M410>=ObData!$H$2:$H$300)*(Data!M410<=ObData!$I$2:$I$300),0)),\"N/A\")","v":""},{"$f":"BehaviorLogEntries!A410","v":0},{"$f":"BehaviorLogEntries!B410","v":0},{"$f":"BehaviorLogEntries!C410","v":0},{"$f":"BehaviorLogEntries!D410","v":0},{"$f":"BehaviorLogEntries!E410","v":0},{"$f":"BehaviorLogEntries!F410","v":0},{"$f":"BehaviorLogEntries!G410","v":0},{"$f":"BehaviorLogEntries!H410","v":0},{"$f":"BehaviorLogEntries!J410","v":0},"","","","","",{"$f":"IFERROR(VLOOKUP(A410,ObData!$A$2:$I$300,5,0),\"\")","v":0},""]
[{"$f":"IFERROR(INDEX(ObData!$A$2:$A$300,MATCH(1,(Data!M411>=ObData!$H$2:$H$300)*(Data!M411<=ObData!$I$2:$I$300),0)),\"N/A\")","v":""},{"$f":"BehaviorLogEntries!A411","v":0},{"$f":"BehaviorLogEntries!B411","v":0},{"$f":"BehaviorLogEntries!C411","v":0},{"$f":"BehaviorLogEntries!D411","v":0},{"$f":"BehaviorLogEntries!E411","v":0},{"$f":"BehaviorLogEntries!F411","v":0},{"$f":"BehaviorLogEntries!G411","v":0},{"$f":"BehaviorLogEntries!H411","v":0},{"$f":"BehaviorLogEntries!J411","v":0},"","","","","",{"$f":"IFERROR(VLOOKUP(A411,ObData!$A$2:$I$300,5,0),\"\")","v":0},""]
[{"$f":"IFERROR(INDEX(ObData!$A$2:$A$300,MATCH(1,(Data!M412>=ObData!$H$2:$H$300)*(Data!M412<=ObData!$I$2:$I$300),0)),\"N/A\")","v":""},{"$f":"BehaviorLogEntries!A412","v":0},{"$f":"BehaviorLogEntries!B412","v":0},{"$f":"BehaviorLogEntries!C412","v":0},{"$f":"BehaviorLogEntries!D412","v":0},{"$f":"BehaviorLogEntries!E412","v":0},{"$f":"BehaviorLogEntries!F412","v":0},{"$f":"BehaviorLogEntries!G412","v":0},{"$f":"BehaviorLogEntries!H412","v":0},{"$f":"BehaviorLogEntries!J412","v":0},"","","","","",{"$f":"IFERROR(VLOOKUP(A412,ObData!$A$2:$I$300,5,0),\"\")","v":0},""]
[{"$f":"IFERROR(INDEX(ObData!$A$2:$A$300,MATCH(1,(Data!M413>=ObData!$H$2:$H$300)*(Data!M413<=ObData!$I$2:$I$300),0)),\"N/A\")","v":""},{"$f":"BehaviorLogEntries!A413","v":0},{"$f":"BehaviorLogEntries!B413","v":0},{"$f":"BehaviorLogEntries!C413","v":0},{"$f":"BehaviorLogEntries!D413","v":0},{"$f":"BehaviorLogEntries!E413","v":0},{"$f":"BehaviorLogEntries!F413","v":0},{"$f":"BehaviorLogEntries!G413","v":0},{"$f":"BehaviorLogEntries!H413","v":0},{"$f":"BehaviorLogEntries!J413","v":0},"","","","","",{"$f":"IFERROR(VLOOKUP(A413,ObData!$A$2:$I$300,5,0),\"\")","v":0},""]
[{"$f":"IFERROR(INDEX(ObData!$A$2:$A$300,MATCH(1,(Data!M414>=ObData!$H$2:$H$300)*(Data!M414<=ObData!$I$2:$I$300),0)),\"N/A\")","v":""},{"$f":"BehaviorLogEntries!A414","v":0},{"$f":"BehaviorLogEntries!B414","v":0},{"$f":"BehaviorLogEntries!C414","v":0},{"$f":"BehaviorLogEntries!D414","v":0},{"$f":"BehaviorLogEntries!E414","v":0},{"$f":"BehaviorLogEntries!F414","v":0},{"$f":"BehaviorLogEntries!G414","v":0},{"$f":"BehaviorLogEntries!H414","v":0},{"$f":"BehaviorLogEntries!J414","v":0},"","","","","",{"$f":"IFERROR(VLOOKUP(A414,ObData!$A$2:$I$300,5,0),\"\")","v":0},""]
[{"$f":"IFERROR(INDEX(ObData!$A$2:$A$300,MATCH(1,(Data!M415>=ObData!$H$2:$H$300)*(Data!M415<=ObData!$I$2:$I$300),0)),\"N/A\")","v":""},{"$f":"BehaviorLogEntries!A415","v":0},{"$f":"BehaviorLogEntries!B415","v":0},{"$f":"BehaviorLogEntries!C415","v":0},{"$f":"BehaviorLogEntries!D415","v":0},{"$f":"BehaviorLogEntries!E415","v":0},{"$f":"BehaviorLogEntries!F415","v":0},{"$f":"BehaviorLogEntries!G415","v":0},{"$f":"BehaviorLogEntries!H415","v":0},{"$f":"BehaviorLogEntries!J415","v":0},"","","","","",{"$f":"IFERROR(VLOOKUP(A415,ObData!$A$2:$I$300,5,0),\"\")","v":0},""]
[{"$f":"IFERROR(INDEX(ObData!$A$2:$A$300,MATCH(1,(Data!M416>=ObData!$H$2:$H$300)*(Data!M416<=ObData!$I$2:$I$300),0)),\"N/A\")","v":""},{"$f":"BehaviorLogEntries!A416","v":0},{"$f":"BehaviorLogEntries!B416","v":0},{"$f":"BehaviorLogEntries!C416","v":0},{"$f":"BehaviorLogEntries!D416","v":0},{"$f":"BehaviorLogEntries!E416","v":0},{"$f":"BehaviorLogEntries!F416","v":0},{"$f":"BehaviorLogEntries!G416","v":0},{"$f":"BehaviorLogEntries!H416","v":0},{"$f":"BehaviorLogEntries!J416","v":0},"","","","","",{"$f":"IFERROR(VLOOKUP(A416,ObData!$A$2:$I$300,5,0),\"\")","v":0},""]
[{"$f":"IFERROR(INDEX(ObData!$A$2:$A$300,MATCH(1,(Data!M417>=ObData!$H$2:$H$300)*(Data!M417<=ObData!$I$2:$I$300),0)),\"N/A\")","v":""},{"$f":"BehaviorLogEntries!A417","v":0},{"$f":"BehaviorLogEntries!B417","v":0},{"$f":"BehaviorLogEntries!C417","v":0},{"$f":"BehaviorLogEntries!D417","v":0},{"$f":"BehaviorLogEntries!E417","v":0},{"$f":"BehaviorLogEntries!F417","v":0},{"$f":"BehaviorLogEntries!G417","v":0},{"$f":"BehaviorLogEntries!H417","v":0},{"$f":"BehaviorLogEntries!J417","v":0},"","","","","",{"$f":"IFERROR(VLOOKUP(A417,ObData!$A$2:$I$300,5,0),\"\")","v":0},""]
[{"$f":"IFERROR(INDEX(ObData!$A$2:$A$300,MATCH(1,(Data!M418>=ObData!$H$2:$H$300)*(Data!M418<=ObData!$I$2:$I$300),0)),\"N/A\")","v":""},{"$f":"BehaviorLogEntries!A418","v":0},{"$f":"BehaviorLogEntries!B418","v":0},{"$f":"BehaviorLogEntries!C418","v":0},{"$f":"BehaviorLogEntries!D418","v":0},{"$f":"BehaviorLogEntries!E418","v":0},{"$f":"BehaviorLogEntries!F418","v":0},{"$f":"BehaviorLogEntries!G418","v":0},{"$f":"BehaviorLogEntries!H418","v":0},{"$f":"BehaviorLogEntries!J418","v":0},"","","","","",{"$f":"IFERROR(VLOOKUP(A418,ObData!$A$2:$I$300,5,0),\"\")","v":0},""]
[{"$f":"IFERROR(INDEX(ObData!$A$2:$A$300,MATCH(1,(Data!M419>=ObData!$H$2:$H$300)*(Data!M419<=ObData!$I$2:$I$300),0)),\"N/A\")","v":""},{"$f":"BehaviorLogEntries!A419","v":0},{"$f":"BehaviorLogEntries!B419","v":0},{"$f":"BehaviorLogEntries!C419","v":0},{"$f":"BehaviorLogEntries!D419","v":0},{"$f":"BehaviorLogEntries!E419","v":0},{"$f":"BehaviorLogEntries!F419","v":0},{"$f":"BehaviorLogEntries!G419","v":0},{"$f":"BehaviorLogEntries!H419","v":0},{"$f":"BehaviorLogEntries!J419","v":0},"","","","","",{"$f":"IFERROR(VLOOKUP(A419,ObData!$A$2:$I$300,5,0),\"\")","v":0},""]
[{"$f":"IFERROR(INDEX(ObData!$A$2:$A$300,MATCH(1,(Data!M420>=ObData!$H$2:$H$300)*(Data!M420<=ObData!$I$2:$I$300),0)),\"N/A\")","v":""},{"$f":"BehaviorLogEntries!A420","v":0},{"$f":"BehaviorLogEntries!B420","v":0},{"$f":"BehaviorLogEntries!C420","v":0},{"$f":"BehaviorLogEntries!D420","v":0},{"$f":"BehaviorLogEntries!E420","v":0},{"$f":"BehaviorLogEntries!F420","v":0},{"$f":"BehaviorLogEntries!G420","v":0},{"$f":"BehaviorLogEntries!H420","v":0},{"$f":"BehaviorLogEntries!J420","v":0},"","","","","",{"$f":"IFERROR(VLOOKUP(A420,ObData!$A$2:$I$300,5,0),\"\")","v":0},""]
[{"$f":"IFERROR(INDEX(ObData!$A$2:$A$300,MATCH(1,(Data!M421>=ObData!$H$2:$H$300)*(Data!M421<=ObData!$I$2:$I$300),0)),\"N/A\")","v":""},{"$f":"BehaviorLogEntries!A421","v":0},{"$f":"BehaviorLogEntries!B421","v":0},{"$f":"BehaviorLogEntries!C421","v":0},{"$f":"BehaviorLogEntries!D421","v":0},{"$f":"BehaviorLogEntries!E421","v":0},{"$f":"BehaviorLogEntries!F421","v":0},{"$f":"BehaviorLogEntries!G421","v":0},{"$f":"BehaviorLogEntries!H421","v":0},{"$f":"BehaviorLogEntries!J421","v":0},"","","","","",{"$f":"IFERROR(VLOOKUP(A421,ObData!$A$2:$I$300,5,0),\"\")","v":0},""]
[{"$f":"IFERROR(INDEX(ObData!$A$2:$A$300,MATCH(1,(Data!M422>=ObData!$H$2:$H$300)*(Data!M422<=ObData!$I$2:$I$300),0)),\"N/A\")","v":""},{"$f":"BehaviorLogEntries!A422","v":0},{"$f":"BehaviorLogEntries!B422","v":0},{"$f":"BehaviorLogEntries!C422","v":0},{"$f":"BehaviorLogEntries!D422","v":0},{"$f":"BehaviorLogEntries!E422","v":0},{"$f":"BehaviorLogEntries!F422","v":0},{"$f":"BehaviorLogEntries!G422","v":0},{"$f":"BehaviorLogEntries!H422","v":0},{"$f":"BehaviorLogEntries!J422","v":0},"","","","","",{"$f":"IFERROR(VLOOKUP(A422,ObData!$A$2:$I$300,5,0),\"\")","v":0},""]
[{"$f":"IFERROR(INDEX(ObData!$A$2:$A$300,MATCH(1,(Data!M423>=ObData!$H$2:$H$300)*(Data!M423<=ObData!$I$2:$I$300),0)),\"N/A\")","v":""},{"$f":"BehaviorLogEntries!A423","v":0},{"$f":"BehaviorLogEntries!B423","v":0},{"$f":"BehaviorLogEntries!C423","v":0},{"$f":"BehaviorLogEntries!D423","v":0},{"$f":"BehaviorLogEntries!E423","v":0},{"$f":"BehaviorLogEntries!F423","v":0},{"$f":"BehaviorLogEntries!G423","v":0},{"$f":"BehaviorLogEntries!H423","v":0},{"$f":"BehaviorLogEntries!J423","v":0},"","","","","",{"$f":"IFERROR(VLOOKUP(A423,ObData!$A$2:$I$300,5,0),\"\")","v":0},""]
[{"$f":"IFERROR(INDEX(ObData!$A$2:$A$300,MATCH(1,(Data!M424>=ObData!$H$2:$H$300)*(Data!M424<=ObData!$I$2:$I$300),0)),\"N/A\")","v":""},{"$f":"BehaviorLogEntries!A424","v":0},{"$f":"BehaviorLogEntries!B424","v":0},{"$f":"BehaviorLogEntries!C424","v":0},{"$f":"BehaviorLogEntries!D424","v":0},{"$f":"BehaviorLogEntries!E424","v":0},{"$f":"BehaviorLogEntries!F424","v":0},{"$f":"BehaviorLogEntries!G424","v":0},{"$f":"BehaviorLogEntries!H424","v":0},{"$f":"BehaviorLogEntries!J424","v":0},"","","","","",{"$f":"IFERROR(VLOOKUP(A424,ObData!$A$2:$I$300,5,0),\"\")","v":0},""]
[{"$f":"IFERROR(INDEX(ObData!$A$2:$A$300,MATCH(1,(Data!M425>=ObData!$H$2:$H$300)*(Data!M425<=ObData!$I$2:$I$300),0)),\"N/A\")","v":""},{"$f":"BehaviorLogEntries!A425","v":0},{"$f":"BehaviorLogEntries!B425","v":0},{"$f":"BehaviorLogEntries!C425","v":0},{"$f":"BehaviorLogEntries!D425","v":0},{"$f":"BehaviorLogEntries!E425","v":0},{"$f":"BehaviorLogEntries!F425","v":0},{"$f":"BehaviorLogEntries!G425","v":0},{"$f":"BehaviorLogEntries!H425","v":0},{"$f":"BehaviorLogEntries!J425","v":0},"","","","","",{"$f":"IFERROR(VLOOKUP(A425,ObData!$A$2:$I$300,5,0),\"\")","v":0},""]
[{"$f":"IFERROR(INDEX(ObData!$A$2:$A$300,MATCH(1,(Data!M426>=ObData!$H$2:$H$300)*(Data!M426<=ObData!$I$2:$I$300),0)),\"N/A\")","v":""},{"$f":"BehaviorLogEntries!A426","v":0},{"$f":"BehaviorLogEntries!B426","v":0},{"$f":"BehaviorLogEntries!C426","v":0},{"$f":"BehaviorLogEntries!D426","v":0},{"$f":"BehaviorLogEntries!E426","v":0},{"$f":"BehaviorLogEntries!F426","v":0},{"$f":"BehaviorLogEntries!G426","v":0},{"$f":"BehaviorLogEntries!H426","v":0},{"$f":"BehaviorLogEntries!J426","v":0},"","","","","",{"$f":"IFERROR(VLOOKUP(A426,ObData!$A$2:$I$300,5,0),\"\")","v":0},""]
[{"$f":"IFERROR(INDEX(ObData!$A$2:$A$300,MATCH(1,(Data!M427>=ObData!$H$2:$H$300)*(Data!M427<=ObData!$I$2:$I$300),0)),\"N/A\")","v":""},{"$f":"BehaviorLogEntries!A427","v":0},{"$f":"BehaviorLogEntries!B427","v":0},{"$f":"BehaviorLogEntries!C427","v":0},{"$f":"BehaviorLogEntries!D427","v":0},{"$f":"BehaviorLogEntries!E427","v":0},{"$f":"BehaviorLogEntries!F427","v":0},{"$f":"BehaviorLogEntries!G427","v":0},{"$f":"BehaviorLogEntries!H427","v":0},{"$f":"BehaviorLogEntries!J427","v":0},"","","","","",{"$f":"IFERROR(VLOOKUP(A427,ObData!$A$2:$I$300,5,0),\"\")","v":0},""]
[{"$f":"IFERROR(INDEX(ObData!$A$2:$A$300,MATCH(1,(Data!M428>=ObData!$H$2:$H$300)*(Data!M428<=ObData!$I$2:$I$300),0)),\"N/A\")","v":""},{"$f":"BehaviorLogEntries!A428","v":0},{"$f":"BehaviorLogEntries!B428","v":0},{"$f":"BehaviorLogEntries!C428","v":0},{"$f":"BehaviorLogEntries!D428","v":0},{"$f":"BehaviorLogEntries!E428","v":0},{"$f":"BehaviorLogEntries!F428","v":0},{"$f":"BehaviorLogEntries!G428","v":0},{"$f":"BehaviorLogEntries!H428","v":0},{"$f":"BehaviorLogEntries!J428","v":0},"","","","","",{"$f":"IFERROR(VLOOKUP(A428,ObData!$A$2:$I$300,5,0),\"\")","v":0},""]
[{"$f":"IFERROR(INDEX(ObData!$A$2:$A$300,MATCH(1,(Data!M429>=ObData!$H$2:$H$300)*(Data!M429<=ObData!$I$2:$I$300),0)),\"N/A\")","v":""},{"$f":"BehaviorLogEntries!A429","v":0},{"$f":"BehaviorLogEntries!B429","v":0},{"$f":"BehaviorLogEntries!C429","v":0},{"$f":"BehaviorLogEntries!D429","v":0},{"$f":"BehaviorLogEntries!E429","v":0},{"$f":"BehaviorLogEntries!F429","v":0},{"$f":"BehaviorLogEntries!G429","v":0},{"$f":"BehaviorLogEntries!H429","v":0},{"$f":"BehaviorLogEntries!J429","v":0},"","","","","",{"$f":"IFERROR(VLOOKUP(A429,ObData!$A$2:$I$300,5,0),\"\")","v":0},""]
[{"$f":"IFERROR(INDEX(ObData!$A$2:$A$300,MATCH(1,(Data!M430>=ObData!$H$2:$H$300)*(Data!M430<=ObData!$I$2:$I$300),0)),\"N/A\")","v":""},{"$f":"BehaviorLogEntries!A430","v":0},{"$f":"BehaviorLogEntries!B430","v":0},{"$f":"BehaviorLogEntries!C430","v":0},{"$f":"BehaviorLogEntries!D430","v":0},{"$f":"BehaviorLogEntries!E430","v":0},{"$f":"BehaviorLogEntries!F430","v":0},{"$f":"BehaviorLogEntries!G430","v":0},{"$f":"BehaviorLogEntries!H430","v":0},{"$f":"BehaviorLogEntries!J430","v":0},"","","","","",{"$f":"IFERROR(VLOOKUP(A430,ObData!$A$2:$I$300,5,0),\"\")","v":0},""]
[{"$f":"IFERROR(INDEX(ObData!$A$2:$A$300,MATCH(1,(Data!M431>=ObData!$H$2:$H$300)*(Data!M431<=ObData!$I$2:$I$300),0)),\"N/A\")","v":""},{"$f":"BehaviorLogEntries!A431","v":0},{"$f":"BehaviorLogEntries!B431","v":0},{"$f":"BehaviorLogEntries!C431","v":0},{"$f":"BehaviorLogEntries!D431","v":0},{"$f":"BehaviorLogEntries!E431","v":0},{"$f":"BehaviorLogEntries!F431","v":0},{"$f":"BehaviorLogEntries!G431","v":0},{"$f":"BehaviorLogEntries!H431","v":0},{"$f":"BehaviorLogEntries!J431","v":0},"","","","","",{"$f":"IFERROR(VLOOKUP(A431,ObData!$A$2:$I$300,5,0),\"\")","v":0},""]
[{"$f":"IFERROR(INDEX(ObData!$A$2:$A$300,MATCH(1,(Data!M432>=ObData!$H$2:$H$300)*(Data!M432<=ObData!$I$2:$I$300),0)),\"N/A\")","v":""},{"$f":"BehaviorLogEntries!A432","v":0},{"$f":"BehaviorLogEntries!B432","v":0},{"$f":"BehaviorLogEntries!C432","v":0},{"$f":"BehaviorLogEntries!D432","v":0},{"$f":"BehaviorLogEntries!E432","v":0},{"$f":"BehaviorLogEntries!F432","v":0},{"$f":"BehaviorLogEntries!G432","v":0},{"$f":"BehaviorLogEntries!H432","v":0},{"$f":"BehaviorLogEntries!J432","v":0},"","","","","",{"$f":"IFERROR(VLOOKUP(A432,ObData!$A$2:$I$300,5,0),\"\")","v":0},""]
[{"$f":"IFERROR(INDEX(ObData!$A$2:$A$300,MATCH(1,(Data!M433>=ObData!$H$2:$H$300)*(Data!M433<=ObData!$I$2:$I$300),0)),\"N/A\")","v":""},{"$f":"BehaviorLogEntries!A433","v":0},{"$f":"BehaviorLogEntries!B433","v":0},{"$f":"BehaviorLogEntries!C433","v":0},{"$f":"BehaviorLogEntries!D433","v":0},{"$f":"BehaviorLogEntries!E433","v":0},{"$f":"BehaviorLogEntries!F433","v":0},{"$f":"BehaviorLogEntries!G433","v":0},{"$f":"BehaviorLogEntries!H433","v":0},{"$f":"BehaviorLogEntries!J433","v":0},"","","","","",{"$f":"IFERROR(VLOOKUP(A433,ObData!$A$2:$I$300,5,0),\"\")","v":0},""]
[{"$f":"IFERROR(INDEX(ObData!$A$2:$A$300,MATCH(1,(Data!M434>=ObData!$H$2:$H$300)*(Data!M434<=ObData!$I$2:$I$300),0)),\"N/A\")","v":""},{"$f":"BehaviorLogEntries!A434","v":0},{"$f":"BehaviorLogEntries!B434","v":0},{"$f":"BehaviorLogEntries!C434","v":0},{"$f":"BehaviorLogEntries!D434","v":0},{"$f":"BehaviorLogEntries!E434","v":0},{"$f":"BehaviorLogEntries!F434","v":0},{"$f":"BehaviorLogEntries!G434","v":0},{"$f":"BehaviorLogEntries!H434","v":0},{"$f":"BehaviorLogEntries!J434","v":0},"","","","","",{"$f":"IFERROR(VLOOKUP(A434,ObData!$A$2:$I$300,5,0),\"\")","v":0},""]
[{"$f":"IFERROR(INDEX(ObData!$A$2:$A$300,MATCH(1,(Data!M435>=ObData!$H$2:$H$300)*(Data!M435<=ObData!$I$2:$I$300),0)),\"N/A\")","v":""},{"$f":"BehaviorLogEntries!A435","v":0},{"$f":"BehaviorLogEntries!B435","v":0},{"$f":"BehaviorLogEntries!C435","v":0},{"$f":"BehaviorLogEntries!D435","v":0},{"$f":"BehaviorLogEntries!E435","v":0},{"$f":"BehaviorLogEntries!F435","v":0},{"$f":"BehaviorLogEntries!G435","v":0},{"$f":"BehaviorLogEntries!H435","v":0},{"$f":"BehaviorLogEntries!J435","v":0},"","","","","",{"$f":"IFERROR(VLOOKUP(A435,ObData!$A$2:$I$300,5,0),\"\")","v":0},""]
[{"$f":"IFERROR(INDEX(ObData!$A$2:$A$300,MATCH(1,(Data!M436>=ObData!$H$2:$H$300)*(Data!M436<=ObData!$I$2:$I$300),0)),\"N/A\")","v":""},{"$f":"BehaviorLogEntries!A436","v":0},{"$f":"BehaviorLogEntries!B436","v":0},{"$f":"BehaviorLogEntries!C436","v":0},{"$f":"BehaviorLogEntries!D436","v":0},{"$f":"BehaviorLogEntries!E436","v":0},{"$f":"BehaviorLogEntries!F436","v":0},{"$f":"BehaviorLogEntries!G436","v":0},{"$f":"BehaviorLogEntries!H436","v":0},{"$f":"BehaviorLogEntries!J436","v":0},"","","","","",{"$f":"IFERROR(VLOOKUP(A436,ObData!$A$2:$I$300,5,0),\"\")","v":0},""]
[{"$f":"IFERROR(INDEX(ObData!$A$2:$A$300,MATCH(1,(Data!M437>=ObData!$H$2:$H$300)*(Data!M437<=ObData!$I$2:$I$300),0)),\"N/A\")","v":""},{"$f":"BehaviorLogEntries!A437","v":0},{"$f":"BehaviorLogEntries!B437","v":0},{"$f":"BehaviorLogEntries!C437","v":0},{"$f":"BehaviorLogEntries!D437","v":0},{"$f":"BehaviorLogEntries!E437","v":0},{"$f":"BehaviorLogEntries!F437","v":0},{"$f":"BehaviorLogEntries!G437","v":0},{"$f":"BehaviorLogEntries!H437","v":0},{"$f":"BehaviorLogEntries!J437","v":0},"","","","","",{"$f":"IFERROR(VLOOKUP(A437,ObData!$A$2:$I$300,5,0),\"\")","v":0},""]
[{"$f":"IFERROR(INDEX(ObData!$A$2:$A$300,MATCH(1,(Data!M438>=ObData!$H$2:$H$300)*(Data!M438<=ObData!$I$2:$I$300),0)),\"N/A\")","v":""},{"$f":"BehaviorLogEntries!A438","v":0},{"$f":"BehaviorLogEntries!B438","v":0},{"$f":"BehaviorLogEntries!C438","v":0},{"$f":"BehaviorLogEntries!D438","v":0},{"$f":"BehaviorLogEntries!E438","v":0},{"$f":"BehaviorLogEntries!F438","v":0},{"$f":"BehaviorLogEntries!G438","v":0},{"$f":"BehaviorLogEntries!H438","v":0},{"$f":"BehaviorLogEntries!J438","v":0},"","","","","",{"$f":"IFERROR(VLOOKUP(A438,ObData!$A$2:$I$300,5,0),\"\")","v":0},""]
[{"$f":"IFERROR(INDEX(ObData!$A$2:$A$300,MATCH(1,(Data!M439>=ObData!$H$2:$H$300)*(Data!M439<=ObData!$I$2:$I$300),0)),\"N/A\")","v":""},{"$f":"BehaviorLogEntries!A439","v":0},{"$f":"BehaviorLogEntries!B439","v":0},{"$f":"BehaviorLogEntries!C439","v":0},{"$f":"BehaviorLogEntries!D439","v":0},{"$f":"BehaviorLogEntries!E439","v":0},{"$f":"BehaviorLogEntries!F439","v":0},{"$f":"BehaviorLogEntries!G439","v":0},{"$f":"BehaviorLogEntries!H439","v":0},{"$f":"BehaviorLogEntries!J439","v":0},"","","","","",{"$f":"IFERROR(VLOOKUP(A439,ObData!$A$2:$I$300,5,0),\"\")","v":0},""]
[{"$f":"IFERROR(INDEX(ObData!$A$2:$A$300,MATCH(1,(Data!M440>=ObData!$H$2:$H$300)*(Data!M440<=ObData!$I$2:$I$300),0)),\"N/A\")","v":""},{"$f":"BehaviorLogEntries!A440","v":0},{"$f":"BehaviorLogEntries!B440","v":0},{"$f":"BehaviorLogEntries!C440","v":0},{"$f":"BehaviorLogEntries!D440","v":0},{"$f":"BehaviorLogEntries!E440","v":0},{"$f":"BehaviorLogEntries!F440","v":0},{"$f":"BehaviorLogEntries!G440","v":0},{"$f":"BehaviorLogEntries!H440","v":0},{"$f":"BehaviorLogEntries!J440","v":0},"","","","","",{"$f":"IFERROR(VLOOKUP(A440,ObData!$A$2:$I$300,5,0),\"\")","v":0},""]
[{"$f":"IFERROR(INDEX(ObData!$A$2:$A$300,MATCH(1,(Data!M441>=ObData!$H$2:$H$300)*(Data!M441<=ObData!$I$2:$I$300),0)),\"N/A\")","v":""},{"$f":"BehaviorLogEntries!A441","v":0},{"$f":"BehaviorLogEntries!B441","v":0},{"$f":"BehaviorLogEntries!C441","v":0},{"$f":"BehaviorLogEntries!D441","v":0},{"$f":"BehaviorLogEntries!E441","v":0},{"$f":"BehaviorLogEntries!F441","v":0},{"$f":"BehaviorLogEntries!G441","v":0},{"$f":"BehaviorLogEntries!H441","v":0},{"$f":"BehaviorLogEntries!J441","v":0},"","","","","",{"$f":"IFERROR(VLOOKUP(A441,ObData!$A$2:$I$300,5,0),\"\")","v":0},""]
[{"$f":"IFERROR(INDEX(ObData!$A$2:$A$300,MATCH(1,(Data!M442>=ObData!$H$2:$H$300)*(Data!M442<=ObData!$I$2:$I$300),0)),\"N/A\")","v":""},{"$f":"BehaviorLogEntries!A442","v":0},{"$f":"BehaviorLogEntries!B442","v":0},{"$f":"BehaviorLogEntries!C442","v":0},{"$f":"BehaviorLogEntries!D442","v":0},{"$f":"BehaviorLogEntries!E442","v":0},{"$f":"BehaviorLogEntries!F442","v":0},{"$f":"BehaviorLogEntries!G442","v":0},{"$f":"BehaviorLogEntries!H442","v":0},{"$f":"BehaviorLogEntries!J442","v":0},"","","","","",{"$f":"IFERROR(VLOOKUP(A442,ObData!$A$2:$I$300,5,0),\"\")","v":0},""]
[{"$f":"IFERROR(INDEX(ObData!$A$2:$A$300,MATCH(1,(Data!M443>=ObData!$H$2:$H$300)*(Data!M443<=ObData!$I$2:$I$300),0)),\"N/A\")","v":""},{"$f":"BehaviorLogEntries!A443","v":0},{"$f":"BehaviorLogEntries!B443","v":0},{"$f":"BehaviorLogEntries!C443","v":0},{"$f":"BehaviorLogEntries!D443","v":0},{"$f":"BehaviorLogEntries!E443","v":0},{"$f":"BehaviorLogEntries!F443","v":0},{"$f":"BehaviorLogEntries!G443","v":0},{"$f":"BehaviorLogEntries!H443","v":0},{"$f":"BehaviorLogEntries!J443","v":0},"","","","","",{"$f":"IFERROR(VLOOKUP(A443,ObData!$A$2:$I$300,5,0),\"\")","v":0},""]
[{"$f":"IFERROR(INDEX(ObData!$A$2:$A$300,MATCH(1,(Data!M444>=ObData!$H$2:$H$300)*(Data!M444<=ObData!$I$2:$I$300),0)),\"N/A\")","v":""},{"$f":"BehaviorLogEntries!A444","v":0},{"$f":"BehaviorLogEntries!B444","v":0},{"$f":"BehaviorLogEntries!C444","v":0},{"$f":"BehaviorLogEntries!D444","v":0},{"$f":"BehaviorLogEntries!E444","v":0},{"$f":"BehaviorLogEntries!F444","v":0},{"$f":"BehaviorLogEntries!G444","v":0},{"$f":"BehaviorLogEntries!H444","v":0},{"$f":"BehaviorLogEntries!J444","v":0},"","","","","",{"$f":"IFERROR(VLOOKUP(A444,ObData!$A$2:$I$300,5,0),\"\")","v":0},""]
[{"$f":"IFERROR(INDEX(ObData!$A$2:$A$300,MATCH(1,(Data!M445>=ObData!$H$2:$H$300)*(Data!M445<=ObData!$I$2:$I$300),0)),\"N/A\")","v":""},{"$f":"BehaviorLogEntries!A445","v":0},{"$f":"BehaviorLogEntries!B445","v":0},{"$f":"BehaviorLogEntries!C445","v":0},{"$f":"BehaviorLogEntries!D445","v":0},{"$f":"BehaviorLogEntries!E445","v":0},{"$f":"BehaviorLogEntries!F445","v":0},{"$f":"BehaviorLogEntries!G445","v":0},{"$f":"BehaviorLogEntries!H445","v":0},{"$f":"BehaviorLogEntries!J445","v":0},"","","","","",{"$f":"IFERROR(VLOOKUP(A445,ObData!$A$2:$I$300,5,0),\"\")","v":0},""]
[{"$f":"IFERROR(INDEX(ObData!$A$2:$A$300,MATCH(1,(Data!M446>=ObData!$H$2:$H$300)*(Data!M446<=ObData!$I$2:$I$300),0)),\"N/A\")","v":""},{"$f":"BehaviorLogEntries!A446","v":0},{"$f":"BehaviorLogEntries!B446","v":0},{"$f":"BehaviorLogEntries!C446","v":0},{"$f":"BehaviorLogEntries!D446","v":0},{"$f":"BehaviorLogEntries!E446","v":0},{"$f":"BehaviorLogEntries!F446","v":0},{"$f":"BehaviorLogEntries!G446","v":0},{"$f":"BehaviorLogEntries!H446","v":0},{"$f":"BehaviorLogEntries!J446","v":0},"","","","","",{"$f":"IFERROR(VLOOKUP(A446,ObData!$A$2:$I$300,5,0),\"\")","v":0},""]
[{"$f":"IFERROR(INDEX(ObData!$A$2:$A$300,MATCH(1,(Data!M447>=ObData!$H$2:$H$300)*(Data!M447<=ObData!$I$2:$I$300),0)),\"N/A\")","v":""},{"$f":"BehaviorLogEntries!A447","v":0},{"$f":"BehaviorLogEntries!B447","v":0},{"$f":"BehaviorLogEntries!C447","v":0},{"$f":"BehaviorLogEntries!D447","v":0},{"$f":"BehaviorLogEntries!E447","v":0},{"$f":"BehaviorLogEntries!F447","v":0},{"$f":"BehaviorLogEntries!G447","v":0},{"$f":"BehaviorLogEntries!H447","v":0},{"$f":"BehaviorLogEntries!J447","v":0},"","","","","",{"$f":"IFERROR(VLOOKUP(A447,ObData!$A$2:$I$300,5,0),\"\")","v":0},""]
[{"$f":"IFERROR(INDEX(ObData!$A$2:$A$300,MATCH(1,(Data!M448>=ObData!$H$2:$H$300)*(Data!M448<=ObData!$I$2:$I$300),0)),\"N/A\")","v":""},{"$f":"BehaviorLogEntries!A448","v":0},{"$f":"BehaviorLogEntries!B448","v":0},{"$f":"BehaviorLogEntries!C448","v":0},{"$f":"BehaviorLogEntries!D448","v":0},{"$f":"BehaviorLogEntries!E448","v":0},{"$f":"BehaviorLogEntries!F448","v":0},{"$f":"BehaviorLogEntries!G448","v":0},{"$f":"BehaviorLogEntries!H448","v":0},{"$f":"BehaviorLogEntries!J448","v":0},"","","","","",{"$f":"IFERROR(VLOOKUP(A448,ObData!$A$2:$I$300,5,0),\"\")","v":0},""]
[{"$f":"IFERROR(INDEX(ObData!$A$2:$A$300,MATCH(1,(Data!M449>=ObData!$H$2:$H$300)*(Data!M449<=ObData!$I$2:$I$300),0)),\"N/A\")","v":""},{"$f":"BehaviorLogEntries!A449","v":0},{"$f":"BehaviorLogEntries!B449","v":0},{"$f":"BehaviorLogEntries!C449","v":0},{"$f":"BehaviorLogEntries!D449","v":0},{"$f":"BehaviorLogEntries!E449","v":0},{"$f":"BehaviorLogEntries!F449","v":0},{"$f":"BehaviorLogEntries!G449","v":0},{"$f":"BehaviorLogEntries!H449","v":0},{"$f":"BehaviorLogEntries!J449","v":0},"","","","","",{"$f":"IFERROR(VLOOKUP(A449,ObData!$A$2:$I$300,5,0),\"\")","v":0},""]
[{"$f":"IFERROR(INDEX(ObData!$A$2:$A$300,MATCH(1,(Data!M450>=ObData!$H$2:$H$300)*(Data!M450<=ObData!$I$2:$I$300),0)),\"N/A\")","v":""},{"$f":"BehaviorLogEntries!A450","v":0},{"$f":"BehaviorLogEntries!B450","v":0},{"$f":"BehaviorLogEntries!C450","v":0},{"$f":"BehaviorLogEntries!D450","v":0},{"$f":"BehaviorLogEntries!E450","v":0},{"$f":"BehaviorLogEntries!F450","v":0},{"$f":"BehaviorLogEntries!G450","v":0},{"$f":"BehaviorLogEntries!H450","v":0},{"$f":"BehaviorLogEntries!J450","v":0},"","","","","",{"$f":"IFERROR(VLOOKUP(A450,ObData!$A$2:$I$300,5,0),\"\")","v":0},""]
[{"$f":"IFERROR(INDEX(ObData!$A$2:$A$300,MATCH(1,(Data!M451>=ObData!$H$2:$H$300)*(Data!M451<=ObData!$I$2:$I$300),0)),\"N/A\")","v":""},{"$f":"BehaviorLogEntries!A451","v":0},{"$f":"BehaviorLogEntries!B451","v":0},{"$f":"BehaviorLogEntries!C451","v":0},{"$f":"BehaviorLogEntries!D451","v":0},{"$f":"BehaviorLogEntries!E451","v":0},{"$f":"BehaviorLogEntries!F451","v":0},{"$f":"BehaviorLogEntries!G451","v":0},{"$f":"BehaviorLogEntries!H451","v":0},{"$f":"BehaviorLogEntries!J451","v":0},{"$f":"IF(F451<>0,IF(K451=\"\",NOW(),K451),\"\")","v":""},{"$f":"IFERROR(IF(J451<>0,J451,DATE(YEAR(K451),MONTH(K451),DAY(K451))),\"\")","v":""},{"$f":"IF(B451=0,\"\",L451+F451)","v":""},{"$f":"IFERROR(IF(G451=\"Yes\",F451+0.00069444,IF(H451<>0,H451,IF(DATE(YEAR(K451),MONTH(K451),DAY(K451))<>DATE(YEAR(L451),MONTH(L451),DAY(L451)),F451+0.00069444,K451-DATE(YEAR(K451),MONTH(K451),DAY(K451))))),\"\")","v":""},{"$f":"IF(B451=0,\"\",L451+N451)","v":""},{"$f":"IFERROR(VLOOKUP(A451,ObData!$A$2:$I$300,5,0),\"\")","v":0},{"$f":"IF(F451=0,\"\",N451-F451)","v":""}]
[{"$f":"IFERROR(INDEX(ObData!$A$2:$A$300,MATCH(1,(Data!M452>=ObData!$H$2:$H$300)*(Data!M452<=ObData!$I$2:$I$300),0)),\"N/A\")","v":""},{"$f":"BehaviorLogEntries!A452","v":0},{"$f":"BehaviorLogEntries!B452","v":0},{"$f":"BehaviorLogEntries!C452","v":0},{"$f":"BehaviorLogEntries!D452","v":0},{"$f":"BehaviorLogEntries!E452","v":0},{"$f":"BehaviorLogEntries!F452","v":0},{"$f":"BehaviorLogEntries!G452","v":0},{"$f":"BehaviorLogEntries!H452","v":0},{"$f":"BehaviorLogEntries!J452","v":0},"","","","","",{"$f":"IFERROR(VLOOKUP(A452,ObData!$A$2:$I$300,5,0),\"\")","v":0},""]
[{"$f":"IFERROR(INDEX(ObData!$A$2:$A$300,MATCH(1,(Data!M453>=ObData!$H$2:$H$300)*(Data!M453<=ObData!$I$2:$I$300),0)),\"N/A\")","v":""},{"$f":"BehaviorLogEntries!A453","v":0},{"$f":"BehaviorLogEntries!B453","v":0},{"$f":"BehaviorLogEntries!C453","v":0},{"$f":"BehaviorLogEntries!D453","v":0},{"$f":"BehaviorLogEntries!E453","v":0},{"$f":"BehaviorLogEntries!F453","v":0},{"$f":"BehaviorLogEntries!G453","v":0},{"$f":"BehaviorLogEntries!H453","v":0},{"$f":"BehaviorLogEntries!J453","v":0},"","","","","",{"$f":"IFERROR(VLOOKUP(A453,ObData!$A$2:$I$300,5,0),\"\")","v":0},""]
[{"$f":"IFERROR(INDEX(ObData!$A$2:$A$300,MATCH(1,(Data!M454>=ObData!$H$2:$H$300)*(Data!M454<=ObData!$I$2:$I$300),0)),\"N/A\")","v":""},{"$f":"BehaviorLogEntries!A454","v":0},{"$f":"BehaviorLogEntries!B454","v":0},{"$f":"BehaviorLogEntries!C454","v":0},{"$f":"BehaviorLogEntries!D454","v":0},{"$f":"BehaviorLogEntries!E454","v":0},{"$f":"BehaviorLogEntries!F454","v":0},{"$f":"BehaviorLogEntries!G454","v":0},{"$f":"BehaviorLogEntries!H454","v":0},{"$f":"BehaviorLogEntries!J454","v":0},"","","","","",{"$f":"IFERROR(VLOOKUP(A454,ObData!$A$2:$I$300,5,0),\"\")","v":0},""]
[{"$f":"IFERROR(INDEX(ObData!$A$2:$A$300,MATCH(1,(Data!M455>=ObData!$H$2:$H$300)*(Data!M455<=ObData!$I$2:$I$300),0)),\"N/A\")","v":""},{"$f":"BehaviorLogEntries!A455","v":0},{"$f":"BehaviorLogEntries!B455","v":0},{"$f":"BehaviorLogEntries!C455","v":0},{"$f":"BehaviorLogEntries!D455","v":0},{"$f":"BehaviorLogEntries!E455","v":0},{"$f":"BehaviorLogEntries!F455","v":0},{"$f":"BehaviorLogEntries!G455","v":0},{"$f":"BehaviorLogEntries!H455","v":0},{"$f":"BehaviorLogEntries!J455","v":0},"","","","","",{"$f":"IFERROR(VLOOKUP(A455,ObData!$A$2:$I$300,5,0),\"\")","v":0},""]
[{"$f":"IFERROR(INDEX(ObData!$A$2:$A$300,MATCH(1,(Data!M456>=ObData!$H$2:$H$300)*(Data!M456<=ObData!$I$2:$I$300),0)),\"N/A\")","v":""},{"$f":"BehaviorLogEntries!A456","v":0},{"$f":"BehaviorLogEntries!B456","v":0},{"$f":"BehaviorLogEntries!C456","v":0},{"$f":"BehaviorLogEntries!D456","v":0},{"$f":"BehaviorLogEntries!E456","v":0},{"$f":"BehaviorLogEntries!F456","v":0},{"$f":"BehaviorLogEntries!G456","v":0},{"$f":"BehaviorLogEntries!H456","v":0},{"$f":"BehaviorLogEntries!J456","v":0},"","","","","",{"$f":"IFERROR(VLOOKUP(A456,ObData!$A$2:$I$300,5,0),\"\")","v":0},""]
[{"$f":"IFERROR(INDEX(ObData!$A$2:$A$300,MATCH(1,(Data!M457>=ObData!$H$2:$H$300)*(Data!M457<=ObData!$I$2:$I$300),0)),\"N/A\")","v":""},{"$f":"BehaviorLogEntries!A457","v":0},{"$f":"BehaviorLogEntries!B457","v":0},{"$f":"BehaviorLogEntries!C457","v":0},{"$f":"BehaviorLogEntries!D457","v":0},{"$f":"BehaviorLogEntries!E457","v":0},{"$f":"BehaviorLogEntries!F457","v":0},{"$f":"BehaviorLogEntries!G457","v":0},{"$f":"BehaviorLogEntries!H457","v":0},{"$f":"BehaviorLogEntries!J457","v":0},"","","","","",{"$f":"IFERROR(VLOOKUP(A457,ObData!$A$2:$I$300,5,0),\"\")","v":0},""]
[{"$f":"IFERROR(INDEX(ObData!$A$2:$A$300,MATCH(1,(Data!M458>=ObData!$H$2:$H$300)*(Data!M458<=ObData!$I$2:$I$300),0)),\"N/A\")","v":""},{"$f":"BehaviorLogEntries!A458","v":0},{"$f":"BehaviorLogEntries!B458","v":0},{"$f":"BehaviorLogEntries!C458","v":0},{"$f":"BehaviorLogEntries!D458","v":0},{"$f":"BehaviorLogEntries!E458","v":0},{"$f":"BehaviorLogEntries!F458","v":0},{"$f":"BehaviorLogEntries!G458","v":0},{"$f":"BehaviorLogEntries!H458","v":0},{"$f":"BehaviorLogEntries!J458","v":0},"","","","","",{"$f":"IFERROR(VLOOKUP(A458,ObData!$A$2:$I$300,5,0),\"\")","v":0},""]
[{"$f":"IFERROR(INDEX(ObData!$A$2:$A$300,MATCH(1,(Data!M459>=ObData!$H$2:$H$300)*(Data!M459<=ObData!$I$2:$I$300),0)),\"N/A\")","v":""},{"$f":"BehaviorLogEntries!A459","v":0},{"$f":"BehaviorLogEntries!B459","v":0},{"$f":"BehaviorLogEntries!C459","v":0},{"$f":"BehaviorLogEntries!D459","v":0},{"$f":"BehaviorLogEntries!E459","v":0},{"$f":"BehaviorLogEntries!F459","v":0},{"$f":"BehaviorLogEntries!G459","v":0},{"$f":"BehaviorLogEntries!H459","v":0},{"$f":"BehaviorLogEntries!J459","v":0},"","","","","",{"$f":"IFERROR(VLOOKUP(A459,ObData!$A$2:$I$300,5,0),\"\")","v":0},""]
[{"$f":"IFERROR(INDEX(ObData!$A$2:$A$300,MATCH(1,(Data!M460>=ObData!$H$2:$H$300)*(Data!M460<=ObData!$I$2:$I$300),0)),\"N/A\")","v":""},{"$f":"BehaviorLogEntries!A460","v":0},{"$f":"BehaviorLogEntries!B460","v":0},{"$f":"BehaviorLogEntries!C460","v":0},{"$f":"BehaviorLogEntries!D460","v":0},{"$f":"BehaviorLogEntries!E460","v":0},{"$f":"BehaviorLogEntries!F460","v":0},{"$f":"BehaviorLogEntries!G460","v":0},{"$f":"BehaviorLogEntries!H460","v":0},{"$f":"BehaviorLogEntries!J460","v":0},"","","","","",{"$f":"IFERROR(VLOOKUP(A460,ObData!$A$2:$I$300,5,0),\"\")","v":0},""]
[{"$f":"IFERROR(INDEX(ObData!$A$2:$A$300,MATCH(1,(Data!M461>=ObData!$H$2:$H$300)*(Data!M461<=ObData!$I$2:$I$300),0)),\"N/A\")","v":""},{"$f":"BehaviorLogEntries!A461","v":0},{"$f":"BehaviorLogEntries!B461","v":0},{"$f":"BehaviorLogEntries!C461","v":0},{"$f":"BehaviorLogEntries!D461","v":0},{"$f":"BehaviorLogEntries!E461","v":0},{"$f":"BehaviorLogEntries!F461","v":0},{"$f":"BehaviorLogEntries!G461","v":0},{"$f":"BehaviorLogEntries!H461","v":0},{"$f":"BehaviorLogEntries!J461","v":0},"","","","","",{"$f":"IFERROR(VLOOKUP(A461,ObData!$A$2:$I$300,5,0),\"\")","v":0},""]
[{"$f":"IFERROR(INDEX(ObData!$A$2:$A$300,MATCH(1,(Data!M462>=ObData!$H$2:$H$300)*(Data!M462<=ObData!$I$2:$I$300),0)),\"N/A\")","v":""},{"$f":"BehaviorLogEntries!A462","v":0},{"$f":"BehaviorLogEntries!B462","v":0},{"$f":"BehaviorLogEntries!C462","v":0},{"$f":"BehaviorLogEntries!D462","v":0},{"$f":"BehaviorLogEntries!E462","v":0},{"$f":"BehaviorLogEntries!F462","v":0},{"$f":"BehaviorLogEntries!G462","v":0},{"$f":"BehaviorLogEntries!H462","v":0},{"$f":"BehaviorLogEntries!J462","v":0},"","","","","",{"$f":"IFERROR(VLOOKUP(A462,ObData!$A$2:$I$300,5,0),\"\")","v":0},""]
[{"$f":"IFERROR(INDEX(ObData!$A$2:$A$300,MATCH(1,(Data!M463>=ObData!$H$2:$H$300)*(Data!M463<=ObData!$I$2:$I$300),0)),\"N/A\")","v":""},{"$f":"BehaviorLogEntries!A463","v":0},{"$f":"BehaviorLogEntries!B463","v":0},{"$f":"BehaviorLogEntries!C463","v":0},{"$f":"BehaviorLogEntries!D463","v":0},{"$f":"BehaviorLogEntries!E463","v":0},{"$f":"BehaviorLogEntries!F463","v":0},{"$f":"BehaviorLogEntries!G463","v":0},{"$f":"BehaviorLogEntries!H463","v":0},{"$f":"BehaviorLogEntries!J463","v":0},"","","","","",{"$f":"IFERROR(VLOOKUP(A463,ObData!$A$2:$I$300,5,0),\"\")","v":0},""]
[{"$f":"IFERROR(INDEX(ObData!$A$2:$A$300,MATCH(1,(Data!M464>=ObData!$H$2:$H$300)*(Data!M464<=ObData!$I$2:$I$300),0)),\"N/A\")","v":""},{"$f":"BehaviorLogEntries!A464","v":0},{"$f":"BehaviorLogEntries!B464","v":0},{"$f":"BehaviorLogEntries!C464","v":0},{"$f":"BehaviorLogEntries!D464","v":0},{"$f":"BehaviorLogEntries!E464","v":0},{"$f":"BehaviorLogEntries!F464","v":0},{"$f":"BehaviorLogEntries!G464","v":0},{"$f":"BehaviorLogEntries!H464","v":0},{"$f":"BehaviorLogEntries!J464","v":0},"","","","","",{"$f":"IFERROR(VLOOKUP(A464,ObData!$A$2:$I$300,5,0),\"\")","v":0},""]
[{"$f":"IFERROR(INDEX(ObData!$A$2:$A$300,MATCH(1,(Data!M465>=ObData!$H$2:$H$300)*(Data!M465<=ObData!$I$2:$I$300),0)),\"N/A\")","v":""},{"$f":"BehaviorLogEntries!A465","v":0},{"$f":"BehaviorLogEntries!B465","v":0},{"$f":"BehaviorLogEntries!C465","v":0},{"$f":"BehaviorLogEntries!D465","v":0},{"$f":"BehaviorLogEntries!E465","v":0},{"$f":"BehaviorLogEntries!F465","v":0},{"$f":"BehaviorLogEntries!G465","v":0},{"$f":"BehaviorLogEntries!H465","v":0},{"$f":"BehaviorLogEntries!J465","v":0},"","","","","",{"$f":"IFERROR(VLOOKUP(A465,ObData!$A$2:$I$300,5,0),\"\")","v":0},""]
[{"$f":"IFERROR(INDEX(ObData!$A$2:$A$300,MATCH(1,(Data!M466>=ObData!$H$2:$H$300)*(Data!M466<=ObData!$I$2:$I$300),0)),\"N/A\")","v":""},{"$f":"BehaviorLogEntries!A466","v":0},{"$f":"BehaviorLogEntries!B466","v":0},{"$f":"BehaviorLogEntries!C466","v":0},{"$f":"BehaviorLogEntries!D466","v":0},{"$f":"BehaviorLogEntries!E466","v":0},{"$f":"BehaviorLogEntries!F466","v":0},{"$f":"BehaviorLogEntries!G466","v":0},{"$f":"BehaviorLogEntries!H466","v":0},{"$f":"BehaviorLogEntries!J466","v":0},"","","","","",{"$f":"IFERROR(VLOOKUP(A466,ObData!$A$2:$I$300,5,0),\"\")","v":0},""]
[{"$f":"IFERROR(INDEX(ObData!$A$2:$A$300,MATCH(1,(Data!M467>=ObData!$H$2:$H$300)*(Data!M467<=ObData!$I$2:$I$300),0)),\"N/A\")","v":""},{"$f":"BehaviorLogEntries!A467","v":0},{"$f":"BehaviorLogEntries!B467","v":0},{"$f":"BehaviorLogEntries!C467","v":0},{"$f":"BehaviorLogEntries!D467","v":0},{"$f":"BehaviorLogEntries!E467","v":0},{"$f":"BehaviorLogEntries!F467","v":0},{"$f":"BehaviorLogEntries!G467","v":0},{"$f":"BehaviorLogEntries!H467","v":0},{"$f":"BehaviorLogEntries!J467","v":0},"","","","","",{"$f":"IFERROR(VLOOKUP(A467,ObData!$A$2:$I$300,5,0),\"\")","v":0},""]
[{"$f":"IFERROR(INDEX(ObData!$A$2:$A$300,MATCH(1,(Data!M468>=ObData!$H$2:$H$300)*(Data!M468<=ObData!$I$2:$I$300),0)),\"N/A\")","v":""},{"$f":"BehaviorLogEntries!A468","v":0},{"$f":"BehaviorLogEntries!B468","v":0},{"$f":"BehaviorLogEntries!C468","v":0},{"$f":"BehaviorLogEntries!D468","v":0},{"$f":"BehaviorLogEntries!E468","v":0},{"$f":"BehaviorLogEntries!F468","v":0},{"$f":"BehaviorLogEntries!G468","v":0},{"$f":"BehaviorLogEntries!H468","v":0},{"$f":"BehaviorLogEntries!J468","v":0},"","","","","",{"$f":"IFERROR(VLOOKUP(A468,ObData!$A$2:$I$300,5,0),\"\")","v":0},""]
[{"$f":"IFERROR(INDEX(ObData!$A$2:$A$300,MATCH(1,(Data!M469>=ObData!$H$2:$H$300)*(Data!M469<=ObData!$I$2:$I$300),0)),\"N/A\")","v":""},{"$f":"BehaviorLogEntries!A469","v":0},{"$f":"BehaviorLogEntries!B469","v":0},{"$f":"BehaviorLogEntries!C469","v":0},{"$f":"BehaviorLogEntries!D469","v":0},{"$f":"BehaviorLogEntries!E469","v":0},{"$f":"BehaviorLogEntries!F469","v":0},{"$f":"BehaviorLogEntries!G469","v":0},{"$f":"BehaviorLogEntries!H469","v":0},{"$f":"BehaviorLogEntries!J469","v":0},"","","","","",{"$f":"IFERROR(VLOOKUP(A469,ObData!$A$2:$I$300,5,0),\"\")","v":0},""]
[{"$f":"IFERROR(INDEX(ObData!$A$2:$A$300,MATCH(1,(Data!M470>=ObData!$H$2:$H$300)*(Data!M470<=ObData!$I$2:$I$300),0)),\"N/A\")","v":""},{"$f":"BehaviorLogEntries!A470","v":0},{"$f":"BehaviorLogEntries!B470","v":0},{"$f":"BehaviorLogEntries!C470","v":0},{"$f":"BehaviorLogEntries!D470","v":0},{"$f":"BehaviorLogEntries!E470","v":0},{"$f":"BehaviorLogEntries!F470","v":0},{"$f":"BehaviorLogEntries!G470","v":0},{"$f":"BehaviorLogEntries!H470","v":0},{"$f":"BehaviorLogEntries!J470","v":0},"","","","","",{"$f":"IFERROR(VLOOKUP(A470,ObData!$A$2:$I$300,5,0),\"\")","v":0},""]
[{"$f":"IFERROR(INDEX(ObData!$A$2:$A$300,MATCH(1,(Data!M471>=ObData!$H$2:$H$300)*(Data!M471<=ObData!$I$2:$I$300),0)),\"N/A\")","v":""},{"$f":"BehaviorLogEntries!A471","v":0},{"$f":"BehaviorLogEntries!B471","v":0},{"$f":"BehaviorLogEntries!C471","v":0},{"$f":"BehaviorLogEntries!D471","v":0},{"$f":"BehaviorLogEntries!E471","v":0},{"$f":"BehaviorLogEntries!F471","v":0},{"$f":"BehaviorLogEntries!G471","v":0},{"$f":"BehaviorLogEntries!H471","v":0},{"$f":"BehaviorLogEntries!J471","v":0},"","","","","",{"$f":"IFERROR(VLOOKUP(A471,ObData!$A$2:$I$300,5,0),\"\")","v":0},""]
[{"$f":"IFERROR(INDEX(ObData!$A$2:$A$300,MATCH(1,(Data!M472>=ObData!$H$2:$H$300)*(Data!M472<=ObData!$I$2:$I$300),0)),\"N/A\")","v":""},{"$f":"BehaviorLogEntries!A472","v":0},{"$f":"BehaviorLogEntries!B472","v":0},{"$f":"BehaviorLogEntries!C472","v":0},{"$f":"BehaviorLogEntries!D472","v":0},{"$f":"BehaviorLogEntries!E472","v":0},{"$f":"BehaviorLogEntries!F472","v":0},{"$f":"BehaviorLogEntries!G472","v":0},{"$f":"BehaviorLogEntries!H472","v":0},{"$f":"BehaviorLogEntries!J472","v":0},"","","","","",{"$f":"IFERROR(VLOOKUP(A472,ObData!$A$2:$I$300,5,0),\"\")","v":0},""]
[{"$f":"IFERROR(INDEX(ObData!$A$2:$A$300,MATCH(1,(Data!M473>=ObData!$H$2:$H$300)*(Data!M473<=ObData!$I$2:$I$300),0)),\"N/A\")","v":""},{"$f":"BehaviorLogEntries!A473","v":0},{"$f":"BehaviorLogEntries!B473","v":0},{"$f":"BehaviorLogEntries!C473","v":0},{"$f":"BehaviorLogEntries!D473","v":0},{"$f":"BehaviorLogEntries!E473","v":0},{"$f":"BehaviorLogEntries!F473","v":0},{"$f":"BehaviorLogEntries!G473","v":0},{"$f":"BehaviorLogEntries!H473","v":0},{"$f":"BehaviorLogEntries!J473","v":0},"","","","","",{"$f":"IFERROR(VLOOKUP(A473,ObData!$A$2:$I$300,5,0),\"\")","v":0},""]
[{"$f":"IFERROR(INDEX(ObData!$A$2:$A$300,MATCH(1,(Data!M474>=ObData!$H$2:$H$300)*(Data!M474<=ObData!$I$2:$I$300),0)),\"N/A\")","v":""},{"$f":"BehaviorLogEntries!A474","v":0},{"$f":"BehaviorLogEntries!B474","v":0},{"$f":"BehaviorLogEntries!C474","v":0},{"$f":"BehaviorLogEntries!D474","v":0},{"$f":"BehaviorLogEntries!E474","v":0},{"$f":"BehaviorLogEntries!F474","v":0},{"$f":"BehaviorLogEntries!G474","v":0},{"$f":"BehaviorLogEntries!H474","v":0},{"$f":"BehaviorLogEntries!J474","v":0},"","","","","",{"$f":"IFERROR(VLOOKUP(A474,ObData!$A$2:$I$300,5,0),\"\")","v":0},""]
[{"$f":"IFERROR(INDEX(ObData!$A$2:$A$300,MATCH(1,(Data!M475>=ObData!$H$2:$H$300)*(Data!M475<=ObData!$I$2:$I$300),0)),\"N/A\")","v":""},{"$f":"BehaviorLogEntries!A475","v":0},{"$f":"BehaviorLogEntries!B475","v":0},{"$f":"BehaviorLogEntries!C475","v":0},{"$f":"BehaviorLogEntries!D475","v":0},{"$f":"BehaviorLogEntries!E475","v":0},{"$f":"BehaviorLogEntries!F475","v":0},{"$f":"BehaviorLogEntries!G475","v":0},{"$f":"BehaviorLogEntries!H475","v":0},{"$f":"BehaviorLogEntries!J475","v":0},"","","","","",{"$f":"IFERROR(VLOOKUP(A475,ObData!$A$2:$I$300,5,0),\"\")","v":0},""]
[{"$f":"IFERROR(INDEX(ObData!$A$2:$A$300,MATCH(1,(Data!M476>=ObData!$H$2:$H$300)*(Data!M476<=ObData!$I$2:$I$300),0)),\"N/A\")","v":""},{"$f":"BehaviorLogEntries!A476","v":0},{"$f":"BehaviorLogEntries!B476","v":0},{"$f":"BehaviorLogEntries!C476","v":0},{"$f":"BehaviorLogEntries!D476","v":0},{"$f":"BehaviorLogEntries!E476","v":0},{"$f":"BehaviorLogEntries!F476","v":0},{"$f":"BehaviorLogEntries!G476","v":0},{"$f":"BehaviorLogEntries!H476","v":0},{"$f":"BehaviorLogEntries!J476","v":0},"","","","","",{"$f":"IFERROR(VLOOKUP(A476,ObData!$A$2:$I$300,5,0),\"\")","v":0},""]
[{"$f":"IFERROR(INDEX(ObData!$A$2:$A$300,MATCH(1,(Data!M477>=ObData!$H$2:$H$300)*(Data!M477<=ObData!$I$2:$I$300),0)),\"N/A\")","v":""},{"$f":"BehaviorLogEntries!A477","v":0},{"$f":"BehaviorLogEntries!B477","v":0},{"$f":"BehaviorLogEntries!C477","v":0},{"$f":"BehaviorLogEntries!D477","v":0},{"$f":"BehaviorLogEntries!E477","v":0},{"$f":"BehaviorLogEntries!F477","v":0},{"$f":"BehaviorLogEntries!G477","v":0},{"$f":"BehaviorLogEntries!H477","v":0},{"$f":"BehaviorLogEntries!J477","v":0},"","","","","",{"$f":"IFERROR(VLOOKUP(A477,ObData!$A$2:$I$300,5,0),\"\")","v":0},""]
[{"$f":"IFERROR(INDEX(ObData!$A$2:$A$300,MATCH(1,(Data!M478>=ObData!$H$2:$H$300)*(Data!M478<=ObData!$I$2:$I$300),0)),\"N/A\")","v":""},{"$f":"BehaviorLogEntries!A478","v":0},{"$f":"BehaviorLogEntries!B478","v":0},{"$f":"BehaviorLogEntries!C478","v":0},{"$f":"BehaviorLogEntries!D478","v":0},{"$f":"BehaviorLogEntries!E478","v":0},{"$f":"BehaviorLogEntries!F478","v":0},{"$f":"BehaviorLogEntries!G478","v":0},{"$f":"BehaviorLogEntries!H478","v":0},{"$f":"BehaviorLogEntries!J478","v":0},"","","","","",{"$f":"IFERROR(VLOOKUP(A478,ObData!$A$2:$I$300,5,0),\"\")","v":0},""]
[{"$f":"IFERROR(INDEX(ObData!$A$2:$A$300,MATCH(1,(Data!M479>=ObData!$H$2:$H$300)*(Data!M479<=ObData!$I$2:$I$300),0)),\"N/A\")","v":""},{"$f":"BehaviorLogEntries!A479","v":0},{"$f":"BehaviorLogEntries!B479","v":0},{"$f":"BehaviorLogEntries!C479","v":0},{"$f":"BehaviorLogEntries!D479","v":0},{"$f":"BehaviorLogEntries!E479","v":0},{"$f":"BehaviorLogEntries!F479","v":0},{"$f":"BehaviorLogEntries!G479","v":0},{"$f":"BehaviorLogEntries!H479","v":0},{"$f":"BehaviorLogEntries!J479","v":0},"","","","","",{"$f":"IFERROR(VLOOKUP(A479,ObData!$A$2:$I$300,5,0),\"\")","v":0},""]
[{"$f":"IFERROR(INDEX(ObData!$A$2:$A$300,MATCH(1,(Data!M480>=ObData!$H$2:$H$300)*(Data!M480<=ObData!$I$2:$I$300),0)),\"N/A\")","v":""},{"$f":"BehaviorLogEntries!A480","v":0},{"$f":"BehaviorLogEntries!B480","v":0},{"$f":"BehaviorLogEntries!C480","v":0},{"$f":"BehaviorLogEntries!D480","v":0},{"$f":"BehaviorLogEntries!E480","v":0},{"$f":"BehaviorLogEntries!F480","v":0},{"$f":"BehaviorLogEntries!G480","v":0},{"$f":"BehaviorLogEntries!H480","v":0},{"$f":"BehaviorLogEntries!J480","v":0},"","","","","",{"$f":"IFERROR(VLOOKUP(A480,ObData!$A$2:$I$300,5,0),\"\")","v":0},""]
[{"$f":"IFERROR(INDEX(ObData!$A$2:$A$300,MATCH(1,(Data!M481>=ObData!$H$2:$H$300)*(Data!M481<=ObData!$I$2:$I$300),0)),\"N/A\")","v":""},{"$f":"BehaviorLogEntries!A481","v":0},{"$f":"BehaviorLogEntries!B481","v":0},{"$f":"BehaviorLogEntries!C481","v":0},{"$f":"BehaviorLogEntries!D481","v":0},{"$f":"BehaviorLogEntries!E481","v":0},{"$f":"BehaviorLogEntries!F481","v":0},{"$f":"BehaviorLogEntries!G481","v":0},{"$f":"BehaviorLogEntries!H481","v":0},{"$f":"BehaviorLogEntries!J481","v":0},"","","","","",{"$f":"IFERROR(VLOOKUP(A481,ObData!$A$2:$I$300,5,0),\"\")","v":0},""]
[{"$f":"IFERROR(INDEX(ObData!$A$2:$A$300,MATCH(1,(Data!M482>=ObData!$H$2:$H$300)*(Data!M482<=ObData!$I$2:$I$300),0)),\"N/A\")","v":""},{"$f":"BehaviorLogEntries!A482","v":0},{"$f":"BehaviorLogEntries!B482","v":0},{"$f":"BehaviorLogEntries!C482","v":0},{"$f":"BehaviorLogEntries!D482","v":0},{"$f":"BehaviorLogEntries!E482","v":0},{"$f":"BehaviorLogEntries!F482","v":0},{"$f":"BehaviorLogEntries!G482","v":0},{"$f":"BehaviorLogEntries!H482","v":0},{"$f":"BehaviorLogEntries!J482","v":0},"","","","","",{"$f":"IFERROR(VLOOKUP(A482,ObData!$A$2:$I$300,5,0),\"\")","v":0},""]
[{"$f":"IFERROR(INDEX(ObData!$A$2:$A$300,MATCH(1,(Data!M483>=ObData!$H$2:$H$300)*(Data!M483<=ObData!$I$2:$I$300),0)),\"N/A\")","v":""},{"$f":"BehaviorLogEntries!A483","v":0},{"$f":"BehaviorLogEntries!B483","v":0},{"$f":"BehaviorLogEntries!C483","v":0},{"$f":"BehaviorLogEntries!D483","v":0},{"$f":"BehaviorLogEntries!E483","v":0},{"$f":"BehaviorLogEntries!F483","v":0},{"$f":"BehaviorLogEntries!G483","v":0},{"$f":"BehaviorLogEntries!H483","v":0},{"$f":"BehaviorLogEntries!J483","v":0},"","","","","",{"$f":"IFERROR(VLOOKUP(A483,ObData!$A$2:$I$300,5,0),\"\")","v":0},""]
[{"$f":"IFERROR(INDEX(ObData!$A$2:$A$300,MATCH(1,(Data!M484>=ObData!$H$2:$H$300)*(Data!M484<=ObData!$I$2:$I$300),0)),\"N/A\")","v":""},{"$f":"BehaviorLogEntries!A484","v":0},{"$f":"BehaviorLogEntries!B484","v":0},{"$f":"BehaviorLogEntries!C484","v":0},{"$f":"BehaviorLogEntries!D484","v":0},{"$f":"BehaviorLogEntries!E484","v":0},{"$f":"BehaviorLogEntries!F484","v":0},{"$f":"BehaviorLogEntries!G484","v":0},{"$f":"BehaviorLogEntries!H484","v":0},{"$f":"BehaviorLogEntries!J484","v":0},"","","","","",{"$f":"IFERROR(VLOOKUP(A484,ObData!$A$2:$I$300,5,0),\"\")","v":0},""]
[{"$f":"IFERROR(INDEX(ObData!$A$2:$A$300,MATCH(1,(Data!M485>=ObData!$H$2:$H$300)*(Data!M485<=ObData!$I$2:$I$300),0)),\"N/A\")","v":""},{"$f":"BehaviorLogEntries!A485","v":0},{"$f":"BehaviorLogEntries!B485","v":0},{"$f":"BehaviorLogEntries!C485","v":0},{"$f":"BehaviorLogEntries!D485","v":0},{"$f":"BehaviorLogEntries!E485","v":0},{"$f":"BehaviorLogEntries!F485","v":0},{"$f":"BehaviorLogEntries!G485","v":0},{"$f":"BehaviorLogEntries!H485","v":0},{"$f":"BehaviorLogEntries!J485","v":0},"","","","","",{"$f":"IFERROR(VLOOKUP(A485,ObData!$A$2:$I$300,5,0),\"\")","v":0},""]
[{"$f":"IFERROR(INDEX(ObData!$A$2:$A$300,MATCH(1,(Data!M486>=ObData!$H$2:$H$300)*(Data!M486<=ObData!$I$2:$I$300),0)),\"N/A\")","v":""},{"$f":"BehaviorLogEntries!A486","v":0},{"$f":"BehaviorLogEntries!B486","v":0},{"$f":"BehaviorLogEntries!C486","v":0},{"$f":"BehaviorLogEntries!D486","v":0},{"$f":"BehaviorLogEntries!E486","v":0},{"$f":"BehaviorLogEntries!F486","v":0},{"$f":"BehaviorLogEntries!G486","v":0},{"$f":"BehaviorLogEntries!H486","v":0},{"$f":"BehaviorLogEntries!J486","v":0},"","","","","",{"$f":"IFERROR(VLOOKUP(A486,ObData!$A$2:$I$300,5,0),\"\")","v":0},""]
[{"$f":"IFERROR(INDEX(ObData!$A$2:$A$300,MATCH(1,(Data!M487>=ObData!$H$2:$H$300)*(Data!M487<=ObData!$I$2:$I$300),0)),\"N/A\")","v":""},{"$f":"BehaviorLogEntries!A487","v":0},{"$f":"BehaviorLogEntries!B487","v":0},{"$f":"BehaviorLogEntries!C487","v":0},{"$f":"BehaviorLogEntries!D487","v":0},{"$f":"BehaviorLogEntries!E487","v":0},{"$f":"BehaviorLogEntries!F487","v":0},{"$f":"BehaviorLogEntries!G487","v":0},{"$f":"BehaviorLogEntries!H487","v":0},{"$f":"BehaviorLogEntries!J487","v":0},"","","","","",{"$f":"IFERROR(VLOOKUP(A487,ObData!$A$2:$I$300,5,0),\"\")","v":0},""]
[{"$f":"IFERROR(INDEX(ObData!$A$2:$A$300,MATCH(1,(Data!M488>=ObData!$H$2:$H$300)*(Data!M488<=ObData!$I$2:$I$300),0)),\"N/A\")","v":""},{"$f":"BehaviorLogEntries!A488","v":0},{"$f":"BehaviorLogEntries!B488","v":0},{"$f":"BehaviorLogEntries!C488","v":0},{"$f":"BehaviorLogEntries!D488","v":0},{"$f":"BehaviorLogEntries!E488","v":0},{"$f":"BehaviorLogEntries!F488","v":0},{"$f":"BehaviorLogEntries!G488","v":0},{"$f":"BehaviorLogEntries!H488","v":0},{"$f":"BehaviorLogEntries!J488","v":0},"","","","","",{"$f":"IFERROR(VLOOKUP(A488,ObData!$A$2:$I$300,5,0),\"\")","v":0},""]
[{"$f":"IFERROR(INDEX(ObData!$A$2:$A$300,MATCH(1,(Data!M489>=ObData!$H$2:$H$300)*(Data!M489<=ObData!$I$2:$I$300),0)),\"N/A\")","v":""},{"$f":"BehaviorLogEntries!A489","v":0},{"$f":"BehaviorLogEntries!B489","v":0},{"$f":"BehaviorLogEntries!C489","v":0},{"$f":"BehaviorLogEntries!D489","v":0},{"$f":"BehaviorLogEntries!E489","v":0},{"$f":"BehaviorLogEntries!F489","v":0},{"$f":"BehaviorLogEntries!G489","v":0},{"$f":"BehaviorLogEntries!H489","v":0},{"$f":"BehaviorLogEntries!J489","v":0},"","","","","",{"$f":"IFERROR(VLOOKUP(A489,ObData!$A$2:$I$300,5,0),\"\")","v":0},""]
[{"$f":"IFERROR(INDEX(ObData!$A$2:$A$300,MATCH(1,(Data!M490>=ObData!$H$2:$H$300)*(Data!M490<=ObData!$I$2:$I$300),0)),\"N/A\")","v":""},{"$f":"BehaviorLogEntries!A490","v":0},{"$f":"BehaviorLogEntries!B490","v":0},{"$f":"BehaviorLogEntries!C490","v":0},{"$f":"BehaviorLogEntries!D490","v":0},{"$f":"BehaviorLogEntries!E490","v":0},{"$f":"BehaviorLogEntries!F490","v":0},{"$f":"BehaviorLogEntries!G490","v":0},{"$f":"BehaviorLogEntries!H490","v":0},{"$f":"BehaviorLogEntries!J490","v":0},"","","","","",{"$f":"IFERROR(VLOOKUP(A490,ObData!$A$2:$I$300,5,0),\"\")","v":0},""]
[{"$f":"IFERROR(INDEX(ObData!$A$2:$A$300,MATCH(1,(Data!M491>=ObData!$H$2:$H$300)*(Data!M491<=ObData!$I$2:$I$300),0)),\"N/A\")","v":""},{"$f":"BehaviorLogEntries!A491","v":0},{"$f":"BehaviorLogEntries!B491","v":0},{"$f":"BehaviorLogEntries!C491","v":0},{"$f":"BehaviorLogEntries!D491","v":0},{"$f":"BehaviorLogEntries!E491","v":0},{"$f":"BehaviorLogEntries!F491","v":0},{"$f":"BehaviorLogEntries!G491","v":0},{"$f":"BehaviorLogEntries!H491","v":0},{"$f":"BehaviorLogEntries!J491","v":0},"","","","","",{"$f":"IFERROR(VLOOKUP(A491,ObData!$A$2:$I$300,5,0),\"\")","v":0},""]
[{"$f":"IFERROR(INDEX(ObData!$A$2:$A$300,MATCH(1,(Data!M492>=ObData!$H$2:$H$300)*(Data!M492<=ObData!$I$2:$I$300),0)),\"N/A\")","v":""},{"$f":"BehaviorLogEntries!A492","v":0},{"$f":"BehaviorLogEntries!B492","v":0},{"$f":"BehaviorLogEntries!C492","v":0},{"$f":"BehaviorLogEntries!D492","v":0},{"$f":"BehaviorLogEntries!E492","v":0},{"$f":"BehaviorLogEntries!F492","v":0},{"$f":"BehaviorLogEntries!G492","v":0},{"$f":"BehaviorLogEntries!H492","v":0},{"$f":"BehaviorLogEntries!J492","v":0},"","","","","",{"$f":"IFERROR(VLOOKUP(A492,ObData!$A$2:$I$300,5,0),\"\")","v":0},""]
[{"$f":"IFERROR(INDEX(ObData!$A$2:$A$300,MATCH(1,(Data!M493>=ObData!$H$2:$H$300)*(Data!M493<=ObData!$I$2:$I$300),0)),\"N/A\")","v":""},{"$f":"BehaviorLogEntries!A493","v":0},{"$f":"BehaviorLogEntries!B493","v":0},{"$f":"BehaviorLogEntries!C493","v":0},{"$f":"BehaviorLogEntries!D493","v":0},{"$f":"BehaviorLogEntries!E493","v":0},{"$f":"BehaviorLogEntries!F493","v":0},{"$f":"BehaviorLogEntries!G493","v":0},{"$f":"BehaviorLogEntries!H493","v":0},{"$f":"BehaviorLogEntries!J493","v":0},"","","","","",{"$f":"IFERROR(VLOOKUP(A493,ObData!$A$2:$I$300,5,0),\"\")","v":0},""]
[{"$f":"IFERROR(INDEX(ObData!$A$2:$A$300,MATCH(1,(Data!M494>=ObData!$H$2:$H$300)*(Data!M494<=ObData!$I$2:$I$300),0)),\"N/A\")","v":""},{"$f":"BehaviorLogEntries!A494","v":0},{"$f":"BehaviorLogEntries!B494","v":0},{"$f":"BehaviorLogEntries!C494","v":0},{"$f":"BehaviorLogEntries!D494","v":0},{"$f":"BehaviorLogEntries!E494","v":0},{"$f":"BehaviorLogEntries!F494","v":0},{"$f":"BehaviorLogEntries!G494","v":0},{"$f":"BehaviorLogEntries!H494","v":0},{"$f":"BehaviorLogEntries!J494","v":0},"","","","","",{"$f":"IFERROR(VLOOKUP(A494,ObData!$A$2:$I$300,5,0),\"\")","v":0},""]
[{"$f":"IFERROR(INDEX(ObData!$A$2:$A$300,MATCH(1,(Data!M495>=ObData!$H$2:$H$300)*(Data!M495<=ObData!$I$2:$I$300),0)),\"N/A\")","v":""},{"$f":"BehaviorLogEntries!A495","v":0},{"$f":"BehaviorLogEntries!B495","v":0},{"$f":"BehaviorLogEntries!C495","v":0},{"$f":"BehaviorLogEntries!D495","v":0},{"$f":"BehaviorLogEntries!E495","v":0},{"$f":"BehaviorLogEntries!F495","v":0},{"$f":"BehaviorLogEntries!G495","v":0},{"$f":"BehaviorLogEntries!H495","v":0},{"$f":"BehaviorLogEntries!J495","v":0},"","","","","",{"$f":"IFERROR(VLOOKUP(A495,ObData!$A$2:$I$300,5,0),\"\")","v":0},""]
[{"$f":"IFERROR(INDEX(ObData!$A$2:$A$300,MATCH(1,(Data!M496>=ObData!$H$2:$H$300)*(Data!M496<=ObData!$I$2:$I$300),0)),\"N/A\")","v":""},{"$f":"BehaviorLogEntries!A496","v":0},{"$f":"BehaviorLogEntries!B496","v":0},{"$f":"BehaviorLogEntries!C496","v":0},{"$f":"BehaviorLogEntries!D496","v":0},{"$f":"BehaviorLogEntries!E496","v":0},{"$f":"BehaviorLogEntries!F496","v":0},{"$f":"BehaviorLogEntries!G496","v":0},{"$f":"BehaviorLogEntries!H496","v":0},{"$f":"BehaviorLogEntries!J496","v":0},"","","","","",{"$f":"IFERROR(VLOOKUP(A496,ObData!$A$2:$I$300,5,0),\"\")","v":0},""]
[{"$f":"IFERROR(INDEX(ObData!$A$2:$A$300,MATCH(1,(Data!M497>=ObData!$H$2:$H$300)*(Data!M497<=ObData!$I$2:$I$300),0)),\"N/A\")","v":""},{"$f":"BehaviorLogEntries!A497","v":0},{"$f":"BehaviorLogEntries!B497","v":0},{"$f":"BehaviorLogEntries!C497","v":0},{"$f":"BehaviorLogEntries!D497","v":0},{"$f":"BehaviorLogEntries!E497","v":0},{"$f":"BehaviorLogEntries!F497","v":0},{"$f":"BehaviorLogEntries!G497","v":0},{"$f":"BehaviorLogEntries!H497","v":0},{"$f":"BehaviorLogEntries!J497","v":0},"","","","","",{"$f":"IFERROR(VLOOKUP(A497,ObData!$A$2:$I$300,5,0),\"\")","v":0},""]
[{"$f":"IFERROR(INDEX(ObData!$A$2:$A$300,MATCH(1,(Data!M498>=ObData!$H$2:$H$300)*(Data!M498<=ObData!$I$2:$I$300),0)),\"N/A\")","v":""},{"$f":"BehaviorLogEntries!A498","v":0},{"$f":"BehaviorLogEntries!B498","v":0},{"$f":"BehaviorLogEntries!C498","v":0},{"$f":"BehaviorLogEntries!D498","v":0},{"$f":"BehaviorLogEntries!E498","v":0},{"$f":"BehaviorLogEntries!F498","v":0},{"$f":"BehaviorLogEntries!G498","v":0},{"$f":"BehaviorLogEntries!H498","v":0},{"$f":"BehaviorLogEntries!J498","v":0},"","","","","",{"$f":"IFERROR(VLOOKUP(A498,ObData!$A$2:$I$300,5,0),\"\")","v":0},""]
[{"$f":"IFERROR(INDEX(ObData!$A$2:$A$300,MATCH(1,(Data!M499>=ObData!$H$2:$H$300)*(Data!M499<=ObData!$I$2:$I$300),0)),\"N/A\")","v":""},{"$f":"BehaviorLogEntries!A499","v":0},{"$f":"BehaviorLogEntries!B499","v":0},{"$f":"BehaviorLogEntries!C499","v":0},{"$f":"BehaviorLogEntries!D499","v":0},{"$f":"BehaviorLogEntries!E499","v":0},{"$f":"BehaviorLogEntries!F499","v":0},{"$f":"BehaviorLogEntries!G499","v":0},{"$f":"BehaviorLogEntries!H499","v":0},{"$f":"BehaviorLogEntries!J499","v":0},"","","","","",{"$f":"IFERROR(VLOOKUP(A499,ObData!$A$2:$I$300,5,0),\"\")","v":0},""]
[{"$f":"IFERROR(INDEX(ObData!$A$2:$A$300,MATCH(1,(Data!M500>=ObData!$H$2:$H$300)*(Data!M500<=ObData!$I$2:$I$300),0)),\"N/A\")","v":""},{"$f":"BehaviorLogEntries!A500","v":0},{"$f":"BehaviorLogEntries!B500","v":0},{"$f":"BehaviorLogEntries!C500","v":0},{"$f":"BehaviorLogEntries!D500","v":0},{"$f":"BehaviorLogEntries!E500","v":0},{"$f":"BehaviorLogEntries!F500","v":0},{"$f":"BehaviorLogEntries!G500","v":0},{"$f":"BehaviorLogEntries!H500","v":0},{"$f":"BehaviorLogEntries!J500","v":0},"","","","","",{"$f":"IFERROR(VLOOKUP(A500,ObData!$A$2:$I$300,5,0),\"\")","v":0},""]
[{"$f":"IFERROR(INDEX(ObData!$A$2:$A$300,MATCH(1,(Data!M501>=ObData!$H$2:$H$300)*(Data!M501<=ObData!$I$2:$I$300),0)),\"N/A\")","v":""},{"$f":"BehaviorLogEntries!A501","v":0},{"$f":"BehaviorLogEntries!B501","v":0},{"$f":"BehaviorLogEntries!C501","v":0},{"$f":"BehaviorLogEntries!D501","v":0},{"$f":"BehaviorLogEntries!E501","v":0},{"$f":"BehaviorLogEntries!F501","v":0},{"$f":"BehaviorLogEntries!G501","v":0},{"$f":"BehaviorLogEntries!H501","v":0},{"$f":"BehaviorLogEntries!J501","v":0},"","","","","",{"$f":"IFERROR(VLOOKUP(A501,ObData!$A$2:$I$300,5,0),\"\")","v":0},""]
[{"$f":"IFERROR(INDEX(ObData!$A$2:$A$300,MATCH(1,(Data!M502>=ObData!$H$2:$H$300)*(Data!M502<=ObData!$I$2:$I$300),0)),\"N/A\")","v":""},{"$f":"BehaviorLogEntries!A502","v":0},{"$f":"BehaviorLogEntries!B502","v":0},{"$f":"BehaviorLogEntries!C502","v":0},{"$f":"BehaviorLogEntries!D502","v":0},{"$f":"BehaviorLogEntries!E502","v":0},{"$f":"BehaviorLogEntries!F502","v":0},{"$f":"BehaviorLogEntries!G502","v":0},{"$f":"BehaviorLogEntries!H502","v":0},{"$f":"BehaviorLogEntries!J502","v":0},"","","","","",{"$f":"IFERROR(VLOOKUP(A502,ObData!$A$2:$I$300,5,0),\"\")","v":0},""]
[{"$f":"IFERROR(INDEX(ObData!$A$2:$A$300,MATCH(1,(Data!M503>=ObData!$H$2:$H$300)*(Data!M503<=ObData!$I$2:$I$300),0)),\"N/A\")","v":""},{"$f":"BehaviorLogEntries!A503","v":0},{"$f":"BehaviorLogEntries!B503","v":0},{"$f":"BehaviorLogEntries!C503","v":0},{"$f":"BehaviorLogEntries!D503","v":0},{"$f":"BehaviorLogEntries!E503","v":0},{"$f":"BehaviorLogEntries!F503","v":0},{"$f":"BehaviorLogEntries!G503","v":0},{"$f":"BehaviorLogEntries!H503","v":0},{"$f":"BehaviorLogEntries!J503","v":0},"","","","","",{"$f":"IFERROR(VLOOKUP(A503,ObData!$A$2:$I$300,5,0),\"\")","v":0},""]
[{"$f":"IFERROR(INDEX(ObData!$A$2:$A$300,MATCH(1,(Data!M504>=ObData!$H$2:$H$300)*(Data!M504<=ObData!$I$2:$I$300),0)),\"N/A\")","v":""},{"$f":"BehaviorLogEntries!A504","v":0},{"$f":"BehaviorLogEntries!B504","v":0},{"$f":"BehaviorLogEntries!C504","v":0},{"$f":"BehaviorLogEntries!D504","v":0},{"$f":"BehaviorLogEntries!E504","v":0},{"$f":"BehaviorLogEntries!F504","v":0},{"$f":"BehaviorLogEntries!G504","v":0},{"$f":"BehaviorLogEntries!H504","v":0},{"$f":"BehaviorLogEntries!J504","v":0},"","","","","",{"$f":"IFERROR(VLOOKUP(A504,ObData!$A$2:$I$300,5,0),\"\")","v":0},""]
[{"$f":"IFERROR(INDEX(ObData!$A$2:$A$300,MATCH(1,(Data!M505>=ObData!$H$2:$H$300)*(Data!M505<=ObData!$I$2:$I$300),0)),\"N/A\")","v":""},{"$f":"BehaviorLogEntries!A505","v":0},{"$f":"BehaviorLogEntries!B505","v":0},{"$f":"BehaviorLogEntries!C505","v":0},{"$f":"BehaviorLogEntries!D505","v":0},{"$f":"BehaviorLogEntries!E505","v":0},{"$f":"BehaviorLogEntries!F505","v":0},{"$f":"BehaviorLogEntries!G505","v":0},{"$f":"BehaviorLogEntries!H505","v":0},{"$f":"BehaviorLogEntries!J505","v":0},"","","","","",{"$f":"IFERROR(VLOOKUP(A505,ObData!$A$2:$I$300,5,0),\"\")","v":0},""]
[{"$f":"IFERROR(INDEX(ObData!$A$2:$A$300,MATCH(1,(Data!M506>=ObData!$H$2:$H$300)*(Data!M506<=ObData!$I$2:$I$300),0)),\"N/A\")","v":""},{"$f":"BehaviorLogEntries!A506","v":0},{"$f":"BehaviorLogEntries!B506","v":0},{"$f":"BehaviorLogEntries!C506","v":0},{"$f":"BehaviorLogEntries!D506","v":0},{"$f":"BehaviorLogEntries!E506","v":0},{"$f":"BehaviorLogEntries!F506","v":0},{"$f":"BehaviorLogEntries!G506","v":0},{"$f":"BehaviorLogEntries!H506","v":0},{"$f":"BehaviorLogEntries!J506","v":0},"","","","","",{"$f":"IFERROR(VLOOKUP(A506,ObData!$A$2:$I$300,5,0),\"\")","v":0},""]
[{"$f":"IFERROR(INDEX(ObData!$A$2:$A$300,MATCH(1,(Data!M507>=ObData!$H$2:$H$300)*(Data!M507<=ObData!$I$2:$I$300),0)),\"N/A\")","v":""},{"$f":"BehaviorLogEntries!A507","v":0},{"$f":"BehaviorLogEntries!B507","v":0},{"$f":"BehaviorLogEntries!C507","v":0},{"$f":"BehaviorLogEntries!D507","v":0},{"$f":"BehaviorLogEntries!E507","v":0},{"$f":"BehaviorLogEntries!F507","v":0},{"$f":"BehaviorLogEntries!G507","v":0},{"$f":"BehaviorLogEntries!H507","v":0},{"$f":"BehaviorLogEntries!J507","v":0},"","","","","",{"$f":"IFERROR(VLOOKUP(A507,ObData!$A$2:$I$300,5,0),\"\")","v":0},""]
[{"$f":"IFERROR(INDEX(ObData!$A$2:$A$300,MATCH(1,(Data!M508>=ObData!$H$2:$H$300)*(Data!M508<=ObData!$I$2:$I$300),0)),\"N/A\")","v":""},{"$f":"BehaviorLogEntries!A508","v":0},{"$f":"BehaviorLogEntries!B508","v":0},{"$f":"BehaviorLogEntries!C508","v":0},{"$f":"BehaviorLogEntries!D508","v":0},{"$f":"BehaviorLogEntries!E508","v":0},{"$f":"BehaviorLogEntries!F508","v":0},{"$f":"BehaviorLogEntries!G508","v":0},{"$f":"BehaviorLogEntries!H508","v":0},{"$f":"BehaviorLogEntries!J508","v":0},"","","","","",{"$f":"IFERROR(VLOOKUP(A508,ObData!$A$2:$I$300,5,0),\"\")","v":0},""]
[{"$f":"IFERROR(INDEX(ObData!$A$2:$A$300,MATCH(1,(Data!M509>=ObData!$H$2:$H$300)*(Data!M509<=ObData!$I$2:$I$300),0)),\"N/A\")","v":""},{"$f":"BehaviorLogEntries!A509","v":0},{"$f":"BehaviorLogEntries!B509","v":0},{"$f":"BehaviorLogEntries!C509","v":0},{"$f":"BehaviorLogEntries!D509","v":0},{"$f":"BehaviorLogEntries!E509","v":0},{"$f":"BehaviorLogEntries!F509","v":0},{"$f":"BehaviorLogEntries!G509","v":0},{"$f":"BehaviorLogEntries!H509","v":0},{"$f":"BehaviorLogEntries!J509","v":0},"","","","","",{"$f":"IFERROR(VLOOKUP(A509,ObData!$A$2:$I$300,5,0),\"\")","v":0},""]
[{"$f":"IFERROR(INDEX(ObData!$A$2:$A$300,MATCH(1,(Data!M510>=ObData!$H$2:$H$300)*(Data!M510<=ObData!$I$2:$I$300),0)),\"N/A\")","v":""},{"$f":"BehaviorLogEntries!A510","v":0},{"$f":"BehaviorLogEntries!B510","v":0},{"$f":"BehaviorLogEntries!C510","v":0},{"$f":"BehaviorLogEntries!D510","v":0},{"$f":"BehaviorLogEntries!E510","v":0},{"$f":"BehaviorLogEntries!F510","v":0},{"$f":"BehaviorLogEntries!G510","v":0},{"$f":"BehaviorLogEntries!H510","v":0},{"$f":"BehaviorLogEntries!J510","v":0},"","","","","",{"$f":"IFERROR(VLOOKUP(A510,ObData!$A$2:$I$300,5,0),\"\")","v":0},""]
[{"$f":"IFERROR(INDEX(ObData!$A$2:$A$300,MATCH(1,(Data!M511>=ObData!$H$2:$H$300)*(Data!M511<=ObData!$I$2:$I$300),0)),\"N/A\")","v":""},{"$f":"BehaviorLogEntries!A511","v":0},{"$f":"BehaviorLogEntries!B511","v":0},{"$f":"BehaviorLogEntries!C511","v":0},{"$f":"BehaviorLogEntries!D511","v":0},{"$f":"BehaviorLogEntries!E511","v":0},{"$f":"BehaviorLogEntries!F511","v":0},{"$f":"BehaviorLogEntries!G511","v":0},{"$f":"BehaviorLogEntries!H511","v":0},{"$f":"BehaviorLogEntries!J511","v":0},"","","","","",{"$f":"IFERROR(VLOOKUP(A511,ObData!$A$2:$I$300,5,0),\"\")","v":0},""]
[{"$f":"IFERROR(INDEX(ObData!$A$2:$A$300,MATCH(1,(Data!M512>=ObData!$H$2:$H$300)*(Data!M512<=ObData!$I$2:$I$300),0)),\"N/A\")","v":""},{"$f":"BehaviorLogEntries!A512","v":0},{"$f":"BehaviorLogEntries!B512","v":0},{"$f":"BehaviorLogEntries!C512","v":0},{"$f":"BehaviorLogEntries!D512","v":0},{"$f":"BehaviorLogEntries!E512","v":0},{"$f":"BehaviorLogEntries!F512","v":0},{"$f":"BehaviorLogEntries!G512","v":0},{"$f":"BehaviorLogEntries!H512","v":0},{"$f":"BehaviorLogEntries!J512","v":0},"","","","","",{"$f":"IFERROR(VLOOKUP(A512,ObData!$A$2:$I$300,5,0),\"\")","v":0},""]
[{"$f":"IFERROR(INDEX(ObData!$A$2:$A$300,MATCH(1,(Data!M513>=ObData!$H$2:$H$300)*(Data!M513<=ObData!$I$2:$I$300),0)),\"N/A\")","v":""},{"$f":"BehaviorLogEntries!A513","v":0},{"$f":"BehaviorLogEntries!B513","v":0},{"$f":"BehaviorLogEntries!C513","v":0},{"$f":"BehaviorLogEntries!D513","v":0},{"$f":"BehaviorLogEntries!E513","v":0},{"$f":"BehaviorLogEntries!F513","v":0},{"$f":"BehaviorLogEntries!G513","v":0},{"$f":"BehaviorLogEntries!H513","v":0},{"$f":"BehaviorLogEntries!J513","v":0},"","","","","",{"$f":"IFERROR(VLOOKUP(A513,ObData!$A$2:$I$300,5,0),\"\")","v":0},""]
[{"$f":"IFERROR(INDEX(ObData!$A$2:$A$300,MATCH(1,(Data!M514>=ObData!$H$2:$H$300)*(Data!M514<=ObData!$I$2:$I$300),0)),\"N/A\")","v":""},{"$f":"BehaviorLogEntries!A514","v":0},{"$f":"BehaviorLogEntries!B514","v":0},{"$f":"BehaviorLogEntries!C514","v":0},{"$f":"BehaviorLogEntries!D514","v":0},{"$f":"BehaviorLogEntries!E514","v":0},{"$f":"BehaviorLogEntries!F514","v":0},{"$f":"BehaviorLogEntries!G514","v":0},{"$f":"BehaviorLogEntries!H514","v":0},{"$f":"BehaviorLogEntries!J514","v":0},"","","","","",{"$f":"IFERROR(VLOOKUP(A514,ObData!$A$2:$I$300,5,0),\"\")","v":0},""]
[{"$f":"IFERROR(INDEX(ObData!$A$2:$A$300,MATCH(1,(Data!M515>=ObData!$H$2:$H$300)*(Data!M515<=ObData!$I$2:$I$300),0)),\"N/A\")","v":""},{"$f":"BehaviorLogEntries!A515","v":0},{"$f":"BehaviorLogEntries!B515","v":0},{"$f":"BehaviorLogEntries!C515","v":0},{"$f":"BehaviorLogEntries!D515","v":0},{"$f":"BehaviorLogEntries!E515","v":0},{"$f":"BehaviorLogEntries!F515","v":0},{"$f":"BehaviorLogEntries!G515","v":0},{"$f":"BehaviorLogEntries!H515","v":0},{"$f":"BehaviorLogEntries!J515","v":0},{"$f":"IF(F515<>0,IF(K515=\"\",NOW(),K515),\"\")","v":""},{"$f":"IFERROR(IF(J515<>0,J515,DATE(YEAR(K515),MONTH(K515),DAY(K515))),\"\")","v":""},{"$f":"IF(B515=0,\"\",L515+F515)","v":""},{"$f":"IFERROR(IF(G515=\"Yes\",F515+0.00069444,IF(H515<>0,H515,IF(DATE(YEAR(K515),MONTH(K515),DAY(K515))<>DATE(YEAR(L515),MONTH(L515),DAY(L515)),F515+0.00069444,K515-DATE(YEAR(K515),MONTH(K515),DAY(K515))))),\"\")","v":""},{"$f":"IF(B515=0,\"\",L515+N515)","v":""},{"$f":"IFERROR(VLOOKUP(A515,ObData!$A$2:$I$300,5,0),\"\")","v":0},{"$f":"IF(F515=0,\"\",N515-F515)","v":""}]
[{"$f":"IFERROR(INDEX(ObData!$A$2:$A$300,MATCH(1,(Data!M516>=ObData!$H$2:$H$300)*(Data!M516<=ObData!$I$2:$I$300),0)),\"N/A\")","v":""},{"$f":"BehaviorLogEntries!A516","v":0},{"$f":"BehaviorLogEntries!B516","v":0},{"$f":"BehaviorLogEntries!C516","v":0},{"$f":"BehaviorLogEntries!D516","v":0},{"$f":"BehaviorLogEntries!E516","v":0},{"$f":"BehaviorLogEntries!F516","v":0},{"$f":"BehaviorLogEntries!G516","v":0},{"$f":"BehaviorLogEntries!H516","v":0},{"$f":"BehaviorLogEntries!J516","v":0},"","","","","",{"$f":"IFERROR(VLOOKUP(A516,ObData!$A$2:$I$300,5,0),\"\")","v":0},""]
[{"$f":"IFERROR(INDEX(ObData!$A$2:$A$300,MATCH(1,(Data!M517>=ObData!$H$2:$H$300)*(Data!M517<=ObData!$I$2:$I$300),0)),\"N/A\")","v":""},{"$f":"BehaviorLogEntries!A517","v":0},{"$f":"BehaviorLogEntries!B517","v":0},{"$f":"BehaviorLogEntries!C517","v":0},{"$f":"BehaviorLogEntries!D517","v":0},{"$f":"BehaviorLogEntries!E517","v":0},{"$f":"BehaviorLogEntries!F517","v":0},{"$f":"BehaviorLogEntries!G517","v":0},{"$f":"BehaviorLogEntries!H517","v":0},{"$f":"BehaviorLogEntries!J517","v":0},"","","","","",{"$f":"IFERROR(VLOOKUP(A517,ObData!$A$2:$I$300,5,0),\"\")","v":0},""]
[{"$f":"IFERROR(INDEX(ObData!$A$2:$A$300,MATCH(1,(Data!M518>=ObData!$H$2:$H$300)*(Data!M518<=ObData!$I$2:$I$300),0)),\"N/A\")","v":""},{"$f":"BehaviorLogEntries!A518","v":0},{"$f":"BehaviorLogEntries!B518","v":0},{"$f":"BehaviorLogEntries!C518","v":0},{"$f":"BehaviorLogEntries!D518","v":0},{"$f":"BehaviorLogEntries!E518","v":0},{"$f":"BehaviorLogEntries!F518","v":0},{"$f":"BehaviorLogEntries!G518","v":0},{"$f":"BehaviorLogEntries!H518","v":0},{"$f":"BehaviorLogEntries!J518","v":0},"","","","","",{"$f":"IFERROR(VLOOKUP(A518,ObData!$A$2:$I$300,5,0),\"\")","v":0},""]
[{"$f":"IFERROR(INDEX(ObData!$A$2:$A$300,MATCH(1,(Data!M519>=ObData!$H$2:$H$300)*(Data!M519<=ObData!$I$2:$I$300),0)),\"N/A\")","v":""},{"$f":"BehaviorLogEntries!A519","v":0},{"$f":"BehaviorLogEntries!B519","v":0},{"$f":"BehaviorLogEntries!C519","v":0},{"$f":"BehaviorLogEntries!D519","v":0},{"$f":"BehaviorLogEntries!E519","v":0},{"$f":"BehaviorLogEntries!F519","v":0},{"$f":"BehaviorLogEntries!G519","v":0},{"$f":"BehaviorLogEntries!H519","v":0},{"$f":"BehaviorLogEntries!J519","v":0},"","","","","",{"$f":"IFERROR(VLOOKUP(A519,ObData!$A$2:$I$300,5,0),\"\")","v":0},""]
[{"$f":"IFERROR(INDEX(ObData!$A$2:$A$300,MATCH(1,(Data!M520>=ObData!$H$2:$H$300)*(Data!M520<=ObData!$I$2:$I$300),0)),\"N/A\")","v":""},{"$f":"BehaviorLogEntries!A520","v":0},{"$f":"BehaviorLogEntries!B520","v":0},{"$f":"BehaviorLogEntries!C520","v":0},{"$f":"BehaviorLogEntries!D520","v":0},{"$f":"BehaviorLogEntries!E520","v":0},{"$f":"BehaviorLogEntries!F520","v":0},{"$f":"BehaviorLogEntries!G520","v":0},{"$f":"BehaviorLogEntries!H520","v":0},{"$f":"BehaviorLogEntries!J520","v":0},"","","","","",{"$f":"IFERROR(VLOOKUP(A520,ObData!$A$2:$I$300,5,0),\"\")","v":0},""]
[{"$f":"IFERROR(INDEX(ObData!$A$2:$A$300,MATCH(1,(Data!M521>=ObData!$H$2:$H$300)*(Data!M521<=ObData!$I$2:$I$300),0)),\"N/A\")","v":""},{"$f":"BehaviorLogEntries!A521","v":0},{"$f":"BehaviorLogEntries!B521","v":0},{"$f":"BehaviorLogEntries!C521","v":0},{"$f":"BehaviorLogEntries!D521","v":0},{"$f":"BehaviorLogEntries!E521","v":0},{"$f":"BehaviorLogEntries!F521","v":0},{"$f":"BehaviorLogEntries!G521","v":0},{"$f":"BehaviorLogEntries!H521","v":0},{"$f":"BehaviorLogEntries!J521","v":0},"","","","","",{"$f":"IFERROR(VLOOKUP(A521,ObData!$A$2:$I$300,5,0),\"\")","v":0},""]
[{"$f":"IFERROR(INDEX(ObData!$A$2:$A$300,MATCH(1,(Data!M522>=ObData!$H$2:$H$300)*(Data!M522<=ObData!$I$2:$I$300),0)),\"N/A\")","v":""},{"$f":"BehaviorLogEntries!A522","v":0},{"$f":"BehaviorLogEntries!B522","v":0},{"$f":"BehaviorLogEntries!C522","v":0},{"$f":"BehaviorLogEntries!D522","v":0},{"$f":"BehaviorLogEntries!E522","v":0},{"$f":"BehaviorLogEntries!F522","v":0},{"$f":"BehaviorLogEntries!G522","v":0},{"$f":"BehaviorLogEntries!H522","v":0},{"$f":"BehaviorLogEntries!J522","v":0},"","","","","",{"$f":"IFERROR(VLOOKUP(A522,ObData!$A$2:$I$300,5,0),\"\")","v":0},""]
[{"$f":"IFERROR(INDEX(ObData!$A$2:$A$300,MATCH(1,(Data!M523>=ObData!$H$2:$H$300)*(Data!M523<=ObData!$I$2:$I$300),0)),\"N/A\")","v":""},{"$f":"BehaviorLogEntries!A523","v":0},{"$f":"BehaviorLogEntries!B523","v":0},{"$f":"BehaviorLogEntries!C523","v":0},{"$f":"BehaviorLogEntries!D523","v":0},{"$f":"BehaviorLogEntries!E523","v":0},{"$f":"BehaviorLogEntries!F523","v":0},{"$f":"BehaviorLogEntries!G523","v":0},{"$f":"BehaviorLogEntries!H523","v":0},{"$f":"BehaviorLogEntries!J523","v":0},"","","","","",{"$f":"IFERROR(VLOOKUP(A523,ObData!$A$2:$I$300,5,0),\"\")","v":0},""]
[{"$f":"IFERROR(INDEX(ObData!$A$2:$A$300,MATCH(1,(Data!M524>=ObData!$H$2:$H$300)*(Data!M524<=ObData!$I$2:$I$300),0)),\"N/A\")","v":""},{"$f":"BehaviorLogEntries!A524","v":0},{"$f":"BehaviorLogEntries!B524","v":0},{"$f":"BehaviorLogEntries!C524","v":0},{"$f":"BehaviorLogEntries!D524","v":0},{"$f":"BehaviorLogEntries!E524","v":0},{"$f":"BehaviorLogEntries!F524","v":0},{"$f":"BehaviorLogEntries!G524","v":0},{"$f":"BehaviorLogEntries!H524","v":0},{"$f":"BehaviorLogEntries!J524","v":0},"","","","","",{"$f":"IFERROR(VLOOKUP(A524,ObData!$A$2:$I$300,5,0),\"\")","v":0},""]
[{"$f":"IFERROR(INDEX(ObData!$A$2:$A$300,MATCH(1,(Data!M525>=ObData!$H$2:$H$300)*(Data!M525<=ObData!$I$2:$I$300),0)),\"N/A\")","v":""},{"$f":"BehaviorLogEntries!A525","v":0},{"$f":"BehaviorLogEntries!B525","v":0},{"$f":"BehaviorLogEntries!C525","v":0},{"$f":"BehaviorLogEntries!D525","v":0},{"$f":"BehaviorLogEntries!E525","v":0},{"$f":"BehaviorLogEntries!F525","v":0},{"$f":"BehaviorLogEntries!G525","v":0},{"$f":"BehaviorLogEntries!H525","v":0},{"$f":"BehaviorLogEntries!J525","v":0},"","","","","",{"$f":"IFERROR(VLOOKUP(A525,ObData!$A$2:$I$300,5,0),\"\")","v":0},""]
[{"$f":"IFERROR(INDEX(ObData!$A$2:$A$300,MATCH(1,(Data!M526>=ObData!$H$2:$H$300)*(Data!M526<=ObData!$I$2:$I$300),0)),\"N/A\")","v":""},{"$f":"BehaviorLogEntries!A526","v":0},{"$f":"BehaviorLogEntries!B526","v":0},{"$f":"BehaviorLogEntries!C526","v":0},{"$f":"BehaviorLogEntries!D526","v":0},{"$f":"BehaviorLogEntries!E526","v":0},{"$f":"BehaviorLogEntries!F526","v":0},{"$f":"BehaviorLogEntries!G526","v":0},{"$f":"BehaviorLogEntries!H526","v":0},{"$f":"BehaviorLogEntries!J526","v":0},"","","","","",{"$f":"IFERROR(VLOOKUP(A526,ObData!$A$2:$I$300,5,0),\"\")","v":0},""]
[{"$f":"IFERROR(INDEX(ObData!$A$2:$A$300,MATCH(1,(Data!M527>=ObData!$H$2:$H$300)*(Data!M527<=ObData!$I$2:$I$300),0)),\"N/A\")","v":""},{"$f":"BehaviorLogEntries!A527","v":0},{"$f":"BehaviorLogEntries!B527","v":0},{"$f":"BehaviorLogEntries!C527","v":0},{"$f":"BehaviorLogEntries!D527","v":0},{"$f":"BehaviorLogEntries!E527","v":0},{"$f":"BehaviorLogEntries!F527","v":0},{"$f":"BehaviorLogEntries!G527","v":0},{"$f":"BehaviorLogEntries!H527","v":0},{"$f":"BehaviorLogEntries!J527","v":0},"","","","","",{"$f":"IFERROR(VLOOKUP(A527,ObData!$A$2:$I$300,5,0),\"\")","v":0},""]
[{"$f":"IFERROR(INDEX(ObData!$A$2:$A$300,MATCH(1,(Data!M528>=ObData!$H$2:$H$300)*(Data!M528<=ObData!$I$2:$I$300),0)),\"N/A\")","v":""},{"$f":"BehaviorLogEntries!A528","v":0},{"$f":"BehaviorLogEntries!B528","v":0},{"$f":"BehaviorLogEntries!C528","v":0},{"$f":"BehaviorLogEntries!D528","v":0},{"$f":"BehaviorLogEntries!E528","v":0},{"$f":"BehaviorLogEntries!F528","v":0},{"$f":"BehaviorLogEntries!G528","v":0},{"$f":"BehaviorLogEntries!H528","v":0},{"$f":"BehaviorLogEntries!J528","v":0},"","","","","",{"$f":"IFERROR(VLOOKUP(A528,ObData!$A$2:$I$300,5,0),\"\")","v":0},""]
[{"$f":"IFERROR(INDEX(ObData!$A$2:$A$300,MATCH(1,(Data!M529>=ObData!$H$2:$H$300)*(Data!M529<=ObData!$I$2:$I$300),0)),\"N/A\")","v":""},{"$f":"BehaviorLogEntries!A529","v":0},{"$f":"BehaviorLogEntries!B529","v":0},{"$f":"BehaviorLogEntries!C529","v":0},{"$f":"BehaviorLogEntries!D529","v":0},{"$f":"BehaviorLogEntries!E529","v":0},{"$f":"BehaviorLogEntries!F529","v":0},{"$f":"BehaviorLogEntries!G529","v":0},{"$f":"BehaviorLogEntries!H529","v":0},{"$f":"BehaviorLogEntries!J529","v":0},"","","","","",{"$f":"IFERROR(VLOOKUP(A529,ObData!$A$2:$I$300,5,0),\"\")","v":0},""]
[{"$f":"IFERROR(INDEX(ObData!$A$2:$A$300,MATCH(1,(Data!M530>=ObData!$H$2:$H$300)*(Data!M530<=ObData!$I$2:$I$300),0)),\"N/A\")","v":""},{"$f":"BehaviorLogEntries!A530","v":0},{"$f":"BehaviorLogEntries!B530","v":0},{"$f":"BehaviorLogEntries!C530","v":0},{"$f":"BehaviorLogEntries!D530","v":0},{"$f":"BehaviorLogEntries!E530","v":0},{"$f":"BehaviorLogEntries!F530","v":0},{"$f":"BehaviorLogEntries!G530","v":0},{"$f":"BehaviorLogEntries!H530","v":0},{"$f":"BehaviorLogEntries!J530","v":0},"","","","","",{"$f":"IFERROR(VLOOKUP(A530,ObData!$A$2:$I$300,5,0),\"\")","v":0},""]
[{"$f":"IFERROR(INDEX(ObData!$A$2:$A$300,MATCH(1,(Data!M531>=ObData!$H$2:$H$300)*(Data!M531<=ObData!$I$2:$I$300),0)),\"N/A\")","v":""},{"$f":"BehaviorLogEntries!A531","v":0},{"$f":"BehaviorLogEntries!B531","v":0},{"$f":"BehaviorLogEntries!C531","v":0},{"$f":"BehaviorLogEntries!D531","v":0},{"$f":"BehaviorLogEntries!E531","v":0},{"$f":"BehaviorLogEntries!F531","v":0},{"$f":"BehaviorLogEntries!G531","v":0},{"$f":"BehaviorLogEntries!H531","v":0},{"$f":"BehaviorLogEntries!J531","v":0},"","","","","",{"$f":"IFERROR(VLOOKUP(A531,ObData!$A$2:$I$300,5,0),\"\")","v":0},""]
[{"$f":"IFERROR(INDEX(ObData!$A$2:$A$300,MATCH(1,(Data!M532>=ObData!$H$2:$H$300)*(Data!M532<=ObData!$I$2:$I$300),0)),\"N/A\")","v":""},{"$f":"BehaviorLogEntries!A532","v":0},{"$f":"BehaviorLogEntries!B532","v":0},{"$f":"BehaviorLogEntries!C532","v":0},{"$f":"BehaviorLogEntries!D532","v":0},{"$f":"BehaviorLogEntries!E532","v":0},{"$f":"BehaviorLogEntries!F532","v":0},{"$f":"BehaviorLogEntries!G532","v":0},{"$f":"BehaviorLogEntries!H532","v":0},{"$f":"BehaviorLogEntries!J532","v":0},"","","","","",{"$f":"IFERROR(VLOOKUP(A532,ObData!$A$2:$I$300,5,0),\"\")","v":0},""]
[{"$f":"IFERROR(INDEX(ObData!$A$2:$A$300,MATCH(1,(Data!M533>=ObData!$H$2:$H$300)*(Data!M533<=ObData!$I$2:$I$300),0)),\"N/A\")","v":""},{"$f":"BehaviorLogEntries!A533","v":0},{"$f":"BehaviorLogEntries!B533","v":0},{"$f":"BehaviorLogEntries!C533","v":0},{"$f":"BehaviorLogEntries!D533","v":0},{"$f":"BehaviorLogEntries!E533","v":0},{"$f":"BehaviorLogEntries!F533","v":0},{"$f":"BehaviorLogEntries!G533","v":0},{"$f":"BehaviorLogEntries!H533","v":0},{"$f":"BehaviorLogEntries!J533","v":0},"","","","","",{"$f":"IFERROR(VLOOKUP(A533,ObData!$A$2:$I$300,5,0),\"\")","v":0},""]
[{"$f":"IFERROR(INDEX(ObData!$A$2:$A$300,MATCH(1,(Data!M534>=ObData!$H$2:$H$300)*(Data!M534<=ObData!$I$2:$I$300),0)),\"N/A\")","v":""},{"$f":"BehaviorLogEntries!A534","v":0},{"$f":"BehaviorLogEntries!B534","v":0},{"$f":"BehaviorLogEntries!C534","v":0},{"$f":"BehaviorLogEntries!D534","v":0},{"$f":"BehaviorLogEntries!E534","v":0},{"$f":"BehaviorLogEntries!F534","v":0},{"$f":"BehaviorLogEntries!G534","v":0},{"$f":"BehaviorLogEntries!H534","v":0},{"$f":"BehaviorLogEntries!J534","v":0},"","","","","",{"$f":"IFERROR(VLOOKUP(A534,ObData!$A$2:$I$300,5,0),\"\")","v":0},""]
[{"$f":"IFERROR(INDEX(ObData!$A$2:$A$300,MATCH(1,(Data!M535>=ObData!$H$2:$H$300)*(Data!M535<=ObData!$I$2:$I$300),0)),\"N/A\")","v":""},{"$f":"BehaviorLogEntries!A535","v":0},{"$f":"BehaviorLogEntries!B535","v":0},{"$f":"BehaviorLogEntries!C535","v":0},{"$f":"BehaviorLogEntries!D535","v":0},{"$f":"BehaviorLogEntries!E535","v":0},{"$f":"BehaviorLogEntries!F535","v":0},{"$f":"BehaviorLogEntries!G535","v":0},{"$f":"BehaviorLogEntries!H535","v":0},{"$f":"BehaviorLogEntries!J535","v":0},"","","","","",{"$f":"IFERROR(VLOOKUP(A535,ObData!$A$2:$I$300,5,0),\"\")","v":0},""]
[{"$f":"IFERROR(INDEX(ObData!$A$2:$A$300,MATCH(1,(Data!M536>=ObData!$H$2:$H$300)*(Data!M536<=ObData!$I$2:$I$300),0)),\"N/A\")","v":""},{"$f":"BehaviorLogEntries!A536","v":0},{"$f":"BehaviorLogEntries!B536","v":0},{"$f":"BehaviorLogEntries!C536","v":0},{"$f":"BehaviorLogEntries!D536","v":0},{"$f":"BehaviorLogEntries!E536","v":0},{"$f":"BehaviorLogEntries!F536","v":0},{"$f":"BehaviorLogEntries!G536","v":0},{"$f":"BehaviorLogEntries!H536","v":0},{"$f":"BehaviorLogEntries!J536","v":0},"","","","","",{"$f":"IFERROR(VLOOKUP(A536,ObData!$A$2:$I$300,5,0),\"\")","v":0},""]
[{"$f":"IFERROR(INDEX(ObData!$A$2:$A$300,MATCH(1,(Data!M537>=ObData!$H$2:$H$300)*(Data!M537<=ObData!$I$2:$I$300),0)),\"N/A\")","v":""},{"$f":"BehaviorLogEntries!A537","v":0},{"$f":"BehaviorLogEntries!B537","v":0},{"$f":"BehaviorLogEntries!C537","v":0},{"$f":"BehaviorLogEntries!D537","v":0},{"$f":"BehaviorLogEntries!E537","v":0},{"$f":"BehaviorLogEntries!F537","v":0},{"$f":"BehaviorLogEntries!G537","v":0},{"$f":"BehaviorLogEntries!H537","v":0},{"$f":"BehaviorLogEntries!J537","v":0},"","","","","",{"$f":"IFERROR(VLOOKUP(A537,ObData!$A$2:$I$300,5,0),\"\")","v":0},""]
[{"$f":"IFERROR(INDEX(ObData!$A$2:$A$300,MATCH(1,(Data!M538>=ObData!$H$2:$H$300)*(Data!M538<=ObData!$I$2:$I$300),0)),\"N/A\")","v":""},{"$f":"BehaviorLogEntries!A538","v":0},{"$f":"BehaviorLogEntries!B538","v":0},{"$f":"BehaviorLogEntries!C538","v":0},{"$f":"BehaviorLogEntries!D538","v":0},{"$f":"BehaviorLogEntries!E538","v":0},{"$f":"BehaviorLogEntries!F538","v":0},{"$f":"BehaviorLogEntries!G538","v":0},{"$f":"BehaviorLogEntries!H538","v":0},{"$f":"BehaviorLogEntries!J538","v":0},"","","","","",{"$f":"IFERROR(VLOOKUP(A538,ObData!$A$2:$I$300,5,0),\"\")","v":0},""]
[{"$f":"IFERROR(INDEX(ObData!$A$2:$A$300,MATCH(1,(Data!M539>=ObData!$H$2:$H$300)*(Data!M539<=ObData!$I$2:$I$300),0)),\"N/A\")","v":""},{"$f":"BehaviorLogEntries!A539","v":0},{"$f":"BehaviorLogEntries!B539","v":0},{"$f":"BehaviorLogEntries!C539","v":0},{"$f":"BehaviorLogEntries!D539","v":0},{"$f":"BehaviorLogEntries!E539","v":0},{"$f":"BehaviorLogEntries!F539","v":0},{"$f":"BehaviorLogEntries!G539","v":0},{"$f":"BehaviorLogEntries!H539","v":0},{"$f":"BehaviorLogEntries!J539","v":0},"","","","","",{"$f":"IFERROR(VLOOKUP(A539,ObData!$A$2:$I$300,5,0),\"\")","v":0},""]
[{"$f":"IFERROR(INDEX(ObData!$A$2:$A$300,MATCH(1,(Data!M540>=ObData!$H$2:$H$300)*(Data!M540<=ObData!$I$2:$I$300),0)),\"N/A\")","v":""},{"$f":"BehaviorLogEntries!A540","v":0},{"$f":"BehaviorLogEntries!B540","v":0},{"$f":"BehaviorLogEntries!C540","v":0},{"$f":"BehaviorLogEntries!D540","v":0},{"$f":"BehaviorLogEntries!E540","v":0},{"$f":"BehaviorLogEntries!F540","v":0},{"$f":"BehaviorLogEntries!G540","v":0},{"$f":"BehaviorLogEntries!H540","v":0},{"$f":"BehaviorLogEntries!J540","v":0},"","","","","",{"$f":"IFERROR(VLOOKUP(A540,ObData!$A$2:$I$300,5,0),\"\")","v":0},""]
[{"$f":"IFERROR(INDEX(ObData!$A$2:$A$300,MATCH(1,(Data!M541>=ObData!$H$2:$H$300)*(Data!M541<=ObData!$I$2:$I$300),0)),\"N/A\")","v":""},{"$f":"BehaviorLogEntries!A541","v":0},{"$f":"BehaviorLogEntries!B541","v":0},{"$f":"BehaviorLogEntries!C541","v":0},{"$f":"BehaviorLogEntries!D541","v":0},{"$f":"BehaviorLogEntries!E541","v":0},{"$f":"BehaviorLogEntries!F541","v":0},{"$f":"BehaviorLogEntries!G541","v":0},{"$f":"BehaviorLogEntries!H541","v":0},{"$f":"BehaviorLogEntries!J541","v":0},"","","","","",{"$f":"IFERROR(VLOOKUP(A541,ObData!$A$2:$I$300,5,0),\"\")","v":0},""]
[{"$f":"IFERROR(INDEX(ObData!$A$2:$A$300,MATCH(1,(Data!M542>=ObData!$H$2:$H$300)*(Data!M542<=ObData!$I$2:$I$300),0)),\"N/A\")","v":""},{"$f":"BehaviorLogEntries!A542","v":0},{"$f":"BehaviorLogEntries!B542","v":0},{"$f":"BehaviorLogEntries!C542","v":0},{"$f":"BehaviorLogEntries!D542","v":0},{"$f":"BehaviorLogEntries!E542","v":0},{"$f":"BehaviorLogEntries!F542","v":0},{"$f":"BehaviorLogEntries!G542","v":0},{"$f":"BehaviorLogEntries!H542","v":0},{"$f":"BehaviorLogEntries!J542","v":0},"","","","","",{"$f":"IFERROR(VLOOKUP(A542,ObData!$A$2:$I$300,5,0),\"\")","v":0},""]
[{"$f":"IFERROR(INDEX(ObData!$A$2:$A$300,MATCH(1,(Data!M543>=ObData!$H$2:$H$300)*(Data!M543<=ObData!$I$2:$I$300),0)),\"N/A\")","v":""},{"$f":"BehaviorLogEntries!A543","v":0},{"$f":"BehaviorLogEntries!B543","v":0},{"$f":"BehaviorLogEntries!C543","v":0},{"$f":"BehaviorLogEntries!D543","v":0},{"$f":"BehaviorLogEntries!E543","v":0},{"$f":"BehaviorLogEntries!F543","v":0},{"$f":"BehaviorLogEntries!G543","v":0},{"$f":"BehaviorLogEntries!H543","v":0},{"$f":"BehaviorLogEntries!J543","v":0},"","","","","",{"$f":"IFERROR(VLOOKUP(A543,ObData!$A$2:$I$300,5,0),\"\")","v":0},""]
[{"$f":"IFERROR(INDEX(ObData!$A$2:$A$300,MATCH(1,(Data!M544>=ObData!$H$2:$H$300)*(Data!M544<=ObData!$I$2:$I$300),0)),\"N/A\")","v":""},{"$f":"BehaviorLogEntries!A544","v":0},{"$f":"BehaviorLogEntries!B544","v":0},{"$f":"BehaviorLogEntries!C544","v":0},{"$f":"BehaviorLogEntries!D544","v":0},{"$f":"BehaviorLogEntries!E544","v":0},{"$f":"BehaviorLogEntries!F544","v":0},{"$f":"BehaviorLogEntries!G544","v":0},{"$f":"BehaviorLogEntries!H544","v":0},{"$f":"BehaviorLogEntries!J544","v":0},"","","","","",{"$f":"IFERROR(VLOOKUP(A544,ObData!$A$2:$I$300,5,0),\"\")","v":0},""]
[{"$f":"IFERROR(INDEX(ObData!$A$2:$A$300,MATCH(1,(Data!M545>=ObData!$H$2:$H$300)*(Data!M545<=ObData!$I$2:$I$300),0)),\"N/A\")","v":""},{"$f":"BehaviorLogEntries!A545","v":0},{"$f":"BehaviorLogEntries!B545","v":0},{"$f":"BehaviorLogEntries!C545","v":0},{"$f":"BehaviorLogEntries!D545","v":0},{"$f":"BehaviorLogEntries!E545","v":0},{"$f":"BehaviorLogEntries!F545","v":0},{"$f":"BehaviorLogEntries!G545","v":0},{"$f":"BehaviorLogEntries!H545","v":0},{"$f":"BehaviorLogEntries!J545","v":0},"","","","","",{"$f":"IFERROR(VLOOKUP(A545,ObData!$A$2:$I$300,5,0),\"\")","v":0},""]
[{"$f":"IFERROR(INDEX(ObData!$A$2:$A$300,MATCH(1,(Data!M546>=ObData!$H$2:$H$300)*(Data!M546<=ObData!$I$2:$I$300),0)),\"N/A\")","v":""},{"$f":"BehaviorLogEntries!A546","v":0},{"$f":"BehaviorLogEntries!B546","v":0},{"$f":"BehaviorLogEntries!C546","v":0},{"$f":"BehaviorLogEntries!D546","v":0},{"$f":"BehaviorLogEntries!E546","v":0},{"$f":"BehaviorLogEntries!F546","v":0},{"$f":"BehaviorLogEntries!G546","v":0},{"$f":"BehaviorLogEntries!H546","v":0},{"$f":"BehaviorLogEntries!J546","v":0},"","","","","",{"$f":"IFERROR(VLOOKUP(A546,ObData!$A$2:$I$300,5,0),\"\")","v":0},""]
[{"$f":"IFERROR(INDEX(ObData!$A$2:$A$300,MATCH(1,(Data!M547>=ObData!$H$2:$H$300)*(Data!M547<=ObData!$I$2:$I$300),0)),\"N/A\")","v":""},{"$f":"BehaviorLogEntries!A547","v":0},{"$f":"BehaviorLogEntries!B547","v":0},{"$f":"BehaviorLogEntries!C547","v":0},{"$f":"BehaviorLogEntries!D547","v":0},{"$f":"BehaviorLogEntries!E547","v":0},{"$f":"BehaviorLogEntries!F547","v":0},{"$f":"BehaviorLogEntries!G547","v":0},{"$f":"BehaviorLogEntries!H547","v":0},{"$f":"BehaviorLogEntries!J547","v":0},"","","","","",{"$f":"IFERROR(VLOOKUP(A547,ObData!$A$2:$I$300,5,0),\"\")","v":0},""]
[{"$f":"IFERROR(INDEX(ObData!$A$2:$A$300,MATCH(1,(Data!M548>=ObData!$H$2:$H$300)*(Data!M548<=ObData!$I$2:$I$300),0)),\"N/A\")","v":""},{"$f":"BehaviorLogEntries!A548","v":0},{"$f":"BehaviorLogEntries!B548","v":0},{"$f":"BehaviorLogEntries!C548","v":0},{"$f":"BehaviorLogEntries!D548","v":0},{"$f":"BehaviorLogEntries!E548","v":0},{"$f":"BehaviorLogEntries!F548","v":0},{"$f":"BehaviorLogEntries!G548","v":0},{"$f":"BehaviorLogEntries!H548","v":0},{"$f":"BehaviorLogEntries!J548","v":0},"","","","","",{"$f":"IFERROR(VLOOKUP(A548,ObData!$A$2:$I$300,5,0),\"\")","v":0},""]
[{"$f":"IFERROR(INDEX(ObData!$A$2:$A$300,MATCH(1,(Data!M549>=ObData!$H$2:$H$300)*(Data!M549<=ObData!$I$2:$I$300),0)),\"N/A\")","v":""},{"$f":"BehaviorLogEntries!A549","v":0},{"$f":"BehaviorLogEntries!B549","v":0},{"$f":"BehaviorLogEntries!C549","v":0},{"$f":"BehaviorLogEntries!D549","v":0},{"$f":"BehaviorLogEntries!E549","v":0},{"$f":"BehaviorLogEntries!F549","v":0},{"$f":"BehaviorLogEntries!G549","v":0},{"$f":"BehaviorLogEntries!H549","v":0},{"$f":"BehaviorLogEntries!J549","v":0},"","","","","",{"$f":"IFERROR(VLOOKUP(A549,ObData!$A$2:$I$300,5,0),\"\")","v":0},""]
[{"$f":"IFERROR(INDEX(ObData!$A$2:$A$300,MATCH(1,(Data!M550>=ObData!$H$2:$H$300)*(Data!M550<=ObData!$I$2:$I$300),0)),\"N/A\")","v":""},{"$f":"BehaviorLogEntries!A550","v":0},{"$f":"BehaviorLogEntries!B550","v":0},{"$f":"BehaviorLogEntries!C550","v":0},{"$f":"BehaviorLogEntries!D550","v":0},{"$f":"BehaviorLogEntries!E550","v":0},{"$f":"BehaviorLogEntries!F550","v":0},{"$f":"BehaviorLogEntries!G550","v":0},{"$f":"BehaviorLogEntries!H550","v":0},{"$f":"BehaviorLogEntries!J550","v":0},"","","","","",{"$f":"IFERROR(VLOOKUP(A550,ObData!$A$2:$I$300,5,0),\"\")","v":0},""]
[{"$f":"IFERROR(INDEX(ObData!$A$2:$A$300,MATCH(1,(Data!M551>=ObData!$H$2:$H$300)*(Data!M551<=ObData!$I$2:$I$300),0)),\"N/A\")","v":""},{"$f":"BehaviorLogEntries!A551","v":0},{"$f":"BehaviorLogEntries!B551","v":0},{"$f":"BehaviorLogEntries!C551","v":0},{"$f":"BehaviorLogEntries!D551","v":0},{"$f":"BehaviorLogEntries!E551","v":0},{"$f":"BehaviorLogEntries!F551","v":0},{"$f":"BehaviorLogEntries!G551","v":0},{"$f":"BehaviorLogEntries!H551","v":0},{"$f":"BehaviorLogEntries!J551","v":0},"","","","","",{"$f":"IFERROR(VLOOKUP(A551,ObData!$A$2:$I$300,5,0),\"\")","v":0},""]
[{"$f":"IFERROR(INDEX(ObData!$A$2:$A$300,MATCH(1,(Data!M552>=ObData!$H$2:$H$300)*(Data!M552<=ObData!$I$2:$I$300),0)),\"N/A\")","v":""},{"$f":"BehaviorLogEntries!A552","v":0},{"$f":"BehaviorLogEntries!B552","v":0},{"$f":"BehaviorLogEntries!C552","v":0},{"$f":"BehaviorLogEntries!D552","v":0},{"$f":"BehaviorLogEntries!E552","v":0},{"$f":"BehaviorLogEntries!F552","v":0},{"$f":"BehaviorLogEntries!G552","v":0},{"$f":"BehaviorLogEntries!H552","v":0},{"$f":"BehaviorLogEntries!J552","v":0},"","","","","",{"$f":"IFERROR(VLOOKUP(A552,ObData!$A$2:$I$300,5,0),\"\")","v":0},""]
[{"$f":"IFERROR(INDEX(ObData!$A$2:$A$300,MATCH(1,(Data!M553>=ObData!$H$2:$H$300)*(Data!M553<=ObData!$I$2:$I$300),0)),\"N/A\")","v":""},{"$f":"BehaviorLogEntries!A553","v":0},{"$f":"BehaviorLogEntries!B553","v":0},{"$f":"BehaviorLogEntries!C553","v":0},{"$f":"BehaviorLogEntries!D553","v":0},{"$f":"BehaviorLogEntries!E553","v":0},{"$f":"BehaviorLogEntries!F553","v":0},{"$f":"BehaviorLogEntries!G553","v":0},{"$f":"BehaviorLogEntries!H553","v":0},{"$f":"BehaviorLogEntries!J553","v":0},"","","","","",{"$f":"IFERROR(VLOOKUP(A553,ObData!$A$2:$I$300,5,0),\"\")","v":0},""]
[{"$f":"IFERROR(INDEX(ObData!$A$2:$A$300,MATCH(1,(Data!M554>=ObData!$H$2:$H$300)*(Data!M554<=ObData!$I$2:$I$300),0)),\"N/A\")","v":""},{"$f":"BehaviorLogEntries!A554","v":0},{"$f":"BehaviorLogEntries!B554","v":0},{"$f":"BehaviorLogEntries!C554","v":0},{"$f":"BehaviorLogEntries!D554","v":0},{"$f":"BehaviorLogEntries!E554","v":0},{"$f":"BehaviorLogEntries!F554","v":0},{"$f":"BehaviorLogEntries!G554","v":0},{"$f":"BehaviorLogEntries!H554","v":0},{"$f":"BehaviorLogEntries!J554","v":0},"","","","","",{"$f":"IFERROR(VLOOKUP(A554,ObData!$A$2:$I$300,5,0),\"\")","v":0},""]
[{"$f":"IFERROR(INDEX(ObData!$A$2:$A$300,MATCH(1,(Data!M555>=ObData!$H$2:$H$300)*(Data!M555<=ObData!$I$2:$I$300),0)),\"N/A\")","v":""},{"$f":"BehaviorLogEntries!A555","v":0},{"$f":"BehaviorLogEntries!B555","v":0},{"$f":"BehaviorLogEntries!C555","v":0},{"$f":"BehaviorLogEntries!D555","v":0},{"$f":"BehaviorLogEntries!E555","v":0},{"$f":"BehaviorLogEntries!F555","v":0},{"$f":"BehaviorLogEntries!G555","v":0},{"$f":"BehaviorLogEntries!H555","v":0},{"$f":"BehaviorLogEntries!J555","v":0},"","","","","",{"$f":"IFERROR(VLOOKUP(A555,ObData!$A$2:$I$300,5,0),\"\")","v":0},""]
[{"$f":"IFERROR(INDEX(ObData!$A$2:$A$300,MATCH(1,(Data!M556>=ObData!$H$2:$H$300)*(Data!M556<=ObData!$I$2:$I$300),0)),\"N/A\")","v":""},{"$f":"BehaviorLogEntries!A556","v":0},{"$f":"BehaviorLogEntries!B556","v":0},{"$f":"BehaviorLogEntries!C556","v":0},{"$f":"BehaviorLogEntries!D556","v":0},{"$f":"BehaviorLogEntries!E556","v":0},{"$f":"BehaviorLogEntries!F556","v":0},{"$f":"BehaviorLogEntries!G556","v":0},{"$f":"BehaviorLogEntries!H556","v":0},{"$f":"BehaviorLogEntries!J556","v":0},"","","","","",{"$f":"IFERROR(VLOOKUP(A556,ObData!$A$2:$I$300,5,0),\"\")","v":0},""]
[{"$f":"IFERROR(INDEX(ObData!$A$2:$A$300,MATCH(1,(Data!M557>=ObData!$H$2:$H$300)*(Data!M557<=ObData!$I$2:$I$300),0)),\"N/A\")","v":""},{"$f":"BehaviorLogEntries!A557","v":0},{"$f":"BehaviorLogEntries!B557","v":0},{"$f":"BehaviorLogEntries!C557","v":0},{"$f":"BehaviorLogEntries!D557","v":0},{"$f":"BehaviorLogEntries!E557","v":0},{"$f":"BehaviorLogEntries!F557","v":0},{"$f":"BehaviorLogEntries!G557","v":0},{"$f":"BehaviorLogEntries!H557","v":0},{"$f":"BehaviorLogEntries!J557","v":0},"","","","","",{"$f":"IFERROR(VLOOKUP(A557,ObData!$A$2:$I$300,5,0),\"\")","v":0},""]
[{"$f":"IFERROR(INDEX(ObData!$A$2:$A$300,MATCH(1,(Data!M558>=ObData!$H$2:$H$300)*(Data!M558<=ObData!$I$2:$I$300),0)),\"N/A\")","v":""},{"$f":"BehaviorLogEntries!A558","v":0},{"$f":"BehaviorLogEntries!B558","v":0},{"$f":"BehaviorLogEntries!C558","v":0},{"$f":"BehaviorLogEntries!D558","v":0},{"$f":"BehaviorLogEntries!E558","v":0},{"$f":"BehaviorLogEntries!F558","v":0},{"$f":"BehaviorLogEntries!G558","v":0},{"$f":"BehaviorLogEntries!H558","v":0},{"$f":"BehaviorLogEntries!J558","v":0},"","","","","",{"$f":"IFERROR(VLOOKUP(A558,ObData!$A$2:$I$300,5,0),\"\")","v":0},""]
[{"$f":"IFERROR(INDEX(ObData!$A$2:$A$300,MATCH(1,(Data!M559>=ObData!$H$2:$H$300)*(Data!M559<=ObData!$I$2:$I$300),0)),\"N/A\")","v":""},{"$f":"BehaviorLogEntries!A559","v":0},{"$f":"BehaviorLogEntries!B559","v":0},{"$f":"BehaviorLogEntries!C559","v":0},{"$f":"BehaviorLogEntries!D559","v":0},{"$f":"BehaviorLogEntries!E559","v":0},{"$f":"BehaviorLogEntries!F559","v":0},{"$f":"BehaviorLogEntries!G559","v":0},{"$f":"BehaviorLogEntries!H559","v":0},{"$f":"BehaviorLogEntries!J559","v":0},"","","","","",{"$f":"IFERROR(VLOOKUP(A559,ObData!$A$2:$I$300,5,0),\"\")","v":0},""]
[{"$f":"IFERROR(INDEX(ObData!$A$2:$A$300,MATCH(1,(Data!M560>=ObData!$H$2:$H$300)*(Data!M560<=ObData!$I$2:$I$300),0)),\"N/A\")","v":""},{"$f":"BehaviorLogEntries!A560","v":0},{"$f":"BehaviorLogEntries!B560","v":0},{"$f":"BehaviorLogEntries!C560","v":0},{"$f":"BehaviorLogEntries!D560","v":0},{"$f":"BehaviorLogEntries!E560","v":0},{"$f":"BehaviorLogEntries!F560","v":0},{"$f":"BehaviorLogEntries!G560","v":0},{"$f":"BehaviorLogEntries!H560","v":0},{"$f":"BehaviorLogEntries!J560","v":0},"","","","","",{"$f":"IFERROR(VLOOKUP(A560,ObData!$A$2:$I$300,5,0),\"\")","v":0},""]
[{"$f":"IFERROR(INDEX(ObData!$A$2:$A$300,MATCH(1,(Data!M561>=ObData!$H$2:$H$300)*(Data!M561<=ObData!$I$2:$I$300),0)),\"N/A\")","v":""},{"$f":"BehaviorLogEntries!A561","v":0},{"$f":"BehaviorLogEntries!B561","v":0},{"$f":"BehaviorLogEntries!C561","v":0},{"$f":"BehaviorLogEntries!D561","v":0},{"$f":"BehaviorLogEntries!E561","v":0},{"$f":"BehaviorLogEntries!F561","v":0},{"$f":"BehaviorLogEntries!G561","v":0},{"$f":"BehaviorLogEntries!H561","v":0},{"$f":"BehaviorLogEntries!J561","v":0},"","","","","",{"$f":"IFERROR(VLOOKUP(A561,ObData!$A$2:$I$300,5,0),\"\")","v":0},""]
[{"$f":"IFERROR(INDEX(ObData!$A$2:$A$300,MATCH(1,(Data!M562>=ObData!$H$2:$H$300)*(Data!M562<=ObData!$I$2:$I$300),0)),\"N/A\")","v":""},{"$f":"BehaviorLogEntries!A562","v":0},{"$f":"BehaviorLogEntries!B562","v":0},{"$f":"BehaviorLogEntries!C562","v":0},{"$f":"BehaviorLogEntries!D562","v":0},{"$f":"BehaviorLogEntries!E562","v":0},{"$f":"BehaviorLogEntries!F562","v":0},{"$f":"BehaviorLogEntries!G562","v":0},{"$f":"BehaviorLogEntries!H562","v":0},{"$f":"BehaviorLogEntries!J562","v":0},"","","","","",{"$f":"IFERROR(VLOOKUP(A562,ObData!$A$2:$I$300,5,0),\"\")","v":0},""]
[{"$f":"IFERROR(INDEX(ObData!$A$2:$A$300,MATCH(1,(Data!M563>=ObData!$H$2:$H$300)*(Data!M563<=ObData!$I$2:$I$300),0)),\"N/A\")","v":""},{"$f":"BehaviorLogEntries!A563","v":0},{"$f":"BehaviorLogEntries!B563","v":0},{"$f":"BehaviorLogEntries!C563","v":0},{"$f":"BehaviorLogEntries!D563","v":0},{"$f":"BehaviorLogEntries!E563","v":0},{"$f":"BehaviorLogEntries!F563","v":0},{"$f":"BehaviorLogEntries!G563","v":0},{"$f":"BehaviorLogEntries!H563","v":0},{"$f":"BehaviorLogEntries!J563","v":0},"","","","","",{"$f":"IFERROR(VLOOKUP(A563,ObData!$A$2:$I$300,5,0),\"\")","v":0},""]
[{"$f":"IFERROR(INDEX(ObData!$A$2:$A$300,MATCH(1,(Data!M564>=ObData!$H$2:$H$300)*(Data!M564<=ObData!$I$2:$I$300),0)),\"N/A\")","v":""},{"$f":"BehaviorLogEntries!A564","v":0},{"$f":"BehaviorLogEntries!B564","v":0},{"$f":"BehaviorLogEntries!C564","v":0},{"$f":"BehaviorLogEntries!D564","v":0},{"$f":"BehaviorLogEntries!E564","v":0},{"$f":"BehaviorLogEntries!F564","v":0},{"$f":"BehaviorLogEntries!G564","v":0},{"$f":"BehaviorLogEntries!H564","v":0},{"$f":"BehaviorLogEntries!J564","v":0},"","","","","",{"$f":"IFERROR(VLOOKUP(A564,ObData!$A$2:$I$300,5,0),\"\")","v":0},""]
[{"$f":"IFERROR(INDEX(ObData!$A$2:$A$300,MATCH(1,(Data!M565>=ObData!$H$2:$H$300)*(Data!M565<=ObData!$I$2:$I$300),0)),\"N/A\")","v":""},{"$f":"BehaviorLogEntries!A565","v":0},{"$f":"BehaviorLogEntries!B565","v":0},{"$f":"BehaviorLogEntries!C565","v":0},{"$f":"BehaviorLogEntries!D565","v":0},{"$f":"BehaviorLogEntries!E565","v":0},{"$f":"BehaviorLogEntries!F565","v":0},{"$f":"BehaviorLogEntries!G565","v":0},{"$f":"BehaviorLogEntries!H565","v":0},{"$f":"BehaviorLogEntries!J565","v":0},"","","","","",{"$f":"IFERROR(VLOOKUP(A565,ObData!$A$2:$I$300,5,0),\"\")","v":0},""]
[{"$f":"IFERROR(INDEX(ObData!$A$2:$A$300,MATCH(1,(Data!M566>=ObData!$H$2:$H$300)*(Data!M566<=ObData!$I$2:$I$300),0)),\"N/A\")","v":""},{"$f":"BehaviorLogEntries!A566","v":0},{"$f":"BehaviorLogEntries!B566","v":0},{"$f":"BehaviorLogEntries!C566","v":0},{"$f":"BehaviorLogEntries!D566","v":0},{"$f":"BehaviorLogEntries!E566","v":0},{"$f":"BehaviorLogEntries!F566","v":0},{"$f":"BehaviorLogEntries!G566","v":0},{"$f":"BehaviorLogEntries!H566","v":0},{"$f":"BehaviorLogEntries!J566","v":0},"","","","","",{"$f":"IFERROR(VLOOKUP(A566,ObData!$A$2:$I$300,5,0),\"\")","v":0},""]
[{"$f":"IFERROR(INDEX(ObData!$A$2:$A$300,MATCH(1,(Data!M567>=ObData!$H$2:$H$300)*(Data!M567<=ObData!$I$2:$I$300),0)),\"N/A\")","v":""},{"$f":"BehaviorLogEntries!A567","v":0},{"$f":"BehaviorLogEntries!B567","v":0},{"$f":"BehaviorLogEntries!C567","v":0},{"$f":"BehaviorLogEntries!D567","v":0},{"$f":"BehaviorLogEntries!E567","v":0},{"$f":"BehaviorLogEntries!F567","v":0},{"$f":"BehaviorLogEntries!G567","v":0},{"$f":"BehaviorLogEntries!H567","v":0},{"$f":"BehaviorLogEntries!J567","v":0},"","","","","",{"$f":"IFERROR(VLOOKUP(A567,ObData!$A$2:$I$300,5,0),\"\")","v":0},""]
[{"$f":"IFERROR(INDEX(ObData!$A$2:$A$300,MATCH(1,(Data!M568>=ObData!$H$2:$H$300)*(Data!M568<=ObData!$I$2:$I$300),0)),\"N/A\")","v":""},{"$f":"BehaviorLogEntries!A568","v":0},{"$f":"BehaviorLogEntries!B568","v":0},{"$f":"BehaviorLogEntries!C568","v":0},{"$f":"BehaviorLogEntries!D568","v":0},{"$f":"BehaviorLogEntries!E568","v":0},{"$f":"BehaviorLogEntries!F568","v":0},{"$f":"BehaviorLogEntries!G568","v":0},{"$f":"BehaviorLogEntries!H568","v":0},{"$f":"BehaviorLogEntries!J568","v":0},"","","","","",{"$f":"IFERROR(VLOOKUP(A568,ObData!$A$2:$I$300,5,0),\"\")","v":0},""]
[{"$f":"IFERROR(INDEX(ObData!$A$2:$A$300,MATCH(1,(Data!M569>=ObData!$H$2:$H$300)*(Data!M569<=ObData!$I$2:$I$300),0)),\"N/A\")","v":""},{"$f":"BehaviorLogEntries!A569","v":0},{"$f":"BehaviorLogEntries!B569","v":0},{"$f":"BehaviorLogEntries!C569","v":0},{"$f":"BehaviorLogEntries!D569","v":0},{"$f":"BehaviorLogEntries!E569","v":0},{"$f":"BehaviorLogEntries!F569","v":0},{"$f":"BehaviorLogEntries!G569","v":0},{"$f":"BehaviorLogEntries!H569","v":0},{"$f":"BehaviorLogEntries!J569","v":0},"","","","","",{"$f":"IFERROR(VLOOKUP(A569,ObData!$A$2:$I$300,5,0),\"\")","v":0},""]
[{"$f":"IFERROR(INDEX(ObData!$A$2:$A$300,MATCH(1,(Data!M570>=ObData!$H$2:$H$300)*(Data!M570<=ObData!$I$2:$I$300),0)),\"N/A\")","v":""},{"$f":"BehaviorLogEntries!A570","v":0},{"$f":"BehaviorLogEntries!B570","v":0},{"$f":"BehaviorLogEntries!C570","v":0},{"$f":"BehaviorLogEntries!D570","v":0},{"$f":"BehaviorLogEntries!E570","v":0},{"$f":"BehaviorLogEntries!F570","v":0},{"$f":"BehaviorLogEntries!G570","v":0},{"$f":"BehaviorLogEntries!H570","v":0},{"$f":"BehaviorLogEntries!J570","v":0},"","","","","",{"$f":"IFERROR(VLOOKUP(A570,ObData!$A$2:$I$300,5,0),\"\")","v":0},""]
[{"$f":"IFERROR(INDEX(ObData!$A$2:$A$300,MATCH(1,(Data!M571>=ObData!$H$2:$H$300)*(Data!M571<=ObData!$I$2:$I$300),0)),\"N/A\")","v":""},{"$f":"BehaviorLogEntries!A571","v":0},{"$f":"BehaviorLogEntries!B571","v":0},{"$f":"BehaviorLogEntries!C571","v":0},{"$f":"BehaviorLogEntries!D571","v":0},{"$f":"BehaviorLogEntries!E571","v":0},{"$f":"BehaviorLogEntries!F571","v":0},{"$f":"BehaviorLogEntries!G571","v":0},{"$f":"BehaviorLogEntries!H571","v":0},{"$f":"BehaviorLogEntries!J571","v":0},"","","","","",{"$f":"IFERROR(VLOOKUP(A571,ObData!$A$2:$I$300,5,0),\"\")","v":0},""]
[{"$f":"IFERROR(INDEX(ObData!$A$2:$A$300,MATCH(1,(Data!M572>=ObData!$H$2:$H$300)*(Data!M572<=ObData!$I$2:$I$300),0)),\"N/A\")","v":""},{"$f":"BehaviorLogEntries!A572","v":0},{"$f":"BehaviorLogEntries!B572","v":0},{"$f":"BehaviorLogEntries!C572","v":0},{"$f":"BehaviorLogEntries!D572","v":0},{"$f":"BehaviorLogEntries!E572","v":0},{"$f":"BehaviorLogEntries!F572","v":0},{"$f":"BehaviorLogEntries!G572","v":0},{"$f":"BehaviorLogEntries!H572","v":0},{"$f":"BehaviorLogEntries!J572","v":0},"","","","","",{"$f":"IFERROR(VLOOKUP(A572,ObData!$A$2:$I$300,5,0),\"\")","v":0},""]
[{"$f":"IFERROR(INDEX(ObData!$A$2:$A$300,MATCH(1,(Data!M573>=ObData!$H$2:$H$300)*(Data!M573<=ObData!$I$2:$I$300),0)),\"N/A\")","v":""},{"$f":"BehaviorLogEntries!A573","v":0},{"$f":"BehaviorLogEntries!B573","v":0},{"$f":"BehaviorLogEntries!C573","v":0},{"$f":"BehaviorLogEntries!D573","v":0},{"$f":"BehaviorLogEntries!E573","v":0},{"$f":"BehaviorLogEntries!F573","v":0},{"$f":"BehaviorLogEntries!G573","v":0},{"$f":"BehaviorLogEntries!H573","v":0},{"$f":"BehaviorLogEntries!J573","v":0},"","","","","",{"$f":"IFERROR(VLOOKUP(A573,ObData!$A$2:$I$300,5,0),\"\")","v":0},""]
[{"$f":"IFERROR(INDEX(ObData!$A$2:$A$300,MATCH(1,(Data!M574>=ObData!$H$2:$H$300)*(Data!M574<=ObData!$I$2:$I$300),0)),\"N/A\")","v":""},{"$f":"BehaviorLogEntries!A574","v":0},{"$f":"BehaviorLogEntries!B574","v":0},{"$f":"BehaviorLogEntries!C574","v":0},{"$f":"BehaviorLogEntries!D574","v":0},{"$f":"BehaviorLogEntries!E574","v":0},{"$f":"BehaviorLogEntries!F574","v":0},{"$f":"BehaviorLogEntries!G574","v":0},{"$f":"BehaviorLogEntries!H574","v":0},{"$f":"BehaviorLogEntries!J574","v":0},"","","","","",{"$f":"IFERROR(VLOOKUP(A574,ObData!$A$2:$I$300,5,0),\"\")","v":0},""]
[{"$f":"IFERROR(INDEX(ObData!$A$2:$A$300,MATCH(1,(Data!M575>=ObData!$H$2:$H$300)*(Data!M575<=ObData!$I$2:$I$300),0)),\"N/A\")","v":""},{"$f":"BehaviorLogEntries!A575","v":0},{"$f":"BehaviorLogEntries!B575","v":0},{"$f":"BehaviorLogEntries!C575","v":0},{"$f":"BehaviorLogEntries!D575","v":0},{"$f":"BehaviorLogEntries!E575","v":0},{"$f":"BehaviorLogEntries!F575","v":0},{"$f":"BehaviorLogEntries!G575","v":0},{"$f":"BehaviorLogEntries!H575","v":0},{"$f":"BehaviorLogEntries!J575","v":0},"","","","","",{"$f":"IFERROR(VLOOKUP(A575,ObData!$A$2:$I$300,5,0),\"\")","v":0},""]
[{"$f":"IFERROR(INDEX(ObData!$A$2:$A$300,MATCH(1,(Data!M576>=ObData!$H$2:$H$300)*(Data!M576<=ObData!$I$2:$I$300),0)),\"N/A\")","v":""},{"$f":"BehaviorLogEntries!A576","v":0},{"$f":"BehaviorLogEntries!B576","v":0},{"$f":"BehaviorLogEntries!C576","v":0},{"$f":"BehaviorLogEntries!D576","v":0},{"$f":"BehaviorLogEntries!E576","v":0},{"$f":"BehaviorLogEntries!F576","v":0},{"$f":"BehaviorLogEntries!G576","v":0},{"$f":"BehaviorLogEntries!H576","v":0},{"$f":"BehaviorLogEntries!J576","v":0},"","","","","",{"$f":"IFERROR(VLOOKUP(A576,ObData!$A$2:$I$300,5,0),\"\")","v":0},""]
[{"$f":"IFERROR(INDEX(ObData!$A$2:$A$300,MATCH(1,(Data!M577>=ObData!$H$2:$H$300)*(Data!M577<=ObData!$I$2:$I$300),0)),\"N/A\")","v":""},{"$f":"BehaviorLogEntries!A577","v":0},{"$f":"BehaviorLogEntries!B577","v":0},{"$f":"BehaviorLogEntries!C577","v":0},{"$f":"BehaviorLogEntries!D577","v":0},{"$f":"BehaviorLogEntries!E577","v":0},{"$f":"BehaviorLogEntries!F577","v":0},{"$f":"BehaviorLogEntries!G577","v":0},{"$f":"BehaviorLogEntries!H577","v":0},{"$f":"BehaviorLogEntries!J577","v":0},"","","","","",{"$f":"IFERROR(VLOOKUP(A577,ObData!$A$2:$I$300,5,0),\"\")","v":0},""]
[{"$f":"IFERROR(INDEX(ObData!$A$2:$A$300,MATCH(1,(Data!M578>=ObData!$H$2:$H$300)*(Data!M578<=ObData!$I$2:$I$300),0)),\"N/A\")","v":""},{"$f":"BehaviorLogEntries!A578","v":0},{"$f":"BehaviorLogEntries!B578","v":0},{"$f":"BehaviorLogEntries!C578","v":0},{"$f":"BehaviorLogEntries!D578","v":0},{"$f":"BehaviorLogEntries!E578","v":0},{"$f":"BehaviorLogEntries!F578","v":0},{"$f":"BehaviorLogEntries!G578","v":0},{"$f":"BehaviorLogEntries!H578","v":0},{"$f":"BehaviorLogEntries!J578","v":0},"","","","","",{"$f":"IFERROR(VLOOKUP(A578,ObData!$A$2:$I$300,5,0),\"\")","v":0},""]
[{"$f":"IFERROR(INDEX(ObData!$A$2:$A$300,MATCH(1,(Data!M579>=ObData!$H$2:$H$300)*(Data!M579<=ObData!$I$2:$I$300),0)),\"N/A\")","v":""},{"$f":"BehaviorLogEntries!A579","v":0},{"$f":"BehaviorLogEntries!B579","v":0},{"$f":"BehaviorLogEntries!C579","v":0},{"$f":"BehaviorLogEntries!D579","v":0},{"$f":"BehaviorLogEntries!E579","v":0},{"$f":"BehaviorLogEntries!F579","v":0},{"$f":"BehaviorLogEntries!G579","v":0},{"$f":"BehaviorLogEntries!H579","v":0},{"$f":"BehaviorLogEntries!J579","v":0},{"$f":"IF(F579<>0,IF(K579=\"\",NOW(),K579),\"\")","v":""},{"$f":"IFERROR(IF(J579<>0,J579,DATE(YEAR(K579),MONTH(K579),DAY(K579))),\"\")","v":""},{"$f":"IF(B579=0,\"\",L579+F579)","v":""},{"$f":"IFERROR(IF(G579=\"Yes\",F579+0.00069444,IF(H579<>0,H579,IF(DATE(YEAR(K579),MONTH(K579),DAY(K579))<>DATE(YEAR(L579),MONTH(L579),DAY(L579)),F579+0.00069444,K579-DATE(YEAR(K579),MONTH(K579),DAY(K579))))),\"\")","v":""},{"$f":"IF(B579=0,\"\",L579+N579)","v":""},{"$f":"IFERROR(VLOOKUP(A579,ObData!$A$2:$I$300,5,0),\"\")","v":0},{"$f":"IF(F579=0,\"\",N579-F579)","v":""}]
[{"$f":"IFERROR(INDEX(ObData!$A$2:$A$300,MATCH(1,(Data!M580>=ObData!$H$2:$H$300)*(Data!M580<=ObData!$I$2:$I$300),0)),\"N/A\")","v":""},{"$f":"BehaviorLogEntries!A580","v":0},{"$f":"BehaviorLogEntries!B580","v":0},{"$f":"BehaviorLogEntries!C580","v":0},{"$f":"BehaviorLogEntries!D580","v":0},{"$f":"BehaviorLogEntries!E580","v":0},{"$f":"BehaviorLogEntries!F580","v":0},{"$f":"BehaviorLogEntries!G580","v":0},{"$f":"BehaviorLogEntries!H580","v":0},{"$f":"BehaviorLogEntries!J580","v":0},"","","","","",{"$f":"IFERROR(VLOOKUP(A580,ObData!$A$2:$I$300,5,0),\"\")","v":0},""]
[{"$f":"IFERROR(INDEX(ObData!$A$2:$A$300,MATCH(1,(Data!M581>=ObData!$H$2:$H$300)*(Data!M581<=ObData!$I$2:$I$300),0)),\"N/A\")","v":""},{"$f":"BehaviorLogEntries!A581","v":0},{"$f":"BehaviorLogEntries!B581","v":0},{"$f":"BehaviorLogEntries!C581","v":0},{"$f":"BehaviorLogEntries!D581","v":0},{"$f":"BehaviorLogEntries!E581","v":0},{"$f":"BehaviorLogEntries!F581","v":0},{"$f":"BehaviorLogEntries!G581","v":0},{"$f":"BehaviorLogEntries!H581","v":0},{"$f":"BehaviorLogEntries!J581","v":0},"","","","","",{"$f":"IFERROR(VLOOKUP(A581,ObData!$A$2:$I$300,5,0),\"\")","v":0},""]
[{"$f":"IFERROR(INDEX(ObData!$A$2:$A$300,MATCH(1,(Data!M582>=ObData!$H$2:$H$300)*(Data!M582<=ObData!$I$2:$I$300),0)),\"N/A\")","v":""},{"$f":"BehaviorLogEntries!A582","v":0},{"$f":"BehaviorLogEntries!B582","v":0},{"$f":"BehaviorLogEntries!C582","v":0},{"$f":"BehaviorLogEntries!D582","v":0},{"$f":"BehaviorLogEntries!E582","v":0},{"$f":"BehaviorLogEntries!F582","v":0},{"$f":"BehaviorLogEntries!G582","v":0},{"$f":"BehaviorLogEntries!H582","v":0},{"$f":"BehaviorLogEntries!J582","v":0},"","","","","",{"$f":"IFERROR(VLOOKUP(A582,ObData!$A$2:$I$300,5,0),\"\")","v":0},""]
[{"$f":"IFERROR(INDEX(ObData!$A$2:$A$300,MATCH(1,(Data!M583>=ObData!$H$2:$H$300)*(Data!M583<=ObData!$I$2:$I$300),0)),\"N/A\")","v":""},{"$f":"BehaviorLogEntries!A583","v":0},{"$f":"BehaviorLogEntries!B583","v":0},{"$f":"BehaviorLogEntries!C583","v":0},{"$f":"BehaviorLogEntries!D583","v":0},{"$f":"BehaviorLogEntries!E583","v":0},{"$f":"BehaviorLogEntries!F583","v":0},{"$f":"BehaviorLogEntries!G583","v":0},{"$f":"BehaviorLogEntries!H583","v":0},{"$f":"BehaviorLogEntries!J583","v":0},"","","","","",{"$f":"IFERROR(VLOOKUP(A583,ObData!$A$2:$I$300,5,0),\"\")","v":0},""]
[{"$f":"IFERROR(INDEX(ObData!$A$2:$A$300,MATCH(1,(Data!M584>=ObData!$H$2:$H$300)*(Data!M584<=ObData!$I$2:$I$300),0)),\"N/A\")","v":""},{"$f":"BehaviorLogEntries!A584","v":0},{"$f":"BehaviorLogEntries!B584","v":0},{"$f":"BehaviorLogEntries!C584","v":0},{"$f":"BehaviorLogEntries!D584","v":0},{"$f":"BehaviorLogEntries!E584","v":0},{"$f":"BehaviorLogEntries!F584","v":0},{"$f":"BehaviorLogEntries!G584","v":0},{"$f":"BehaviorLogEntries!H584","v":0},{"$f":"BehaviorLogEntries!J584","v":0},"","","","","",{"$f":"IFERROR(VLOOKUP(A584,ObData!$A$2:$I$300,5,0),\"\")","v":0},""]
[{"$f":"IFERROR(INDEX(ObData!$A$2:$A$300,MATCH(1,(Data!M585>=ObData!$H$2:$H$300)*(Data!M585<=ObData!$I$2:$I$300),0)),\"N/A\")","v":""},{"$f":"BehaviorLogEntries!A585","v":0},{"$f":"BehaviorLogEntries!B585","v":0},{"$f":"BehaviorLogEntries!C585","v":0},{"$f":"BehaviorLogEntries!D585","v":0},{"$f":"BehaviorLogEntries!E585","v":0},{"$f":"BehaviorLogEntries!F585","v":0},{"$f":"BehaviorLogEntries!G585","v":0},{"$f":"BehaviorLogEntries!H585","v":0},{"$f":"BehaviorLogEntries!J585","v":0},"","","","","",{"$f":"IFERROR(VLOOKUP(A585,ObData!$A$2:$I$300,5,0),\"\")","v":0},""]
[{"$f":"IFERROR(INDEX(ObData!$A$2:$A$300,MATCH(1,(Data!M586>=ObData!$H$2:$H$300)*(Data!M586<=ObData!$I$2:$I$300),0)),\"N/A\")","v":""},{"$f":"BehaviorLogEntries!A586","v":0},{"$f":"BehaviorLogEntries!B586","v":0},{"$f":"BehaviorLogEntries!C586","v":0},{"$f":"BehaviorLogEntries!D586","v":0},{"$f":"BehaviorLogEntries!E586","v":0},{"$f":"BehaviorLogEntries!F586","v":0},{"$f":"BehaviorLogEntries!G586","v":0},{"$f":"BehaviorLogEntries!H586","v":0},{"$f":"BehaviorLogEntries!J586","v":0},"","","","","",{"$f":"IFERROR(VLOOKUP(A586,ObData!$A$2:$I$300,5,0),\"\")","v":0},""]
[{"$f":"IFERROR(INDEX(ObData!$A$2:$A$300,MATCH(1,(Data!M587>=ObData!$H$2:$H$300)*(Data!M587<=ObData!$I$2:$I$300),0)),\"N/A\")","v":""},{"$f":"BehaviorLogEntries!A587","v":0},{"$f":"BehaviorLogEntries!B587","v":0},{"$f":"BehaviorLogEntries!C587","v":0},{"$f":"BehaviorLogEntries!D587","v":0},{"$f":"BehaviorLogEntries!E587","v":0},{"$f":"BehaviorLogEntries!F587","v":0},{"$f":"BehaviorLogEntries!G587","v":0},{"$f":"BehaviorLogEntries!H587","v":0},{"$f":"BehaviorLogEntries!J587","v":0},"","","","","",{"$f":"IFERROR(VLOOKUP(A587,ObData!$A$2:$I$300,5,0),\"\")","v":0},""]
[{"$f":"IFERROR(INDEX(ObData!$A$2:$A$300,MATCH(1,(Data!M588>=ObData!$H$2:$H$300)*(Data!M588<=ObData!$I$2:$I$300),0)),\"N/A\")","v":""},{"$f":"BehaviorLogEntries!A588","v":0},{"$f":"BehaviorLogEntries!B588","v":0},{"$f":"BehaviorLogEntries!C588","v":0},{"$f":"BehaviorLogEntries!D588","v":0},{"$f":"BehaviorLogEntries!E588","v":0},{"$f":"BehaviorLogEntries!F588","v":0},{"$f":"BehaviorLogEntries!G588","v":0},{"$f":"BehaviorLogEntries!H588","v":0},{"$f":"BehaviorLogEntries!J588","v":0},"","","","","",{"$f":"IFERROR(VLOOKUP(A588,ObData!$A$2:$I$300,5,0),\"\")","v":0},""]
[{"$f":"IFERROR(INDEX(ObData!$A$2:$A$300,MATCH(1,(Data!M589>=ObData!$H$2:$H$300)*(Data!M589<=ObData!$I$2:$I$300),0)),\"N/A\")","v":""},{"$f":"BehaviorLogEntries!A589","v":0},{"$f":"BehaviorLogEntries!B589","v":0},{"$f":"BehaviorLogEntries!C589","v":0},{"$f":"BehaviorLogEntries!D589","v":0},{"$f":"BehaviorLogEntries!E589","v":0},{"$f":"BehaviorLogEntries!F589","v":0},{"$f":"BehaviorLogEntries!G589","v":0},{"$f":"BehaviorLogEntries!H589","v":0},{"$f":"BehaviorLogEntries!J589","v":0},"","","","","",{"$f":"IFERROR(VLOOKUP(A589,ObData!$A$2:$I$300,5,0),\"\")","v":0},""]
[{"$f":"IFERROR(INDEX(ObData!$A$2:$A$300,MATCH(1,(Data!M590>=ObData!$H$2:$H$300)*(Data!M590<=ObData!$I$2:$I$300),0)),\"N/A\")","v":""},{"$f":"BehaviorLogEntries!A590","v":0},{"$f":"BehaviorLogEntries!B590","v":0},{"$f":"BehaviorLogEntries!C590","v":0},{"$f":"BehaviorLogEntries!D590","v":0},{"$f":"BehaviorLogEntries!E590","v":0},{"$f":"BehaviorLogEntries!F590","v":0},{"$f":"BehaviorLogEntries!G590","v":0},{"$f":"BehaviorLogEntries!H590","v":0},{"$f":"BehaviorLogEntries!J590","v":0},"","","","","",{"$f":"IFERROR(VLOOKUP(A590,ObData!$A$2:$I$300,5,0),\"\")","v":0},""]
[{"$f":"IFERROR(INDEX(ObData!$A$2:$A$300,MATCH(1,(Data!M591>=ObData!$H$2:$H$300)*(Data!M591<=ObData!$I$2:$I$300),0)),\"N/A\")","v":""},{"$f":"BehaviorLogEntries!A591","v":0},{"$f":"BehaviorLogEntries!B591","v":0},{"$f":"BehaviorLogEntries!C591","v":0},{"$f":"BehaviorLogEntries!D591","v":0},{"$f":"BehaviorLogEntries!E591","v":0},{"$f":"BehaviorLogEntries!F591","v":0},{"$f":"BehaviorLogEntries!G591","v":0},{"$f":"BehaviorLogEntries!H591","v":0},{"$f":"BehaviorLogEntries!J591","v":0},"","","","","",{"$f":"IFERROR(VLOOKUP(A591,ObData!$A$2:$I$300,5,0),\"\")","v":0},""]
[{"$f":"IFERROR(INDEX(ObData!$A$2:$A$300,MATCH(1,(Data!M592>=ObData!$H$2:$H$300)*(Data!M592<=ObData!$I$2:$I$300),0)),\"N/A\")","v":""},{"$f":"BehaviorLogEntries!A592","v":0},{"$f":"BehaviorLogEntries!B592","v":0},{"$f":"BehaviorLogEntries!C592","v":0},{"$f":"BehaviorLogEntries!D592","v":0},{"$f":"BehaviorLogEntries!E592","v":0},{"$f":"BehaviorLogEntries!F592","v":0},{"$f":"BehaviorLogEntries!G592","v":0},{"$f":"BehaviorLogEntries!H592","v":0},{"$f":"BehaviorLogEntries!J592","v":0},"","","","","",{"$f":"IFERROR(VLOOKUP(A592,ObData!$A$2:$I$300,5,0),\"\")","v":0},""]
[{"$f":"IFERROR(INDEX(ObData!$A$2:$A$300,MATCH(1,(Data!M593>=ObData!$H$2:$H$300)*(Data!M593<=ObData!$I$2:$I$300),0)),\"N/A\")","v":""},{"$f":"BehaviorLogEntries!A593","v":0},{"$f":"BehaviorLogEntries!B593","v":0},{"$f":"BehaviorLogEntries!C593","v":0},{"$f":"BehaviorLogEntries!D593","v":0},{"$f":"BehaviorLogEntries!E593","v":0},{"$f":"BehaviorLogEntries!F593","v":0},{"$f":"BehaviorLogEntries!G593","v":0},{"$f":"BehaviorLogEntries!H593","v":0},{"$f":"BehaviorLogEntries!J593","v":0},"","","","","",{"$f":"IFERROR(VLOOKUP(A593,ObData!$A$2:$I$300,5,0),\"\")","v":0},""]
[{"$f":"IFERROR(INDEX(ObData!$A$2:$A$300,MATCH(1,(Data!M594>=ObData!$H$2:$H$300)*(Data!M594<=ObData!$I$2:$I$300),0)),\"N/A\")","v":""},{"$f":"BehaviorLogEntries!A594","v":0},{"$f":"BehaviorLogEntries!B594","v":0},{"$f":"BehaviorLogEntries!C594","v":0},{"$f":"BehaviorLogEntries!D594","v":0},{"$f":"BehaviorLogEntries!E594","v":0},{"$f":"BehaviorLogEntries!F594","v":0},{"$f":"BehaviorLogEntries!G594","v":0},{"$f":"BehaviorLogEntries!H594","v":0},{"$f":"BehaviorLogEntries!J594","v":0},"","","","","",{"$f":"IFERROR(VLOOKUP(A594,ObData!$A$2:$I$300,5,0),\"\")","v":0},""]
[{"$f":"IFERROR(INDEX(ObData!$A$2:$A$300,MATCH(1,(Data!M595>=ObData!$H$2:$H$300)*(Data!M595<=ObData!$I$2:$I$300),0)),\"N/A\")","v":""},{"$f":"BehaviorLogEntries!A595","v":0},{"$f":"BehaviorLogEntries!B595","v":0},{"$f":"BehaviorLogEntries!C595","v":0},{"$f":"BehaviorLogEntries!D595","v":0},{"$f":"BehaviorLogEntries!E595","v":0},{"$f":"BehaviorLogEntries!F595","v":0},{"$f":"BehaviorLogEntries!G595","v":0},{"$f":"BehaviorLogEntries!H595","v":0},{"$f":"BehaviorLogEntries!J595","v":0},"","","","","",{"$f":"IFERROR(VLOOKUP(A595,ObData!$A$2:$I$300,5,0),\"\")","v":0},""]
[{"$f":"IFERROR(INDEX(ObData!$A$2:$A$300,MATCH(1,(Data!M596>=ObData!$H$2:$H$300)*(Data!M596<=ObData!$I$2:$I$300),0)),\"N/A\")","v":""},{"$f":"BehaviorLogEntries!A596","v":0},{"$f":"BehaviorLogEntries!B596","v":0},{"$f":"BehaviorLogEntries!C596","v":0},{"$f":"BehaviorLogEntries!D596","v":0},{"$f":"BehaviorLogEntries!E596","v":0},{"$f":"BehaviorLogEntries!F596","v":0},{"$f":"BehaviorLogEntries!G596","v":0},{"$f":"BehaviorLogEntries!H596","v":0},{"$f":"BehaviorLogEntries!J596","v":0},"","","","","",{"$f":"IFERROR(VLOOKUP(A596,ObData!$A$2:$I$300,5,0),\"\")","v":0},""]
[{"$f":"IFERROR(INDEX(ObData!$A$2:$A$300,MATCH(1,(Data!M597>=ObData!$H$2:$H$300)*(Data!M597<=ObData!$I$2:$I$300),0)),\"N/A\")","v":""},{"$f":"BehaviorLogEntries!A597","v":0},{"$f":"BehaviorLogEntries!B597","v":0},{"$f":"BehaviorLogEntries!C597","v":0},{"$f":"BehaviorLogEntries!D597","v":0},{"$f":"BehaviorLogEntries!E597","v":0},{"$f":"BehaviorLogEntries!F597","v":0},{"$f":"BehaviorLogEntries!G597","v":0},{"$f":"BehaviorLogEntries!H597","v":0},{"$f":"BehaviorLogEntries!J597","v":0},"","","","","",{"$f":"IFERROR(VLOOKUP(A597,ObData!$A$2:$I$300,5,0),\"\")","v":0},""]
[{"$f":"IFERROR(INDEX(ObData!$A$2:$A$300,MATCH(1,(Data!M598>=ObData!$H$2:$H$300)*(Data!M598<=ObData!$I$2:$I$300),0)),\"N/A\")","v":""},{"$f":"BehaviorLogEntries!A598","v":0},{"$f":"BehaviorLogEntries!B598","v":0},{"$f":"BehaviorLogEntries!C598","v":0},{"$f":"BehaviorLogEntries!D598","v":0},{"$f":"BehaviorLogEntries!E598","v":0},{"$f":"BehaviorLogEntries!F598","v":0},{"$f":"BehaviorLogEntries!G598","v":0},{"$f":"BehaviorLogEntries!H598","v":0},{"$f":"BehaviorLogEntries!J598","v":0},"","","","","",{"$f":"IFERROR(VLOOKUP(A598,ObData!$A$2:$I$300,5,0),\"\")","v":0},""]
[{"$f":"IFERROR(INDEX(ObData!$A$2:$A$300,MATCH(1,(Data!M599>=ObData!$H$2:$H$300)*(Data!M599<=ObData!$I$2:$I$300),0)),\"N/A\")","v":""},{"$f":"BehaviorLogEntries!A599","v":0},{"$f":"BehaviorLogEntries!B599","v":0},{"$f":"BehaviorLogEntries!C599","v":0},{"$f":"BehaviorLogEntries!D599","v":0},{"$f":"BehaviorLogEntries!E599","v":0},{"$f":"BehaviorLogEntries!F599","v":0},{"$f":"BehaviorLogEntries!G599","v":0},{"$f":"BehaviorLogEntries!H599","v":0},{"$f":"BehaviorLogEntries!J599","v":0},"","","","","",{"$f":"IFERROR(VLOOKUP(A599,ObData!$A$2:$I$300,5,0),\"\")","v":0},""]
[{"$f":"IFERROR(INDEX(ObData!$A$2:$A$300,MATCH(1,(Data!M600>=ObData!$H$2:$H$300)*(Data!M600<=ObData!$I$2:$I$300),0)),\"N/A\")","v":""},{"$f":"BehaviorLogEntries!A600","v":0},{"$f":"BehaviorLogEntries!B600","v":0},{"$f":"BehaviorLogEntries!C600","v":0},{"$f":"BehaviorLogEntries!D600","v":0},{"$f":"BehaviorLogEntries!E600","v":0},{"$f":"BehaviorLogEntries!F600","v":0},{"$f":"BehaviorLogEntries!G600","v":0},{"$f":"BehaviorLogEntries!H600","v":0},{"$f":"BehaviorLogEntries!J600","v":0},"","","","","",{"$f":"IFERROR(VLOOKUP(A600,ObData!$A$2:$I$300,5,0),\"\")","v":0},""]

{"sheet":"ObData","index":10,"n_rows":300,"n_cols":10,"rows_kept":300,"cut":false,"hidden":true,"merged":[]}
["Observation Number","Number","Date","Start Time","Setting","End Time","Active","StartTimeDate","EndTimeDate","Session Length"]
[{"$f":"IF(B2=\"\",\"\",\"Observation \"&B2)","v":{"$error":"#VALUE!"}},{"$f":"IF(C2=\"\",\"\",RANK(H2,$H$2:$H$300,1))","v":{"$error":"#VALUE!"}},"2017-10-10","9:00AM ","Classroom",null,{"$f":"IF(AND(D2<>\"\",F2=\"\"),1,0)","v":1},{"$f":"IF(E2=\"\",\"\",C2+D2)","v":{"$error":"#VALUE!"}},{"$f":"IF(E2=\"\",\"\",C2+F2)","v":43018},{"$f":"IF(F2=\"\",\"\",F2-D2)","v":""}]
[{"$f":"IF(B3=\"\",\"\",\"Observation \"&B3)","v":""},{"$f":"IF(C3=\"\",\"\",RANK(H3,$H$2:$H$300,1))","v":""},null,null,null,null,{"$f":"IF(AND(D3<>\"\",F3=\"\"),1,0)","v":0},{"$f":"IF(E3=\"\",\"\",C3+D3)","v":""},{"$f":"IF(E3=\"\",\"\",C3+F3)","v":""},{"$f":"IF(F3=\"\",\"\",F3-D3)","v":""}]
["","",null,null,null,null,0,"","",""]
["","",null,null,null,null,0,"","",""]
["","",null,null,null,null,0,"","",""]
["","",null,null,null,null,0,"","",""]
["","",null,null,null,null,0,"","",""]
["","",null,null,null,null,0,"","",""]
["","",null,null,null,null,0,"","",""]
["","",null,null,null,null,0,{"$f":"IF(E11=\"\",\"\",C11+D11)","v":""},{"$f":"IF(E11=\"\",\"\",C11+F11)","v":""},{"$f":"IF(F11=\"\",\"\",F11-D11)","v":""}]
[{"$f":"IF(B12=\"\",\"\",\"Observation \"&B12)","v":""},{"$f":"IF(C12=\"\",\"\",RANK(H12,$H$2:$H$300,1))","v":""},null,null,null,null,{"$f":"IF(AND(D12<>\"\",F12=\"\"),1,0)","v":0},{"$f":"IF(E12=\"\",\"\",C12+D12)","v":""},{"$f":"IF(E12=\"\",\"\",C12+F12)","v":""},{"$f":"IF(F12=\"\",\"\",F12-D12)","v":""}]
["","",null,null,null,null,0,"","",""]
["","",null,null,null,null,0,"","",""]
["","",null,null,null,null,0,"","",""]
["","",null,null,null,null,0,"","",""]
["","",null,null,null,null,0,"","",""]
["","",null,null,null,null,0,"","",""]
["","",null,null,null,null,0,"","",""]
["","",null,null,null,null,0,"","",""]
["","",null,null,null,null,0,"","",""]
["","",null,null,null,null,0,"","",""]
["","",null,null,null,null,0,"","",""]
["","",null,null,null,null,0,"","",""]
["","",null,null,null,null,0,"","",""]
["","",null,null,null,null,0,"","",""]
["","",null,null,null,null,0,"","",""]
["","",null,null,null,null,0,"","",""]
["","",null,null,null,null,0,"","",""]
["","",null,null,null,null,0,"","",""]
["","",null,null,null,null,0,"","",""]
["","",null,null,null,null,0,"","",""]
["","",null,null,null,null,0,"","",""]
["","",null,null,null,null,0,"","",""]
["","",null,null,null,null,0,"","",""]
["","",null,null,null,null,0,"","",""]
["","",null,null,null,null,0,"","",""]
["","",null,null,null,null,0,"","",""]
["","",null,null,null,null,0,"","",""]
["","",null,null,null,null,0,"","",""]
["","",null,null,null,null,0,"","",""]
["","",null,null,null,null,0,"","",""]
["","",null,null,null,null,0,"","",""]
["","",null,null,null,null,0,"","",""]
["","",null,null,null,null,0,"","",""]
["","",null,null,null,null,0,"","",""]
["","",null,null,null,null,0,"","",""]
["","",null,null,null,null,0,"","",""]
["","",null,null,null,null,0,"","",""]
["","",null,null,null,null,0,"","",""]
["","",null,null,null,null,0,"","",""]
["","",null,null,null,null,0,"","",""]
["","",null,null,null,null,0,"","",""]
["","",null,null,null,null,0,"","",""]
["","",null,null,null,null,0,"","",""]
["","",null,null,null,null,0,"","",""]
["","",null,null,null,null,0,"","",""]
["","",null,null,null,null,0,"","",""]
["","",null,null,null,null,0,"","",""]
["","",null,null,null,null,0,"","",""]
["","",null,null,null,null,0,"","",""]
["","",null,null,null,null,0,"","",""]
["","",null,null,null,null,0,"","",""]
["","",null,null,null,null,0,"","",""]
["","",null,null,null,null,0,"","",""]
["","",null,null,null,null,0,"","",""]
["","",null,null,null,null,0,"","",""]
["","",null,null,null,null,0,"","",""]
["","",null,null,null,null,0,"","",""]
["","",null,null,null,null,0,"","",""]
["","",null,null,null,null,0,"","",""]
["","",null,null,null,null,0,"","",""]
["","",null,null,null,null,0,"","",""]
["","",null,null,null,null,0,"","",""]
["","",null,null,null,null,0,"","",""]
[{"$f":"IF(B76=\"\",\"\",\"Observation \"&B76)","v":""},{"$f":"IF(C76=\"\",\"\",RANK(H76,$H$2:$H$300,1))","v":""},null,null,null,null,{"$f":"IF(AND(D76<>\"\",F76=\"\"),1,0)","v":0},{"$f":"IF(E76=\"\",\"\",C76+D76)","v":""},{"$f":"IF(E76=\"\",\"\",C76+F76)","v":""},{"$f":"IF(F76=\"\",\"\",F76-D76)","v":""}]
["","",null,null,null,null,0,"","",""]
["","",null,null,null,null,0,"","",""]
["","",null,null,null,null,0,"","",""]
["","",null,null,null,null,0,"","",""]
["","",null,null,null,null,0,"","",""]
["","",null,null,null,null,0,"","",""]
["","",null,null,null,null,0,"","",""]
["","",null,null,null,null,0,"","",""]
["","",null,null,null,null,0,"","",""]
["","",null,null,null,null,0,"","",""]
["","",null,null,null,null,0,"","",""]
["","",null,null,null,null,0,"","",""]
["","",null,null,null,null,0,"","",""]
["","",null,null,null,null,0,"","",""]
["","",null,null,null,null,0,"","",""]
["","",null,null,null,null,0,"","",""]
["","",null,null,null,null,0,"","",""]
["","",null,null,null,null,0,"","",""]
["","",null,null,null,null,0,"","",""]
["","",null,null,null,null,0,"","",""]
["","",null,null,null,null,0,"","",""]
["","",null,null,null,null,0,"","",""]
["","",null,null,null,null,0,"","",""]
["","",null,null,null,null,0,"","",""]
["","",null,null,null,null,0,"","",""]
["","",null,null,null,null,0,"","",""]
["","",null,null,null,null,0,"","",""]
["","",null,null,null,null,0,"","",""]
["","",null,null,null,null,0,"","",""]
["","",null,null,null,null,0,"","",""]
["","",null,null,null,null,0,"","",""]
["","",null,null,null,null,0,"","",""]
["","",null,null,null,null,0,"","",""]
["","",null,null,null,null,0,"","",""]
["","",null,null,null,null,0,"","",""]
["","",null,null,null,null,0,"","",""]
["","",null,null,null,null,0,"","",""]
["","",null,null,null,null,0,"","",""]
["","",null,null,null,null,0,"","",""]
["","",null,null,null,null,0,"","",""]
["","",null,null,null,null,0,"","",""]
["","",null,null,null,null,0,"","",""]
["","",null,null,null,null,0,"","",""]
["","",null,null,null,null,0,"","",""]
["","",null,null,null,null,0,"","",""]
["","",null,null,null,null,0,"","",""]
["","",null,null,null,null,0,"","",""]
["","",null,null,null,null,0,"","",""]
["","",null,null,null,null,0,"","",""]
["","",null,null,null,null,0,"","",""]
["","",null,null,null,null,0,"","",""]
["","",null,null,null,null,0,"","",""]
["","",null,null,null,null,0,"","",""]
["","",null,null,null,null,0,"","",""]
["","",null,null,null,null,0,"","",""]
["","",null,null,null,null,0,"","",""]
["","",null,null,null,null,0,"","",""]
["","",null,null,null,null,0,"","",""]
["","",null,null,null,null,0,"","",""]
["","",null,null,null,null,0,"","",""]
["","",null,null,null,null,0,"","",""]
["","",null,null,null,null,0,"","",""]
["","",null,null,null,null,0,"","",""]
[{"$f":"IF(B140=\"\",\"\",\"Observation \"&B140)","v":""},{"$f":"IF(C140=\"\",\"\",RANK(H140,$H$2:$H$300,1))","v":""},null,null,null,null,{"$f":"IF(AND(D140<>\"\",F140=\"\"),1,0)","v":0},{"$f":"IF(E140=\"\",\"\",C140+D140)","v":""},{"$f":"IF(E140=\"\",\"\",C140+F140)","v":""},{"$f":"IF(F140=\"\",\"\",F140-D140)","v":""}]
["","",null,null,null,null,0,"","",""]
["","",null,null,null,null,0,"","",""]
["","",null,null,null,null,0,"","",""]
["","",null,null,null,null,0,"","",""]
["","",null,null,null,null,0,"","",""]
["","",null,null,null,null,0,"","",""]
["","",null,null,null,null,0,"","",""]
["","",null,null,null,null,0,"","",""]
["","",null,null,null,null,0,"","",""]
["","",null,null,null,null,0,"","",""]
["","",null,null,null,null,0,"","",""]
["","",null,null,null,null,0,"","",""]
["","",null,null,null,null,0,"","",""]
["","",null,null,null,null,0,"","",""]
["","",null,null,null,null,0,"","",""]
["","",null,null,null,null,0,"","",""]
["","",null,null,null,null,0,"","",""]
["","",null,null,null,null,0,"","",""]
["","",null,null,null,null,0,"","",""]
["","",null,null,null,null,0,"","",""]
["","",null,null,null,null,0,"","",""]
["","",null,null,null,null,0,"","",""]
["","",null,null,null,null,0,"","",""]
["","",null,null,null,null,0,"","",""]
["","",null,null,null,null,0,"","",""]
["","",null,null,null,null,0,"","",""]
["","",null,null,null,null,0,"","",""]
["","",null,null,null,null,0,"","",""]
["","",null,null,null,null,0,"","",""]
["","",null,null,null,null,0,"","",""]
["","",null,null,null,null,0,"","",""]
["","",null,null,null,null,0,"","",""]
["","",null,null,null,null,0,"","",""]
["","",null,null,null,null,0,"","",""]
["","",null,null,null,null,0,"","",""]
["","",null,null,null,null,0,"","",""]
["","",null,null,null,null,0,"","",""]
["","",null,null,null,null,0,"","",""]
["","",null,null,null,null,0,"","",""]
["","",null,null,null,null,0,"","",""]
["","",null,null,null,null,0,"","",""]
["","",null,null,null,null,0,"","",""]
["","",null,null,null,null,0,"","",""]
["","",null,null,null,null,0,"","",""]
["","",null,null,null,null,0,"","",""]
["","",null,null,null,null,0,"","",""]
["","",null,null,null,null,0,"","",""]
["","",null,null,null,null,0,"","",""]
["","",null,null,null,null,0,"","",""]
["","",null,null,null,null,0,"","",""]
["","",null,null,null,null,0,"","",""]
["","",null,null,null,null,0,"","",""]
["","",null,null,null,null,0,"","",""]
["","",null,null,null,null,0,"","",""]
["","",null,null,null,null,0,"","",""]
["","",null,null,null,null,0,"","",""]
["","",null,null,null,null,0,"","",""]
["","",null,null,null,null,0,"","",""]
["","",null,null,null,null,0,"","",""]
["","",null,null,null,null,0,"","",""]
["","",null,null,null,null,0,"","",""]
["","",null,null,null,null,0,"","",""]
["","",null,null,null,null,0,"","",""]
[{"$f":"IF(B204=\"\",\"\",\"Observation \"&B204)","v":""},{"$f":"IF(C204=\"\",\"\",RANK(H204,$H$2:$H$300,1))","v":""},null,null,null,null,{"$f":"IF(AND(D204<>\"\",F204=\"\"),1,0)","v":0},{"$f":"IF(E204=\"\",\"\",C204+D204)","v":""},{"$f":"IF(E204=\"\",\"\",C204+F204)","v":""},{"$f":"IF(F204=\"\",\"\",F204-D204)","v":""}]
["","",null,null,null,null,0,"","",""]
["","",null,null,null,null,0,"","",""]
["","",null,null,null,null,0,"","",""]
["","",null,null,null,null,0,"","",""]
["","",null,null,null,null,0,"","",""]
["","",null,null,null,null,0,"","",""]
["","",null,null,null,null,0,"","",""]
["","",null,null,null,null,0,"","",""]
["","",null,null,null,null,0,"","",""]
["","",null,null,null,null,0,"","",""]
["","",null,null,null,null,0,"","",""]
["","",null,null,null,null,0,"","",""]
["","",null,null,null,null,0,"","",""]
["","",null,null,null,null,0,"","",""]
["","",null,null,null,null,0,"","",""]
["","",null,null,null,null,0,"","",""]
["","",null,null,null,null,0,"","",""]
["","",null,null,null,null,0,"","",""]
["","",null,null,null,null,0,"","",""]
["","",null,null,null,null,0,"","",""]
["","",null,null,null,null,0,"","",""]
["","",null,null,null,null,0,"","",""]
["","",null,null,null,null,0,"","",""]
["","",null,null,null,null,0,"","",""]
["","",null,null,null,null,0,"","",""]
["","",null,null,null,null,0,"","",""]
["","",null,null,null,null,0,"","",""]
["","",null,null,null,null,0,"","",""]
["","",null,null,null,null,0,"","",""]
["","",null,null,null,null,0,"","",""]
["","",null,null,null,null,0,"","",""]
["","",null,null,null,null,0,"","",""]
["","",null,null,null,null,0,"","",""]
["","",null,null,null,null,0,"","",""]
["","",null,null,null,null,0,"","",""]
["","",null,null,null,null,0,"","",""]
["","",null,null,null,null,0,"","",""]
["","",null,null,null,null,0,"","",""]
["","",null,null,null,null,0,"","",""]
["","",null,null,null,null,0,"","",""]
["","",null,null,null,null,0,"","",""]
["","",null,null,null,null,0,"","",""]
["","",null,null,null,null,0,"","",""]
["","",null,null,null,null,0,"","",""]
["","",null,null,null,null,0,"","",""]
["","",null,null,null,null,0,"","",""]
["","",null,null,null,null,0,"","",""]
["","",null,null,null,null,0,"","",""]
["","",null,null,null,null,0,"","",""]
["","",null,null,null,null,0,"","",""]
["","",null,null,null,null,0,"","",""]
["","",null,null,null,null,0,"","",""]
["","",null,null,null,null,0,"","",""]
["","",null,null,null,null,0,"","",""]
["","",null,null,null,null,0,"","",""]
["","",null,null,null,null,0,"","",""]
["","",null,null,null,null,0,"","",""]
["","",null,null,null,null,0,"","",""]
["","",null,null,null,null,0,"","",""]
["","",null,null,null,null,0,"","",""]
["","",null,null,null,null,0,"","",""]
["","",null,null,null,null,0,"","",""]
["","",null,null,null,null,0,"","",""]
[{"$f":"IF(B268=\"\",\"\",\"Observation \"&B268)","v":""},{"$f":"IF(C268=\"\",\"\",RANK(H268,$H$2:$H$300,1))","v":""},null,null,null,null,{"$f":"IF(AND(D268<>\"\",F268=\"\"),1,0)","v":0},{"$f":"IF(E268=\"\",\"\",C268+D268)","v":""},{"$f":"IF(E268=\"\",\"\",C268+F268)","v":""},{"$f":"IF(F268=\"\",\"\",F268-D268)","v":""}]
["","",null,null,null,null,0,"","",""]
["","",null,null,null,null,0,"","",""]
["","",null,null,null,null,0,"","",""]
["","",null,null,null,null,0,"","",""]
["","",null,null,null,null,0,"","",""]
["","",null,null,null,null,0,"","",""]
["","",null,null,null,null,0,"","",""]
["","",null,null,null,null,0,"","",""]
["","",null,null,null,null,0,"","",""]
["","",null,null,null,null,0,"","",""]
["","",null,null,null,null,0,"","",""]
["","",null,null,null,null,0,"","",""]
["","",null,null,null,null,0,"","",""]
["","",null,null,null,null,0,"","",""]
["","",null,null,null,null,0,"","",""]
["","",null,null,null,null,0,"","",""]
["","",null,null,null,null,0,"","",""]
["","",null,null,null,null,0,"","",""]
["","",null,null,null,null,0,"","",""]
["","",null,null,null,null,0,"","",""]
["","",null,null,null,null,0,"","",""]
["","",null,null,null,null,0,"","",""]
["","",null,null,null,null,0,"","",""]
["","",null,null,null,null,0,"","",""]
["","",null,null,null,null,0,"","",""]
["","",null,null,null,null,0,"","",""]
["","",null,null,null,null,0,"","",""]
["","",null,null,null,null,0,"","",""]
["","",null,null,null,null,0,"","",""]
["","",null,null,null,null,0,"","",""]
["","",null,null,null,null,0,"","",""]
[{"$f":"IF(B300=\"\",\"\",\"Observation \"&B300)","v":""},{"$f":"IF(C299=\"\",\"\",RANK(H300,$H$2:$H$300,1))","v":""},null,null,null,null,0,"","",""]

{"sheet":"Observations","index":11,"n_rows":300,"n_cols":6,"rows_kept":300,"cut":false,"hidden":false,"merged":[]}
["Count","Observation Number","Date","Start Time","End Time","Setting"]
[{"$f":"IF(MAX(ObData!B:B)=0,\"\",1)","v":{"$error":"#VALUE!"}},{"$f":"IF(A2<>\"\",\"Observation \"&A2,\"\")","v":{"$error":"#VALUE!"}},{"$f":"IF(VLOOKUP($B2,ObData!$A$1:$F$300,3,0)<>0,VLOOKUP(B2,ObData!$A$1:$F$300,3,0),\"\")","v":{"$error":"#VALUE!"}},{"$f":"IF(VLOOKUP($B2,ObData!$A$1:$F$300,4,0)<>0,VLOOKUP($B2,ObData!$A$1:$F$300,4,0),\"\")","v":{"$error":"#VALUE!"}},{"$f":"IF(VLOOKUP($B2,ObData!$A$1:$F$300,6,0)<>0,VLOOKUP($B2,ObData!$A$1:$F$300,6,0),\"\")","v":{"$error":"#VALUE!"}},{"$f":"IF(VLOOKUP($B2,ObData!$A$1:$F$300,5,0)<>0,VLOOKUP($B2,ObData!$A$1:$F$300,5,0),\"\")","v":{"$error":"#VALUE!"}}]
[{"$f":"IFERROR(IF(A2+1>MAX(ObData!B:B),\"\",A2+1),\"\")","v":""},"",{"$f":"IF(VLOOKUP($B3,ObData!$A$1:$F$300,3,0)<>0,VLOOKUP(B3,ObData!$A$1:$F$300,3,0),\"\")","v":""},{"$f":"IF(VLOOKUP($B3,ObData!$A$1:$F$300,4,0)<>0,VLOOKUP($B3,ObData!$A$1:$F$300,4,0),\"\")","v":""},{"$f":"IF(VLOOKUP($B3,ObData!$A$1:$F$300,6,0)<>0,VLOOKUP($B3,ObData!$A$1:$F$300,6,0),\"\")","v":""},{"$f":"IF(VLOOKUP($B3,ObData!$A$1:$F$300,5,0)<>0,VLOOKUP($B3,ObData!$A$1:$F$300,5,0),\"\")","v":""}]
[{"$f":"IFERROR(IF(A3+1>MAX(ObData!B:B),\"\",A3+1),\"\")","v":""},"",{"$f":"IF(VLOOKUP($B4,ObData!$A$1:$F$300,3,0)<>0,VLOOKUP(B4,ObData!$A$1:$F$300,3,0),\"\")","v":""},{"$f":"IF(VLOOKUP($B4,ObData!$A$1:$F$300,4,0)<>0,VLOOKUP($B4,ObData!$A$1:$F$300,4,0),\"\")","v":""},{"$f":"IF(VLOOKUP($B4,ObData!$A$1:$F$300,6,0)<>0,VLOOKUP($B4,ObData!$A$1:$F$300,6,0),\"\")","v":""},{"$f":"IF(VLOOKUP($B4,ObData!$A$1:$F$300,5,0)<>0,VLOOKUP($B4,ObData!$A$1:$F$300,5,0),\"\")","v":""}]
[{"$f":"IFERROR(IF(A4+1>MAX(ObData!B:B),\"\",A4+1),\"\")","v":""},"",{"$f":"IF(VLOOKUP($B5,ObData!$A$1:$F$300,3,0)<>0,VLOOKUP(B5,ObData!$A$1:$F$300,3,0),\"\")","v":""},{"$f":"IF(VLOOKUP($B5,ObData!$A$1:$F$300,4,0)<>0,VLOOKUP($B5,ObData!$A$1:$F$300,4,0),\"\")","v":""},{"$f":"IF(VLOOKUP($B5,ObData!$A$1:$F$300,6,0)<>0,VLOOKUP($B5,ObData!$A$1:$F$300,6,0),\"\")","v":""},{"$f":"IF(VLOOKUP($B5,ObData!$A$1:$F$300,5,0)<>0,VLOOKUP($B5,ObData!$A$1:$F$300,5,0),\"\")","v":""}]
[{"$f":"IFERROR(IF(A5+1>MAX(ObData!B:B),\"\",A5+1),\"\")","v":""},"",{"$f":"IF(VLOOKUP($B6,ObData!$A$1:$F$300,3,0)<>0,VLOOKUP(B6,ObData!$A$1:$F$300,3,0),\"\")","v":""},{"$f":"IF(VLOOKUP($B6,ObData!$A$1:$F$300,4,0)<>0,VLOOKUP($B6,ObData!$A$1:$F$300,4,0),\"\")","v":""},{"$f":"IF(VLOOKUP($B6,ObData!$A$1:$F$300,6,0)<>0,VLOOKUP($B6,ObData!$A$1:$F$300,6,0),\"\")","v":""},{"$f":"IF(VLOOKUP($B6,ObData!$A$1:$F$300,5,0)<>0,VLOOKUP($B6,ObData!$A$1:$F$300,5,0),\"\")","v":""}]
[{"$f":"IFERROR(IF(A6+1>MAX(ObData!B:B),\"\",A6+1),\"\")","v":""},"",{"$f":"IF(VLOOKUP($B7,ObData!$A$1:$F$300,3,0)<>0,VLOOKUP(B7,ObData!$A$1:$F$300,3,0),\"\")","v":""},{"$f":"IF(VLOOKUP($B7,ObData!$A$1:$F$300,4,0)<>0,VLOOKUP($B7,ObData!$A$1:$F$300,4,0),\"\")","v":""},{"$f":"IF(VLOOKUP($B7,ObData!$A$1:$F$300,6,0)<>0,VLOOKUP($B7,ObData!$A$1:$F$300,6,0),\"\")","v":""},{"$f":"IF(VLOOKUP($B7,ObData!$A$1:$F$300,5,0)<>0,VLOOKUP($B7,ObData!$A$1:$F$300,5,0),\"\")","v":""}]
[{"$f":"IFERROR(IF(A7+1>MAX(ObData!B:B),\"\",A7+1),\"\")","v":""},"",{"$f":"IF(VLOOKUP($B8,ObData!$A$1:$F$300,3,0)<>0,VLOOKUP(B8,ObData!$A$1:$F$300,3,0),\"\")","v":""},{"$f":"IF(VLOOKUP($B8,ObData!$A$1:$F$300,4,0)<>0,VLOOKUP($B8,ObData!$A$1:$F$300,4,0),\"\")","v":""},{"$f":"IF(VLOOKUP($B8,ObData!$A$1:$F$300,6,0)<>0,VLOOKUP($B8,ObData!$A$1:$F$300,6,0),\"\")","v":""},{"$f":"IF(VLOOKUP($B8,ObData!$A$1:$F$300,5,0)<>0,VLOOKUP($B8,ObData!$A$1:$F$300,5,0),\"\")","v":""}]
[{"$f":"IFERROR(IF(A8+1>MAX(ObData!B:B),\"\",A8+1),\"\")","v":""},"",{"$f":"IF(VLOOKUP($B9,ObData!$A$1:$F$300,3,0)<>0,VLOOKUP(B9,ObData!$A$1:$F$300,3,0),\"\")","v":""},{"$f":"IF(VLOOKUP($B9,ObData!$A$1:$F$300,4,0)<>0,VLOOKUP($B9,ObData!$A$1:$F$300,4,0),\"\")","v":""},{"$f":"IF(VLOOKUP($B9,ObData!$A$1:$F$300,6,0)<>0,VLOOKUP($B9,ObData!$A$1:$F$300,6,0),\"\")","v":""},{"$f":"IF(VLOOKUP($B9,ObData!$A$1:$F$300,5,0)<>0,VLOOKUP($B9,ObData!$A$1:$F$300,5,0),\"\")","v":""}]
[{"$f":"IFERROR(IF(A9+1>MAX(ObData!B:B),\"\",A9+1),\"\")","v":""},"",{"$f":"IF(VLOOKUP($B10,ObData!$A$1:$F$300,3,0)<>0,VLOOKUP(B10,ObData!$A$1:$F$300,3,0),\"\")","v":""},{"$f":"IF(VLOOKUP($B10,ObData!$A$1:$F$300,4,0)<>0,VLOOKUP($B10,ObData!$A$1:$F$300,4,0),\"\")","v":""},{"$f":"IF(VLOOKUP($B10,ObData!$A$1:$F$300,6,0)<>0,VLOOKUP($B10,ObData!$A$1:$F$300,6,0),\"\")","v":""},{"$f":"IF(VLOOKUP($B10,ObData!$A$1:$F$300,5,0)<>0,VLOOKUP($B10,ObData!$A$1:$F$300,5,0),\"\")","v":""}]
[{"$f":"IFERROR(IF(A10+1>MAX(ObData!B:B),\"\",A10+1),\"\")","v":""},"",{"$f":"IF(VLOOKUP($B11,ObData!$A$1:$F$300,3,0)<>0,VLOOKUP(B11,ObData!$A$1:$F$300,3,0),\"\")","v":""},{"$f":"IF(VLOOKUP($B11,ObData!$A$1:$F$300,4,0)<>0,VLOOKUP($B11,ObData!$A$1:$F$300,4,0),\"\")","v":""},{"$f":"IF(VLOOKUP($B11,ObData!$A$1:$F$300,6,0)<>0,VLOOKUP($B11,ObData!$A$1:$F$300,6,0),\"\")","v":""},{"$f":"IF(VLOOKUP($B11,ObData!$A$1:$F$300,5,0)<>0,VLOOKUP($B11,ObData!$A$1:$F$300,5,0),\"\")","v":""}]
[{"$f":"IFERROR(IF(A11+1>MAX(ObData!B:B),\"\",A11+1),\"\")","v":""},"",{"$f":"IF(VLOOKUP($B12,ObData!$A$1:$F$300,3,0)<>0,VLOOKUP(B12,ObData!$A$1:$F$300,3,0),\"\")","v":""},{"$f":"IF(VLOOKUP($B12,ObData!$A$1:$F$300,4,0)<>0,VLOOKUP($B12,ObData!$A$1:$F$300,4,0),\"\")","v":""},{"$f":"IF(VLOOKUP($B12,ObData!$A$1:$F$300,6,0)<>0,VLOOKUP($B12,ObData!$A$1:$F$300,6,0),\"\")","v":""},{"$f":"IF(VLOOKUP($B12,ObData!$A$1:$F$300,5,0)<>0,VLOOKUP($B12,ObData!$A$1:$F$300,5,0),\"\")","v":""}]
[{"$f":"IFERROR(IF(A12+1>MAX(ObData!B:B),\"\",A12+1),\"\")","v":""},{"$f":"IF(A13<>\"\",\"Observation \"&A13,\"\")","v":""},{"$f":"IF(VLOOKUP($B13,ObData!$A$1:$F$300,3,0)<>0,VLOOKUP(B13,ObData!$A$1:$F$300,3,0),\"\")","v":""},{"$f":"IF(VLOOKUP($B13,ObData!$A$1:$F$300,4,0)<>0,VLOOKUP($B13,ObData!$A$1:$F$300,4,0),\"\")","v":""},{"$f":"IF(VLOOKUP($B13,ObData!$A$1:$F$300,6,0)<>0,VLOOKUP($B13,ObData!$A$1:$F$300,6,0),\"\")","v":""},{"$f":"IF(VLOOKUP($B13,ObData!$A$1:$F$300,5,0)<>0,VLOOKUP($B13,ObData!$A$1:$F$300,5,0),\"\")","v":""}]
[{"$f":"IFERROR(IF(A13+1>MAX(ObData!B:B),\"\",A13+1),\"\")","v":""},"",{"$f":"IF(VLOOKUP($B14,ObData!$A$1:$F$300,3,0)<>0,VLOOKUP(B14,ObData!$A$1:$F$300,3,0),\"\")","v":""},{"$f":"IF(VLOOKUP($B14,ObData!$A$1:$F$300,4,0)<>0,VLOOKUP($B14,ObData!$A$1:$F$300,4,0),\"\")","v":""},{"$f":"IF(VLOOKUP($B14,ObData!$A$1:$F$300,6,0)<>0,VLOOKUP($B14,ObData!$A$1:$F$300,6,0),\"\")","v":""},{"$f":"IF(VLOOKUP($B14,ObData!$A$1:$F$300,5,0)<>0,VLOOKUP($B14,ObData!$A$1:$F$300,5,0),\"\")","v":""}]
[{"$f":"IFERROR(IF(A14+1>MAX(ObData!B:B),\"\",A14+1),\"\")","v":""},"",{"$f":"IF(VLOOKUP($B15,ObData!$A$1:$F$300,3,0)<>0,VLOOKUP(B15,ObData!$A$1:$F$300,3,0),\"\")","v":""},{"$f":"IF(VLOOKUP($B15,ObData!$A$1:$F$300,4,0)<>0,VLOOKUP($B15,ObData!$A$1:$F$300,4,0),\"\")","v":""},{"$f":"IF(VLOOKUP($B15,ObData!$A$1:$F$300,6,0)<>0,VLOOKUP($B15,ObData!$A$1:$F$300,6,0),\"\")","v":""},{"$f":"IF(VLOOKUP($B15,ObData!$A$1:$F$300,5,0)<>0,VLOOKUP($B15,ObData!$A$1:$F$300,5,0),\"\")","v":""}]
[{"$f":"IFERROR(IF(A15+1>MAX(ObData!B:B),\"\",A15+1),\"\")","v":""},"",{"$f":"IF(VLOOKUP($B16,ObData!$A$1:$F$300,3,0)<>0,VLOOKUP(B16,ObData!$A$1:$F$300,3,0),\"\")","v":""},{"$f":"IF(VLOOKUP($B16,ObData!$A$1:$F$300,4,0)<>0,VLOOKUP($B16,ObData!$A$1:$F$300,4,0),\"\")","v":""},{"$f":"IF(VLOOKUP($B16,ObData!$A$1:$F$300,6,0)<>0,VLOOKUP($B16,ObData!$A$1:$F$300,6,0),\"\")","v":""},{"$f":"IF(VLOOKUP($B16,ObData!$A$1:$F$300,5,0)<>0,VLOOKUP($B16,ObData!$A$1:$F$300,5,0),\"\")","v":""}]
[{"$f":"IFERROR(IF(A16+1>MAX(ObData!B:B),\"\",A16+1),\"\")","v":""},"",{"$f":"IF(VLOOKUP($B17,ObData!$A$1:$F$300,3,0)<>0,VLOOKUP(B17,ObData!$A$1:$F$300,3,0),\"\")","v":""},{"$f":"IF(VLOOKUP($B17,ObData!$A$1:$F$300,4,0)<>0,VLOOKUP($B17,ObData!$A$1:$F$300,4,0),\"\")","v":""},{"$f":"IF(VLOOKUP($B17,ObData!$A$1:$F$300,6,0)<>0,VLOOKUP($B17,ObData!$A$1:$F$300,6,0),\"\")","v":""},{"$f":"IF(VLOOKUP($B17,ObData!$A$1:$F$300,5,0)<>0,VLOOKUP($B17,ObData!$A$1:$F$300,5,0),\"\")","v":""}]
[{"$f":"IFERROR(IF(A17+1>MAX(ObData!B:B),\"\",A17+1),\"\")","v":""},"",{"$f":"IF(VLOOKUP($B18,ObData!$A$1:$F$300,3,0)<>0,VLOOKUP(B18,ObData!$A$1:$F$300,3,0),\"\")","v":""},{"$f":"IF(VLOOKUP($B18,ObData!$A$1:$F$300,4,0)<>0,VLOOKUP($B18,ObData!$A$1:$F$300,4,0),\"\")","v":""},{"$f":"IF(VLOOKUP($B18,ObData!$A$1:$F$300,6,0)<>0,VLOOKUP($B18,ObData!$A$1:$F$300,6,0),\"\")","v":""},{"$f":"IF(VLOOKUP($B18,ObData!$A$1:$F$300,5,0)<>0,VLOOKUP($B18,ObData!$A$1:$F$300,5,0),\"\")","v":""}]
[{"$f":"IFERROR(IF(A18+1>MAX(ObData!B:B),\"\",A18+1),\"\")","v":""},"",{"$f":"IF(VLOOKUP($B19,ObData!$A$1:$F$300,3,0)<>0,VLOOKUP(B19,ObData!$A$1:$F$300,3,0),\"\")","v":""},{"$f":"IF(VLOOKUP($B19,ObData!$A$1:$F$300,4,0)<>0,VLOOKUP($B19,ObData!$A$1:$F$300,4,0),\"\")","v":""},{"$f":"IF(VLOOKUP($B19,ObData!$A$1:$F$300,6,0)<>0,VLOOKUP($B19,ObData!$A$1:$F$300,6,0),\"\")","v":""},{"$f":"IF(VLOOKUP($B19,ObData!$A$1:$F$300,5,0)<>0,VLOOKUP($B19,ObData!$A$1:$F$300,5,0),\"\")","v":""}]
[{"$f":"IFERROR(IF(A19+1>MAX(ObData!B:B),\"\",A19+1),\"\")","v":""},"",{"$f":"IF(VLOOKUP($B20,ObData!$A$1:$F$300,3,0)<>0,VLOOKUP(B20,ObData!$A$1:$F$300,3,0),\"\")","v":""},{"$f":"IF(VLOOKUP($B20,ObData!$A$1:$F$300,4,0)<>0,VLOOKUP($B20,ObData!$A$1:$F$300,4,0),\"\")","v":""},{"$f":"IF(VLOOKUP($B20,ObData!$A$1:$F$300,6,0)<>0,VLOOKUP($B20,ObData!$A$1:$F$300,6,0),\"\")","v":""},{"$f":"IF(VLOOKUP($B20,ObData!$A$1:$F$300,5,0)<>0,VLOOKUP($B20,ObData!$A$1:$F$300,5,0),\"\")","v":""}]
[{"$f":"IFERROR(IF(A20+1>MAX(ObData!B:B),\"\",A20+1),\"\")","v":""},"",{"$f":"IF(VLOOKUP($B21,ObData!$A$1:$F$300,3,0)<>0,VLOOKUP(B21,ObData!$A$1:$F$300,3,0),\"\")","v":""},{"$f":"IF(VLOOKUP($B21,ObData!$A$1:$F$300,4,0)<>0,VLOOKUP($B21,ObData!$A$1:$F$300,4,0),\"\")","v":""},{"$f":"IF(VLOOKUP($B21,ObData!$A$1:$F$300,6,0)<>0,VLOOKUP($B21,ObData!$A$1:$F$300,6,0),\"\")","v":""},{"$f":"IF(VLOOKUP($B21,ObData!$A$1:$F$300,5,0)<>0,VLOOKUP($B21,ObData!$A$1:$F$300,5,0),\"\")","v":""}]
[{"$f":"IFERROR(IF(A21+1>MAX(ObData!B:B),\"\",A21+1),\"\")","v":""},"",{"$f":"IF(VLOOKUP($B22,ObData!$A$1:$F$300,3,0)<>0,VLOOKUP(B22,ObData!$A$1:$F$300,3,0),\"\")","v":""},{"$f":"IF(VLOOKUP($B22,ObData!$A$1:$F$300,4,0)<>0,VLOOKUP($B22,ObData!$A$1:$F$300,4,0),\"\")","v":""},{"$f":"IF(VLOOKUP($B22,ObData!$A$1:$F$300,6,0)<>0,VLOOKUP($B22,ObData!$A$1:$F$300,6,0),\"\")","v":""},{"$f":"IF(VLOOKUP($B22,ObData!$A$1:$F$300,5,0)<>0,VLOOKUP($B22,ObData!$A$1:$F$300,5,0),\"\")","v":""}]
[{"$f":"IFERROR(IF(A22+1>MAX(ObData!B:B),\"\",A22+1),\"\")","v":""},"",{"$f":"IF(VLOOKUP($B23,ObData!$A$1:$F$300,3,0)<>0,VLOOKUP(B23,ObData!$A$1:$F$300,3,0),\"\")","v":""},{"$f":"IF(VLOOKUP($B23,ObData!$A$1:$F$300,4,0)<>0,VLOOKUP($B23,ObData!$A$1:$F$300,4,0),\"\")","v":""},{"$f":"IF(VLOOKUP($B23,ObData!$A$1:$F$300,6,0)<>0,VLOOKUP($B23,ObData!$A$1:$F$300,6,0),\"\")","v":""},{"$f":"IF(VLOOKUP($B23,ObData!$A$1:$F$300,5,0)<>0,VLOOKUP($B23,ObData!$A$1:$F$300,5,0),\"\")","v":""}]
[{"$f":"IFERROR(IF(A23+1>MAX(ObData!B:B),\"\",A23+1),\"\")","v":""},"",{"$f":"IF(VLOOKUP($B24,ObData!$A$1:$F$300,3,0)<>0,VLOOKUP(B24,ObData!$A$1:$F$300,3,0),\"\")","v":""},{"$f":"IF(VLOOKUP($B24,ObData!$A$1:$F$300,4,0)<>0,VLOOKUP($B24,ObData!$A$1:$F$300,4,0),\"\")","v":""},{"$f":"IF(VLOOKUP($B24,ObData!$A$1:$F$300,6,0)<>0,VLOOKUP($B24,ObData!$A$1:$F$300,6,0),\"\")","v":""},{"$f":"IF(VLOOKUP($B24,ObData!$A$1:$F$300,5,0)<>0,VLOOKUP($B24,ObData!$A$1:$F$300,5,0),\"\")","v":""}]
[{"$f":"IFERROR(IF(A24+1>MAX(ObData!B:B),\"\",A24+1),\"\")","v":""},"",{"$f":"IF(VLOOKUP($B25,ObData!$A$1:$F$300,3,0)<>0,VLOOKUP(B25,ObData!$A$1:$F$300,3,0),\"\")","v":""},{"$f":"IF(VLOOKUP($B25,ObData!$A$1:$F$300,4,0)<>0,VLOOKUP($B25,ObData!$A$1:$F$300,4,0),\"\")","v":""},{"$f":"IF(VLOOKUP($B25,ObData!$A$1:$F$300,6,0)<>0,VLOOKUP($B25,ObData!$A$1:$F$300,6,0),\"\")","v":""},{"$f":"IF(VLOOKUP($B25,ObData!$A$1:$F$300,5,0)<>0,VLOOKUP($B25,ObData!$A$1:$F$300,5,0),\"\")","v":""}]
[{"$f":"IFERROR(IF(A25+1>MAX(ObData!B:B),\"\",A25+1),\"\")","v":""},"",{"$f":"IF(VLOOKUP($B26,ObData!$A$1:$F$300,3,0)<>0,VLOOKUP(B26,ObData!$A$1:$F$300,3,0),\"\")","v":""},{"$f":"IF(VLOOKUP($B26,ObData!$A$1:$F$300,4,0)<>0,VLOOKUP($B26,ObData!$A$1:$F$300,4,0),\"\")","v":""},{"$f":"IF(VLOOKUP($B26,ObData!$A$1:$F$300,6,0)<>0,VLOOKUP($B26,ObData!$A$1:$F$300,6,0),\"\")","v":""},{"$f":"IF(VLOOKUP($B26,ObData!$A$1:$F$300,5,0)<>0,VLOOKUP($B26,ObData!$A$1:$F$300,5,0),\"\")","v":""}]
[{"$f":"IFERROR(IF(A26+1>MAX(ObData!B:B),\"\",A26+1),\"\")","v":""},"",{"$f":"IF(VLOOKUP($B27,ObData!$A$1:$F$300,3,0)<>0,VLOOKUP(B27,ObData!$A$1:$F$300,3,0),\"\")","v":""},{"$f":"IF(VLOOKUP($B27,ObData!$A$1:$F$300,4,0)<>0,VLOOKUP($B27,ObData!$A$1:$F$300,4,0),\"\")","v":""},{"$f":"IF(VLOOKUP($B27,ObData!$A$1:$F$300,6,0)<>0,VLOOKUP($B27,ObData!$A$1:$F$300,6,0),\"\")","v":""},{"$f":"IF(VLOOKUP($B27,ObData!$A$1:$F$300,5,0)<>0,VLOOKUP($B27,ObData!$A$1:$F$300,5,0),\"\")","v":""}]
[{"$f":"IFERROR(IF(A27+1>MAX(ObData!B:B),\"\",A27+1),\"\")","v":""},"",{"$f":"IF(VLOOKUP($B28,ObData!$A$1:$F$300,3,0)<>0,VLOOKUP(B28,ObData!$A$1:$F$300,3,0),\"\")","v":""},{"$f":"IF(VLOOKUP($B28,ObData!$A$1:$F$300,4,0)<>0,VLOOKUP($B28,ObData!$A$1:$F$300,4,0),\"\")","v":""},{"$f":"IF(VLOOKUP($B28,ObData!$A$1:$F$300,6,0)<>0,VLOOKUP($B28,ObData!$A$1:$F$300,6,0),\"\")","v":""},{"$f":"IF(VLOOKUP($B28,ObData!$A$1:$F$300,5,0)<>0,VLOOKUP($B28,ObData!$A$1:$F$300,5,0),\"\")","v":""}]
[{"$f":"IFERROR(IF(A28+1>MAX(ObData!B:B),\"\",A28+1),\"\")","v":""},"",{"$f":"IF(VLOOKUP($B29,ObData!$A$1:$F$300,3,0)<>0,VLOOKUP(B29,ObData!$A$1:$F$300,3,0),\"\")","v":""},{"$f":"IF(VLOOKUP($B29,ObData!$A$1:$F$300,4,0)<>0,VLOOKUP($B29,ObData!$A$1:$F$300,4,0),\"\")","v":""},{"$f":"IF(VLOOKUP($B29,ObData!$A$1:$F$300,6,0)<>0,VLOOKUP($B29,ObData!$A$1:$F$300,6,0),\"\")","v":""},{"$f":"IF(VLOOKUP($B29,ObData!$A$1:$F$300,5,0)<>0,VLOOKUP($B29,ObData!$A$1:$F$300,5,0),\"\")","v":""}]
[{"$f":"IFERROR(IF(A29+1>MAX(ObData!B:B),\"\",A29+1),\"\")","v":""},"",{"$f":"IF(VLOOKUP($B30,ObData!$A$1:$F$300,3,0)<>0,VLOOKUP(B30,ObData!$A$1:$F$300,3,0),\"\")","v":""},{"$f":"IF(VLOOKUP($B30,ObData!$A$1:$F$300,4,0)<>0,VLOOKUP($B30,ObData!$A$1:$F$300,4,0),\"\")","v":""},{"$f":"IF(VLOOKUP($B30,ObData!$A$1:$F$300,6,0)<>0,VLOOKUP($B30,ObData!$A$1:$F$300,6,0),\"\")","v":""},{"$f":"IF(VLOOKUP($B30,ObData!$A$1:$F$300,5,0)<>0,VLOOKUP($B30,ObData!$A$1:$F$300,5,0),\"\")","v":""}]
[{"$f":"IFERROR(IF(A30+1>MAX(ObData!B:B),\"\",A30+1),\"\")","v":""},"",{"$f":"IF(VLOOKUP($B31,ObData!$A$1:$F$300,3,0)<>0,VLOOKUP(B31,ObData!$A$1:$F$300,3,0),\"\")","v":""},{"$f":"IF(VLOOKUP($B31,ObData!$A$1:$F$300,4,0)<>0,VLOOKUP($B31,ObData!$A$1:$F$300,4,0),\"\")","v":""},{"$f":"IF(VLOOKUP($B31,ObData!$A$1:$F$300,6,0)<>0,VLOOKUP($B31,ObData!$A$1:$F$300,6,0),\"\")","v":""},{"$f":"IF(VLOOKUP($B31,ObData!$A$1:$F$300,5,0)<>0,VLOOKUP($B31,ObData!$A$1:$F$300,5,0),\"\")","v":""}]
[{"$f":"IFERROR(IF(A31+1>MAX(ObData!B:B),\"\",A31+1),\"\")","v":""},"",{"$f":"IF(VLOOKUP($B32,ObData!$A$1:$F$300,3,0)<>0,VLOOKUP(B32,ObData!$A$1:$F$300,3,0),\"\")","v":""},{"$f":"IF(VLOOKUP($B32,ObData!$A$1:$F$300,4,0)<>0,VLOOKUP($B32,ObData!$A$1:$F$300,4,0),\"\")","v":""},{"$f":"IF(VLOOKUP($B32,ObData!$A$1:$F$300,6,0)<>0,VLOOKUP($B32,ObData!$A$1:$F$300,6,0),\"\")","v":""},{"$f":"IF(VLOOKUP($B32,ObData!$A$1:$F$300,5,0)<>0,VLOOKUP($B32,ObData!$A$1:$F$300,5,0),\"\")","v":""}]
[{"$f":"IFERROR(IF(A32+1>MAX(ObData!B:B),\"\",A32+1),\"\")","v":""},"",{"$f":"IF(VLOOKUP($B33,ObData!$A$1:$F$300,3,0)<>0,VLOOKUP(B33,ObData!$A$1:$F$300,3,0),\"\")","v":""},{"$f":"IF(VLOOKUP($B33,ObData!$A$1:$F$300,4,0)<>0,VLOOKUP($B33,ObData!$A$1:$F$300,4,0),\"\")","v":""},{"$f":"IF(VLOOKUP($B33,ObData!$A$1:$F$300,6,0)<>0,VLOOKUP($B33,ObData!$A$1:$F$300,6,0),\"\")","v":""},{"$f":"IF(VLOOKUP($B33,ObData!$A$1:$F$300,5,0)<>0,VLOOKUP($B33,ObData!$A$1:$F$300,5,0),\"\")","v":""}]
[{"$f":"IFERROR(IF(A33+1>MAX(ObData!B:B),\"\",A33+1),\"\")","v":""},"",{"$f":"IF(VLOOKUP($B34,ObData!$A$1:$F$300,3,0)<>0,VLOOKUP(B34,ObData!$A$1:$F$300,3,0),\"\")","v":""},{"$f":"IF(VLOOKUP($B34,ObData!$A$1:$F$300,4,0)<>0,VLOOKUP($B34,ObData!$A$1:$F$300,4,0),\"\")","v":""},{"$f":"IF(VLOOKUP($B34,ObData!$A$1:$F$300,6,0)<>0,VLOOKUP($B34,ObData!$A$1:$F$300,6,0),\"\")","v":""},{"$f":"IF(VLOOKUP($B34,ObData!$A$1:$F$300,5,0)<>0,VLOOKUP($B34,ObData!$A$1:$F$300,5,0),\"\")","v":""}]
[{"$f":"IFERROR(IF(A34+1>MAX(ObData!B:B),\"\",A34+1),\"\")","v":""},"",{"$f":"IF(VLOOKUP($B35,ObData!$A$1:$F$300,3,0)<>0,VLOOKUP(B35,ObData!$A$1:$F$300,3,0),\"\")","v":""},{"$f":"IF(VLOOKUP($B35,ObData!$A$1:$F$300,4,0)<>0,VLOOKUP($B35,ObData!$A$1:$F$300,4,0),\"\")","v":""},{"$f":"IF(VLOOKUP($B35,ObData!$A$1:$F$300,6,0)<>0,VLOOKUP($B35,ObData!$A$1:$F$300,6,0),\"\")","v":""},{"$f":"IF(VLOOKUP($B35,ObData!$A$1:$F$300,5,0)<>0,VLOOKUP($B35,ObData!$A$1:$F$300,5,0),\"\")","v":""}]
[{"$f":"IFERROR(IF(A35+1>MAX(ObData!B:B),\"\",A35+1),\"\")","v":""},"",{"$f":"IF(VLOOKUP($B36,ObData!$A$1:$F$300,3,0)<>0,VLOOKUP(B36,ObData!$A$1:$F$300,3,0),\"\")","v":""},{"$f":"IF(VLOOKUP($B36,ObData!$A$1:$F$300,4,0)<>0,VLOOKUP($B36,ObData!$A$1:$F$300,4,0),\"\")","v":""},{"$f":"IF(VLOOKUP($B36,ObData!$A$1:$F$300,6,0)<>0,VLOOKUP($B36,ObData!$A$1:$F$300,6,0),\"\")","v":""},{"$f":"IF(VLOOKUP($B36,ObData!$A$1:$F$300,5,0)<>0,VLOOKUP($B36,ObData!$A$1:$F$300,5,0),\"\")","v":""}]
[{"$f":"IFERROR(IF(A36+1>MAX(ObData!B:B),\"\",A36+1),\"\")","v":""},"",{"$f":"IF(VLOOKUP($B37,ObData!$A$1:$F$300,3,0)<>0,VLOOKUP(B37,ObData!$A$1:$F$300,3,0),\"\")","v":""},{"$f":"IF(VLOOKUP($B37,ObData!$A$1:$F$300,4,0)<>0,VLOOKUP($B37,ObData!$A$1:$F$300,4,0),\"\")","v":""},{"$f":"IF(VLOOKUP($B37,ObData!$A$1:$F$300,6,0)<>0,VLOOKUP($B37,ObData!$A$1:$F$300,6,0),\"\")","v":""},{"$f":"IF(VLOOKUP($B37,ObData!$A$1:$F$300,5,0)<>0,VLOOKUP($B37,ObData!$A$1:$F$300,5,0),\"\")","v":""}]
[{"$f":"IFERROR(IF(A37+1>MAX(ObData!B:B),\"\",A37+1),\"\")","v":""},"",{"$f":"IF(VLOOKUP($B38,ObData!$A$1:$F$300,3,0)<>0,VLOOKUP(B38,ObData!$A$1:$F$300,3,0),\"\")","v":""},{"$f":"IF(VLOOKUP($B38,ObData!$A$1:$F$300,4,0)<>0,VLOOKUP($B38,ObData!$A$1:$F$300,4,0),\"\")","v":""},{"$f":"IF(VLOOKUP($B38,ObData!$A$1:$F$300,6,0)<>0,VLOOKUP($B38,ObData!$A$1:$F$300,6,0),\"\")","v":""},{"$f":"IF(VLOOKUP($B38,ObData!$A$1:$F$300,5,0)<>0,VLOOKUP($B38,ObData!$A$1:$F$300,5,0),\"\")","v":""}]
[{"$f":"IFERROR(IF(A38+1>MAX(ObData!B:B),\"\",A38+1),\"\")","v":""},"",{"$f":"IF(VLOOKUP($B39,ObData!$A$1:$F$300,3,0)<>0,VLOOKUP(B39,ObData!$A$1:$F$300,3,0),\"\")","v":""},{"$f":"IF(VLOOKUP($B39,ObData!$A$1:$F$300,4,0)<>0,VLOOKUP($B39,ObData!$A$1:$F$300,4,0),\"\")","v":""},{"$f":"IF(VLOOKUP($B39,ObData!$A$1:$F$300,6,0)<>0,VLOOKUP($B39,ObData!$A$1:$F$300,6,0),\"\")","v":""},{"$f":"IF(VLOOKUP($B39,ObData!$A$1:$F$300,5,0)<>0,VLOOKUP($B39,ObData!$A$1:$F$300,5,0),\"\")","v":""}]
[{"$f":"IFERROR(IF(A39+1>MAX(ObData!B:B),\"\",A39+1),\"\")","v":""},"",{"$f":"IF(VLOOKUP($B40,ObData!$A$1:$F$300,3,0)<>0,VLOOKUP(B40,ObData!$A$1:$F$300,3,0),\"\")","v":""},{"$f":"IF(VLOOKUP($B40,ObData!$A$1:$F$300,4,0)<>0,VLOOKUP($B40,ObData!$A$1:$F$300,4,0),\"\")","v":""},{"$f":"IF(VLOOKUP($B40,ObData!$A$1:$F$300,6,0)<>0,VLOOKUP($B40,ObData!$A$1:$F$300,6,0),\"\")","v":""},{"$f":"IF(VLOOKUP($B40,ObData!$A$1:$F$300,5,0)<>0,VLOOKUP($B40,ObData!$A$1:$F$300,5,0),\"\")","v":""}]
[{"$f":"IFERROR(IF(A40+1>MAX(ObData!B:B),\"\",A40+1),\"\")","v":""},"",{"$f":"IF(VLOOKUP($B41,ObData!$A$1:$F$300,3,0)<>0,VLOOKUP(B41,ObData!$A$1:$F$300,3,0),\"\")","v":""},{"$f":"IF(VLOOKUP($B41,ObData!$A$1:$F$300,4,0)<>0,VLOOKUP($B41,ObData!$A$1:$F$300,4,0),\"\")","v":""},{"$f":"IF(VLOOKUP($B41,ObData!$A$1:$F$300,6,0)<>0,VLOOKUP($B41,ObData!$A$1:$F$300,6,0),\"\")","v":""},{"$f":"IF(VLOOKUP($B41,ObData!$A$1:$F$300,5,0)<>0,VLOOKUP($B41,ObData!$A$1:$F$300,5,0),\"\")","v":""}]
[{"$f":"IFERROR(IF(A41+1>MAX(ObData!B:B),\"\",A41+1),\"\")","v":""},"",{"$f":"IF(VLOOKUP($B42,ObData!$A$1:$F$300,3,0)<>0,VLOOKUP(B42,ObData!$A$1:$F$300,3,0),\"\")","v":""},{"$f":"IF(VLOOKUP($B42,ObData!$A$1:$F$300,4,0)<>0,VLOOKUP($B42,ObData!$A$1:$F$300,4,0),\"\")","v":""},{"$f":"IF(VLOOKUP($B42,ObData!$A$1:$F$300,6,0)<>0,VLOOKUP($B42,ObData!$A$1:$F$300,6,0),\"\")","v":""},{"$f":"IF(VLOOKUP($B42,ObData!$A$1:$F$300,5,0)<>0,VLOOKUP($B42,ObData!$A$1:$F$300,5,0),\"\")","v":""}]
[{"$f":"IFERROR(IF(A42+1>MAX(ObData!B:B),\"\",A42+1),\"\")","v":""},"",{"$f":"IF(VLOOKUP($B43,ObData!$A$1:$F$300,3,0)<>0,VLOOKUP(B43,ObData!$A$1:$F$300,3,0),\"\")","v":""},{"$f":"IF(VLOOKUP($B43,ObData!$A$1:$F$300,4,0)<>0,VLOOKUP($B43,ObData!$A$1:$F$300,4,0),\"\")","v":""},{"$f":"IF(VLOOKUP($B43,ObData!$A$1:$F$300,6,0)<>0,VLOOKUP($B43,ObData!$A$1:$F$300,6,0),\"\")","v":""},{"$f":"IF(VLOOKUP($B43,ObData!$A$1:$F$300,5,0)<>0,VLOOKUP($B43,ObData!$A$1:$F$300,5,0),\"\")","v":""}]
[{"$f":"IFERROR(IF(A43+1>MAX(ObData!B:B),\"\",A43+1),\"\")","v":""},"",{"$f":"IF(VLOOKUP($B44,ObData!$A$1:$F$300,3,0)<>0,VLOOKUP(B44,ObData!$A$1:$F$300,3,0),\"\")","v":""},{"$f":"IF(VLOOKUP($B44,ObData!$A$1:$F$300,4,0)<>0,VLOOKUP($B44,ObData!$A$1:$F$300,4,0),\"\")","v":""},{"$f":"IF(VLOOKUP($B44,ObData!$A$1:$F$300,6,0)<>0,VLOOKUP($B44,ObData!$A$1:$F$300,6,0),\"\")","v":""},{"$f":"IF(VLOOKUP($B44,ObData!$A$1:$F$300,5,0)<>0,VLOOKUP($B44,ObData!$A$1:$F$300,5,0),\"\")","v":""}]
[{"$f":"IFERROR(IF(A44+1>MAX(ObData!B:B),\"\",A44+1),\"\")","v":""},"",{"$f":"IF(VLOOKUP($B45,ObData!$A$1:$F$300,3,0)<>0,VLOOKUP(B45,ObData!$A$1:$F$300,3,0),\"\")","v":""},{"$f":"IF(VLOOKUP($B45,ObData!$A$1:$F$300,4,0)<>0,VLOOKUP($B45,ObData!$A$1:$F$300,4,0),\"\")","v":""},{"$f":"IF(VLOOKUP($B45,ObData!$A$1:$F$300,6,0)<>0,VLOOKUP($B45,ObData!$A$1:$F$300,6,0),\"\")","v":""},{"$f":"IF(VLOOKUP($B45,ObData!$A$1:$F$300,5,0)<>0,VLOOKUP($B45,ObData!$A$1:$F$300,5,0),\"\")","v":""}]
[{"$f":"IFERROR(IF(A45+1>MAX(ObData!B:B),\"\",A45+1),\"\")","v":""},"",{"$f":"IF(VLOOKUP($B46,ObData!$A$1:$F$300,3,0)<>0,VLOOKUP(B46,ObData!$A$1:$F$300,3,0),\"\")","v":""},{"$f":"IF(VLOOKUP($B46,ObData!$A$1:$F$300,4,0)<>0,VLOOKUP($B46,ObData!$A$1:$F$300,4,0),\"\")","v":""},{"$f":"IF(VLOOKUP($B46,ObData!$A$1:$F$300,6,0)<>0,VLOOKUP($B46,ObData!$A$1:$F$300,6,0),\"\")","v":""},{"$f":"IF(VLOOKUP($B46,ObData!$A$1:$F$300,5,0)<>0,VLOOKUP($B46,ObData!$A$1:$F$300,5,0),\"\")","v":""}]
[{"$f":"IFERROR(IF(A46+1>MAX(ObData!B:B),\"\",A46+1),\"\")","v":""},"",{"$f":"IF(VLOOKUP($B47,ObData!$A$1:$F$300,3,0)<>0,VLOOKUP(B47,ObData!$A$1:$F$300,3,0),\"\")","v":""},{"$f":"IF(VLOOKUP($B47,ObData!$A$1:$F$300,4,0)<>0,VLOOKUP($B47,ObData!$A$1:$F$300,4,0),\"\")","v":""},{"$f":"IF(VLOOKUP($B47,ObData!$A$1:$F$300,6,0)<>0,VLOOKUP($B47,ObData!$A$1:$F$300,6,0),\"\")","v":""},{"$f":"IF(VLOOKUP($B47,ObData!$A$1:$F$300,5,0)<>0,VLOOKUP($B47,ObData!$A$1:$F$300,5,0),\"\")","v":""}]
[{"$f":"IFERROR(IF(A47+1>MAX(ObData!B:B),\"\",A47+1),\"\")","v":""},"",{"$f":"IF(VLOOKUP($B48,ObData!$A$1:$F$300,3,0)<>0,VLOOKUP(B48,ObData!$A$1:$F$300,3,0),\"\")","v":""},{"$f":"IF(VLOOKUP($B48,ObData!$A$1:$F$300,4,0)<>0,VLOOKUP($B48,ObData!$A$1:$F$300,4,0),\"\")","v":""},{"$f":"IF(VLOOKUP($B48,ObData!$A$1:$F$300,6,0)<>0,VLOOKUP($B48,ObData!$A$1:$F$300,6,0),\"\")","v":""},{"$f":"IF(VLOOKUP($B48,ObData!$A$1:$F$300,5,0)<>0,VLOOKUP($B48,ObData!$A$1:$F$300,5,0),\"\")","v":""}]
[{"$f":"IFERROR(IF(A48+1>MAX(ObData!B:B),\"\",A48+1),\"\")","v":""},"",{"$f":"IF(VLOOKUP($B49,ObData!$A$1:$F$300,3,0)<>0,VLOOKUP(B49,ObData!$A$1:$F$300,3,0),\"\")","v":""},{"$f":"IF(VLOOKUP($B49,ObData!$A$1:$F$300,4,0)<>0,VLOOKUP($B49,ObData!$A$1:$F$300,4,0),\"\")","v":""},{"$f":"IF(VLOOKUP($B49,ObData!$A$1:$F$300,6,0)<>0,VLOOKUP($B49,ObData!$A$1:$F$300,6,0),\"\")","v":""},{"$f":"IF(VLOOKUP($B49,ObData!$A$1:$F$300,5,0)<>0,VLOOKUP($B49,ObData!$A$1:$F$300,5,0),\"\")","v":""}]
[{"$f":"IFERROR(IF(A49+1>MAX(ObData!B:B),\"\",A49+1),\"\")","v":""},"",{"$f":"IF(VLOOKUP($B50,ObData!$A$1:$F$300,3,0)<>0,VLOOKUP(B50,ObData!$A$1:$F$300,3,0),\"\")","v":""},{"$f":"IF(VLOOKUP($B50,ObData!$A$1:$F$300,4,0)<>0,VLOOKUP($B50,ObData!$A$1:$F$300,4,0),\"\")","v":""},{"$f":"IF(VLOOKUP($B50,ObData!$A$1:$F$300,6,0)<>0,VLOOKUP($B50,ObData!$A$1:$F$300,6,0),\"\")","v":""},{"$f":"IF(VLOOKUP($B50,ObData!$A$1:$F$300,5,0)<>0,VLOOKUP($B50,ObData!$A$1:$F$300,5,0),\"\")","v":""}]
[{"$f":"IFERROR(IF(A50+1>MAX(ObData!B:B),\"\",A50+1),\"\")","v":""},"",{"$f":"IF(VLOOKUP($B51,ObData!$A$1:$F$300,3,0)<>0,VLOOKUP(B51,ObData!$A$1:$F$300,3,0),\"\")","v":""},{"$f":"IF(VLOOKUP($B51,ObData!$A$1:$F$300,4,0)<>0,VLOOKUP($B51,ObData!$A$1:$F$300,4,0),\"\")","v":""},{"$f":"IF(VLOOKUP($B51,ObData!$A$1:$F$300,6,0)<>0,VLOOKUP($B51,ObData!$A$1:$F$300,6,0),\"\")","v":""},{"$f":"IF(VLOOKUP($B51,ObData!$A$1:$F$300,5,0)<>0,VLOOKUP($B51,ObData!$A$1:$F$300,5,0),\"\")","v":""}]
[{"$f":"IFERROR(IF(A51+1>MAX(ObData!B:B),\"\",A51+1),\"\")","v":""},"",{"$f":"IF(VLOOKUP($B52,ObData!$A$1:$F$300,3,0)<>0,VLOOKUP(B52,ObData!$A$1:$F$300,3,0),\"\")","v":""},{"$f":"IF(VLOOKUP($B52,ObData!$A$1:$F$300,4,0)<>0,VLOOKUP($B52,ObData!$A$1:$F$300,4,0),\"\")","v":""},{"$f":"IF(VLOOKUP($B52,ObData!$A$1:$F$300,6,0)<>0,VLOOKUP($B52,ObData!$A$1:$F$300,6,0),\"\")","v":""},{"$f":"IF(VLOOKUP($B52,ObData!$A$1:$F$300,5,0)<>0,VLOOKUP($B52,ObData!$A$1:$F$300,5,0),\"\")","v":""}]
[{"$f":"IFERROR(IF(A52+1>MAX(ObData!B:B),\"\",A52+1),\"\")","v":""},"",{"$f":"IF(VLOOKUP($B53,ObData!$A$1:$F$300,3,0)<>0,VLOOKUP(B53,ObData!$A$1:$F$300,3,0),\"\")","v":""},{"$f":"IF(VLOOKUP($B53,ObData!$A$1:$F$300,4,0)<>0,VLOOKUP($B53,ObData!$A$1:$F$300,4,0),\"\")","v":""},{"$f":"IF(VLOOKUP($B53,ObData!$A$1:$F$300,6,0)<>0,VLOOKUP($B53,ObData!$A$1:$F$300,6,0),\"\")","v":""},{"$f":"IF(VLOOKUP($B53,ObData!$A$1:$F$300,5,0)<>0,VLOOKUP($B53,ObData!$A$1:$F$300,5,0),\"\")","v":""}]
[{"$f":"IFERROR(IF(A53+1>MAX(ObData!B:B),\"\",A53+1),\"\")","v":""},"",{"$f":"IF(VLOOKUP($B54,ObData!$A$1:$F$300,3,0)<>0,VLOOKUP(B54,ObData!$A$1:$F$300,3,0),\"\")","v":""},{"$f":"IF(VLOOKUP($B54,ObData!$A$1:$F$300,4,0)<>0,VLOOKUP($B54,ObData!$A$1:$F$300,4,0),\"\")","v":""},{"$f":"IF(VLOOKUP($B54,ObData!$A$1:$F$300,6,0)<>0,VLOOKUP($B54,ObData!$A$1:$F$300,6,0),\"\")","v":""},{"$f":"IF(VLOOKUP($B54,ObData!$A$1:$F$300,5,0)<>0,VLOOKUP($B54,ObData!$A$1:$F$300,5,0),\"\")","v":""}]
[{"$f":"IFERROR(IF(A54+1>MAX(ObData!B:B),\"\",A54+1),\"\")","v":""},"",{"$f":"IF(VLOOKUP($B55,ObData!$A$1:$F$300,3,0)<>0,VLOOKUP(B55,ObData!$A$1:$F$300,3,0),\"\")","v":""},{"$f":"IF(VLOOKUP($B55,ObData!$A$1:$F$300,4,0)<>0,VLOOKUP($B55,ObData!$A$1:$F$300,4,0),\"\")","v":""},{"$f":"IF(VLOOKUP($B55,ObData!$A$1:$F$300,6,0)<>0,VLOOKUP($B55,ObData!$A$1:$F$300,6,0),\"\")","v":""},{"$f":"IF(VLOOKUP($B55,ObData!$A$1:$F$300,5,0)<>0,VLOOKUP($B55,ObData!$A$1:$F$300,5,0),\"\")","v":""}]
[{"$f":"IFERROR(IF(A55+1>MAX(ObData!B:B),\"\",A55+1),\"\")","v":""},"",{"$f":"IF(VLOOKUP($B56,ObData!$A$1:$F$300,3,0)<>0,VLOOKUP(B56,ObData!$A$1:$F$300,3,0),\"\")","v":""},{"$f":"IF(VLOOKUP($B56,ObData!$A$1:$F$300,4,0)<>0,VLOOKUP($B56,ObData!$A$1:$F$300,4,0),\"\")","v":""},{"$f":"IF(VLOOKUP($B56,ObData!$A$1:$F$300,6,0)<>0,VLOOKUP($B56,ObData!$A$1:$F$300,6,0),\"\")","v":""},{"$f":"IF(VLOOKUP($B56,ObData!$A$1:$F$300,5,0)<>0,VLOOKUP($B56,ObData!$A$1:$F$300,5,0),\"\")","v":""}]
[{"$f":"IFERROR(IF(A56+1>MAX(ObData!B:B),\"\",A56+1),\"\")","v":""},"",{"$f":"IF(VLOOKUP($B57,ObData!$A$1:$F$300,3,0)<>0,VLOOKUP(B57,ObData!$A$1:$F$300,3,0),\"\")","v":""},{"$f":"IF(VLOOKUP($B57,ObData!$A$1:$F$300,4,0)<>0,VLOOKUP($B57,ObData!$A$1:$F$300,4,0),\"\")","v":""},{"$f":"IF(VLOOKUP($B57,ObData!$A$1:$F$300,6,0)<>0,VLOOKUP($B57,ObData!$A$1:$F$300,6,0),\"\")","v":""},{"$f":"IF(VLOOKUP($B57,ObData!$A$1:$F$300,5,0)<>0,VLOOKUP($B57,ObData!$A$1:$F$300,5,0),\"\")","v":""}]
[{"$f":"IFERROR(IF(A57+1>MAX(ObData!B:B),\"\",A57+1),\"\")","v":""},"",{"$f":"IF(VLOOKUP($B58,ObData!$A$1:$F$300,3,0)<>0,VLOOKUP(B58,ObData!$A$1:$F$300,3,0),\"\")","v":""},{"$f":"IF(VLOOKUP($B58,ObData!$A$1:$F$300,4,0)<>0,VLOOKUP($B58,ObData!$A$1:$F$300,4,0),\"\")","v":""},{"$f":"IF(VLOOKUP($B58,ObData!$A$1:$F$300,6,0)<>0,VLOOKUP($B58,ObData!$A$1:$F$300,6,0),\"\")","v":""},{"$f":"IF(VLOOKUP($B58,ObData!$A$1:$F$300,5,0)<>0,VLOOKUP($B58,ObData!$A$1:$F$300,5,0),\"\")","v":""}]
[{"$f":"IFERROR(IF(A58+1>MAX(ObData!B:B),\"\",A58+1),\"\")","v":""},"",{"$f":"IF(VLOOKUP($B59,ObData!$A$1:$F$300,3,0)<>0,VLOOKUP(B59,ObData!$A$1:$F$300,3,0),\"\")","v":""},{"$f":"IF(VLOOKUP($B59,ObData!$A$1:$F$300,4,0)<>0,VLOOKUP($B59,ObData!$A$1:$F$300,4,0),\"\")","v":""},{"$f":"IF(VLOOKUP($B59,ObData!$A$1:$F$300,6,0)<>0,VLOOKUP($B59,ObData!$A$1:$F$300,6,0),\"\")","v":""},{"$f":"IF(VLOOKUP($B59,ObData!$A$1:$F$300,5,0)<>0,VLOOKUP($B59,ObData!$A$1:$F$300,5,0),\"\")","v":""}]
[{"$f":"IFERROR(IF(A59+1>MAX(ObData!B:B),\"\",A59+1),\"\")","v":""},"",{"$f":"IF(VLOOKUP($B60,ObData!$A$1:$F$300,3,0)<>0,VLOOKUP(B60,ObData!$A$1:$F$300,3,0),\"\")","v":""},{"$f":"IF(VLOOKUP($B60,ObData!$A$1:$F$300,4,0)<>0,VLOOKUP($B60,ObData!$A$1:$F$300,4,0),\"\")","v":""},{"$f":"IF(VLOOKUP($B60,ObData!$A$1:$F$300,6,0)<>0,VLOOKUP($B60,ObData!$A$1:$F$300,6,0),\"\")","v":""},{"$f":"IF(VLOOKUP($B60,ObData!$A$1:$F$300,5,0)<>0,VLOOKUP($B60,ObData!$A$1:$F$300,5,0),\"\")","v":""}]
[{"$f":"IFERROR(IF(A60+1>MAX(ObData!B:B),\"\",A60+1),\"\")","v":""},"",{"$f":"IF(VLOOKUP($B61,ObData!$A$1:$F$300,3,0)<>0,VLOOKUP(B61,ObData!$A$1:$F$300,3,0),\"\")","v":""},{"$f":"IF(VLOOKUP($B61,ObData!$A$1:$F$300,4,0)<>0,VLOOKUP($B61,ObData!$A$1:$F$300,4,0),\"\")","v":""},{"$f":"IF(VLOOKUP($B61,ObData!$A$1:$F$300,6,0)<>0,VLOOKUP($B61,ObData!$A$1:$F$300,6,0),\"\")","v":""},{"$f":"IF(VLOOKUP($B61,ObData!$A$1:$F$300,5,0)<>0,VLOOKUP($B61,ObData!$A$1:$F$300,5,0),\"\")","v":""}]
[{"$f":"IFERROR(IF(A61+1>MAX(ObData!B:B),\"\",A61+1),\"\")","v":""},"",{"$f":"IF(VLOOKUP($B62,ObData!$A$1:$F$300,3,0)<>0,VLOOKUP(B62,ObData!$A$1:$F$300,3,0),\"\")","v":""},{"$f":"IF(VLOOKUP($B62,ObData!$A$1:$F$300,4,0)<>0,VLOOKUP($B62,ObData!$A$1:$F$300,4,0),\"\")","v":""},{"$f":"IF(VLOOKUP($B62,ObData!$A$1:$F$300,6,0)<>0,VLOOKUP($B62,ObData!$A$1:$F$300,6,0),\"\")","v":""},{"$f":"IF(VLOOKUP($B62,ObData!$A$1:$F$300,5,0)<>0,VLOOKUP($B62,ObData!$A$1:$F$300,5,0),\"\")","v":""}]
[{"$f":"IFERROR(IF(A62+1>MAX(ObData!B:B),\"\",A62+1),\"\")","v":""},"",{"$f":"IF(VLOOKUP($B63,ObData!$A$1:$F$300,3,0)<>0,VLOOKUP(B63,ObData!$A$1:$F$300,3,0),\"\")","v":""},{"$f":"IF(VLOOKUP($B63,ObData!$A$1:$F$300,4,0)<>0,VLOOKUP($B63,ObData!$A$1:$F$300,4,0),\"\")","v":""},{"$f":"IF(VLOOKUP($B63,ObData!$A$1:$F$300,6,0)<>0,VLOOKUP($B63,ObData!$A$1:$F$300,6,0),\"\")","v":""},{"$f":"IF(VLOOKUP($B63,ObData!$A$1:$F$300,5,0)<>0,VLOOKUP($B63,ObData!$A$1:$F$300,5,0),\"\")","v":""}]
[{"$f":"IFERROR(IF(A63+1>MAX(ObData!B:B),\"\",A63+1),\"\")","v":""},"",{"$f":"IF(VLOOKUP($B64,ObData!$A$1:$F$300,3,0)<>0,VLOOKUP(B64,ObData!$A$1:$F$300,3,0),\"\")","v":""},{"$f":"IF(VLOOKUP($B64,ObData!$A$1:$F$300,4,0)<>0,VLOOKUP($B64,ObData!$A$1:$F$300,4,0),\"\")","v":""},{"$f":"IF(VLOOKUP($B64,ObData!$A$1:$F$300,6,0)<>0,VLOOKUP($B64,ObData!$A$1:$F$300,6,0),\"\")","v":""},{"$f":"IF(VLOOKUP($B64,ObData!$A$1:$F$300,5,0)<>0,VLOOKUP($B64,ObData!$A$1:$F$300,5,0),\"\")","v":""}]
[{"$f":"IFERROR(IF(A64+1>MAX(ObData!B:B),\"\",A64+1),\"\")","v":""},"",{"$f":"IF(VLOOKUP($B65,ObData!$A$1:$F$300,3,0)<>0,VLOOKUP(B65,ObData!$A$1:$F$300,3,0),\"\")","v":""},{"$f":"IF(VLOOKUP($B65,ObData!$A$1:$F$300,4,0)<>0,VLOOKUP($B65,ObData!$A$1:$F$300,4,0),\"\")","v":""},{"$f":"IF(VLOOKUP($B65,ObData!$A$1:$F$300,6,0)<>0,VLOOKUP($B65,ObData!$A$1:$F$300,6,0),\"\")","v":""},{"$f":"IF(VLOOKUP($B65,ObData!$A$1:$F$300,5,0)<>0,VLOOKUP($B65,ObData!$A$1:$F$300,5,0),\"\")","v":""}]
[{"$f":"IFERROR(IF(A65+1>MAX(ObData!B:B),\"\",A65+1),\"\")","v":""},"",{"$f":"IF(VLOOKUP($B66,ObData!$A$1:$F$300,3,0)<>0,VLOOKUP(B66,ObData!$A$1:$F$300,3,0),\"\")","v":""},{"$f":"IF(VLOOKUP($B66,ObData!$A$1:$F$300,4,0)<>0,VLOOKUP($B66,ObData!$A$1:$F$300,4,0),\"\")","v":""},{"$f":"IF(VLOOKUP($B66,ObData!$A$1:$F$300,6,0)<>0,VLOOKUP($B66,ObData!$A$1:$F$300,6,0),\"\")","v":""},{"$f":"IF(VLOOKUP($B66,ObData!$A$1:$F$300,5,0)<>0,VLOOKUP($B66,ObData!$A$1:$F$300,5,0),\"\")","v":""}]
[{"$f":"IFERROR(IF(A66+1>MAX(ObData!B:B),\"\",A66+1),\"\")","v":""},{"$f":"IF(A67<>\"\",\"Observation \"&A67,\"\")","v":""},{"$f":"IF(VLOOKUP($B67,ObData!$A$1:$F$300,3,0)<>0,VLOOKUP(B67,ObData!$A$1:$F$300,3,0),\"\")","v":""},{"$f":"IF(VLOOKUP($B67,ObData!$A$1:$F$300,4,0)<>0,VLOOKUP($B67,ObData!$A$1:$F$300,4,0),\"\")","v":""},{"$f":"IF(VLOOKUP($B67,ObData!$A$1:$F$300,6,0)<>0,VLOOKUP($B67,ObData!$A$1:$F$300,6,0),\"\")","v":""},{"$f":"IF(VLOOKUP($B67,ObData!$A$1:$F$300,5,0)<>0,VLOOKUP($B67,ObData!$A$1:$F$300,5,0),\"\")","v":""}]
[{"$f":"IFERROR(IF(A67+1>MAX(ObData!B:B),\"\",A67+1),\"\")","v":""},"",{"$f":"IF(VLOOKUP($B68,ObData!$A$1:$F$300,3,0)<>0,VLOOKUP(B68,ObData!$A$1:$F$300,3,0),\"\")","v":""},{"$f":"IF(VLOOKUP($B68,ObData!$A$1:$F$300,4,0)<>0,VLOOKUP($B68,ObData!$A$1:$F$300,4,0),\"\")","v":""},{"$f":"IF(VLOOKUP($B68,ObData!$A$1:$F$300,6,0)<>0,VLOOKUP($B68,ObData!$A$1:$F$300,6,0),\"\")","v":""},{"$f":"IF(VLOOKUP($B68,ObData!$A$1:$F$300,5,0)<>0,VLOOKUP($B68,ObData!$A$1:$F$300,5,0),\"\")","v":""}]
[{"$f":"IFERROR(IF(A68+1>MAX(ObData!B:B),\"\",A68+1),\"\")","v":""},"",{"$f":"IF(VLOOKUP($B69,ObData!$A$1:$F$300,3,0)<>0,VLOOKUP(B69,ObData!$A$1:$F$300,3,0),\"\")","v":""},{"$f":"IF(VLOOKUP($B69,ObData!$A$1:$F$300,4,0)<>0,VLOOKUP($B69,ObData!$A$1:$F$300,4,0),\"\")","v":""},{"$f":"IF(VLOOKUP($B69,ObData!$A$1:$F$300,6,0)<>0,VLOOKUP($B69,ObData!$A$1:$F$300,6,0),\"\")","v":""},{"$f":"IF(VLOOKUP($B69,ObData!$A$1:$F$300,5,0)<>0,VLOOKUP($B69,ObData!$A$1:$F$300,5,0),\"\")","v":""}]
[{"$f":"IFERROR(IF(A69+1>MAX(ObData!B:B),\"\",A69+1),\"\")","v":""},"",{"$f":"IF(VLOOKUP($B70,ObData!$A$1:$F$300,3,0)<>0,VLOOKUP(B70,ObData!$A$1:$F$300,3,0),\"\")","v":""},{"$f":"IF(VLOOKUP($B70,ObData!$A$1:$F$300,4,0)<>0,VLOOKUP($B70,ObData!$A$1:$F$300,4,0),\"\")","v":""},{"$f":"IF(VLOOKUP($B70,ObData!$A$1:$F$300,6,0)<>0,VLOOKUP($B70,ObData!$A$1:$F$300,6,0),\"\")","v":""},{"$f":"IF(VLOOKUP($B70,ObData!$A$1:$F$300,5,0)<>0,VLOOKUP($B70,ObData!$A$1:$F$300,5,0),\"\")","v":""}]
[{"$f":"IFERROR(IF(A70+1>MAX(ObData!B:B),\"\",A70+1),\"\")","v":""},"",{"$f":"IF(VLOOKUP($B71,ObData!$A$1:$F$300,3,0)<>0,VLOOKUP(B71,ObData!$A$1:$F$300,3,0),\"\")","v":""},{"$f":"IF(VLOOKUP($B71,ObData!$A$1:$F$300,4,0)<>0,VLOOKUP($B71,ObData!$A$1:$F$300,4,0),\"\")","v":""},{"$f":"IF(VLOOKUP($B71,ObData!$A$1:$F$300,6,0)<>0,VLOOKUP($B71,ObData!$A$1:$F$300,6,0),\"\")","v":""},{"$f":"IF(VLOOKUP($B71,ObData!$A$1:$F$300,5,0)<>0,VLOOKUP($B71,ObData!$A$1:$F$300,5,0),\"\")","v":""}]
[{"$f":"IFERROR(IF(A71+1>MAX(ObData!B:B),\"\",A71+1),\"\")","v":""},"",{"$f":"IF(VLOOKUP($B72,ObData!$A$1:$F$300,3,0)<>0,VLOOKUP(B72,ObData!$A$1:$F$300,3,0),\"\")","v":""},{"$f":"IF(VLOOKUP($B72,ObData!$A$1:$F$300,4,0)<>0,VLOOKUP($B72,ObData!$A$1:$F$300,4,0),\"\")","v":""},{"$f":"IF(VLOOKUP($B72,ObData!$A$1:$F$300,6,0)<>0,VLOOKUP($B72,ObData!$A$1:$F$300,6,0),\"\")","v":""},{"$f":"IF(VLOOKUP($B72,ObData!$A$1:$F$300,5,0)<>0,VLOOKUP($B72,ObData!$A$1:$F$300,5,0),\"\")","v":""}]
[{"$f":"IFERROR(IF(A72+1>MAX(ObData!B:B),\"\",A72+1),\"\")","v":""},"",{"$f":"IF(VLOOKUP($B73,ObData!$A$1:$F$300,3,0)<>0,VLOOKUP(B73,ObData!$A$1:$F$300,3,0),\"\")","v":""},{"$f":"IF(VLOOKUP($B73,ObData!$A$1:$F$300,4,0)<>0,VLOOKUP($B73,ObData!$A$1:$F$300,4,0),\"\")","v":""},{"$f":"IF(VLOOKUP($B73,ObData!$A$1:$F$300,6,0)<>0,VLOOKUP($B73,ObData!$A$1:$F$300,6,0),\"\")","v":""},{"$f":"IF(VLOOKUP($B73,ObData!$A$1:$F$300,5,0)<>0,VLOOKUP($B73,ObData!$A$1:$F$300,5,0),\"\")","v":""}]
[{"$f":"IFERROR(IF(A73+1>MAX(ObData!B:B),\"\",A73+1),\"\")","v":""},"",{"$f":"IF(VLOOKUP($B74,ObData!$A$1:$F$300,3,0)<>0,VLOOKUP(B74,ObData!$A$1:$F$300,3,0),\"\")","v":""},{"$f":"IF(VLOOKUP($B74,ObData!$A$1:$F$300,4,0)<>0,VLOOKUP($B74,ObData!$A$1:$F$300,4,0),\"\")","v":""},{"$f":"IF(VLOOKUP($B74,ObData!$A$1:$F$300,6,0)<>0,VLOOKUP($B74,ObData!$A$1:$F$300,6,0),\"\")","v":""},{"$f":"IF(VLOOKUP($B74,ObData!$A$1:$F$300,5,0)<>0,VLOOKUP($B74,ObData!$A$1:$F$300,5,0),\"\")","v":""}]
[{"$f":"IFERROR(IF(A74+1>MAX(ObData!B:B),\"\",A74+1),\"\")","v":""},"",{"$f":"IF(VLOOKUP($B75,ObData!$A$1:$F$300,3,0)<>0,VLOOKUP(B75,ObData!$A$1:$F$300,3,0),\"\")","v":""},{"$f":"IF(VLOOKUP($B75,ObData!$A$1:$F$300,4,0)<>0,VLOOKUP($B75,ObData!$A$1:$F$300,4,0),\"\")","v":""},{"$f":"IF(VLOOKUP($B75,ObData!$A$1:$F$300,6,0)<>0,VLOOKUP($B75,ObData!$A$1:$F$300,6,0),\"\")","v":""},{"$f":"IF(VLOOKUP($B75,ObData!$A$1:$F$300,5,0)<>0,VLOOKUP($B75,ObData!$A$1:$F$300,5,0),\"\")","v":""}]
[{"$f":"IFERROR(IF(A75+1>MAX(ObData!B:B),\"\",A75+1),\"\")","v":""},"",{"$f":"IF(VLOOKUP($B76,ObData!$A$1:$F$300,3,0)<>0,VLOOKUP(B76,ObData!$A$1:$F$300,3,0),\"\")","v":""},{"$f":"IF(VLOOKUP($B76,ObData!$A$1:$F$300,4,0)<>0,VLOOKUP($B76,ObData!$A$1:$F$300,4,0),\"\")","v":""},{"$f":"IF(VLOOKUP($B76,ObData!$A$1:$F$300,6,0)<>0,VLOOKUP($B76,ObData!$A$1:$F$300,6,0),\"\")","v":""},{"$f":"IF(VLOOKUP($B76,ObData!$A$1:$F$300,5,0)<>0,VLOOKUP($B76,ObData!$A$1:$F$300,5,0),\"\")","v":""}]
[{"$f":"IFERROR(IF(A76+1>MAX(ObData!B:B),\"\",A76+1),\"\")","v":""},"",{"$f":"IF(VLOOKUP($B77,ObData!$A$1:$F$300,3,0)<>0,VLOOKUP(B77,ObData!$A$1:$F$300,3,0),\"\")","v":""},{"$f":"IF(VLOOKUP($B77,ObData!$A$1:$F$300,4,0)<>0,VLOOKUP($B77,ObData!$A$1:$F$300,4,0),\"\")","v":""},{"$f":"IF(VLOOKUP($B77,ObData!$A$1:$F$300,6,0)<>0,VLOOKUP($B77,ObData!$A$1:$F$300,6,0),\"\")","v":""},{"$f":"IF(VLOOKUP($B77,ObData!$A$1:$F$300,5,0)<>0,VLOOKUP($B77,ObData!$A$1:$F$300,5,0),\"\")","v":""}]
[{"$f":"IFERROR(IF(A77+1>MAX(ObData!B:B),\"\",A77+1),\"\")","v":""},"",{"$f":"IF(VLOOKUP($B78,ObData!$A$1:$F$300,3,0)<>0,VLOOKUP(B78,ObData!$A$1:$F$300,3,0),\"\")","v":""},{"$f":"IF(VLOOKUP($B78,ObData!$A$1:$F$300,4,0)<>0,VLOOKUP($B78,ObData!$A$1:$F$300,4,0),\"\")","v":""},{"$f":"IF(VLOOKUP($B78,ObData!$A$1:$F$300,6,0)<>0,VLOOKUP($B78,ObData!$A$1:$F$300,6,0),\"\")","v":""},{"$f":"IF(VLOOKUP($B78,ObData!$A$1:$F$300,5,0)<>0,VLOOKUP($B78,ObData!$A$1:$F$300,5,0),\"\")","v":""}]
[{"$f":"IFERROR(IF(A78+1>MAX(ObData!B:B),\"\",A78+1),\"\")","v":""},"",{"$f":"IF(VLOOKUP($B79,ObData!$A$1:$F$300,3,0)<>0,VLOOKUP(B79,ObData!$A$1:$F$300,3,0),\"\")","v":""},{"$f":"IF(VLOOKUP($B79,ObData!$A$1:$F$300,4,0)<>0,VLOOKUP($B79,ObData!$A$1:$F$300,4,0),\"\")","v":""},{"$f":"IF(VLOOKUP($B79,ObData!$A$1:$F$300,6,0)<>0,VLOOKUP($B79,ObData!$A$1:$F$300,6,0),\"\")","v":""},{"$f":"IF(VLOOKUP($B79,ObData!$A$1:$F$300,5,0)<>0,VLOOKUP($B79,ObData!$A$1:$F$300,5,0),\"\")","v":""}]
[{"$f":"IFERROR(IF(A79+1>MAX(ObData!B:B),\"\",A79+1),\"\")","v":""},"",{"$f":"IF(VLOOKUP($B80,ObData!$A$1:$F$300,3,0)<>0,VLOOKUP(B80,ObData!$A$1:$F$300,3,0),\"\")","v":""},{"$f":"IF(VLOOKUP($B80,ObData!$A$1:$F$300,4,0)<>0,VLOOKUP($B80,ObData!$A$1:$F$300,4,0),\"\")","v":""},{"$f":"IF(VLOOKUP($B80,ObData!$A$1:$F$300,6,0)<>0,VLOOKUP($B80,ObData!$A$1:$F$300,6,0),\"\")","v":""},{"$f":"IF(VLOOKUP($B80,ObData!$A$1:$F$300,5,0)<>0,VLOOKUP($B80,ObData!$A$1:$F$300,5,0),\"\")","v":""}]
[{"$f":"IFERROR(IF(A80+1>MAX(ObData!B:B),\"\",A80+1),\"\")","v":""},"",{"$f":"IF(VLOOKUP($B81,ObData!$A$1:$F$300,3,0)<>0,VLOOKUP(B81,ObData!$A$1:$F$300,3,0),\"\")","v":""},{"$f":"IF(VLOOKUP($B81,ObData!$A$1:$F$300,4,0)<>0,VLOOKUP($B81,ObData!$A$1:$F$300,4,0),\"\")","v":""},{"$f":"IF(VLOOKUP($B81,ObData!$A$1:$F$300,6,0)<>0,VLOOKUP($B81,ObData!$A$1:$F$300,6,0),\"\")","v":""},{"$f":"IF(VLOOKUP($B81,ObData!$A$1:$F$300,5,0)<>0,VLOOKUP($B81,ObData!$A$1:$F$300,5,0),\"\")","v":""}]
[{"$f":"IFERROR(IF(A81+1>MAX(ObData!B:B),\"\",A81+1),\"\")","v":""},"",{"$f":"IF(VLOOKUP($B82,ObData!$A$1:$F$300,3,0)<>0,VLOOKUP(B82,ObData!$A$1:$F$300,3,0),\"\")","v":""},{"$f":"IF(VLOOKUP($B82,ObData!$A$1:$F$300,4,0)<>0,VLOOKUP($B82,ObData!$A$1:$F$300,4,0),\"\")","v":""},{"$f":"IF(VLOOKUP($B82,ObData!$A$1:$F$300,6,0)<>0,VLOOKUP($B82,ObData!$A$1:$F$300,6,0),\"\")","v":""},{"$f":"IF(VLOOKUP($B82,ObData!$A$1:$F$300,5,0)<>0,VLOOKUP($B82,ObData!$A$1:$F$300,5,0),\"\")","v":""}]
[{"$f":"IFERROR(IF(A82+1>MAX(ObData!B:B),\"\",A82+1),\"\")","v":""},"",{"$f":"IF(VLOOKUP($B83,ObData!$A$1:$F$300,3,0)<>0,VLOOKUP(B83,ObData!$A$1:$F$300,3,0),\"\")","v":""},{"$f":"IF(VLOOKUP($B83,ObData!$A$1:$F$300,4,0)<>0,VLOOKUP($B83,ObData!$A$1:$F$300,4,0),\"\")","v":""},{"$f":"IF(VLOOKUP($B83,ObData!$A$1:$F$300,6,0)<>0,VLOOKUP($B83,ObData!$A$1:$F$300,6,0),\"\")","v":""},{"$f":"IF(VLOOKUP($B83,ObData!$A$1:$F$300,5,0)<>0,VLOOKUP($B83,ObData!$A$1:$F$300,5,0),\"\")","v":""}]
[{"$f":"IFERROR(IF(A83+1>MAX(ObData!B:B),\"\",A83+1),\"\")","v":""},"",{"$f":"IF(VLOOKUP($B84,ObData!$A$1:$F$300,3,0)<>0,VLOOKUP(B84,ObData!$A$1:$F$300,3,0),\"\")","v":""},{"$f":"IF(VLOOKUP($B84,ObData!$A$1:$F$300,4,0)<>0,VLOOKUP($B84,ObData!$A$1:$F$300,4,0),\"\")","v":""},{"$f":"IF(VLOOKUP($B84,ObData!$A$1:$F$300,6,0)<>0,VLOOKUP($B84,ObData!$A$1:$F$300,6,0),\"\")","v":""},{"$f":"IF(VLOOKUP($B84,ObData!$A$1:$F$300,5,0)<>0,VLOOKUP($B84,ObData!$A$1:$F$300,5,0),\"\")","v":""}]
[{"$f":"IFERROR(IF(A84+1>MAX(ObData!B:B),\"\",A84+1),\"\")","v":""},"",{"$f":"IF(VLOOKUP($B85,ObData!$A$1:$F$300,3,0)<>0,VLOOKUP(B85,ObData!$A$1:$F$300,3,0),\"\")","v":""},{"$f":"IF(VLOOKUP($B85,ObData!$A$1:$F$300,4,0)<>0,VLOOKUP($B85,ObData!$A$1:$F$300,4,0),\"\")","v":""},{"$f":"IF(VLOOKUP($B85,ObData!$A$1:$F$300,6,0)<>0,VLOOKUP($B85,ObData!$A$1:$F$300,6,0),\"\")","v":""},{"$f":"IF(VLOOKUP($B85,ObData!$A$1:$F$300,5,0)<>0,VLOOKUP($B85,ObData!$A$1:$F$300,5,0),\"\")","v":""}]
[{"$f":"IFERROR(IF(A85+1>MAX(ObData!B:B),\"\",A85+1),\"\")","v":""},"",{"$f":"IF(VLOOKUP($B86,ObData!$A$1:$F$300,3,0)<>0,VLOOKUP(B86,ObData!$A$1:$F$300,3,0),\"\")","v":""},{"$f":"IF(VLOOKUP($B86,ObData!$A$1:$F$300,4,0)<>0,VLOOKUP($B86,ObData!$A$1:$F$300,4,0),\"\")","v":""},{"$f":"IF(VLOOKUP($B86,ObData!$A$1:$F$300,6,0)<>0,VLOOKUP($B86,ObData!$A$1:$F$300,6,0),\"\")","v":""},{"$f":"IF(VLOOKUP($B86,ObData!$A$1:$F$300,5,0)<>0,VLOOKUP($B86,ObData!$A$1:$F$300,5,0),\"\")","v":""}]
[{"$f":"IFERROR(IF(A86+1>MAX(ObData!B:B),\"\",A86+1),\"\")","v":""},"",{"$f":"IF(VLOOKUP($B87,ObData!$A$1:$F$300,3,0)<>0,VLOOKUP(B87,ObData!$A$1:$F$300,3,0),\"\")","v":""},{"$f":"IF(VLOOKUP($B87,ObData!$A$1:$F$300,4,0)<>0,VLOOKUP($B87,ObData!$A$1:$F$300,4,0),\"\")","v":""},{"$f":"IF(VLOOKUP($B87,ObData!$A$1:$F$300,6,0)<>0,VLOOKUP($B87,ObData!$A$1:$F$300,6,0),\"\")","v":""},{"$f":"IF(VLOOKUP($B87,ObData!$A$1:$F$300,5,0)<>0,VLOOKUP($B87,ObData!$A$1:$F$300,5,0),\"\")","v":""}]
[{"$f":"IFERROR(IF(A87+1>MAX(ObData!B:B),\"\",A87+1),\"\")","v":""},"",{"$f":"IF(VLOOKUP($B88,ObData!$A$1:$F$300,3,0)<>0,VLOOKUP(B88,ObData!$A$1:$F$300,3,0),\"\")","v":""},{"$f":"IF(VLOOKUP($B88,ObData!$A$1:$F$300,4,0)<>0,VLOOKUP($B88,ObData!$A$1:$F$300,4,0),\"\")","v":""},{"$f":"IF(VLOOKUP($B88,ObData!$A$1:$F$300,6,0)<>0,VLOOKUP($B88,ObData!$A$1:$F$300,6,0),\"\")","v":""},{"$f":"IF(VLOOKUP($B88,ObData!$A$1:$F$300,5,0)<>0,VLOOKUP($B88,ObData!$A$1:$F$300,5,0),\"\")","v":""}]
[{"$f":"IFERROR(IF(A88+1>MAX(ObData!B:B),\"\",A88+1),\"\")","v":""},"",{"$f":"IF(VLOOKUP($B89,ObData!$A$1:$F$300,3,0)<>0,VLOOKUP(B89,ObData!$A$1:$F$300,3,0),\"\")","v":""},{"$f":"IF(VLOOKUP($B89,ObData!$A$1:$F$300,4,0)<>0,VLOOKUP($B89,ObData!$A$1:$F$300,4,0),\"\")","v":""},{"$f":"IF(VLOOKUP($B89,ObData!$A$1:$F$300,6,0)<>0,VLOOKUP($B89,ObData!$A$1:$F$300,6,0),\"\")","v":""},{"$f":"IF(VLOOKUP($B89,ObData!$A$1:$F$300,5,0)<>0,VLOOKUP($B89,ObData!$A$1:$F$300,5,0),\"\")","v":""}]
[{"$f":"IFERROR(IF(A89+1>MAX(ObData!B:B),\"\",A89+1),\"\")","v":""},"",{"$f":"IF(VLOOKUP($B90,ObData!$A$1:$F$300,3,0)<>0,VLOOKUP(B90,ObData!$A$1:$F$300,3,0),\"\")","v":""},{"$f":"IF(VLOOKUP($B90,ObData!$A$1:$F$300,4,0)<>0,VLOOKUP($B90,ObData!$A$1:$F$300,4,0),\"\")","v":""},{"$f":"IF(VLOOKUP($B90,ObData!$A$1:$F$300,6,0)<>0,VLOOKUP($B90,ObData!$A$1:$F$300,6,0),\"\")","v":""},{"$f":"IF(VLOOKUP($B90,ObData!$A$1:$F$300,5,0)<>0,VLOOKUP($B90,ObData!$A$1:$F$300,5,0),\"\")","v":""}]
[{"$f":"IFERROR(IF(A90+1>MAX(ObData!B:B),\"\",A90+1),\"\")","v":""},"",{"$f":"IF(VLOOKUP($B91,ObData!$A$1:$F$300,3,0)<>0,VLOOKUP(B91,ObData!$A$1:$F$300,3,0),\"\")","v":""},{"$f":"IF(VLOOKUP($B91,ObData!$A$1:$F$300,4,0)<>0,VLOOKUP($B91,ObData!$A$1:$F$300,4,0),\"\")","v":""},{"$f":"IF(VLOOKUP($B91,ObData!$A$1:$F$300,6,0)<>0,VLOOKUP($B91,ObData!$A$1:$F$300,6,0),\"\")","v":""},{"$f":"IF(VLOOKUP($B91,ObData!$A$1:$F$300,5,0)<>0,VLOOKUP($B91,ObData!$A$1:$F$300,5,0),\"\")","v":""}]
[{"$f":"IFERROR(IF(A91+1>MAX(ObData!B:B),\"\",A91+1),\"\")","v":""},"",{"$f":"IF(VLOOKUP($B92,ObData!$A$1:$F$300,3,0)<>0,VLOOKUP(B92,ObData!$A$1:$F$300,3,0),\"\")","v":""},{"$f":"IF(VLOOKUP($B92,ObData!$A$1:$F$300,4,0)<>0,VLOOKUP($B92,ObData!$A$1:$F$300,4,0),\"\")","v":""},{"$f":"IF(VLOOKUP($B92,ObData!$A$1:$F$300,6,0)<>0,VLOOKUP($B92,ObData!$A$1:$F$300,6,0),\"\")","v":""},{"$f":"IF(VLOOKUP($B92,ObData!$A$1:$F$300,5,0)<>0,VLOOKUP($B92,ObData!$A$1:$F$300,5,0),\"\")","v":""}]
[{"$f":"IFERROR(IF(A92+1>MAX(ObData!B:B),\"\",A92+1),\"\")","v":""},"",{"$f":"IF(VLOOKUP($B93,ObData!$A$1:$F$300,3,0)<>0,VLOOKUP(B93,ObData!$A$1:$F$300,3,0),\"\")","v":""},{"$f":"IF(VLOOKUP($B93,ObData!$A$1:$F$300,4,0)<>0,VLOOKUP($B93,ObData!$A$1:$F$300,4,0),\"\")","v":""},{"$f":"IF(VLOOKUP($B93,ObData!$A$1:$F$300,6,0)<>0,VLOOKUP($B93,ObData!$A$1:$F$300,6,0),\"\")","v":""},{"$f":"IF(VLOOKUP($B93,ObData!$A$1:$F$300,5,0)<>0,VLOOKUP($B93,ObData!$A$1:$F$300,5,0),\"\")","v":""}]
[{"$f":"IFERROR(IF(A93+1>MAX(ObData!B:B),\"\",A93+1),\"\")","v":""},"",{"$f":"IF(VLOOKUP($B94,ObData!$A$1:$F$300,3,0)<>0,VLOOKUP(B94,ObData!$A$1:$F$300,3,0),\"\")","v":""},{"$f":"IF(VLOOKUP($B94,ObData!$A$1:$F$300,4,0)<>0,VLOOKUP($B94,ObData!$A$1:$F$300,4,0),\"\")","v":""},{"$f":"IF(VLOOKUP($B94,ObData!$A$1:$F$300,6,0)<>0,VLOOKUP($B94,ObData!$A$1:$F$300,6,0),\"\")","v":""},{"$f":"IF(VLOOKUP($B94,ObData!$A$1:$F$300,5,0)<>0,VLOOKUP($B94,ObData!$A$1:$F$300,5,0),\"\")","v":""}]
[{"$f":"IFERROR(IF(A94+1>MAX(ObData!B:B),\"\",A94+1),\"\")","v":""},"",{"$f":"IF(VLOOKUP($B95,ObData!$A$1:$F$300,3,0)<>0,VLOOKUP(B95,ObData!$A$1:$F$300,3,0),\"\")","v":""},{"$f":"IF(VLOOKUP($B95,ObData!$A$1:$F$300,4,0)<>0,VLOOKUP($B95,ObData!$A$1:$F$300,4,0),\"\")","v":""},{"$f":"IF(VLOOKUP($B95,ObData!$A$1:$F$300,6,0)<>0,VLOOKUP($B95,ObData!$A$1:$F$300,6,0),\"\")","v":""},{"$f":"IF(VLOOKUP($B95,ObData!$A$1:$F$300,5,0)<>0,VLOOKUP($B95,ObData!$A$1:$F$300,5,0),\"\")","v":""}]
[{"$f":"IFERROR(IF(A95+1>MAX(ObData!B:B),\"\",A95+1),\"\")","v":""},"",{"$f":"IF(VLOOKUP($B96,ObData!$A$1:$F$300,3,0)<>0,VLOOKUP(B96,ObData!$A$1:$F$300,3,0),\"\")","v":""},{"$f":"IF(VLOOKUP($B96,ObData!$A$1:$F$300,4,0)<>0,VLOOKUP($B96,ObData!$A$1:$F$300,4,0),\"\")","v":""},{"$f":"IF(VLOOKUP($B96,ObData!$A$1:$F$300,6,0)<>0,VLOOKUP($B96,ObData!$A$1:$F$300,6,0),\"\")","v":""},{"$f":"IF(VLOOKUP($B96,ObData!$A$1:$F$300,5,0)<>0,VLOOKUP($B96,ObData!$A$1:$F$300,5,0),\"\")","v":""}]
[{"$f":"IFERROR(IF(A96+1>MAX(ObData!B:B),\"\",A96+1),\"\")","v":""},"",{"$f":"IF(VLOOKUP($B97,ObData!$A$1:$F$300,3,0)<>0,VLOOKUP(B97,ObData!$A$1:$F$300,3,0),\"\")","v":""},{"$f":"IF(VLOOKUP($B97,ObData!$A$1:$F$300,4,0)<>0,VLOOKUP($B97,ObData!$A$1:$F$300,4,0),\"\")","v":""},{"$f":"IF(VLOOKUP($B97,ObData!$A$1:$F$300,6,0)<>0,VLOOKUP($B97,ObData!$A$1:$F$300,6,0),\"\")","v":""},{"$f":"IF(VLOOKUP($B97,ObData!$A$1:$F$300,5,0)<>0,VLOOKUP($B97,ObData!$A$1:$F$300,5,0),\"\")","v":""}]
[{"$f":"IFERROR(IF(A97+1>MAX(ObData!B:B),\"\",A97+1),\"\")","v":""},"",{"$f":"IF(VLOOKUP($B98,ObData!$A$1:$F$300,3,0)<>0,VLOOKUP(B98,ObData!$A$1:$F$300,3,0),\"\")","v":""},{"$f":"IF(VLOOKUP($B98,ObData!$A$1:$F$300,4,0)<>0,VLOOKUP($B98,ObData!$A$1:$F$300,4,0),\"\")","v":""},{"$f":"IF(VLOOKUP($B98,ObData!$A$1:$F$300,6,0)<>0,VLOOKUP($B98,ObData!$A$1:$F$300,6,0),\"\")","v":""},{"$f":"IF(VLOOKUP($B98,ObData!$A$1:$F$300,5,0)<>0,VLOOKUP($B98,ObData!$A$1:$F$300,5,0),\"\")","v":""}]
[{"$f":"IFERROR(IF(A98+1>MAX(ObData!B:B),\"\",A98+1),\"\")","v":""},"",{"$f":"IF(VLOOKUP($B99,ObData!$A$1:$F$300,3,0)<>0,VLOOKUP(B99,ObData!$A$1:$F$300,3,0),\"\")","v":""},{"$f":"IF(VLOOKUP($B99,ObData!$A$1:$F$300,4,0)<>0,VLOOKUP($B99,ObData!$A$1:$F$300,4,0),\"\")","v":""},{"$f":"IF(VLOOKUP($B99,ObData!$A$1:$F$300,6,0)<>0,VLOOKUP($B99,ObData!$A$1:$F$300,6,0),\"\")","v":""},{"$f":"IF(VLOOKUP($B99,ObData!$A$1:$F$300,5,0)<>0,VLOOKUP($B99,ObData!$A$1:$F$300,5,0),\"\")","v":""}]
[{"$f":"IFERROR(IF(A99+1>MAX(ObData!B:B),\"\",A99+1),\"\")","v":""},"",{"$f":"IF(VLOOKUP($B100,ObData!$A$1:$F$300,3,0)<>0,VLOOKUP(B100,ObData!$A$1:$F$300,3,0),\"\")","v":""},{"$f":"IF(VLOOKUP($B100,ObData!$A$1:$F$300,4,0)<>0,VLOOKUP($B100,ObData!$A$1:$F$300,4,0),\"\")","v":""},{"$f":"IF(VLOOKUP($B100,ObData!$A$1:$F$300,6,0)<>0,VLOOKUP($B100,ObData!$A$1:$F$300,6,0),\"\")","v":""},{"$f":"IF(VLOOKUP($B100,ObData!$A$1:$F$300,5,0)<>0,VLOOKUP($B100,ObData!$A$1:$F$300,5,0),\"\")","v":""}]
[{"$f":"IFERROR(IF(A100+1>MAX(ObData!B:B),\"\",A100+1),\"\")","v":""},"",{"$f":"IF(VLOOKUP($B101,ObData!$A$1:$F$300,3,0)<>0,VLOOKUP(B101,ObData!$A$1:$F$300,3,0),\"\")","v":""},{"$f":"IF(VLOOKUP($B101,ObData!$A$1:$F$300,4,0)<>0,VLOOKUP($B101,ObData!$A$1:$F$300,4,0),\"\")","v":""},{"$f":"IF(VLOOKUP($B101,ObData!$A$1:$F$300,6,0)<>0,VLOOKUP($B101,ObData!$A$1:$F$300,6,0),\"\")","v":""},{"$f":"IF(VLOOKUP($B101,ObData!$A$1:$F$300,5,0)<>0,VLOOKUP($B101,ObData!$A$1:$F$300,5,0),\"\")","v":""}]
[{"$f":"IFERROR(IF(A101+1>MAX(ObData!B:B),\"\",A101+1),\"\")","v":""},"",{"$f":"IF(VLOOKUP($B102,ObData!$A$1:$F$300,3,0)<>0,VLOOKUP(B102,ObData!$A$1:$F$300,3,0),\"\")","v":""},{"$f":"IF(VLOOKUP($B102,ObData!$A$1:$F$300,4,0)<>0,VLOOKUP($B102,ObData!$A$1:$F$300,4,0),\"\")","v":""},{"$f":"IF(VLOOKUP($B102,ObData!$A$1:$F$300,6,0)<>0,VLOOKUP($B102,ObData!$A$1:$F$300,6,0),\"\")","v":""},{"$f":"IF(VLOOKUP($B102,ObData!$A$1:$F$300,5,0)<>0,VLOOKUP($B102,ObData!$A$1:$F$300,5,0),\"\")","v":""}]
[{"$f":"IFERROR(IF(A102+1>MAX(ObData!B:B),\"\",A102+1),\"\")","v":""},"",{"$f":"IF(VLOOKUP($B103,ObData!$A$1:$F$300,3,0)<>0,VLOOKUP(B103,ObData!$A$1:$F$300,3,0),\"\")","v":""},{"$f":"IF(VLOOKUP($B103,ObData!$A$1:$F$300,4,0)<>0,VLOOKUP($B103,ObData!$A$1:$F$300,4,0),\"\")","v":""},{"$f":"IF(VLOOKUP($B103,ObData!$A$1:$F$300,6,0)<>0,VLOOKUP($B103,ObData!$A$1:$F$300,6,0),\"\")","v":""},{"$f":"IF(VLOOKUP($B103,ObData!$A$1:$F$300,5,0)<>0,VLOOKUP($B103,ObData!$A$1:$F$300,5,0),\"\")","v":""}]
[{"$f":"IFERROR(IF(A103+1>MAX(ObData!B:B),\"\",A103+1),\"\")","v":""},"",{"$f":"IF(VLOOKUP($B104,ObData!$A$1:$F$300,3,0)<>0,VLOOKUP(B104,ObData!$A$1:$F$300,3,0),\"\")","v":""},{"$f":"IF(VLOOKUP($B104,ObData!$A$1:$F$300,4,0)<>0,VLOOKUP($B104,ObData!$A$1:$F$300,4,0),\"\")","v":""},{"$f":"IF(VLOOKUP($B104,ObData!$A$1:$F$300,6,0)<>0,VLOOKUP($B104,ObData!$A$1:$F$300,6,0),\"\")","v":""},{"$f":"IF(VLOOKUP($B104,ObData!$A$1:$F$300,5,0)<>0,VLOOKUP($B104,ObData!$A$1:$F$300,5,0),\"\")","v":""}]
[{"$f":"IFERROR(IF(A104+1>MAX(ObData!B:B),\"\",A104+1),\"\")","v":""},"",{"$f":"IF(VLOOKUP($B105,ObData!$A$1:$F$300,3,0)<>0,VLOOKUP(B105,ObData!$A$1:$F$300,3,0),\"\")","v":""},{"$f":"IF(VLOOKUP($B105,ObData!$A$1:$F$300,4,0)<>0,VLOOKUP($B105,ObData!$A$1:$F$300,4,0),\"\")","v":""},{"$f":"IF(VLOOKUP($B105,ObData!$A$1:$F$300,6,0)<>0,VLOOKUP($B105,ObData!$A$1:$F$300,6,0),\"\")","v":""},{"$f":"IF(VLOOKUP($B105,ObData!$A$1:$F$300,5,0)<>0,VLOOKUP($B105,ObData!$A$1:$F$300,5,0),\"\")","v":""}]
[{"$f":"IFERROR(IF(A105+1>MAX(ObData!B:B),\"\",A105+1),\"\")","v":""},"",{"$f":"IF(VLOOKUP($B106,ObData!$A$1:$F$300,3,0)<>0,VLOOKUP(B106,ObData!$A$1:$F$300,3,0),\"\")","v":""},{"$f":"IF(VLOOKUP($B106,ObData!$A$1:$F$300,4,0)<>0,VLOOKUP($B106,ObData!$A$1:$F$300,4,0),\"\")","v":""},{"$f":"IF(VLOOKUP($B106,ObData!$A$1:$F$300,6,0)<>0,VLOOKUP($B106,ObData!$A$1:$F$300,6,0),\"\")","v":""},{"$f":"IF(VLOOKUP($B106,ObData!$A$1:$F$300,5,0)<>0,VLOOKUP($B106,ObData!$A$1:$F$300,5,0),\"\")","v":""}]
[{"$f":"IFERROR(IF(A106+1>MAX(ObData!B:B),\"\",A106+1),\"\")","v":""},"",{"$f":"IF(VLOOKUP($B107,ObData!$A$1:$F$300,3,0)<>0,VLOOKUP(B107,ObData!$A$1:$F$300,3,0),\"\")","v":""},{"$f":"IF(VLOOKUP($B107,ObData!$A$1:$F$300,4,0)<>0,VLOOKUP($B107,ObData!$A$1:$F$300,4,0),\"\")","v":""},{"$f":"IF(VLOOKUP($B107,ObData!$A$1:$F$300,6,0)<>0,VLOOKUP($B107,ObData!$A$1:$F$300,6,0),\"\")","v":""},{"$f":"IF(VLOOKUP($B107,ObData!$A$1:$F$300,5,0)<>0,VLOOKUP($B107,ObData!$A$1:$F$300,5,0),\"\")","v":""}]
[{"$f":"IFERROR(IF(A107+1>MAX(ObData!B:B),\"\",A107+1),\"\")","v":""},"",{"$f":"IF(VLOOKUP($B108,ObData!$A$1:$F$300,3,0)<>0,VLOOKUP(B108,ObData!$A$1:$F$300,3,0),\"\")","v":""},{"$f":"IF(VLOOKUP($B108,ObData!$A$1:$F$300,4,0)<>0,VLOOKUP($B108,ObData!$A$1:$F$300,4,0),\"\")","v":""},{"$f":"IF(VLOOKUP($B108,ObData!$A$1:$F$300,6,0)<>0,VLOOKUP($B108,ObData!$A$1:$F$300,6,0),\"\")","v":""},{"$f":"IF(VLOOKUP($B108,ObData!$A$1:$F$300,5,0)<>0,VLOOKUP($B108,ObData!$A$1:$F$300,5,0),\"\")","v":""}]
[{"$f":"IFERROR(IF(A108+1>MAX(ObData!B:B),\"\",A108+1),\"\")","v":""},"",{"$f":"IF(VLOOKUP($B109,ObData!$A$1:$F$300,3,0)<>0,VLOOKUP(B109,ObData!$A$1:$F$300,3,0),\"\")","v":""},{"$f":"IF(VLOOKUP($B109,ObData!$A$1:$F$300,4,0)<>0,VLOOKUP($B109,ObData!$A$1:$F$300,4,0),\"\")","v":""},{"$f":"IF(VLOOKUP($B109,ObData!$A$1:$F$300,6,0)<>0,VLOOKUP($B109,ObData!$A$1:$F$300,6,0),\"\")","v":""},{"$f":"IF(VLOOKUP($B109,ObData!$A$1:$F$300,5,0)<>0,VLOOKUP($B109,ObData!$A$1:$F$300,5,0),\"\")","v":""}]
[{"$f":"IFERROR(IF(A109+1>MAX(ObData!B:B),\"\",A109+1),\"\")","v":""},"",{"$f":"IF(VLOOKUP($B110,ObData!$A$1:$F$300,3,0)<>0,VLOOKUP(B110,ObData!$A$1:$F$300,3,0),\"\")","v":""},{"$f":"IF(VLOOKUP($B110,ObData!$A$1:$F$300,4,0)<>0,VLOOKUP($B110,ObData!$A$1:$F$300,4,0),\"\")","v":""},{"$f":"IF(VLOOKUP($B110,ObData!$A$1:$F$300,6,0)<>0,VLOOKUP($B110,ObData!$A$1:$F$300,6,0),\"\")","v":""},{"$f":"IF(VLOOKUP($B110,ObData!$A$1:$F$300,5,0)<>0,VLOOKUP($B110,ObData!$A$1:$F$300,5,0),\"\")","v":""}]
[{"$f":"IFERROR(IF(A110+1>MAX(ObData!B:B),\"\",A110+1),\"\")","v":""},"",{"$f":"IF(VLOOKUP($B111,ObData!$A$1:$F$300,3,0)<>0,VLOOKUP(B111,ObData!$A$1:$F$300,3,0),\"\")","v":""},{"$f":"IF(VLOOKUP($B111,ObData!$A$1:$F$300,4,0)<>0,VLOOKUP($B111,ObData!$A$1:$F$300,4,0),\"\")","v":""},{"$f":"IF(VLOOKUP($B111,ObData!$A$1:$F$300,6,0)<>0,VLOOKUP($B111,ObData!$A$1:$F$300,6,0),\"\")","v":""},{"$f":"IF(VLOOKUP($B111,ObData!$A$1:$F$300,5,0)<>0,VLOOKUP($B111,ObData!$A$1:$F$300,5,0),\"\")","v":""}]
[{"$f":"IFERROR(IF(A111+1>MAX(ObData!B:B),\"\",A111+1),\"\")","v":""},"",{"$f":"IF(VLOOKUP($B112,ObData!$A$1:$F$300,3,0)<>0,VLOOKUP(B112,ObData!$A$1:$F$300,3,0),\"\")","v":""},{"$f":"IF(VLOOKUP($B112,ObData!$A$1:$F$300,4,0)<>0,VLOOKUP($B112,ObData!$A$1:$F$300,4,0),\"\")","v":""},{"$f":"IF(VLOOKUP($B112,ObData!$A$1:$F$300,6,0)<>0,VLOOKUP($B112,ObData!$A$1:$F$300,6,0),\"\")","v":""},{"$f":"IF(VLOOKUP($B112,ObData!$A$1:$F$300,5,0)<>0,VLOOKUP($B112,ObData!$A$1:$F$300,5,0),\"\")","v":""}]
[{"$f":"IFERROR(IF(A112+1>MAX(ObData!B:B),\"\",A112+1),\"\")","v":""},"",{"$f":"IF(VLOOKUP($B113,ObData!$A$1:$F$300,3,0)<>0,VLOOKUP(B113,ObData!$A$1:$F$300,3,0),\"\")","v":""},{"$f":"IF(VLOOKUP($B113,ObData!$A$1:$F$300,4,0)<>0,VLOOKUP($B113,ObData!$A$1:$F$300,4,0),\"\")","v":""},{"$f":"IF(VLOOKUP($B113,ObData!$A$1:$F$300,6,0)<>0,VLOOKUP($B113,ObData!$A$1:$F$300,6,0),\"\")","v":""},{"$f":"IF(VLOOKUP($B113,ObData!$A$1:$F$300,5,0)<>0,VLOOKUP($B113,ObData!$A$1:$F$300,5,0),\"\")","v":""}]
[{"$f":"IFERROR(IF(A113+1>MAX(ObData!B:B),\"\",A113+1),\"\")","v":""},"",{"$f":"IF(VLOOKUP($B114,ObData!$A$1:$F$300,3,0)<>0,VLOOKUP(B114,ObData!$A$1:$F$300,3,0),\"\")","v":""},{"$f":"IF(VLOOKUP($B114,ObData!$A$1:$F$300,4,0)<>0,VLOOKUP($B114,ObData!$A$1:$F$300,4,0),\"\")","v":""},{"$f":"IF(VLOOKUP($B114,ObData!$A$1:$F$300,6,0)<>0,VLOOKUP($B114,ObData!$A$1:$F$300,6,0),\"\")","v":""},{"$f":"IF(VLOOKUP($B114,ObData!$A$1:$F$300,5,0)<>0,VLOOKUP($B114,ObData!$A$1:$F$300,5,0),\"\")","v":""}]
[{"$f":"IFERROR(IF(A114+1>MAX(ObData!B:B),\"\",A114+1),\"\")","v":""},"",{"$f":"IF(VLOOKUP($B115,ObData!$A$1:$F$300,3,0)<>0,VLOOKUP(B115,ObData!$A$1:$F$300,3,0),\"\")","v":""},{"$f":"IF(VLOOKUP($B115,ObData!$A$1:$F$300,4,0)<>0,VLOOKUP($B115,ObData!$A$1:$F$300,4,0),\"\")","v":""},{"$f":"IF(VLOOKUP($B115,ObData!$A$1:$F$300,6,0)<>0,VLOOKUP($B115,ObData!$A$1:$F$300,6,0),\"\")","v":""},{"$f":"IF(VLOOKUP($B115,ObData!$A$1:$F$300,5,0)<>0,VLOOKUP($B115,ObData!$A$1:$F$300,5,0),\"\")","v":""}]
[{"$f":"IFERROR(IF(A115+1>MAX(ObData!B:B),\"\",A115+1),\"\")","v":""},"",{"$f":"IF(VLOOKUP($B116,ObData!$A$1:$F$300,3,0)<>0,VLOOKUP(B116,ObData!$A$1:$F$300,3,0),\"\")","v":""},{"$f":"IF(VLOOKUP($B116,ObData!$A$1:$F$300,4,0)<>0,VLOOKUP($B116,ObData!$A$1:$F$300,4,0),\"\")","v":""},{"$f":"IF(VLOOKUP($B116,ObData!$A$1:$F$300,6,0)<>0,VLOOKUP($B116,ObData!$A$1:$F$300,6,0),\"\")","v":""},{"$f":"IF(VLOOKUP($B116,ObData!$A$1:$F$300,5,0)<>0,VLOOKUP($B116,ObData!$A$1:$F$300,5,0),\"\")","v":""}]
[{"$f":"IFERROR(IF(A116+1>MAX(ObData!B:B),\"\",A116+1),\"\")","v":""},"",{"$f":"IF(VLOOKUP($B117,ObData!$A$1:$F$300,3,0)<>0,VLOOKUP(B117,ObData!$A$1:$F$300,3,0),\"\")","v":""},{"$f":"IF(VLOOKUP($B117,ObData!$A$1:$F$300,4,0)<>0,VLOOKUP($B117,ObData!$A$1:$F$300,4,0),\"\")","v":""},{"$f":"IF(VLOOKUP($B117,ObData!$A$1:$F$300,6,0)<>0,VLOOKUP($B117,ObData!$A$1:$F$300,6,0),\"\")","v":""},{"$f":"IF(VLOOKUP($B117,ObData!$A$1:$F$300,5,0)<>0,VLOOKUP($B117,ObData!$A$1:$F$300,5,0),\"\")","v":""}]
[{"$f":"IFERROR(IF(A117+1>MAX(ObData!B:B),\"\",A117+1),\"\")","v":""},"",{"$f":"IF(VLOOKUP($B118,ObData!$A$1:$F$300,3,0)<>0,VLOOKUP(B118,ObData!$A$1:$F$300,3,0),\"\")","v":""},{"$f":"IF(VLOOKUP($B118,ObData!$A$1:$F$300,4,0)<>0,VLOOKUP($B118,ObData!$A$1:$F$300,4,0),\"\")","v":""},{"$f":"IF(VLOOKUP($B118,ObData!$A$1:$F$300,6,0)<>0,VLOOKUP($B118,ObData!$A$1:$F$300,6,0),\"\")","v":""},{"$f":"IF(VLOOKUP($B118,ObData!$A$1:$F$300,5,0)<>0,VLOOKUP($B118,ObData!$A$1:$F$300,5,0),\"\")","v":""}]
[{"$f":"IFERROR(IF(A118+1>MAX(ObData!B:B),\"\",A118+1),\"\")","v":""},"",{"$f":"IF(VLOOKUP($B119,ObData!$A$1:$F$300,3,0)<>0,VLOOKUP(B119,ObData!$A$1:$F$300,3,0),\"\")","v":""},{"$f":"IF(VLOOKUP($B119,ObData!$A$1:$F$300,4,0)<>0,VLOOKUP($B119,ObData!$A$1:$F$300,4,0),\"\")","v":""},{"$f":"IF(VLOOKUP($B119,ObData!$A$1:$F$300,6,0)<>0,VLOOKUP($B119,ObData!$A$1:$F$300,6,0),\"\")","v":""},{"$f":"IF(VLOOKUP($B119,ObData!$A$1:$F$300,5,0)<>0,VLOOKUP($B119,ObData!$A$1:$F$300,5,0),\"\")","v":""}]
[{"$f":"IFERROR(IF(A119+1>MAX(ObData!B:B),\"\",A119+1),\"\")","v":""},"",{"$f":"IF(VLOOKUP($B120,ObData!$A$1:$F$300,3,0)<>0,VLOOKUP(B120,ObData!$A$1:$F$300,3,0),\"\")","v":""},{"$f":"IF(VLOOKUP($B120,ObData!$A$1:$F$300,4,0)<>0,VLOOKUP($B120,ObData!$A$1:$F$300,4,0),\"\")","v":""},{"$f":"IF(VLOOKUP($B120,ObData!$A$1:$F$300,6,0)<>0,VLOOKUP($B120,ObData!$A$1:$F$300,6,0),\"\")","v":""},{"$f":"IF(VLOOKUP($B120,ObData!$A$1:$F$300,5,0)<>0,VLOOKUP($B120,ObData!$A$1:$F$300,5,0),\"\")","v":""}]
[{"$f":"IFERROR(IF(A120+1>MAX(ObData!B:B),\"\",A120+1),\"\")","v":""},"",{"$f":"IF(VLOOKUP($B121,ObData!$A$1:$F$300,3,0)<>0,VLOOKUP(B121,ObData!$A$1:$F$300,3,0),\"\")","v":""},{"$f":"IF(VLOOKUP($B121,ObData!$A$1:$F$300,4,0)<>0,VLOOKUP($B121,ObData!$A$1:$F$300,4,0),\"\")","v":""},{"$f":"IF(VLOOKUP($B121,ObData!$A$1:$F$300,6,0)<>0,VLOOKUP($B121,ObData!$A$1:$F$300,6,0),\"\")","v":""},{"$f":"IF(VLOOKUP($B121,ObData!$A$1:$F$300,5,0)<>0,VLOOKUP($B121,ObData!$A$1:$F$300,5,0),\"\")","v":""}]
[{"$f":"IFERROR(IF(A121+1>MAX(ObData!B:B),\"\",A121+1),\"\")","v":""},"",{"$f":"IF(VLOOKUP($B122,ObData!$A$1:$F$300,3,0)<>0,VLOOKUP(B122,ObData!$A$1:$F$300,3,0),\"\")","v":""},{"$f":"IF(VLOOKUP($B122,ObData!$A$1:$F$300,4,0)<>0,VLOOKUP($B122,ObData!$A$1:$F$300,4,0),\"\")","v":""},{"$f":"IF(VLOOKUP($B122,ObData!$A$1:$F$300,6,0)<>0,VLOOKUP($B122,ObData!$A$1:$F$300,6,0),\"\")","v":""},{"$f":"IF(VLOOKUP($B122,ObData!$A$1:$F$300,5,0)<>0,VLOOKUP($B122,ObData!$A$1:$F$300,5,0),\"\")","v":""}]
[{"$f":"IFERROR(IF(A122+1>MAX(ObData!B:B),\"\",A122+1),\"\")","v":""},"",{"$f":"IF(VLOOKUP($B123,ObData!$A$1:$F$300,3,0)<>0,VLOOKUP(B123,ObData!$A$1:$F$300,3,0),\"\")","v":""},{"$f":"IF(VLOOKUP($B123,ObData!$A$1:$F$300,4,0)<>0,VLOOKUP($B123,ObData!$A$1:$F$300,4,0),\"\")","v":""},{"$f":"IF(VLOOKUP($B123,ObData!$A$1:$F$300,6,0)<>0,VLOOKUP($B123,ObData!$A$1:$F$300,6,0),\"\")","v":""},{"$f":"IF(VLOOKUP($B123,ObData!$A$1:$F$300,5,0)<>0,VLOOKUP($B123,ObData!$A$1:$F$300,5,0),\"\")","v":""}]
[{"$f":"IFERROR(IF(A123+1>MAX(ObData!B:B),\"\",A123+1),\"\")","v":""},"",{"$f":"IF(VLOOKUP($B124,ObData!$A$1:$F$300,3,0)<>0,VLOOKUP(B124,ObData!$A$1:$F$300,3,0),\"\")","v":""},{"$f":"IF(VLOOKUP($B124,ObData!$A$1:$F$300,4,0)<>0,VLOOKUP($B124,ObData!$A$1:$F$300,4,0),\"\")","v":""},{"$f":"IF(VLOOKUP($B124,ObData!$A$1:$F$300,6,0)<>0,VLOOKUP($B124,ObData!$A$1:$F$300,6,0),\"\")","v":""},{"$f":"IF(VLOOKUP($B124,ObData!$A$1:$F$300,5,0)<>0,VLOOKUP($B124,ObData!$A$1:$F$300,5,0),\"\")","v":""}]
[{"$f":"IFERROR(IF(A124+1>MAX(ObData!B:B),\"\",A124+1),\"\")","v":""},"",{"$f":"IF(VLOOKUP($B125,ObData!$A$1:$F$300,3,0)<>0,VLOOKUP(B125,ObData!$A$1:$F$300,3,0),\"\")","v":""},{"$f":"IF(VLOOKUP($B125,ObData!$A$1:$F$300,4,0)<>0,VLOOKUP($B125,ObData!$A$1:$F$300,4,0),\"\")","v":""},{"$f":"IF(VLOOKUP($B125,ObData!$A$1:$F$300,6,0)<>0,VLOOKUP($B125,ObData!$A$1:$F$300,6,0),\"\")","v":""},{"$f":"IF(VLOOKUP($B125,ObData!$A$1:$F$300,5,0)<>0,VLOOKUP($B125,ObData!$A$1:$F$300,5,0),\"\")","v":""}]
[{"$f":"IFERROR(IF(A125+1>MAX(ObData!B:B),\"\",A125+1),\"\")","v":""},"",{"$f":"IF(VLOOKUP($B126,ObData!$A$1:$F$300,3,0)<>0,VLOOKUP(B126,ObData!$A$1:$F$300,3,0),\"\")","v":""},{"$f":"IF(VLOOKUP($B126,ObData!$A$1:$F$300,4,0)<>0,VLOOKUP($B126,ObData!$A$1:$F$300,4,0),\"\")","v":""},{"$f":"IF(VLOOKUP($B126,ObData!$A$1:$F$300,6,0)<>0,VLOOKUP($B126,ObData!$A$1:$F$300,6,0),\"\")","v":""},{"$f":"IF(VLOOKUP($B126,ObData!$A$1:$F$300,5,0)<>0,VLOOKUP($B126,ObData!$A$1:$F$300,5,0),\"\")","v":""}]
[{"$f":"IFERROR(IF(A126+1>MAX(ObData!B:B),\"\",A126+1),\"\")","v":""},"",{"$f":"IF(VLOOKUP($B127,ObData!$A$1:$F$300,3,0)<>0,VLOOKUP(B127,ObData!$A$1:$F$300,3,0),\"\")","v":""},{"$f":"IF(VLOOKUP($B127,ObData!$A$1:$F$300,4,0)<>0,VLOOKUP($B127,ObData!$A$1:$F$300,4,0),\"\")","v":""},{"$f":"IF(VLOOKUP($B127,ObData!$A$1:$F$300,6,0)<>0,VLOOKUP($B127,ObData!$A$1:$F$300,6,0),\"\")","v":""},{"$f":"IF(VLOOKUP($B127,ObData!$A$1:$F$300,5,0)<>0,VLOOKUP($B127,ObData!$A$1:$F$300,5,0),\"\")","v":""}]
[{"$f":"IFERROR(IF(A127+1>MAX(ObData!B:B),\"\",A127+1),\"\")","v":""},"",{"$f":"IF(VLOOKUP($B128,ObData!$A$1:$F$300,3,0)<>0,VLOOKUP(B128,ObData!$A$1:$F$300,3,0),\"\")","v":""},{"$f":"IF(VLOOKUP($B128,ObData!$A$1:$F$300,4,0)<>0,VLOOKUP($B128,ObData!$A$1:$F$300,4,0),\"\")","v":""},{"$f":"IF(VLOOKUP($B128,ObData!$A$1:$F$300,6,0)<>0,VLOOKUP($B128,ObData!$A$1:$F$300,6,0),\"\")","v":""},{"$f":"IF(VLOOKUP($B128,ObData!$A$1:$F$300,5,0)<>0,VLOOKUP($B128,ObData!$A$1:$F$300,5,0),\"\")","v":""}]
[{"$f":"IFERROR(IF(A128+1>MAX(ObData!B:B),\"\",A128+1),\"\")","v":""},"",{"$f":"IF(VLOOKUP($B129,ObData!$A$1:$F$300,3,0)<>0,VLOOKUP(B129,ObData!$A$1:$F$300,3,0),\"\")","v":""},{"$f":"IF(VLOOKUP($B129,ObData!$A$1:$F$300,4,0)<>0,VLOOKUP($B129,ObData!$A$1:$F$300,4,0),\"\")","v":""},{"$f":"IF(VLOOKUP($B129,ObData!$A$1:$F$300,6,0)<>0,VLOOKUP($B129,ObData!$A$1:$F$300,6,0),\"\")","v":""},{"$f":"IF(VLOOKUP($B129,ObData!$A$1:$F$300,5,0)<>0,VLOOKUP($B129,ObData!$A$1:$F$300,5,0),\"\")","v":""}]
[{"$f":"IFERROR(IF(A129+1>MAX(ObData!B:B),\"\",A129+1),\"\")","v":""},"",{"$f":"IF(VLOOKUP($B130,ObData!$A$1:$F$300,3,0)<>0,VLOOKUP(B130,ObData!$A$1:$F$300,3,0),\"\")","v":""},{"$f":"IF(VLOOKUP($B130,ObData!$A$1:$F$300,4,0)<>0,VLOOKUP($B130,ObData!$A$1:$F$300,4,0),\"\")","v":""},{"$f":"IF(VLOOKUP($B130,ObData!$A$1:$F$300,6,0)<>0,VLOOKUP($B130,ObData!$A$1:$F$300,6,0),\"\")","v":""},{"$f":"IF(VLOOKUP($B130,ObData!$A$1:$F$300,5,0)<>0,VLOOKUP($B130,ObData!$A$1:$F$300,5,0),\"\")","v":""}]
[{"$f":"IFERROR(IF(A130+1>MAX(ObData!B:B),\"\",A130+1),\"\")","v":""},{"$f":"IF(A131<>\"\",\"Observation \"&A131,\"\")","v":""},{"$f":"IF(VLOOKUP($B131,ObData!$A$1:$F$300,3,0)<>0,VLOOKUP(B131,ObData!$A$1:$F$300,3,0),\"\")","v":""},{"$f":"IF(VLOOKUP($B131,ObData!$A$1:$F$300,4,0)<>0,VLOOKUP($B131,ObData!$A$1:$F$300,4,0),\"\")","v":""},{"$f":"IF(VLOOKUP($B131,ObData!$A$1:$F$300,6,0)<>0,VLOOKUP($B131,ObData!$A$1:$F$300,6,0),\"\")","v":""},{"$f":"IF(VLOOKUP($B131,ObData!$A$1:$F$300,5,0)<>0,VLOOKUP($B131,ObData!$A$1:$F$300,5,0),\"\")","v":""}]
[{"$f":"IFERROR(IF(A131+1>MAX(ObData!B:B),\"\",A131+1),\"\")","v":""},"",{"$f":"IF(VLOOKUP($B132,ObData!$A$1:$F$300,3,0)<>0,VLOOKUP(B132,ObData!$A$1:$F$300,3,0),\"\")","v":""},{"$f":"IF(VLOOKUP($B132,ObData!$A$1:$F$300,4,0)<>0,VLOOKUP($B132,ObData!$A$1:$F$300,4,0),\"\")","v":""},{"$f":"IF(VLOOKUP($B132,ObData!$A$1:$F$300,6,0)<>0,VLOOKUP($B132,ObData!$A$1:$F$300,6,0),\"\")","v":""},{"$f":"IF(VLOOKUP($B132,ObData!$A$1:$F$300,5,0)<>0,VLOOKUP($B132,ObData!$A$1:$F$300,5,0),\"\")","v":""}]
[{"$f":"IFERROR(IF(A132+1>MAX(ObData!B:B),\"\",A132+1),\"\")","v":""},"",{"$f":"IF(VLOOKUP($B133,ObData!$A$1:$F$300,3,0)<>0,VLOOKUP(B133,ObData!$A$1:$F$300,3,0),\"\")","v":""},{"$f":"IF(VLOOKUP($B133,ObData!$A$1:$F$300,4,0)<>0,VLOOKUP($B133,ObData!$A$1:$F$300,4,0),\"\")","v":""},{"$f":"IF(VLOOKUP($B133,ObData!$A$1:$F$300,6,0)<>0,VLOOKUP($B133,ObData!$A$1:$F$300,6,0),\"\")","v":""},{"$f":"IF(VLOOKUP($B133,ObData!$A$1:$F$300,5,0)<>0,VLOOKUP($B133,ObData!$A$1:$F$300,5,0),\"\")","v":""}]
[{"$f":"IFERROR(IF(A133+1>MAX(ObData!B:B),\"\",A133+1),\"\")","v":""},"",{"$f":"IF(VLOOKUP($B134,ObData!$A$1:$F$300,3,0)<>0,VLOOKUP(B134,ObData!$A$1:$F$300,3,0),\"\")","v":""},{"$f":"IF(VLOOKUP($B134,ObData!$A$1:$F$300,4,0)<>0,VLOOKUP($B134,ObData!$A$1:$F$300,4,0),\"\")","v":""},{"$f":"IF(VLOOKUP($B134,ObData!$A$1:$F$300,6,0)<>0,VLOOKUP($B134,ObData!$A$1:$F$300,6,0),\"\")","v":""},{"$f":"IF(VLOOKUP($B134,ObData!$A$1:$F$300,5,0)<>0,VLOOKUP($B134,ObData!$A$1:$F$300,5,0),\"\")","v":""}]
[{"$f":"IFERROR(IF(A134+1>MAX(ObData!B:B),\"\",A134+1),\"\")","v":""},"",{"$f":"IF(VLOOKUP($B135,ObData!$A$1:$F$300,3,0)<>0,VLOOKUP(B135,ObData!$A$1:$F$300,3,0),\"\")","v":""},{"$f":"IF(VLOOKUP($B135,ObData!$A$1:$F$300,4,0)<>0,VLOOKUP($B135,ObData!$A$1:$F$300,4,0),\"\")","v":""},{"$f":"IF(VLOOKUP($B135,ObData!$A$1:$F$300,6,0)<>0,VLOOKUP($B135,ObData!$A$1:$F$300,6,0),\"\")","v":""},{"$f":"IF(VLOOKUP($B135,ObData!$A$1:$F$300,5,0)<>0,VLOOKUP($B135,ObData!$A$1:$F$300,5,0),\"\")","v":""}]
[{"$f":"IFERROR(IF(A135+1>MAX(ObData!B:B),\"\",A135+1),\"\")","v":""},"",{"$f":"IF(VLOOKUP($B136,ObData!$A$1:$F$300,3,0)<>0,VLOOKUP(B136,ObData!$A$1:$F$300,3,0),\"\")","v":""},{"$f":"IF(VLOOKUP($B136,ObData!$A$1:$F$300,4,0)<>0,VLOOKUP($B136,ObData!$A$1:$F$300,4,0),\"\")","v":""},{"$f":"IF(VLOOKUP($B136,ObData!$A$1:$F$300,6,0)<>0,VLOOKUP($B136,ObData!$A$1:$F$300,6,0),\"\")","v":""},{"$f":"IF(VLOOKUP($B136,ObData!$A$1:$F$300,5,0)<>0,VLOOKUP($B136,ObData!$A$1:$F$300,5,0),\"\")","v":""}]
[{"$f":"IFERROR(IF(A136+1>MAX(ObData!B:B),\"\",A136+1),\"\")","v":""},"",{"$f":"IF(VLOOKUP($B137,ObData!$A$1:$F$300,3,0)<>0,VLOOKUP(B137,ObData!$A$1:$F$300,3,0),\"\")","v":""},{"$f":"IF(VLOOKUP($B137,ObData!$A$1:$F$300,4,0)<>0,VLOOKUP($B137,ObData!$A$1:$F$300,4,0),\"\")","v":""},{"$f":"IF(VLOOKUP($B137,ObData!$A$1:$F$300,6,0)<>0,VLOOKUP($B137,ObData!$A$1:$F$300,6,0),\"\")","v":""},{"$f":"IF(VLOOKUP($B137,ObData!$A$1:$F$300,5,0)<>0,VLOOKUP($B137,ObData!$A$1:$F$300,5,0),\"\")","v":""}]
[{"$f":"IFERROR(IF(A137+1>MAX(ObData!B:B),\"\",A137+1),\"\")","v":""},"",{"$f":"IF(VLOOKUP($B138,ObData!$A$1:$F$300,3,0)<>0,VLOOKUP(B138,ObData!$A$1:$F$300,3,0),\"\")","v":""},{"$f":"IF(VLOOKUP($B138,ObData!$A$1:$F$300,4,0)<>0,VLOOKUP($B138,ObData!$A$1:$F$300,4,0),\"\")","v":""},{"$f":"IF(VLOOKUP($B138,ObData!$A$1:$F$300,6,0)<>0,VLOOKUP($B138,ObData!$A$1:$F$300,6,0),\"\")","v":""},{"$f":"IF(VLOOKUP($B138,ObData!$A$1:$F$300,5,0)<>0,VLOOKUP($B138,ObData!$A$1:$F$300,5,0),\"\")","v":""}]
[{"$f":"IFERROR(IF(A138+1>MAX(ObData!B:B),\"\",A138+1),\"\")","v":""},"",{"$f":"IF(VLOOKUP($B139,ObData!$A$1:$F$300,3,0)<>0,VLOOKUP(B139,ObData!$A$1:$F$300,3,0),\"\")","v":""},{"$f":"IF(VLOOKUP($B139,ObData!$A$1:$F$300,4,0)<>0,VLOOKUP($B139,ObData!$A$1:$F$300,4,0),\"\")","v":""},{"$f":"IF(VLOOKUP($B139,ObData!$A$1:$F$300,6,0)<>0,VLOOKUP($B139,ObData!$A$1:$F$300,6,0),\"\")","v":""},{"$f":"IF(VLOOKUP($B139,ObData!$A$1:$F$300,5,0)<>0,VLOOKUP($B139,ObData!$A$1:$F$300,5,0),\"\")","v":""}]
[{"$f":"IFERROR(IF(A139+1>MAX(ObData!B:B),\"\",A139+1),\"\")","v":""},"",{"$f":"IF(VLOOKUP($B140,ObData!$A$1:$F$300,3,0)<>0,VLOOKUP(B140,ObData!$A$1:$F$300,3,0),\"\")","v":""},{"$f":"IF(VLOOKUP($B140,ObData!$A$1:$F$300,4,0)<>0,VLOOKUP($B140,ObData!$A$1:$F$300,4,0),\"\")","v":""},{"$f":"IF(VLOOKUP($B140,ObData!$A$1:$F$300,6,0)<>0,VLOOKUP($B140,ObData!$A$1:$F$300,6,0),\"\")","v":""},{"$f":"IF(VLOOKUP($B140,ObData!$A$1:$F$300,5,0)<>0,VLOOKUP($B140,ObData!$A$1:$F$300,5,0),\"\")","v":""}]
[{"$f":"IFERROR(IF(A140+1>MAX(ObData!B:B),\"\",A140+1),\"\")","v":""},"",{"$f":"IF(VLOOKUP($B141,ObData!$A$1:$F$300,3,0)<>0,VLOOKUP(B141,ObData!$A$1:$F$300,3,0),\"\")","v":""},{"$f":"IF(VLOOKUP($B141,ObData!$A$1:$F$300,4,0)<>0,VLOOKUP($B141,ObData!$A$1:$F$300,4,0),\"\")","v":""},{"$f":"IF(VLOOKUP($B141,ObData!$A$1:$F$300,6,0)<>0,VLOOKUP($B141,ObData!$A$1:$F$300,6,0),\"\")","v":""},{"$f":"IF(VLOOKUP($B141,ObData!$A$1:$F$300,5,0)<>0,VLOOKUP($B141,ObData!$A$1:$F$300,5,0),\"\")","v":""}]
[{"$f":"IFERROR(IF(A141+1>MAX(ObData!B:B),\"\",A141+1),\"\")","v":""},"",{"$f":"IF(VLOOKUP($B142,ObData!$A$1:$F$300,3,0)<>0,VLOOKUP(B142,ObData!$A$1:$F$300,3,0),\"\")","v":""},{"$f":"IF(VLOOKUP($B142,ObData!$A$1:$F$300,4,0)<>0,VLOOKUP($B142,ObData!$A$1:$F$300,4,0),\"\")","v":""},{"$f":"IF(VLOOKUP($B142,ObData!$A$1:$F$300,6,0)<>0,VLOOKUP($B142,ObData!$A$1:$F$300,6,0),\"\")","v":""},{"$f":"IF(VLOOKUP($B142,ObData!$A$1:$F$300,5,0)<>0,VLOOKUP($B142,ObData!$A$1:$F$300,5,0),\"\")","v":""}]
[{"$f":"IFERROR(IF(A142+1>MAX(ObData!B:B),\"\",A142+1),\"\")","v":""},"",{"$f":"IF(VLOOKUP($B143,ObData!$A$1:$F$300,3,0)<>0,VLOOKUP(B143,ObData!$A$1:$F$300,3,0),\"\")","v":""},{"$f":"IF(VLOOKUP($B143,ObData!$A$1:$F$300,4,0)<>0,VLOOKUP($B143,ObData!$A$1:$F$300,4,0),\"\")","v":""},{"$f":"IF(VLOOKUP($B143,ObData!$A$1:$F$300,6,0)<>0,VLOOKUP($B143,ObData!$A$1:$F$300,6,0),\"\")","v":""},{"$f":"IF(VLOOKUP($B143,ObData!$A$1:$F$300,5,0)<>0,VLOOKUP($B143,ObData!$A$1:$F$300,5,0),\"\")","v":""}]
[{"$f":"IFERROR(IF(A143+1>MAX(ObData!B:B),\"\",A143+1),\"\")","v":""},"",{"$f":"IF(VLOOKUP($B144,ObData!$A$1:$F$300,3,0)<>0,VLOOKUP(B144,ObData!$A$1:$F$300,3,0),\"\")","v":""},{"$f":"IF(VLOOKUP($B144,ObData!$A$1:$F$300,4,0)<>0,VLOOKUP($B144,ObData!$A$1:$F$300,4,0),\"\")","v":""},{"$f":"IF(VLOOKUP($B144,ObData!$A$1:$F$300,6,0)<>0,VLOOKUP($B144,ObData!$A$1:$F$300,6,0),\"\")","v":""},{"$f":"IF(VLOOKUP($B144,ObData!$A$1:$F$300,5,0)<>0,VLOOKUP($B144,ObData!$A$1:$F$300,5,0),\"\")","v":""}]
[{"$f":"IFERROR(IF(A144+1>MAX(ObData!B:B),\"\",A144+1),\"\")","v":""},"",{"$f":"IF(VLOOKUP($B145,ObData!$A$1:$F$300,3,0)<>0,VLOOKUP(B145,ObData!$A$1:$F$300,3,0),\"\")","v":""},{"$f":"IF(VLOOKUP($B145,ObData!$A$1:$F$300,4,0)<>0,VLOOKUP($B145,ObData!$A$1:$F$300,4,0),\"\")","v":""},{"$f":"IF(VLOOKUP($B145,ObData!$A$1:$F$300,6,0)<>0,VLOOKUP($B145,ObData!$A$1:$F$300,6,0),\"\")","v":""},{"$f":"IF(VLOOKUP($B145,ObData!$A$1:$F$300,5,0)<>0,VLOOKUP($B145,ObData!$A$1:$F$300,5,0),\"\")","v":""}]
[{"$f":"IFERROR(IF(A145+1>MAX(ObData!B:B),\"\",A145+1),\"\")","v":""},"",{"$f":"IF(VLOOKUP($B146,ObData!$A$1:$F$300,3,0)<>0,VLOOKUP(B146,ObData!$A$1:$F$300,3,0),\"\")","v":""},{"$f":"IF(VLOOKUP($B146,ObData!$A$1:$F$300,4,0)<>0,VLOOKUP($B146,ObData!$A$1:$F$300,4,0),\"\")","v":""},{"$f":"IF(VLOOKUP($B146,ObData!$A$1:$F$300,6,0)<>0,VLOOKUP($B146,ObData!$A$1:$F$300,6,0),\"\")","v":""},{"$f":"IF(VLOOKUP($B146,ObData!$A$1:$F$300,5,0)<>0,VLOOKUP($B146,ObData!$A$1:$F$300,5,0),\"\")","v":""}]
[{"$f":"IFERROR(IF(A146+1>MAX(ObData!B:B),\"\",A146+1),\"\")","v":""},"",{"$f":"IF(VLOOKUP($B147,ObData!$A$1:$F$300,3,0)<>0,VLOOKUP(B147,ObData!$A$1:$F$300,3,0),\"\")","v":""},{"$f":"IF(VLOOKUP($B147,ObData!$A$1:$F$300,4,0)<>0,VLOOKUP($B147,ObData!$A$1:$F$300,4,0),\"\")","v":""},{"$f":"IF(VLOOKUP($B147,ObData!$A$1:$F$300,6,0)<>0,VLOOKUP($B147,ObData!$A$1:$F$300,6,0),\"\")","v":""},{"$f":"IF(VLOOKUP($B147,ObData!$A$1:$F$300,5,0)<>0,VLOOKUP($B147,ObData!$A$1:$F$300,5,0),\"\")","v":""}]
[{"$f":"IFERROR(IF(A147+1>MAX(ObData!B:B),\"\",A147+1),\"\")","v":""},"",{"$f":"IF(VLOOKUP($B148,ObData!$A$1:$F$300,3,0)<>0,VLOOKUP(B148,ObData!$A$1:$F$300,3,0),\"\")","v":""},{"$f":"IF(VLOOKUP($B148,ObData!$A$1:$F$300,4,0)<>0,VLOOKUP($B148,ObData!$A$1:$F$300,4,0),\"\")","v":""},{"$f":"IF(VLOOKUP($B148,ObData!$A$1:$F$300,6,0)<>0,VLOOKUP($B148,ObData!$A$1:$F$300,6,0),\"\")","v":""},{"$f":"IF(VLOOKUP($B148,ObData!$A$1:$F$300,5,0)<>0,VLOOKUP($B148,ObData!$A$1:$F$300,5,0),\"\")","v":""}]
[{"$f":"IFERROR(IF(A148+1>MAX(ObData!B:B),\"\",A148+1),\"\")","v":""},"",{"$f":"IF(VLOOKUP($B149,ObData!$A$1:$F$300,3,0)<>0,VLOOKUP(B149,ObData!$A$1:$F$300,3,0),\"\")","v":""},{"$f":"IF(VLOOKUP($B149,ObData!$A$1:$F$300,4,0)<>0,VLOOKUP($B149,ObData!$A$1:$F$300,4,0),\"\")","v":""},{"$f":"IF(VLOOKUP($B149,ObData!$A$1:$F$300,6,0)<>0,VLOOKUP($B149,ObData!$A$1:$F$300,6,0),\"\")","v":""},{"$f":"IF(VLOOKUP($B149,ObData!$A$1:$F$300,5,0)<>0,VLOOKUP($B149,ObData!$A$1:$F$300,5,0),\"\")","v":""}]
[{"$f":"IFERROR(IF(A149+1>MAX(ObData!B:B),\"\",A149+1),\"\")","v":""},"",{"$f":"IF(VLOOKUP($B150,ObData!$A$1:$F$300,3,0)<>0,VLOOKUP(B150,ObData!$A$1:$F$300,3,0),\"\")","v":""},{"$f":"IF(VLOOKUP($B150,ObData!$A$1:$F$300,4,0)<>0,VLOOKUP($B150,ObData!$A$1:$F$300,4,0),\"\")","v":""},{"$f":"IF(VLOOKUP($B150,ObData!$A$1:$F$300,6,0)<>0,VLOOKUP($B150,ObData!$A$1:$F$300,6,0),\"\")","v":""},{"$f":"IF(VLOOKUP($B150,ObData!$A$1:$F$300,5,0)<>0,VLOOKUP($B150,ObData!$A$1:$F$300,5,0),\"\")","v":""}]
[{"$f":"IFERROR(IF(A150+1>MAX(ObData!B:B),\"\",A150+1),\"\")","v":""},"",{"$f":"IF(VLOOKUP($B151,ObData!$A$1:$F$300,3,0)<>0,VLOOKUP(B151,ObData!$A$1:$F$300,3,0),\"\")","v":""},{"$f":"IF(VLOOKUP($B151,ObData!$A$1:$F$300,4,0)<>0,VLOOKUP($B151,ObData!$A$1:$F$300,4,0),\"\")","v":""},{"$f":"IF(VLOOKUP($B151,ObData!$A$1:$F$300,6,0)<>0,VLOOKUP($B151,ObData!$A$1:$F$300,6,0),\"\")","v":""},{"$f":"IF(VLOOKUP($B151,ObData!$A$1:$F$300,5,0)<>0,VLOOKUP($B151,ObData!$A$1:$F$300,5,0),\"\")","v":""}]
[{"$f":"IFERROR(IF(A151+1>MAX(ObData!B:B),\"\",A151+1),\"\")","v":""},"",{"$f":"IF(VLOOKUP($B152,ObData!$A$1:$F$300,3,0)<>0,VLOOKUP(B152,ObData!$A$1:$F$300,3,0),\"\")","v":""},{"$f":"IF(VLOOKUP($B152,ObData!$A$1:$F$300,4,0)<>0,VLOOKUP($B152,ObData!$A$1:$F$300,4,0),\"\")","v":""},{"$f":"IF(VLOOKUP($B152,ObData!$A$1:$F$300,6,0)<>0,VLOOKUP($B152,ObData!$A$1:$F$300,6,0),\"\")","v":""},{"$f":"IF(VLOOKUP($B152,ObData!$A$1:$F$300,5,0)<>0,VLOOKUP($B152,ObData!$A$1:$F$300,5,0),\"\")","v":""}]
[{"$f":"IFERROR(IF(A152+1>MAX(ObData!B:B),\"\",A152+1),\"\")","v":""},"",{"$f":"IF(VLOOKUP($B153,ObData!$A$1:$F$300,3,0)<>0,VLOOKUP(B153,ObData!$A$1:$F$300,3,0),\"\")","v":""},{"$f":"IF(VLOOKUP($B153,ObData!$A$1:$F$300,4,0)<>0,VLOOKUP($B153,ObData!$A$1:$F$300,4,0),\"\")","v":""},{"$f":"IF(VLOOKUP($B153,ObData!$A$1:$F$300,6,0)<>0,VLOOKUP($B153,ObData!$A$1:$F$300,6,0),\"\")","v":""},{"$f":"IF(VLOOKUP($B153,ObData!$A$1:$F$300,5,0)<>0,VLOOKUP($B153,ObData!$A$1:$F$300,5,0),\"\")","v":""}]
[{"$f":"IFERROR(IF(A153+1>MAX(ObData!B:B),\"\",A153+1),\"\")","v":""},"",{"$f":"IF(VLOOKUP($B154,ObData!$A$1:$F$300,3,0)<>0,VLOOKUP(B154,ObData!$A$1:$F$300,3,0),\"\")","v":""},{"$f":"IF(VLOOKUP($B154,ObData!$A$1:$F$300,4,0)<>0,VLOOKUP($B154,ObData!$A$1:$F$300,4,0),\"\")","v":""},{"$f":"IF(VLOOKUP($B154,ObData!$A$1:$F$300,6,0)<>0,VLOOKUP($B154,ObData!$A$1:$F$300,6,0),\"\")","v":""},{"$f":"IF(VLOOKUP($B154,ObData!$A$1:$F$300,5,0)<>0,VLOOKUP($B154,ObData!$A$1:$F$300,5,0),\"\")","v":""}]
[{"$f":"IFERROR(IF(A154+1>MAX(ObData!B:B),\"\",A154+1),\"\")","v":""},"",{"$f":"IF(VLOOKUP($B155,ObData!$A$1:$F$300,3,0)<>0,VLOOKUP(B155,ObData!$A$1:$F$300,3,0),\"\")","v":""},{"$f":"IF(VLOOKUP($B155,ObData!$A$1:$F$300,4,0)<>0,VLOOKUP($B155,ObData!$A$1:$F$300,4,0),\"\")","v":""},{"$f":"IF(VLOOKUP($B155,ObData!$A$1:$F$300,6,0)<>0,VLOOKUP($B155,ObData!$A$1:$F$300,6,0),\"\")","v":""},{"$f":"IF(VLOOKUP($B155,ObData!$A$1:$F$300,5,0)<>0,VLOOKUP($B155,ObData!$A$1:$F$300,5,0),\"\")","v":""}]
[{"$f":"IFERROR(IF(A155+1>MAX(ObData!B:B),\"\",A155+1),\"\")","v":""},"",{"$f":"IF(VLOOKUP($B156,ObData!$A$1:$F$300,3,0)<>0,VLOOKUP(B156,ObData!$A$1:$F$300,3,0),\"\")","v":""},{"$f":"IF(VLOOKUP($B156,ObData!$A$1:$F$300,4,0)<>0,VLOOKUP($B156,ObData!$A$1:$F$300,4,0),\"\")","v":""},{"$f":"IF(VLOOKUP($B156,ObData!$A$1:$F$300,6,0)<>0,VLOOKUP($B156,ObData!$A$1:$F$300,6,0),\"\")","v":""},{"$f":"IF(VLOOKUP($B156,ObData!$A$1:$F$300,5,0)<>0,VLOOKUP($B156,ObData!$A$1:$F$300,5,0),\"\")","v":""}]
[{"$f":"IFERROR(IF(A156+1>MAX(ObData!B:B),\"\",A156+1),\"\")","v":""},"",{"$f":"IF(VLOOKUP($B157,ObData!$A$1:$F$300,3,0)<>0,VLOOKUP(B157,ObData!$A$1:$F$300,3,0),\"\")","v":""},{"$f":"IF(VLOOKUP($B157,ObData!$A$1:$F$300,4,0)<>0,VLOOKUP($B157,ObData!$A$1:$F$300,4,0),\"\")","v":""},{"$f":"IF(VLOOKUP($B157,ObData!$A$1:$F$300,6,0)<>0,VLOOKUP($B157,ObData!$A$1:$F$300,6,0),\"\")","v":""},{"$f":"IF(VLOOKUP($B157,ObData!$A$1:$F$300,5,0)<>0,VLOOKUP($B157,ObData!$A$1:$F$300,5,0),\"\")","v":""}]
[{"$f":"IFERROR(IF(A157+1>MAX(ObData!B:B),\"\",A157+1),\"\")","v":""},"",{"$f":"IF(VLOOKUP($B158,ObData!$A$1:$F$300,3,0)<>0,VLOOKUP(B158,ObData!$A$1:$F$300,3,0),\"\")","v":""},{"$f":"IF(VLOOKUP($B158,ObData!$A$1:$F$300,4,0)<>0,VLOOKUP($B158,ObData!$A$1:$F$300,4,0),\"\")","v":""},{"$f":"IF(VLOOKUP($B158,ObData!$A$1:$F$300,6,0)<>0,VLOOKUP($B158,ObData!$A$1:$F$300,6,0),\"\")","v":""},{"$f":"IF(VLOOKUP($B158,ObData!$A$1:$F$300,5,0)<>0,VLOOKUP($B158,ObData!$A$1:$F$300,5,0),\"\")","v":""}]
[{"$f":"IFERROR(IF(A158+1>MAX(ObData!B:B),\"\",A158+1),\"\")","v":""},"",{"$f":"IF(VLOOKUP($B159,ObData!$A$1:$F$300,3,0)<>0,VLOOKUP(B159,ObData!$A$1:$F$300,3,0),\"\")","v":""},{"$f":"IF(VLOOKUP($B159,ObData!$A$1:$F$300,4,0)<>0,VLOOKUP($B159,ObData!$A$1:$F$300,4,0),\"\")","v":""},{"$f":"IF(VLOOKUP($B159,ObData!$A$1:$F$300,6,0)<>0,VLOOKUP($B159,ObData!$A$1:$F$300,6,0),\"\")","v":""},{"$f":"IF(VLOOKUP($B159,ObData!$A$1:$F$300,5,0)<>0,VLOOKUP($B159,ObData!$A$1:$F$300,5,0),\"\")","v":""}]
[{"$f":"IFERROR(IF(A159+1>MAX(ObData!B:B),\"\",A159+1),\"\")","v":""},"",{"$f":"IF(VLOOKUP($B160,ObData!$A$1:$F$300,3,0)<>0,VLOOKUP(B160,ObData!$A$1:$F$300,3,0),\"\")","v":""},{"$f":"IF(VLOOKUP($B160,ObData!$A$1:$F$300,4,0)<>0,VLOOKUP($B160,ObData!$A$1:$F$300,4,0),\"\")","v":""},{"$f":"IF(VLOOKUP($B160,ObData!$A$1:$F$300,6,0)<>0,VLOOKUP($B160,ObData!$A$1:$F$300,6,0),\"\")","v":""},{"$f":"IF(VLOOKUP($B160,ObData!$A$1:$F$300,5,0)<>0,VLOOKUP($B160,ObData!$A$1:$F$300,5,0),\"\")","v":""}]
[{"$f":"IFERROR(IF(A160+1>MAX(ObData!B:B),\"\",A160+1),\"\")","v":""},"",{"$f":"IF(VLOOKUP($B161,ObData!$A$1:$F$300,3,0)<>0,VLOOKUP(B161,ObData!$A$1:$F$300,3,0),\"\")","v":""},{"$f":"IF(VLOOKUP($B161,ObData!$A$1:$F$300,4,0)<>0,VLOOKUP($B161,ObData!$A$1:$F$300,4,0),\"\")","v":""},{"$f":"IF(VLOOKUP($B161,ObData!$A$1:$F$300,6,0)<>0,VLOOKUP($B161,ObData!$A$1:$F$300,6,0),\"\")","v":""},{"$f":"IF(VLOOKUP($B161,ObData!$A$1:$F$300,5,0)<>0,VLOOKUP($B161,ObData!$A$1:$F$300,5,0),\"\")","v":""}]
[{"$f":"IFERROR(IF(A161+1>MAX(ObData!B:B),\"\",A161+1),\"\")","v":""},"",{"$f":"IF(VLOOKUP($B162,ObData!$A$1:$F$300,3,0)<>0,VLOOKUP(B162,ObData!$A$1:$F$300,3,0),\"\")","v":""},{"$f":"IF(VLOOKUP($B162,ObData!$A$1:$F$300,4,0)<>0,VLOOKUP($B162,ObData!$A$1:$F$300,4,0),\"\")","v":""},{"$f":"IF(VLOOKUP($B162,ObData!$A$1:$F$300,6,0)<>0,VLOOKUP($B162,ObData!$A$1:$F$300,6,0),\"\")","v":""},{"$f":"IF(VLOOKUP($B162,ObData!$A$1:$F$300,5,0)<>0,VLOOKUP($B162,ObData!$A$1:$F$300,5,0),\"\")","v":""}]
[{"$f":"IFERROR(IF(A162+1>MAX(ObData!B:B),\"\",A162+1),\"\")","v":""},"",{"$f":"IF(VLOOKUP($B163,ObData!$A$1:$F$300,3,0)<>0,VLOOKUP(B163,ObData!$A$1:$F$300,3,0),\"\")","v":""},{"$f":"IF(VLOOKUP($B163,ObData!$A$1:$F$300,4,0)<>0,VLOOKUP($B163,ObData!$A$1:$F$300,4,0),\"\")","v":""},{"$f":"IF(VLOOKUP($B163,ObData!$A$1:$F$300,6,0)<>0,VLOOKUP($B163,ObData!$A$1:$F$300,6,0),\"\")","v":""},{"$f":"IF(VLOOKUP($B163,ObData!$A$1:$F$300,5,0)<>0,VLOOKUP($B163,ObData!$A$1:$F$300,5,0),\"\")","v":""}]
[{"$f":"IFERROR(IF(A163+1>MAX(ObData!B:B),\"\",A163+1),\"\")","v":""},"",{"$f":"IF(VLOOKUP($B164,ObData!$A$1:$F$300,3,0)<>0,VLOOKUP(B164,ObData!$A$1:$F$300,3,0),\"\")","v":""},{"$f":"IF(VLOOKUP($B164,ObData!$A$1:$F$300,4,0)<>0,VLOOKUP($B164,ObData!$A$1:$F$300,4,0),\"\")","v":""},{"$f":"IF(VLOOKUP($B164,ObData!$A$1:$F$300,6,0)<>0,VLOOKUP($B164,ObData!$A$1:$F$300,6,0),\"\")","v":""},{"$f":"IF(VLOOKUP($B164,ObData!$A$1:$F$300,5,0)<>0,VLOOKUP($B164,ObData!$A$1:$F$300,5,0),\"\")","v":""}]
[{"$f":"IFERROR(IF(A164+1>MAX(ObData!B:B),\"\",A164+1),\"\")","v":""},"",{"$f":"IF(VLOOKUP($B165,ObData!$A$1:$F$300,3,0)<>0,VLOOKUP(B165,ObData!$A$1:$F$300,3,0),\"\")","v":""},{"$f":"IF(VLOOKUP($B165,ObData!$A$1:$F$300,4,0)<>0,VLOOKUP($B165,ObData!$A$1:$F$300,4,0),\"\")","v":""},{"$f":"IF(VLOOKUP($B165,ObData!$A$1:$F$300,6,0)<>0,VLOOKUP($B165,ObData!$A$1:$F$300,6,0),\"\")","v":""},{"$f":"IF(VLOOKUP($B165,ObData!$A$1:$F$300,5,0)<>0,VLOOKUP($B165,ObData!$A$1:$F$300,5,0),\"\")","v":""}]
[{"$f":"IFERROR(IF(A165+1>MAX(ObData!B:B),\"\",A165+1),\"\")","v":""},"",{"$f":"IF(VLOOKUP($B166,ObData!$A$1:$F$300,3,0)<>0,VLOOKUP(B166,ObData!$A$1:$F$300,3,0),\"\")","v":""},{"$f":"IF(VLOOKUP($B166,ObData!$A$1:$F$300,4,0)<>0,VLOOKUP($B166,ObData!$A$1:$F$300,4,0),\"\")","v":""},{"$f":"IF(VLOOKUP($B166,ObData!$A$1:$F$300,6,0)<>0,VLOOKUP($B166,ObData!$A$1:$F$300,6,0),\"\")","v":""},{"$f":"IF(VLOOKUP($B166,ObData!$A$1:$F$300,5,0)<>0,VLOOKUP($B166,ObData!$A$1:$F$300,5,0),\"\")","v":""}]
[{"$f":"IFERROR(IF(A166+1>MAX(ObData!B:B),\"\",A166+1),\"\")","v":""},"",{"$f":"IF(VLOOKUP($B167,ObData!$A$1:$F$300,3,0)<>0,VLOOKUP(B167,ObData!$A$1:$F$300,3,0),\"\")","v":""},{"$f":"IF(VLOOKUP($B167,ObData!$A$1:$F$300,4,0)<>0,VLOOKUP($B167,ObData!$A$1:$F$300,4,0),\"\")","v":""},{"$f":"IF(VLOOKUP($B167,ObData!$A$1:$F$300,6,0)<>0,VLOOKUP($B167,ObData!$A$1:$F$300,6,0),\"\")","v":""},{"$f":"IF(VLOOKUP($B167,ObData!$A$1:$F$300,5,0)<>0,VLOOKUP($B167,ObData!$A$1:$F$300,5,0),\"\")","v":""}]
[{"$f":"IFERROR(IF(A167+1>MAX(ObData!B:B),\"\",A167+1),\"\")","v":""},"",{"$f":"IF(VLOOKUP($B168,ObData!$A$1:$F$300,3,0)<>0,VLOOKUP(B168,ObData!$A$1:$F$300,3,0),\"\")","v":""},{"$f":"IF(VLOOKUP($B168,ObData!$A$1:$F$300,4,0)<>0,VLOOKUP($B168,ObData!$A$1:$F$300,4,0),\"\")","v":""},{"$f":"IF(VLOOKUP($B168,ObData!$A$1:$F$300,6,0)<>0,VLOOKUP($B168,ObData!$A$1:$F$300,6,0),\"\")","v":""},{"$f":"IF(VLOOKUP($B168,ObData!$A$1:$F$300,5,0)<>0,VLOOKUP($B168,ObData!$A$1:$F$300,5,0),\"\")","v":""}]
[{"$f":"IFERROR(IF(A168+1>MAX(ObData!B:B),\"\",A168+1),\"\")","v":""},"",{"$f":"IF(VLOOKUP($B169,ObData!$A$1:$F$300,3,0)<>0,VLOOKUP(B169,ObData!$A$1:$F$300,3,0),\"\")","v":""},{"$f":"IF(VLOOKUP($B169,ObData!$A$1:$F$300,4,0)<>0,VLOOKUP($B169,ObData!$A$1:$F$300,4,0),\"\")","v":""},{"$f":"IF(VLOOKUP($B169,ObData!$A$1:$F$300,6,0)<>0,VLOOKUP($B169,ObData!$A$1:$F$300,6,0),\"\")","v":""},{"$f":"IF(VLOOKUP($B169,ObData!$A$1:$F$300,5,0)<>0,VLOOKUP($B169,ObData!$A$1:$F$300,5,0),\"\")","v":""}]
[{"$f":"IFERROR(IF(A169+1>MAX(ObData!B:B),\"\",A169+1),\"\")","v":""},"",{"$f":"IF(VLOOKUP($B170,ObData!$A$1:$F$300,3,0)<>0,VLOOKUP(B170,ObData!$A$1:$F$300,3,0),\"\")","v":""},{"$f":"IF(VLOOKUP($B170,ObData!$A$1:$F$300,4,0)<>0,VLOOKUP($B170,ObData!$A$1:$F$300,4,0),\"\")","v":""},{"$f":"IF(VLOOKUP($B170,ObData!$A$1:$F$300,6,0)<>0,VLOOKUP($B170,ObData!$A$1:$F$300,6,0),\"\")","v":""},{"$f":"IF(VLOOKUP($B170,ObData!$A$1:$F$300,5,0)<>0,VLOOKUP($B170,ObData!$A$1:$F$300,5,0),\"\")","v":""}]
[{"$f":"IFERROR(IF(A170+1>MAX(ObData!B:B),\"\",A170+1),\"\")","v":""},"",{"$f":"IF(VLOOKUP($B171,ObData!$A$1:$F$300,3,0)<>0,VLOOKUP(B171,ObData!$A$1:$F$300,3,0),\"\")","v":""},{"$f":"IF(VLOOKUP($B171,ObData!$A$1:$F$300,4,0)<>0,VLOOKUP($B171,ObData!$A$1:$F$300,4,0),\"\")","v":""},{"$f":"IF(VLOOKUP($B171,ObData!$A$1:$F$300,6,0)<>0,VLOOKUP($B171,ObData!$A$1:$F$300,6,0),\"\")","v":""},{"$f":"IF(VLOOKUP($B171,ObData!$A$1:$F$300,5,0)<>0,VLOOKUP($B171,ObData!$A$1:$F$300,5,0),\"\")","v":""}]
[{"$f":"IFERROR(IF(A171+1>MAX(ObData!B:B),\"\",A171+1),\"\")","v":""},"",{"$f":"IF(VLOOKUP($B172,ObData!$A$1:$F$300,3,0)<>0,VLOOKUP(B172,ObData!$A$1:$F$300,3,0),\"\")","v":""},{"$f":"IF(VLOOKUP($B172,ObData!$A$1:$F$300,4,0)<>0,VLOOKUP($B172,ObData!$A$1:$F$300,4,0),\"\")","v":""},{"$f":"IF(VLOOKUP($B172,ObData!$A$1:$F$300,6,0)<>0,VLOOKUP($B172,ObData!$A$1:$F$300,6,0),\"\")","v":""},{"$f":"IF(VLOOKUP($B172,ObData!$A$1:$F$300,5,0)<>0,VLOOKUP($B172,ObData!$A$1:$F$300,5,0),\"\")","v":""}]
[{"$f":"IFERROR(IF(A172+1>MAX(ObData!B:B),\"\",A172+1),\"\")","v":""},"",{"$f":"IF(VLOOKUP($B173,ObData!$A$1:$F$300,3,0)<>0,VLOOKUP(B173,ObData!$A$1:$F$300,3,0),\"\")","v":""},{"$f":"IF(VLOOKUP($B173,ObData!$A$1:$F$300,4,0)<>0,VLOOKUP($B173,ObData!$A$1:$F$300,4,0),\"\")","v":""},{"$f":"IF(VLOOKUP($B173,ObData!$A$1:$F$300,6,0)<>0,VLOOKUP($B173,ObData!$A$1:$F$300,6,0),\"\")","v":""},{"$f":"IF(VLOOKUP($B173,ObData!$A$1:$F$300,5,0)<>0,VLOOKUP($B173,ObData!$A$1:$F$300,5,0),\"\")","v":""}]
[{"$f":"IFERROR(IF(A173+1>MAX(ObData!B:B),\"\",A173+1),\"\")","v":""},"",{"$f":"IF(VLOOKUP($B174,ObData!$A$1:$F$300,3,0)<>0,VLOOKUP(B174,ObData!$A$1:$F$300,3,0),\"\")","v":""},{"$f":"IF(VLOOKUP($B174,ObData!$A$1:$F$300,4,0)<>0,VLOOKUP($B174,ObData!$A$1:$F$300,4,0),\"\")","v":""},{"$f":"IF(VLOOKUP($B174,ObData!$A$1:$F$300,6,0)<>0,VLOOKUP($B174,ObData!$A$1:$F$300,6,0),\"\")","v":""},{"$f":"IF(VLOOKUP($B174,ObData!$A$1:$F$300,5,0)<>0,VLOOKUP($B174,ObData!$A$1:$F$300,5,0),\"\")","v":""}]
[{"$f":"IFERROR(IF(A174+1>MAX(ObData!B:B),\"\",A174+1),\"\")","v":""},"",{"$f":"IF(VLOOKUP($B175,ObData!$A$1:$F$300,3,0)<>0,VLOOKUP(B175,ObData!$A$1:$F$300,3,0),\"\")","v":""},{"$f":"IF(VLOOKUP($B175,ObData!$A$1:$F$300,4,0)<>0,VLOOKUP($B175,ObData!$A$1:$F$300,4,0),\"\")","v":""},{"$f":"IF(VLOOKUP($B175,ObData!$A$1:$F$300,6,0)<>0,VLOOKUP($B175,ObData!$A$1:$F$300,6,0),\"\")","v":""},{"$f":"IF(VLOOKUP($B175,ObData!$A$1:$F$300,5,0)<>0,VLOOKUP($B175,ObData!$A$1:$F$300,5,0),\"\")","v":""}]
[{"$f":"IFERROR(IF(A175+1>MAX(ObData!B:B),\"\",A175+1),\"\")","v":""},"",{"$f":"IF(VLOOKUP($B176,ObData!$A$1:$F$300,3,0)<>0,VLOOKUP(B176,ObData!$A$1:$F$300,3,0),\"\")","v":""},{"$f":"IF(VLOOKUP($B176,ObData!$A$1:$F$300,4,0)<>0,VLOOKUP($B176,ObData!$A$1:$F$300,4,0),\"\")","v":""},{"$f":"IF(VLOOKUP($B176,ObData!$A$1:$F$300,6,0)<>0,VLOOKUP($B176,ObData!$A$1:$F$300,6,0),\"\")","v":""},{"$f":"IF(VLOOKUP($B176,ObData!$A$1:$F$300,5,0)<>0,VLOOKUP($B176,ObData!$A$1:$F$300,5,0),\"\")","v":""}]
[{"$f":"IFERROR(IF(A176+1>MAX(ObData!B:B),\"\",A176+1),\"\")","v":""},"",{"$f":"IF(VLOOKUP($B177,ObData!$A$1:$F$300,3,0)<>0,VLOOKUP(B177,ObData!$A$1:$F$300,3,0),\"\")","v":""},{"$f":"IF(VLOOKUP($B177,ObData!$A$1:$F$300,4,0)<>0,VLOOKUP($B177,ObData!$A$1:$F$300,4,0),\"\")","v":""},{"$f":"IF(VLOOKUP($B177,ObData!$A$1:$F$300,6,0)<>0,VLOOKUP($B177,ObData!$A$1:$F$300,6,0),\"\")","v":""},{"$f":"IF(VLOOKUP($B177,ObData!$A$1:$F$300,5,0)<>0,VLOOKUP($B177,ObData!$A$1:$F$300,5,0),\"\")","v":""}]
[{"$f":"IFERROR(IF(A177+1>MAX(ObData!B:B),\"\",A177+1),\"\")","v":""},"",{"$f":"IF(VLOOKUP($B178,ObData!$A$1:$F$300,3,0)<>0,VLOOKUP(B178,ObData!$A$1:$F$300,3,0),\"\")","v":""},{"$f":"IF(VLOOKUP($B178,ObData!$A$1:$F$300,4,0)<>0,VLOOKUP($B178,ObData!$A$1:$F$300,4,0),\"\")","v":""},{"$f":"IF(VLOOKUP($B178,ObData!$A$1:$F$300,6,0)<>0,VLOOKUP($B178,ObData!$A$1:$F$300,6,0),\"\")","v":""},{"$f":"IF(VLOOKUP($B178,ObData!$A$1:$F$300,5,0)<>0,VLOOKUP($B178,ObData!$A$1:$F$300,5,0),\"\")","v":""}]
[{"$f":"IFERROR(IF(A178+1>MAX(ObData!B:B),\"\",A178+1),\"\")","v":""},"",{"$f":"IF(VLOOKUP($B179,ObData!$A$1:$F$300,3,0)<>0,VLOOKUP(B179,ObData!$A$1:$F$300,3,0),\"\")","v":""},{"$f":"IF(VLOOKUP($B179,ObData!$A$1:$F$300,4,0)<>0,VLOOKUP($B179,ObData!$A$1:$F$300,4,0),\"\")","v":""},{"$f":"IF(VLOOKUP($B179,ObData!$A$1:$F$300,6,0)<>0,VLOOKUP($B179,ObData!$A$1:$F$300,6,0),\"\")","v":""},{"$f":"IF(VLOOKUP($B179,ObData!$A$1:$F$300,5,0)<>0,VLOOKUP($B179,ObData!$A$1:$F$300,5,0),\"\")","v":""}]
[{"$f":"IFERROR(IF(A179+1>MAX(ObData!B:B),\"\",A179+1),\"\")","v":""},"",{"$f":"IF(VLOOKUP($B180,ObData!$A$1:$F$300,3,0)<>0,VLOOKUP(B180,ObData!$A$1:$F$300,3,0),\"\")","v":""},{"$f":"IF(VLOOKUP($B180,ObData!$A$1:$F$300,4,0)<>0,VLOOKUP($B180,ObData!$A$1:$F$300,4,0),\"\")","v":""},{"$f":"IF(VLOOKUP($B180,ObData!$A$1:$F$300,6,0)<>0,VLOOKUP($B180,ObData!$A$1:$F$300,6,0),\"\")","v":""},{"$f":"IF(VLOOKUP($B180,ObData!$A$1:$F$300,5,0)<>0,VLOOKUP($B180,ObData!$A$1:$F$300,5,0),\"\")","v":""}]
[{"$f":"IFERROR(IF(A180+1>MAX(ObData!B:B),\"\",A180+1),\"\")","v":""},"",{"$f":"IF(VLOOKUP($B181,ObData!$A$1:$F$300,3,0)<>0,VLOOKUP(B181,ObData!$A$1:$F$300,3,0),\"\")","v":""},{"$f":"IF(VLOOKUP($B181,ObData!$A$1:$F$300,4,0)<>0,VLOOKUP($B181,ObData!$A$1:$F$300,4,0),\"\")","v":""},{"$f":"IF(VLOOKUP($B181,ObData!$A$1:$F$300,6,0)<>0,VLOOKUP($B181,ObData!$A$1:$F$300,6,0),\"\")","v":""},{"$f":"IF(VLOOKUP($B181,ObData!$A$1:$F$300,5,0)<>0,VLOOKUP($B181,ObData!$A$1:$F$300,5,0),\"\")","v":""}]
[{"$f":"IFERROR(IF(A181+1>MAX(ObData!B:B),\"\",A181+1),\"\")","v":""},"",{"$f":"IF(VLOOKUP($B182,ObData!$A$1:$F$300,3,0)<>0,VLOOKUP(B182,ObData!$A$1:$F$300,3,0),\"\")","v":""},{"$f":"IF(VLOOKUP($B182,ObData!$A$1:$F$300,4,0)<>0,VLOOKUP($B182,ObData!$A$1:$F$300,4,0),\"\")","v":""},{"$f":"IF(VLOOKUP($B182,ObData!$A$1:$F$300,6,0)<>0,VLOOKUP($B182,ObData!$A$1:$F$300,6,0),\"\")","v":""},{"$f":"IF(VLOOKUP($B182,ObData!$A$1:$F$300,5,0)<>0,VLOOKUP($B182,ObData!$A$1:$F$300,5,0),\"\")","v":""}]
[{"$f":"IFERROR(IF(A182+1>MAX(ObData!B:B),\"\",A182+1),\"\")","v":""},"",{"$f":"IF(VLOOKUP($B183,ObData!$A$1:$F$300,3,0)<>0,VLOOKUP(B183,ObData!$A$1:$F$300,3,0),\"\")","v":""},{"$f":"IF(VLOOKUP($B183,ObData!$A$1:$F$300,4,0)<>0,VLOOKUP($B183,ObData!$A$1:$F$300,4,0),\"\")","v":""},{"$f":"IF(VLOOKUP($B183,ObData!$A$1:$F$300,6,0)<>0,VLOOKUP($B183,ObData!$A$1:$F$300,6,0),\"\")","v":""},{"$f":"IF(VLOOKUP($B183,ObData!$A$1:$F$300,5,0)<>0,VLOOKUP($B183,ObData!$A$1:$F$300,5,0),\"\")","v":""}]
[{"$f":"IFERROR(IF(A183+1>MAX(ObData!B:B),\"\",A183+1),\"\")","v":""},"",{"$f":"IF(VLOOKUP($B184,ObData!$A$1:$F$300,3,0)<>0,VLOOKUP(B184,ObData!$A$1:$F$300,3,0),\"\")","v":""},{"$f":"IF(VLOOKUP($B184,ObData!$A$1:$F$300,4,0)<>0,VLOOKUP($B184,ObData!$A$1:$F$300,4,0),\"\")","v":""},{"$f":"IF(VLOOKUP($B184,ObData!$A$1:$F$300,6,0)<>0,VLOOKUP($B184,ObData!$A$1:$F$300,6,0),\"\")","v":""},{"$f":"IF(VLOOKUP($B184,ObData!$A$1:$F$300,5,0)<>0,VLOOKUP($B184,ObData!$A$1:$F$300,5,0),\"\")","v":""}]
[{"$f":"IFERROR(IF(A184+1>MAX(ObData!B:B),\"\",A184+1),\"\")","v":""},"",{"$f":"IF(VLOOKUP($B185,ObData!$A$1:$F$300,3,0)<>0,VLOOKUP(B185,ObData!$A$1:$F$300,3,0),\"\")","v":""},{"$f":"IF(VLOOKUP($B185,ObData!$A$1:$F$300,4,0)<>0,VLOOKUP($B185,ObData!$A$1:$F$300,4,0),\"\")","v":""},{"$f":"IF(VLOOKUP($B185,ObData!$A$1:$F$300,6,0)<>0,VLOOKUP($B185,ObData!$A$1:$F$300,6,0),\"\")","v":""},{"$f":"IF(VLOOKUP($B185,ObData!$A$1:$F$300,5,0)<>0,VLOOKUP($B185,ObData!$A$1:$F$300,5,0),\"\")","v":""}]
[{"$f":"IFERROR(IF(A185+1>MAX(ObData!B:B),\"\",A185+1),\"\")","v":""},"",{"$f":"IF(VLOOKUP($B186,ObData!$A$1:$F$300,3,0)<>0,VLOOKUP(B186,ObData!$A$1:$F$300,3,0),\"\")","v":""},{"$f":"IF(VLOOKUP($B186,ObData!$A$1:$F$300,4,0)<>0,VLOOKUP($B186,ObData!$A$1:$F$300,4,0),\"\")","v":""},{"$f":"IF(VLOOKUP($B186,ObData!$A$1:$F$300,6,0)<>0,VLOOKUP($B186,ObData!$A$1:$F$300,6,0),\"\")","v":""},{"$f":"IF(VLOOKUP($B186,ObData!$A$1:$F$300,5,0)<>0,VLOOKUP($B186,ObData!$A$1:$F$300,5,0),\"\")","v":""}]
[{"$f":"IFERROR(IF(A186+1>MAX(ObData!B:B),\"\",A186+1),\"\")","v":""},"",{"$f":"IF(VLOOKUP($B187,ObData!$A$1:$F$300,3,0)<>0,VLOOKUP(B187,ObData!$A$1:$F$300,3,0),\"\")","v":""},{"$f":"IF(VLOOKUP($B187,ObData!$A$1:$F$300,4,0)<>0,VLOOKUP($B187,ObData!$A$1:$F$300,4,0),\"\")","v":""},{"$f":"IF(VLOOKUP($B187,ObData!$A$1:$F$300,6,0)<>0,VLOOKUP($B187,ObData!$A$1:$F$300,6,0),\"\")","v":""},{"$f":"IF(VLOOKUP($B187,ObData!$A$1:$F$300,5,0)<>0,VLOOKUP($B187,ObData!$A$1:$F$300,5,0),\"\")","v":""}]
[{"$f":"IFERROR(IF(A187+1>MAX(ObData!B:B),\"\",A187+1),\"\")","v":""},"",{"$f":"IF(VLOOKUP($B188,ObData!$A$1:$F$300,3,0)<>0,VLOOKUP(B188,ObData!$A$1:$F$300,3,0),\"\")","v":""},{"$f":"IF(VLOOKUP($B188,ObData!$A$1:$F$300,4,0)<>0,VLOOKUP($B188,ObData!$A$1:$F$300,4,0),\"\")","v":""},{"$f":"IF(VLOOKUP($B188,ObData!$A$1:$F$300,6,0)<>0,VLOOKUP($B188,ObData!$A$1:$F$300,6,0),\"\")","v":""},{"$f":"IF(VLOOKUP($B188,ObData!$A$1:$F$300,5,0)<>0,VLOOKUP($B188,ObData!$A$1:$F$300,5,0),\"\")","v":""}]
[{"$f":"IFERROR(IF(A188+1>MAX(ObData!B:B),\"\",A188+1),\"\")","v":""},"",{"$f":"IF(VLOOKUP($B189,ObData!$A$1:$F$300,3,0)<>0,VLOOKUP(B189,ObData!$A$1:$F$300,3,0),\"\")","v":""},{"$f":"IF(VLOOKUP($B189,ObData!$A$1:$F$300,4,0)<>0,VLOOKUP($B189,ObData!$A$1:$F$300,4,0),\"\")","v":""},{"$f":"IF(VLOOKUP($B189,ObData!$A$1:$F$300,6,0)<>0,VLOOKUP($B189,ObData!$A$1:$F$300,6,0),\"\")","v":""},{"$f":"IF(VLOOKUP($B189,ObData!$A$1:$F$300,5,0)<>0,VLOOKUP($B189,ObData!$A$1:$F$300,5,0),\"\")","v":""}]
[{"$f":"IFERROR(IF(A189+1>MAX(ObData!B:B),\"\",A189+1),\"\")","v":""},"",{"$f":"IF(VLOOKUP($B190,ObData!$A$1:$F$300,3,0)<>0,VLOOKUP(B190,ObData!$A$1:$F$300,3,0),\"\")","v":""},{"$f":"IF(VLOOKUP($B190,ObData!$A$1:$F$300,4,0)<>0,VLOOKUP($B190,ObData!$A$1:$F$300,4,0),\"\")","v":""},{"$f":"IF(VLOOKUP($B190,ObData!$A$1:$F$300,6,0)<>0,VLOOKUP($B190,ObData!$A$1:$F$300,6,0),\"\")","v":""},{"$f":"IF(VLOOKUP($B190,ObData!$A$1:$F$300,5,0)<>0,VLOOKUP($B190,ObData!$A$1:$F$300,5,0),\"\")","v":""}]
[{"$f":"IFERROR(IF(A190+1>MAX(ObData!B:B),\"\",A190+1),\"\")","v":""},"",{"$f":"IF(VLOOKUP($B191,ObData!$A$1:$F$300,3,0)<>0,VLOOKUP(B191,ObData!$A$1:$F$300,3,0),\"\")","v":""},{"$f":"IF(VLOOKUP($B191,ObData!$A$1:$F$300,4,0)<>0,VLOOKUP($B191,ObData!$A$1:$F$300,4,0),\"\")","v":""},{"$f":"IF(VLOOKUP($B191,ObData!$A$1:$F$300,6,0)<>0,VLOOKUP($B191,ObData!$A$1:$F$300,6,0),\"\")","v":""},{"$f":"IF(VLOOKUP($B191,ObData!$A$1:$F$300,5,0)<>0,VLOOKUP($B191,ObData!$A$1:$F$300,5,0),\"\")","v":""}]
[{"$f":"IFERROR(IF(A191+1>MAX(ObData!B:B),\"\",A191+1),\"\")","v":""},"",{"$f":"IF(VLOOKUP($B192,ObData!$A$1:$F$300,3,0)<>0,VLOOKUP(B192,ObData!$A$1:$F$300,3,0),\"\")","v":""},{"$f":"IF(VLOOKUP($B192,ObData!$A$1:$F$300,4,0)<>0,VLOOKUP($B192,ObData!$A$1:$F$300,4,0),\"\")","v":""},{"$f":"IF(VLOOKUP($B192,ObData!$A$1:$F$300,6,0)<>0,VLOOKUP($B192,ObData!$A$1:$F$300,6,0),\"\")","v":""},{"$f":"IF(VLOOKUP($B192,ObData!$A$1:$F$300,5,0)<>0,VLOOKUP($B192,ObData!$A$1:$F$300,5,0),\"\")","v":""}]
[{"$f":"IFERROR(IF(A192+1>MAX(ObData!B:B),\"\",A192+1),\"\")","v":""},"",{"$f":"IF(VLOOKUP($B193,ObData!$A$1:$F$300,3,0)<>0,VLOOKUP(B193,ObData!$A$1:$F$300,3,0),\"\")","v":""},{"$f":"IF(VLOOKUP($B193,ObData!$A$1:$F$300,4,0)<>0,VLOOKUP($B193,ObData!$A$1:$F$300,4,0),\"\")","v":""},{"$f":"IF(VLOOKUP($B193,ObData!$A$1:$F$300,6,0)<>0,VLOOKUP($B193,ObData!$A$1:$F$300,6,0),\"\")","v":""},{"$f":"IF(VLOOKUP($B193,ObData!$A$1:$F$300,5,0)<>0,VLOOKUP($B193,ObData!$A$1:$F$300,5,0),\"\")","v":""}]
[{"$f":"IFERROR(IF(A193+1>MAX(ObData!B:B),\"\",A193+1),\"\")","v":""},"",{"$f":"IF(VLOOKUP($B194,ObData!$A$1:$F$300,3,0)<>0,VLOOKUP(B194,ObData!$A$1:$F$300,3,0),\"\")","v":""},{"$f":"IF(VLOOKUP($B194,ObData!$A$1:$F$300,4,0)<>0,VLOOKUP($B194,ObData!$A$1:$F$300,4,0),\"\")","v":""},{"$f":"IF(VLOOKUP($B194,ObData!$A$1:$F$300,6,0)<>0,VLOOKUP($B194,ObData!$A$1:$F$300,6,0),\"\")","v":""},{"$f":"IF(VLOOKUP($B194,ObData!$A$1:$F$300,5,0)<>0,VLOOKUP($B194,ObData!$A$1:$F$300,5,0),\"\")","v":""}]
[{"$f":"IFERROR(IF(A194+1>MAX(ObData!B:B),\"\",A194+1),\"\")","v":""},{"$f":"IF(A195<>\"\",\"Observation \"&A195,\"\")","v":""},{"$f":"IF(VLOOKUP($B195,ObData!$A$1:$F$300,3,0)<>0,VLOOKUP(B195,ObData!$A$1:$F$300,3,0),\"\")","v":""},{"$f":"IF(VLOOKUP($B195,ObData!$A$1:$F$300,4,0)<>0,VLOOKUP($B195,ObData!$A$1:$F$300,4,0),\"\")","v":""},{"$f":"IF(VLOOKUP($B195,ObData!$A$1:$F$300,6,0)<>0,VLOOKUP($B195,ObData!$A$1:$F$300,6,0),\"\")","v":""},{"$f":"IF(VLOOKUP($B195,ObData!$A$1:$F$300,5,0)<>0,VLOOKUP($B195,ObData!$A$1:$F$300,5,0),\"\")","v":""}]
[{"$f":"IFERROR(IF(A195+1>MAX(ObData!B:B),\"\",A195+1),\"\")","v":""},"",{"$f":"IF(VLOOKUP($B196,ObData!$A$1:$F$300,3,0)<>0,VLOOKUP(B196,ObData!$A$1:$F$300,3,0),\"\")","v":""},{"$f":"IF(VLOOKUP($B196,ObData!$A$1:$F$300,4,0)<>0,VLOOKUP($B196,ObData!$A$1:$F$300,4,0),\"\")","v":""},{"$f":"IF(VLOOKUP($B196,ObData!$A$1:$F$300,6,0)<>0,VLOOKUP($B196,ObData!$A$1:$F$300,6,0),\"\")","v":""},{"$f":"IF(VLOOKUP($B196,ObData!$A$1:$F$300,5,0)<>0,VLOOKUP($B196,ObData!$A$1:$F$300,5,0),\"\")","v":""}]
[{"$f":"IFERROR(IF(A196+1>MAX(ObData!B:B),\"\",A196+1),\"\")","v":""},"",{"$f":"IF(VLOOKUP($B197,ObData!$A$1:$F$300,3,0)<>0,VLOOKUP(B197,ObData!$A$1:$F$300,3,0),\"\")","v":""},{"$f":"IF(VLOOKUP($B197,ObData!$A$1:$F$300,4,0)<>0,VLOOKUP($B197,ObData!$A$1:$F$300,4,0),\"\")","v":""},{"$f":"IF(VLOOKUP($B197,ObData!$A$1:$F$300,6,0)<>0,VLOOKUP($B197,ObData!$A$1:$F$300,6,0),\"\")","v":""},{"$f":"IF(VLOOKUP($B197,ObData!$A$1:$F$300,5,0)<>0,VLOOKUP($B197,ObData!$A$1:$F$300,5,0),\"\")","v":""}]
[{"$f":"IFERROR(IF(A197+1>MAX(ObData!B:B),\"\",A197+1),\"\")","v":""},"",{"$f":"IF(VLOOKUP($B198,ObData!$A$1:$F$300,3,0)<>0,VLOOKUP(B198,ObData!$A$1:$F$300,3,0),\"\")","v":""},{"$f":"IF(VLOOKUP($B198,ObData!$A$1:$F$300,4,0)<>0,VLOOKUP($B198,ObData!$A$1:$F$300,4,0),\"\")","v":""},{"$f":"IF(VLOOKUP($B198,ObData!$A$1:$F$300,6,0)<>0,VLOOKUP($B198,ObData!$A$1:$F$300,6,0),\"\")","v":""},{"$f":"IF(VLOOKUP($B198,ObData!$A$1:$F$300,5,0)<>0,VLOOKUP($B198,ObData!$A$1:$F$300,5,0),\"\")","v":""}]
[{"$f":"IFERROR(IF(A198+1>MAX(ObData!B:B),\"\",A198+1),\"\")","v":""},"",{"$f":"IF(VLOOKUP($B199,ObData!$A$1:$F$300,3,0)<>0,VLOOKUP(B199,ObData!$A$1:$F$300,3,0),\"\")","v":""},{"$f":"IF(VLOOKUP($B199,ObData!$A$1:$F$300,4,0)<>0,VLOOKUP($B199,ObData!$A$1:$F$300,4,0),\"\")","v":""},{"$f":"IF(VLOOKUP($B199,ObData!$A$1:$F$300,6,0)<>0,VLOOKUP($B199,ObData!$A$1:$F$300,6,0),\"\")","v":""},{"$f":"IF(VLOOKUP($B199,ObData!$A$1:$F$300,5,0)<>0,VLOOKUP($B199,ObData!$A$1:$F$300,5,0),\"\")","v":""}]
[{"$f":"IFERROR(IF(A199+1>MAX(ObData!B:B),\"\",A199+1),\"\")","v":""},"",{"$f":"IF(VLOOKUP($B200,ObData!$A$1:$F$300,3,0)<>0,VLOOKUP(B200,ObData!$A$1:$F$300,3,0),\"\")","v":""},{"$f":"IF(VLOOKUP($B200,ObData!$A$1:$F$300,4,0)<>0,VLOOKUP($B200,ObData!$A$1:$F$300,4,0),\"\")","v":""},{"$f":"IF(VLOOKUP($B200,ObData!$A$1:$F$300,6,0)<>0,VLOOKUP($B200,ObData!$A$1:$F$300,6,0),\"\")","v":""},{"$f":"IF(VLOOKUP($B200,ObData!$A$1:$F$300,5,0)<>0,VLOOKUP($B200,ObData!$A$1:$F$300,5,0),\"\")","v":""}]
[{"$f":"IFERROR(IF(A200+1>MAX(ObData!B:B),\"\",A200+1),\"\")","v":""},"",{"$f":"IF(VLOOKUP($B201,ObData!$A$1:$F$300,3,0)<>0,VLOOKUP(B201,ObData!$A$1:$F$300,3,0),\"\")","v":""},{"$f":"IF(VLOOKUP($B201,ObData!$A$1:$F$300,4,0)<>0,VLOOKUP($B201,ObData!$A$1:$F$300,4,0),\"\")","v":""},{"$f":"IF(VLOOKUP($B201,ObData!$A$1:$F$300,6,0)<>0,VLOOKUP($B201,ObData!$A$1:$F$300,6,0),\"\")","v":""},{"$f":"IF(VLOOKUP($B201,ObData!$A$1:$F$300,5,0)<>0,VLOOKUP($B201,ObData!$A$1:$F$300,5,0),\"\")","v":""}]
[{"$f":"IFERROR(IF(A201+1>MAX(ObData!B:B),\"\",A201+1),\"\")","v":""},"",{"$f":"IF(VLOOKUP($B202,ObData!$A$1:$F$300,3,0)<>0,VLOOKUP(B202,ObData!$A$1:$F$300,3,0),\"\")","v":""},{"$f":"IF(VLOOKUP($B202,ObData!$A$1:$F$300,4,0)<>0,VLOOKUP($B202,ObData!$A$1:$F$300,4,0),\"\")","v":""},{"$f":"IF(VLOOKUP($B202,ObData!$A$1:$F$300,6,0)<>0,VLOOKUP($B202,ObData!$A$1:$F$300,6,0),\"\")","v":""},{"$f":"IF(VLOOKUP($B202,ObData!$A$1:$F$300,5,0)<>0,VLOOKUP($B202,ObData!$A$1:$F$300,5,0),\"\")","v":""}]
[{"$f":"IFERROR(IF(A202+1>MAX(ObData!B:B),\"\",A202+1),\"\")","v":""},"",{"$f":"IF(VLOOKUP($B203,ObData!$A$1:$F$300,3,0)<>0,VLOOKUP(B203,ObData!$A$1:$F$300,3,0),\"\")","v":""},{"$f":"IF(VLOOKUP($B203,ObData!$A$1:$F$300,4,0)<>0,VLOOKUP($B203,ObData!$A$1:$F$300,4,0),\"\")","v":""},{"$f":"IF(VLOOKUP($B203,ObData!$A$1:$F$300,6,0)<>0,VLOOKUP($B203,ObData!$A$1:$F$300,6,0),\"\")","v":""},{"$f":"IF(VLOOKUP($B203,ObData!$A$1:$F$300,5,0)<>0,VLOOKUP($B203,ObData!$A$1:$F$300,5,0),\"\")","v":""}]
[{"$f":"IFERROR(IF(A203+1>MAX(ObData!B:B),\"\",A203+1),\"\")","v":""},"",{"$f":"IF(VLOOKUP($B204,ObData!$A$1:$F$300,3,0)<>0,VLOOKUP(B204,ObData!$A$1:$F$300,3,0),\"\")","v":""},{"$f":"IF(VLOOKUP($B204,ObData!$A$1:$F$300,4,0)<>0,VLOOKUP($B204,ObData!$A$1:$F$300,4,0),\"\")","v":""},{"$f":"IF(VLOOKUP($B204,ObData!$A$1:$F$300,6,0)<>0,VLOOKUP($B204,ObData!$A$1:$F$300,6,0),\"\")","v":""},{"$f":"IF(VLOOKUP($B204,ObData!$A$1:$F$300,5,0)<>0,VLOOKUP($B204,ObData!$A$1:$F$300,5,0),\"\")","v":""}]
[{"$f":"IFERROR(IF(A204+1>MAX(ObData!B:B),\"\",A204+1),\"\")","v":""},"",{"$f":"IF(VLOOKUP($B205,ObData!$A$1:$F$300,3,0)<>0,VLOOKUP(B205,ObData!$A$1:$F$300,3,0),\"\")","v":""},{"$f":"IF(VLOOKUP($B205,ObData!$A$1:$F$300,4,0)<>0,VLOOKUP($B205,ObData!$A$1:$F$300,4,0),\"\")","v":""},{"$f":"IF(VLOOKUP($B205,ObData!$A$1:$F$300,6,0)<>0,VLOOKUP($B205,ObData!$A$1:$F$300,6,0),\"\")","v":""},{"$f":"IF(VLOOKUP($B205,ObData!$A$1:$F$300,5,0)<>0,VLOOKUP($B205,ObData!$A$1:$F$300,5,0),\"\")","v":""}]
[{"$f":"IFERROR(IF(A205+1>MAX(ObData!B:B),\"\",A205+1),\"\")","v":""},"",{"$f":"IF(VLOOKUP($B206,ObData!$A$1:$F$300,3,0)<>0,VLOOKUP(B206,ObData!$A$1:$F$300,3,0),\"\")","v":""},{"$f":"IF(VLOOKUP($B206,ObData!$A$1:$F$300,4,0)<>0,VLOOKUP($B206,ObData!$A$1:$F$300,4,0),\"\")","v":""},{"$f":"IF(VLOOKUP($B206,ObData!$A$1:$F$300,6,0)<>0,VLOOKUP($B206,ObData!$A$1:$F$300,6,0),\"\")","v":""},{"$f":"IF(VLOOKUP($B206,ObData!$A$1:$F$300,5,0)<>0,VLOOKUP($B206,ObData!$A$1:$F$300,5,0),\"\")","v":""}]
[{"$f":"IFERROR(IF(A206+1>MAX(ObData!B:B),\"\",A206+1),\"\")","v":""},"",{"$f":"IF(VLOOKUP($B207,ObData!$A$1:$F$300,3,0)<>0,VLOOKUP(B207,ObData!$A$1:$F$300,3,0),\"\")","v":""},{"$f":"IF(VLOOKUP($B207,ObData!$A$1:$F$300,4,0)<>0,VLOOKUP($B207,ObData!$A$1:$F$300,4,0),\"\")","v":""},{"$f":"IF(VLOOKUP($B207,ObData!$A$1:$F$300,6,0)<>0,VLOOKUP($B207,ObData!$A$1:$F$300,6,0),\"\")","v":""},{"$f":"IF(VLOOKUP($B207,ObData!$A$1:$F$300,5,0)<>0,VLOOKUP($B207,ObData!$A$1:$F$300,5,0),\"\")","v":""}]
[{"$f":"IFERROR(IF(A207+1>MAX(ObData!B:B),\"\",A207+1),\"\")","v":""},"",{"$f":"IF(VLOOKUP($B208,ObData!$A$1:$F$300,3,0)<>0,VLOOKUP(B208,ObData!$A$1:$F$300,3,0),\"\")","v":""},{"$f":"IF(VLOOKUP($B208,ObData!$A$1:$F$300,4,0)<>0,VLOOKUP($B208,ObData!$A$1:$F$300,4,0),\"\")","v":""},{"$f":"IF(VLOOKUP($B208,ObData!$A$1:$F$300,6,0)<>0,VLOOKUP($B208,ObData!$A$1:$F$300,6,0),\"\")","v":""},{"$f":"IF(VLOOKUP($B208,ObData!$A$1:$F$300,5,0)<>0,VLOOKUP($B208,ObData!$A$1:$F$300,5,0),\"\")","v":""}]
[{"$f":"IFERROR(IF(A208+1>MAX(ObData!B:B),\"\",A208+1),\"\")","v":""},"",{"$f":"IF(VLOOKUP($B209,ObData!$A$1:$F$300,3,0)<>0,VLOOKUP(B209,ObData!$A$1:$F$300,3,0),\"\")","v":""},{"$f":"IF(VLOOKUP($B209,ObData!$A$1:$F$300,4,0)<>0,VLOOKUP($B209,ObData!$A$1:$F$300,4,0),\"\")","v":""},{"$f":"IF(VLOOKUP($B209,ObData!$A$1:$F$300,6,0)<>0,VLOOKUP($B209,ObData!$A$1:$F$300,6,0),\"\")","v":""},{"$f":"IF(VLOOKUP($B209,ObData!$A$1:$F$300,5,0)<>0,VLOOKUP($B209,ObData!$A$1:$F$300,5,0),\"\")","v":""}]
[{"$f":"IFERROR(IF(A209+1>MAX(ObData!B:B),\"\",A209+1),\"\")","v":""},"",{"$f":"IF(VLOOKUP($B210,ObData!$A$1:$F$300,3,0)<>0,VLOOKUP(B210,ObData!$A$1:$F$300,3,0),\"\")","v":""},{"$f":"IF(VLOOKUP($B210,ObData!$A$1:$F$300,4,0)<>0,VLOOKUP($B210,ObData!$A$1:$F$300,4,0),\"\")","v":""},{"$f":"IF(VLOOKUP($B210,ObData!$A$1:$F$300,6,0)<>0,VLOOKUP($B210,ObData!$A$1:$F$300,6,0),\"\")","v":""},{"$f":"IF(VLOOKUP($B210,ObData!$A$1:$F$300,5,0)<>0,VLOOKUP($B210,ObData!$A$1:$F$300,5,0),\"\")","v":""}]
[{"$f":"IFERROR(IF(A210+1>MAX(ObData!B:B),\"\",A210+1),\"\")","v":""},"",{"$f":"IF(VLOOKUP($B211,ObData!$A$1:$F$300,3,0)<>0,VLOOKUP(B211,ObData!$A$1:$F$300,3,0),\"\")","v":""},{"$f":"IF(VLOOKUP($B211,ObData!$A$1:$F$300,4,0)<>0,VLOOKUP($B211,ObData!$A$1:$F$300,4,0),\"\")","v":""},{"$f":"IF(VLOOKUP($B211,ObData!$A$1:$F$300,6,0)<>0,VLOOKUP($B211,ObData!$A$1:$F$300,6,0),\"\")","v":""},{"$f":"IF(VLOOKUP($B211,ObData!$A$1:$F$300,5,0)<>0,VLOOKUP($B211,ObData!$A$1:$F$300,5,0),\"\")","v":""}]
[{"$f":"IFERROR(IF(A211+1>MAX(ObData!B:B),\"\",A211+1),\"\")","v":""},"",{"$f":"IF(VLOOKUP($B212,ObData!$A$1:$F$300,3,0)<>0,VLOOKUP(B212,ObData!$A$1:$F$300,3,0),\"\")","v":""},{"$f":"IF(VLOOKUP($B212,ObData!$A$1:$F$300,4,0)<>0,VLOOKUP($B212,ObData!$A$1:$F$300,4,0),\"\")","v":""},{"$f":"IF(VLOOKUP($B212,ObData!$A$1:$F$300,6,0)<>0,VLOOKUP($B212,ObData!$A$1:$F$300,6,0),\"\")","v":""},{"$f":"IF(VLOOKUP($B212,ObData!$A$1:$F$300,5,0)<>0,VLOOKUP($B212,ObData!$A$1:$F$300,5,0),\"\")","v":""}]
[{"$f":"IFERROR(IF(A212+1>MAX(ObData!B:B),\"\",A212+1),\"\")","v":""},"",{"$f":"IF(VLOOKUP($B213,ObData!$A$1:$F$300,3,0)<>0,VLOOKUP(B213,ObData!$A$1:$F$300,3,0),\"\")","v":""},{"$f":"IF(VLOOKUP($B213,ObData!$A$1:$F$300,4,0)<>0,VLOOKUP($B213,ObData!$A$1:$F$300,4,0),\"\")","v":""},{"$f":"IF(VLOOKUP($B213,ObData!$A$1:$F$300,6,0)<>0,VLOOKUP($B213,ObData!$A$1:$F$300,6,0),\"\")","v":""},{"$f":"IF(VLOOKUP($B213,ObData!$A$1:$F$300,5,0)<>0,VLOOKUP($B213,ObData!$A$1:$F$300,5,0),\"\")","v":""}]
[{"$f":"IFERROR(IF(A213+1>MAX(ObData!B:B),\"\",A213+1),\"\")","v":""},"",{"$f":"IF(VLOOKUP($B214,ObData!$A$1:$F$300,3,0)<>0,VLOOKUP(B214,ObData!$A$1:$F$300,3,0),\"\")","v":""},{"$f":"IF(VLOOKUP($B214,ObData!$A$1:$F$300,4,0)<>0,VLOOKUP($B214,ObData!$A$1:$F$300,4,0),\"\")","v":""},{"$f":"IF(VLOOKUP($B214,ObData!$A$1:$F$300,6,0)<>0,VLOOKUP($B214,ObData!$A$1:$F$300,6,0),\"\")","v":""},{"$f":"IF(VLOOKUP($B214,ObData!$A$1:$F$300,5,0)<>0,VLOOKUP($B214,ObData!$A$1:$F$300,5,0),\"\")","v":""}]
[{"$f":"IFERROR(IF(A214+1>MAX(ObData!B:B),\"\",A214+1),\"\")","v":""},"",{"$f":"IF(VLOOKUP($B215,ObData!$A$1:$F$300,3,0)<>0,VLOOKUP(B215,ObData!$A$1:$F$300,3,0),\"\")","v":""},{"$f":"IF(VLOOKUP($B215,ObData!$A$1:$F$300,4,0)<>0,VLOOKUP($B215,ObData!$A$1:$F$300,4,0),\"\")","v":""},{"$f":"IF(VLOOKUP($B215,ObData!$A$1:$F$300,6,0)<>0,VLOOKUP($B215,ObData!$A$1:$F$300,6,0),\"\")","v":""},{"$f":"IF(VLOOKUP($B215,ObData!$A$1:$F$300,5,0)<>0,VLOOKUP($B215,ObData!$A$1:$F$300,5,0),\"\")","v":""}]
[{"$f":"IFERROR(IF(A215+1>MAX(ObData!B:B),\"\",A215+1),\"\")","v":""},"",{"$f":"IF(VLOOKUP($B216,ObData!$A$1:$F$300,3,0)<>0,VLOOKUP(B216,ObData!$A$1:$F$300,3,0),\"\")","v":""},{"$f":"IF(VLOOKUP($B216,ObData!$A$1:$F$300,4,0)<>0,VLOOKUP($B216,ObData!$A$1:$F$300,4,0),\"\")","v":""},{"$f":"IF(VLOOKUP($B216,ObData!$A$1:$F$300,6,0)<>0,VLOOKUP($B216,ObData!$A$1:$F$300,6,0),\"\")","v":""},{"$f":"IF(VLOOKUP($B216,ObData!$A$1:$F$300,5,0)<>0,VLOOKUP($B216,ObData!$A$1:$F$300,5,0),\"\")","v":""}]
[{"$f":"IFERROR(IF(A216+1>MAX(ObData!B:B),\"\",A216+1),\"\")","v":""},"",{"$f":"IF(VLOOKUP($B217,ObData!$A$1:$F$300,3,0)<>0,VLOOKUP(B217,ObData!$A$1:$F$300,3,0),\"\")","v":""},{"$f":"IF(VLOOKUP($B217,ObData!$A$1:$F$300,4,0)<>0,VLOOKUP($B217,ObData!$A$1:$F$300,4,0),\"\")","v":""},{"$f":"IF(VLOOKUP($B217,ObData!$A$1:$F$300,6,0)<>0,VLOOKUP($B217,ObData!$A$1:$F$300,6,0),\"\")","v":""},{"$f":"IF(VLOOKUP($B217,ObData!$A$1:$F$300,5,0)<>0,VLOOKUP($B217,ObData!$A$1:$F$300,5,0),\"\")","v":""}]
[{"$f":"IFERROR(IF(A217+1>MAX(ObData!B:B),\"\",A217+1),\"\")","v":""},"",{"$f":"IF(VLOOKUP($B218,ObData!$A$1:$F$300,3,0)<>0,VLOOKUP(B218,ObData!$A$1:$F$300,3,0),\"\")","v":""},{"$f":"IF(VLOOKUP($B218,ObData!$A$1:$F$300,4,0)<>0,VLOOKUP($B218,ObData!$A$1:$F$300,4,0),\"\")","v":""},{"$f":"IF(VLOOKUP($B218,ObData!$A$1:$F$300,6,0)<>0,VLOOKUP($B218,ObData!$A$1:$F$300,6,0),\"\")","v":""},{"$f":"IF(VLOOKUP($B218,ObData!$A$1:$F$300,5,0)<>0,VLOOKUP($B218,ObData!$A$1:$F$300,5,0),\"\")","v":""}]
[{"$f":"IFERROR(IF(A218+1>MAX(ObData!B:B),\"\",A218+1),\"\")","v":""},"",{"$f":"IF(VLOOKUP($B219,ObData!$A$1:$F$300,3,0)<>0,VLOOKUP(B219,ObData!$A$1:$F$300,3,0),\"\")","v":""},{"$f":"IF(VLOOKUP($B219,ObData!$A$1:$F$300,4,0)<>0,VLOOKUP($B219,ObData!$A$1:$F$300,4,0),\"\")","v":""},{"$f":"IF(VLOOKUP($B219,ObData!$A$1:$F$300,6,0)<>0,VLOOKUP($B219,ObData!$A$1:$F$300,6,0),\"\")","v":""},{"$f":"IF(VLOOKUP($B219,ObData!$A$1:$F$300,5,0)<>0,VLOOKUP($B219,ObData!$A$1:$F$300,5,0),\"\")","v":""}]
[{"$f":"IFERROR(IF(A219+1>MAX(ObData!B:B),\"\",A219+1),\"\")","v":""},"",{"$f":"IF(VLOOKUP($B220,ObData!$A$1:$F$300,3,0)<>0,VLOOKUP(B220,ObData!$A$1:$F$300,3,0),\"\")","v":""},{"$f":"IF(VLOOKUP($B220,ObData!$A$1:$F$300,4,0)<>0,VLOOKUP($B220,ObData!$A$1:$F$300,4,0),\"\")","v":""},{"$f":"IF(VLOOKUP($B220,ObData!$A$1:$F$300,6,0)<>0,VLOOKUP($B220,ObData!$A$1:$F$300,6,0),\"\")","v":""},{"$f":"IF(VLOOKUP($B220,ObData!$A$1:$F$300,5,0)<>0,VLOOKUP($B220,ObData!$A$1:$F$300,5,0),\"\")","v":""}]
[{"$f":"IFERROR(IF(A220+1>MAX(ObData!B:B),\"\",A220+1),\"\")","v":""},"",{"$f":"IF(VLOOKUP($B221,ObData!$A$1:$F$300,3,0)<>0,VLOOKUP(B221,ObData!$A$1:$F$300,3,0),\"\")","v":""},{"$f":"IF(VLOOKUP($B221,ObData!$A$1:$F$300,4,0)<>0,VLOOKUP($B221,ObData!$A$1:$F$300,4,0),\"\")","v":""},{"$f":"IF(VLOOKUP($B221,ObData!$A$1:$F$300,6,0)<>0,VLOOKUP($B221,ObData!$A$1:$F$300,6,0),\"\")","v":""},{"$f":"IF(VLOOKUP($B221,ObData!$A$1:$F$300,5,0)<>0,VLOOKUP($B221,ObData!$A$1:$F$300,5,0),\"\")","v":""}]
[{"$f":"IFERROR(IF(A221+1>MAX(ObData!B:B),\"\",A221+1),\"\")","v":""},"",{"$f":"IF(VLOOKUP($B222,ObData!$A$1:$F$300,3,0)<>0,VLOOKUP(B222,ObData!$A$1:$F$300,3,0),\"\")","v":""},{"$f":"IF(VLOOKUP($B222,ObData!$A$1:$F$300,4,0)<>0,VLOOKUP($B222,ObData!$A$1:$F$300,4,0),\"\")","v":""},{"$f":"IF(VLOOKUP($B222,ObData!$A$1:$F$300,6,0)<>0,VLOOKUP($B222,ObData!$A$1:$F$300,6,0),\"\")","v":""},{"$f":"IF(VLOOKUP($B222,ObData!$A$1:$F$300,5,0)<>0,VLOOKUP($B222,ObData!$A$1:$F$300,5,0),\"\")","v":""}]
[{"$f":"IFERROR(IF(A222+1>MAX(ObData!B:B),\"\",A222+1),\"\")","v":""},"",{"$f":"IF(VLOOKUP($B223,ObData!$A$1:$F$300,3,0)<>0,VLOOKUP(B223,ObData!$A$1:$F$300,3,0),\"\")","v":""},{"$f":"IF(VLOOKUP($B223,ObData!$A$1:$F$300,4,0)<>0,VLOOKUP($B223,ObData!$A$1:$F$300,4,0),\"\")","v":""},{"$f":"IF(VLOOKUP($B223,ObData!$A$1:$F$300,6,0)<>0,VLOOKUP($B223,ObData!$A$1:$F$300,6,0),\"\")","v":""},{"$f":"IF(VLOOKUP($B223,ObData!$A$1:$F$300,5,0)<>0,VLOOKUP($B223,ObData!$A$1:$F$300,5,0),\"\")","v":""}]
[{"$f":"IFERROR(IF(A223+1>MAX(ObData!B:B),\"\",A223+1),\"\")","v":""},"",{"$f":"IF(VLOOKUP($B224,ObData!$A$1:$F$300,3,0)<>0,VLOOKUP(B224,ObData!$A$1:$F$300,3,0),\"\")","v":""},{"$f":"IF(VLOOKUP($B224,ObData!$A$1:$F$300,4,0)<>0,VLOOKUP($B224,ObData!$A$1:$F$300,4,0),\"\")","v":""},{"$f":"IF(VLOOKUP($B224,ObData!$A$1:$F$300,6,0)<>0,VLOOKUP($B224,ObData!$A$1:$F$300,6,0),\"\")","v":""},{"$f":"IF(VLOOKUP($B224,ObData!$A$1:$F$300,5,0)<>0,VLOOKUP($B224,ObData!$A$1:$F$300,5,0),\"\")","v":""}]
[{"$f":"IFERROR(IF(A224+1>MAX(ObData!B:B),\"\",A224+1),\"\")","v":""},"",{"$f":"IF(VLOOKUP($B225,ObData!$A$1:$F$300,3,0)<>0,VLOOKUP(B225,ObData!$A$1:$F$300,3,0),\"\")","v":""},{"$f":"IF(VLOOKUP($B225,ObData!$A$1:$F$300,4,0)<>0,VLOOKUP($B225,ObData!$A$1:$F$300,4,0),\"\")","v":""},{"$f":"IF(VLOOKUP($B225,ObData!$A$1:$F$300,6,0)<>0,VLOOKUP($B225,ObData!$A$1:$F$300,6,0),\"\")","v":""},{"$f":"IF(VLOOKUP($B225,ObData!$A$1:$F$300,5,0)<>0,VLOOKUP($B225,ObData!$A$1:$F$300,5,0),\"\")","v":""}]
[{"$f":"IFERROR(IF(A225+1>MAX(ObData!B:B),\"\",A225+1),\"\")","v":""},"",{"$f":"IF(VLOOKUP($B226,ObData!$A$1:$F$300,3,0)<>0,VLOOKUP(B226,ObData!$A$1:$F$300,3,0),\"\")","v":""},{"$f":"IF(VLOOKUP($B226,ObData!$A$1:$F$300,4,0)<>0,VLOOKUP($B226,ObData!$A$1:$F$300,4,0),\"\")","v":""},{"$f":"IF(VLOOKUP($B226,ObData!$A$1:$F$300,6,0)<>0,VLOOKUP($B226,ObData!$A$1:$F$300,6,0),\"\")","v":""},{"$f":"IF(VLOOKUP($B226,ObData!$A$1:$F$300,5,0)<>0,VLOOKUP($B226,ObData!$A$1:$F$300,5,0),\"\")","v":""}]
[{"$f":"IFERROR(IF(A226+1>MAX(ObData!B:B),\"\",A226+1),\"\")","v":""},"",{"$f":"IF(VLOOKUP($B227,ObData!$A$1:$F$300,3,0)<>0,VLOOKUP(B227,ObData!$A$1:$F$300,3,0),\"\")","v":""},{"$f":"IF(VLOOKUP($B227,ObData!$A$1:$F$300,4,0)<>0,VLOOKUP($B227,ObData!$A$1:$F$300,4,0),\"\")","v":""},{"$f":"IF(VLOOKUP($B227,ObData!$A$1:$F$300,6,0)<>0,VLOOKUP($B227,ObData!$A$1:$F$300,6,0),\"\")","v":""},{"$f":"IF(VLOOKUP($B227,ObData!$A$1:$F$300,5,0)<>0,VLOOKUP($B227,ObData!$A$1:$F$300,5,0),\"\")","v":""}]
[{"$f":"IFERROR(IF(A227+1>MAX(ObData!B:B),\"\",A227+1),\"\")","v":""},"",{"$f":"IF(VLOOKUP($B228,ObData!$A$1:$F$300,3,0)<>0,VLOOKUP(B228,ObData!$A$1:$F$300,3,0),\"\")","v":""},{"$f":"IF(VLOOKUP($B228,ObData!$A$1:$F$300,4,0)<>0,VLOOKUP($B228,ObData!$A$1:$F$300,4,0),\"\")","v":""},{"$f":"IF(VLOOKUP($B228,ObData!$A$1:$F$300,6,0)<>0,VLOOKUP($B228,ObData!$A$1:$F$300,6,0),\"\")","v":""},{"$f":"IF(VLOOKUP($B228,ObData!$A$1:$F$300,5,0)<>0,VLOOKUP($B228,ObData!$A$1:$F$300,5,0),\"\")","v":""}]
[{"$f":"IFERROR(IF(A228+1>MAX(ObData!B:B),\"\",A228+1),\"\")","v":""},"",{"$f":"IF(VLOOKUP($B229,ObData!$A$1:$F$300,3,0)<>0,VLOOKUP(B229,ObData!$A$1:$F$300,3,0),\"\")","v":""},{"$f":"IF(VLOOKUP($B229,ObData!$A$1:$F$300,4,0)<>0,VLOOKUP($B229,ObData!$A$1:$F$300,4,0),\"\")","v":""},{"$f":"IF(VLOOKUP($B229,ObData!$A$1:$F$300,6,0)<>0,VLOOKUP($B229,ObData!$A$1:$F$300,6,0),\"\")","v":""},{"$f":"IF(VLOOKUP($B229,ObData!$A$1:$F$300,5,0)<>0,VLOOKUP($B229,ObData!$A$1:$F$300,5,0),\"\")","v":""}]
[{"$f":"IFERROR(IF(A229+1>MAX(ObData!B:B),\"\",A229+1),\"\")","v":""},"",{"$f":"IF(VLOOKUP($B230,ObData!$A$1:$F$300,3,0)<>0,VLOOKUP(B230,ObData!$A$1:$F$300,3,0),\"\")","v":""},{"$f":"IF(VLOOKUP($B230,ObData!$A$1:$F$300,4,0)<>0,VLOOKUP($B230,ObData!$A$1:$F$300,4,0),\"\")","v":""},{"$f":"IF(VLOOKUP($B230,ObData!$A$1:$F$300,6,0)<>0,VLOOKUP($B230,ObData!$A$1:$F$300,6,0),\"\")","v":""},{"$f":"IF(VLOOKUP($B230,ObData!$A$1:$F$300,5,0)<>0,VLOOKUP($B230,ObData!$A$1:$F$300,5,0),\"\")","v":""}]
[{"$f":"IFERROR(IF(A230+1>MAX(ObData!B:B),\"\",A230+1),\"\")","v":""},"",{"$f":"IF(VLOOKUP($B231,ObData!$A$1:$F$300,3,0)<>0,VLOOKUP(B231,ObData!$A$1:$F$300,3,0),\"\")","v":""},{"$f":"IF(VLOOKUP($B231,ObData!$A$1:$F$300,4,0)<>0,VLOOKUP($B231,ObData!$A$1:$F$300,4,0),\"\")","v":""},{"$f":"IF(VLOOKUP($B231,ObData!$A$1:$F$300,6,0)<>0,VLOOKUP($B231,ObData!$A$1:$F$300,6,0),\"\")","v":""},{"$f":"IF(VLOOKUP($B231,ObData!$A$1:$F$300,5,0)<>0,VLOOKUP($B231,ObData!$A$1:$F$300,5,0),\"\")","v":""}]
[{"$f":"IFERROR(IF(A231+1>MAX(ObData!B:B),\"\",A231+1),\"\")","v":""},"",{"$f":"IF(VLOOKUP($B232,ObData!$A$1:$F$300,3,0)<>0,VLOOKUP(B232,ObData!$A$1:$F$300,3,0),\"\")","v":""},{"$f":"IF(VLOOKUP($B232,ObData!$A$1:$F$300,4,0)<>0,VLOOKUP($B232,ObData!$A$1:$F$300,4,0),\"\")","v":""},{"$f":"IF(VLOOKUP($B232,ObData!$A$1:$F$300,6,0)<>0,VLOOKUP($B232,ObData!$A$1:$F$300,6,0),\"\")","v":""},{"$f":"IF(VLOOKUP($B232,ObData!$A$1:$F$300,5,0)<>0,VLOOKUP($B232,ObData!$A$1:$F$300,5,0),\"\")","v":""}]
[{"$f":"IFERROR(IF(A232+1>MAX(ObData!B:B),\"\",A232+1),\"\")","v":""},"",{"$f":"IF(VLOOKUP($B233,ObData!$A$1:$F$300,3,0)<>0,VLOOKUP(B233,ObData!$A$1:$F$300,3,0),\"\")","v":""},{"$f":"IF(VLOOKUP($B233,ObData!$A$1:$F$300,4,0)<>0,VLOOKUP($B233,ObData!$A$1:$F$300,4,0),\"\")","v":""},{"$f":"IF(VLOOKUP($B233,ObData!$A$1:$F$300,6,0)<>0,VLOOKUP($B233,ObData!$A$1:$F$300,6,0),\"\")","v":""},{"$f":"IF(VLOOKUP($B233,ObData!$A$1:$F$300,5,0)<>0,VLOOKUP($B233,ObData!$A$1:$F$300,5,0),\"\")","v":""}]
[{"$f":"IFERROR(IF(A233+1>MAX(ObData!B:B),\"\",A233+1),\"\")","v":""},"",{"$f":"IF(VLOOKUP($B234,ObData!$A$1:$F$300,3,0)<>0,VLOOKUP(B234,ObData!$A$1:$F$300,3,0),\"\")","v":""},{"$f":"IF(VLOOKUP($B234,ObData!$A$1:$F$300,4,0)<>0,VLOOKUP($B234,ObData!$A$1:$F$300,4,0),\"\")","v":""},{"$f":"IF(VLOOKUP($B234,ObData!$A$1:$F$300,6,0)<>0,VLOOKUP($B234,ObData!$A$1:$F$300,6,0),\"\")","v":""},{"$f":"IF(VLOOKUP($B234,ObData!$A$1:$F$300,5,0)<>0,VLOOKUP($B234,ObData!$A$1:$F$300,5,0),\"\")","v":""}]
[{"$f":"IFERROR(IF(A234+1>MAX(ObData!B:B),\"\",A234+1),\"\")","v":""},"",{"$f":"IF(VLOOKUP($B235,ObData!$A$1:$F$300,3,0)<>0,VLOOKUP(B235,ObData!$A$1:$F$300,3,0),\"\")","v":""},{"$f":"IF(VLOOKUP($B235,ObData!$A$1:$F$300,4,0)<>0,VLOOKUP($B235,ObData!$A$1:$F$300,4,0),\"\")","v":""},{"$f":"IF(VLOOKUP($B235,ObData!$A$1:$F$300,6,0)<>0,VLOOKUP($B235,ObData!$A$1:$F$300,6,0),\"\")","v":""},{"$f":"IF(VLOOKUP($B235,ObData!$A$1:$F$300,5,0)<>0,VLOOKUP($B235,ObData!$A$1:$F$300,5,0),\"\")","v":""}]
[{"$f":"IFERROR(IF(A235+1>MAX(ObData!B:B),\"\",A235+1),\"\")","v":""},"",{"$f":"IF(VLOOKUP($B236,ObData!$A$1:$F$300,3,0)<>0,VLOOKUP(B236,ObData!$A$1:$F$300,3,0),\"\")","v":""},{"$f":"IF(VLOOKUP($B236,ObData!$A$1:$F$300,4,0)<>0,VLOOKUP($B236,ObData!$A$1:$F$300,4,0),\"\")","v":""},{"$f":"IF(VLOOKUP($B236,ObData!$A$1:$F$300,6,0)<>0,VLOOKUP($B236,ObData!$A$1:$F$300,6,0),\"\")","v":""},{"$f":"IF(VLOOKUP($B236,ObData!$A$1:$F$300,5,0)<>0,VLOOKUP($B236,ObData!$A$1:$F$300,5,0),\"\")","v":""}]
[{"$f":"IFERROR(IF(A236+1>MAX(ObData!B:B),\"\",A236+1),\"\")","v":""},"",{"$f":"IF(VLOOKUP($B237,ObData!$A$1:$F$300,3,0)<>0,VLOOKUP(B237,ObData!$A$1:$F$300,3,0),\"\")","v":""},{"$f":"IF(VLOOKUP($B237,ObData!$A$1:$F$300,4,0)<>0,VLOOKUP($B237,ObData!$A$1:$F$300,4,0),\"\")","v":""},{"$f":"IF(VLOOKUP($B237,ObData!$A$1:$F$300,6,0)<>0,VLOOKUP($B237,ObData!$A$1:$F$300,6,0),\"\")","v":""},{"$f":"IF(VLOOKUP($B237,ObData!$A$1:$F$300,5,0)<>0,VLOOKUP($B237,ObData!$A$1:$F$300,5,0),\"\")","v":""}]
[{"$f":"IFERROR(IF(A237+1>MAX(ObData!B:B),\"\",A237+1),\"\")","v":""},"",{"$f":"IF(VLOOKUP($B238,ObData!$A$1:$F$300,3,0)<>0,VLOOKUP(B238,ObData!$A$1:$F$300,3,0),\"\")","v":""},{"$f":"IF(VLOOKUP($B238,ObData!$A$1:$F$300,4,0)<>0,VLOOKUP($B238,ObData!$A$1:$F$300,4,0),\"\")","v":""},{"$f":"IF(VLOOKUP($B238,ObData!$A$1:$F$300,6,0)<>0,VLOOKUP($B238,ObData!$A$1:$F$300,6,0),\"\")","v":""},{"$f":"IF(VLOOKUP($B238,ObData!$A$1:$F$300,5,0)<>0,VLOOKUP($B238,ObData!$A$1:$F$300,5,0),\"\")","v":""}]
[{"$f":"IFERROR(IF(A238+1>MAX(ObData!B:B),\"\",A238+1),\"\")","v":""},"",{"$f":"IF(VLOOKUP($B239,ObData!$A$1:$F$300,3,0)<>0,VLOOKUP(B239,ObData!$A$1:$F$300,3,0),\"\")","v":""},{"$f":"IF(VLOOKUP($B239,ObData!$A$1:$F$300,4,0)<>0,VLOOKUP($B239,ObData!$A$1:$F$300,4,0),\"\")","v":""},{"$f":"IF(VLOOKUP($B239,ObData!$A$1:$F$300,6,0)<>0,VLOOKUP($B239,ObData!$A$1:$F$300,6,0),\"\")","v":""},{"$f":"IF(VLOOKUP($B239,ObData!$A$1:$F$300,5,0)<>0,VLOOKUP($B239,ObData!$A$1:$F$300,5,0),\"\")","v":""}]
[{"$f":"IFERROR(IF(A239+1>MAX(ObData!B:B),\"\",A239+1),\"\")","v":""},"",{"$f":"IF(VLOOKUP($B240,ObData!$A$1:$F$300,3,0)<>0,VLOOKUP(B240,ObData!$A$1:$F$300,3,0),\"\")","v":""},{"$f":"IF(VLOOKUP($B240,ObData!$A$1:$F$300,4,0)<>0,VLOOKUP($B240,ObData!$A$1:$F$300,4,0),\"\")","v":""},{"$f":"IF(VLOOKUP($B240,ObData!$A$1:$F$300,6,0)<>0,VLOOKUP($B240,ObData!$A$1:$F$300,6,0),\"\")","v":""},{"$f":"IF(VLOOKUP($B240,ObData!$A$1:$F$300,5,0)<>0,VLOOKUP($B240,ObData!$A$1:$F$300,5,0),\"\")","v":""}]
[{"$f":"IFERROR(IF(A240+1>MAX(ObData!B:B),\"\",A240+1),\"\")","v":""},"",{"$f":"IF(VLOOKUP($B241,ObData!$A$1:$F$300,3,0)<>0,VLOOKUP(B241,ObData!$A$1:$F$300,3,0),\"\")","v":""},{"$f":"IF(VLOOKUP($B241,ObData!$A$1:$F$300,4,0)<>0,VLOOKUP($B241,ObData!$A$1:$F$300,4,0),\"\")","v":""},{"$f":"IF(VLOOKUP($B241,ObData!$A$1:$F$300,6,0)<>0,VLOOKUP($B241,ObData!$A$1:$F$300,6,0),\"\")","v":""},{"$f":"IF(VLOOKUP($B241,ObData!$A$1:$F$300,5,0)<>0,VLOOKUP($B241,ObData!$A$1:$F$300,5,0),\"\")","v":""}]
[{"$f":"IFERROR(IF(A241+1>MAX(ObData!B:B),\"\",A241+1),\"\")","v":""},"",{"$f":"IF(VLOOKUP($B242,ObData!$A$1:$F$300,3,0)<>0,VLOOKUP(B242,ObData!$A$1:$F$300,3,0),\"\")","v":""},{"$f":"IF(VLOOKUP($B242,ObData!$A$1:$F$300,4,0)<>0,VLOOKUP($B242,ObData!$A$1:$F$300,4,0),\"\")","v":""},{"$f":"IF(VLOOKUP($B242,ObData!$A$1:$F$300,6,0)<>0,VLOOKUP($B242,ObData!$A$1:$F$300,6,0),\"\")","v":""},{"$f":"IF(VLOOKUP($B242,ObData!$A$1:$F$300,5,0)<>0,VLOOKUP($B242,ObData!$A$1:$F$300,5,0),\"\")","v":""}]
[{"$f":"IFERROR(IF(A242+1>MAX(ObData!B:B),\"\",A242+1),\"\")","v":""},"",{"$f":"IF(VLOOKUP($B243,ObData!$A$1:$F$300,3,0)<>0,VLOOKUP(B243,ObData!$A$1:$F$300,3,0),\"\")","v":""},{"$f":"IF(VLOOKUP($B243,ObData!$A$1:$F$300,4,0)<>0,VLOOKUP($B243,ObData!$A$1:$F$300,4,0),\"\")","v":""},{"$f":"IF(VLOOKUP($B243,ObData!$A$1:$F$300,6,0)<>0,VLOOKUP($B243,ObData!$A$1:$F$300,6,0),\"\")","v":""},{"$f":"IF(VLOOKUP($B243,ObData!$A$1:$F$300,5,0)<>0,VLOOKUP($B243,ObData!$A$1:$F$300,5,0),\"\")","v":""}]
[{"$f":"IFERROR(IF(A243+1>MAX(ObData!B:B),\"\",A243+1),\"\")","v":""},"",{"$f":"IF(VLOOKUP($B244,ObData!$A$1:$F$300,3,0)<>0,VLOOKUP(B244,ObData!$A$1:$F$300,3,0),\"\")","v":""},{"$f":"IF(VLOOKUP($B244,ObData!$A$1:$F$300,4,0)<>0,VLOOKUP($B244,ObData!$A$1:$F$300,4,0),\"\")","v":""},{"$f":"IF(VLOOKUP($B244,ObData!$A$1:$F$300,6,0)<>0,VLOOKUP($B244,ObData!$A$1:$F$300,6,0),\"\")","v":""},{"$f":"IF(VLOOKUP($B244,ObData!$A$1:$F$300,5,0)<>0,VLOOKUP($B244,ObData!$A$1:$F$300,5,0),\"\")","v":""}]
[{"$f":"IFERROR(IF(A244+1>MAX(ObData!B:B),\"\",A244+1),\"\")","v":""},"",{"$f":"IF(VLOOKUP($B245,ObData!$A$1:$F$300,3,0)<>0,VLOOKUP(B245,ObData!$A$1:$F$300,3,0),\"\")","v":""},{"$f":"IF(VLOOKUP($B245,ObData!$A$1:$F$300,4,0)<>0,VLOOKUP($B245,ObData!$A$1:$F$300,4,0),\"\")","v":""},{"$f":"IF(VLOOKUP($B245,ObData!$A$1:$F$300,6,0)<>0,VLOOKUP($B245,ObData!$A$1:$F$300,6,0),\"\")","v":""},{"$f":"IF(VLOOKUP($B245,ObData!$A$1:$F$300,5,0)<>0,VLOOKUP($B245,ObData!$A$1:$F$300,5,0),\"\")","v":""}]
[{"$f":"IFERROR(IF(A245+1>MAX(ObData!B:B),\"\",A245+1),\"\")","v":""},"",{"$f":"IF(VLOOKUP($B246,ObData!$A$1:$F$300,3,0)<>0,VLOOKUP(B246,ObData!$A$1:$F$300,3,0),\"\")","v":""},{"$f":"IF(VLOOKUP($B246,ObData!$A$1:$F$300,4,0)<>0,VLOOKUP($B246,ObData!$A$1:$F$300,4,0),\"\")","v":""},{"$f":"IF(VLOOKUP($B246,ObData!$A$1:$F$300,6,0)<>0,VLOOKUP($B246,ObData!$A$1:$F$300,6,0),\"\")","v":""},{"$f":"IF(VLOOKUP($B246,ObData!$A$1:$F$300,5,0)<>0,VLOOKUP($B246,ObData!$A$1:$F$300,5,0),\"\")","v":""}]
[{"$f":"IFERROR(IF(A246+1>MAX(ObData!B:B),\"\",A246+1),\"\")","v":""},"",{"$f":"IF(VLOOKUP($B247,ObData!$A$1:$F$300,3,0)<>0,VLOOKUP(B247,ObData!$A$1:$F$300,3,0),\"\")","v":""},{"$f":"IF(VLOOKUP($B247,ObData!$A$1:$F$300,4,0)<>0,VLOOKUP($B247,ObData!$A$1:$F$300,4,0),\"\")","v":""},{"$f":"IF(VLOOKUP($B247,ObData!$A$1:$F$300,6,0)<>0,VLOOKUP($B247,ObData!$A$1:$F$300,6,0),\"\")","v":""},{"$f":"IF(VLOOKUP($B247,ObData!$A$1:$F$300,5,0)<>0,VLOOKUP($B247,ObData!$A$1:$F$300,5,0),\"\")","v":""}]
[{"$f":"IFERROR(IF(A247+1>MAX(ObData!B:B),\"\",A247+1),\"\")","v":""},"",{"$f":"IF(VLOOKUP($B248,ObData!$A$1:$F$300,3,0)<>0,VLOOKUP(B248,ObData!$A$1:$F$300,3,0),\"\")","v":""},{"$f":"IF(VLOOKUP($B248,ObData!$A$1:$F$300,4,0)<>0,VLOOKUP($B248,ObData!$A$1:$F$300,4,0),\"\")","v":""},{"$f":"IF(VLOOKUP($B248,ObData!$A$1:$F$300,6,0)<>0,VLOOKUP($B248,ObData!$A$1:$F$300,6,0),\"\")","v":""},{"$f":"IF(VLOOKUP($B248,ObData!$A$1:$F$300,5,0)<>0,VLOOKUP($B248,ObData!$A$1:$F$300,5,0),\"\")","v":""}]
[{"$f":"IFERROR(IF(A248+1>MAX(ObData!B:B),\"\",A248+1),\"\")","v":""},"",{"$f":"IF(VLOOKUP($B249,ObData!$A$1:$F$300,3,0)<>0,VLOOKUP(B249,ObData!$A$1:$F$300,3,0),\"\")","v":""},{"$f":"IF(VLOOKUP($B249,ObData!$A$1:$F$300,4,0)<>0,VLOOKUP($B249,ObData!$A$1:$F$300,4,0),\"\")","v":""},{"$f":"IF(VLOOKUP($B249,ObData!$A$1:$F$300,6,0)<>0,VLOOKUP($B249,ObData!$A$1:$F$300,6,0),\"\")","v":""},{"$f":"IF(VLOOKUP($B249,ObData!$A$1:$F$300,5,0)<>0,VLOOKUP($B249,ObData!$A$1:$F$300,5,0),\"\")","v":""}]
[{"$f":"IFERROR(IF(A249+1>MAX(ObData!B:B),\"\",A249+1),\"\")","v":""},"",{"$f":"IF(VLOOKUP($B250,ObData!$A$1:$F$300,3,0)<>0,VLOOKUP(B250,ObData!$A$1:$F$300,3,0),\"\")","v":""},{"$f":"IF(VLOOKUP($B250,ObData!$A$1:$F$300,4,0)<>0,VLOOKUP($B250,ObData!$A$1:$F$300,4,0),\"\")","v":""},{"$f":"IF(VLOOKUP($B250,ObData!$A$1:$F$300,6,0)<>0,VLOOKUP($B250,ObData!$A$1:$F$300,6,0),\"\")","v":""},{"$f":"IF(VLOOKUP($B250,ObData!$A$1:$F$300,5,0)<>0,VLOOKUP($B250,ObData!$A$1:$F$300,5,0),\"\")","v":""}]
[{"$f":"IFERROR(IF(A250+1>MAX(ObData!B:B),\"\",A250+1),\"\")","v":""},"",{"$f":"IF(VLOOKUP($B251,ObData!$A$1:$F$300,3,0)<>0,VLOOKUP(B251,ObData!$A$1:$F$300,3,0),\"\")","v":""},{"$f":"IF(VLOOKUP($B251,ObData!$A$1:$F$300,4,0)<>0,VLOOKUP($B251,ObData!$A$1:$F$300,4,0),\"\")","v":""},{"$f":"IF(VLOOKUP($B251,ObData!$A$1:$F$300,6,0)<>0,VLOOKUP($B251,ObData!$A$1:$F$300,6,0),\"\")","v":""},{"$f":"IF(VLOOKUP($B251,ObData!$A$1:$F$300,5,0)<>0,VLOOKUP($B251,ObData!$A$1:$F$300,5,0),\"\")","v":""}]
[{"$f":"IFERROR(IF(A251+1>MAX(ObData!B:B),\"\",A251+1),\"\")","v":""},"",{"$f":"IF(VLOOKUP($B252,ObData!$A$1:$F$300,3,0)<>0,VLOOKUP(B252,ObData!$A$1:$F$300,3,0),\"\")","v":""},{"$f":"IF(VLOOKUP($B252,ObData!$A$1:$F$300,4,0)<>0,VLOOKUP($B252,ObData!$A$1:$F$300,4,0),\"\")","v":""},{"$f":"IF(VLOOKUP($B252,ObData!$A$1:$F$300,6,0)<>0,VLOOKUP($B252,ObData!$A$1:$F$300,6,0),\"\")","v":""},{"$f":"IF(VLOOKUP($B252,ObData!$A$1:$F$300,5,0)<>0,VLOOKUP($B252,ObData!$A$1:$F$300,5,0),\"\")","v":""}]
[{"$f":"IFERROR(IF(A252+1>MAX(ObData!B:B),\"\",A252+1),\"\")","v":""},"",{"$f":"IF(VLOOKUP($B253,ObData!$A$1:$F$300,3,0)<>0,VLOOKUP(B253,ObData!$A$1:$F$300,3,0),\"\")","v":""},{"$f":"IF(VLOOKUP($B253,ObData!$A$1:$F$300,4,0)<>0,VLOOKUP($B253,ObData!$A$1:$F$300,4,0),\"\")","v":""},{"$f":"IF(VLOOKUP($B253,ObData!$A$1:$F$300,6,0)<>0,VLOOKUP($B253,ObData!$A$1:$F$300,6,0),\"\")","v":""},{"$f":"IF(VLOOKUP($B253,ObData!$A$1:$F$300,5,0)<>0,VLOOKUP($B253,ObData!$A$1:$F$300,5,0),\"\")","v":""}]
[{"$f":"IFERROR(IF(A253+1>MAX(ObData!B:B),\"\",A253+1),\"\")","v":""},"",{"$f":"IF(VLOOKUP($B254,ObData!$A$1:$F$300,3,0)<>0,VLOOKUP(B254,ObData!$A$1:$F$300,3,0),\"\")","v":""},{"$f":"IF(VLOOKUP($B254,ObData!$A$1:$F$300,4,0)<>0,VLOOKUP($B254,ObData!$A$1:$F$300,4,0),\"\")","v":""},{"$f":"IF(VLOOKUP($B254,ObData!$A$1:$F$300,6,0)<>0,VLOOKUP($B254,ObData!$A$1:$F$300,6,0),\"\")","v":""},{"$f":"IF(VLOOKUP($B254,ObData!$A$1:$F$300,5,0)<>0,VLOOKUP($B254,ObData!$A$1:$F$300,5,0),\"\")","v":""}]
[{"$f":"IFERROR(IF(A254+1>MAX(ObData!B:B),\"\",A254+1),\"\")","v":""},"",{"$f":"IF(VLOOKUP($B255,ObData!$A$1:$F$300,3,0)<>0,VLOOKUP(B255,ObData!$A$1:$F$300,3,0),\"\")","v":""},{"$f":"IF(VLOOKUP($B255,ObData!$A$1:$F$300,4,0)<>0,VLOOKUP($B255,ObData!$A$1:$F$300,4,0),\"\")","v":""},{"$f":"IF(VLOOKUP($B255,ObData!$A$1:$F$300,6,0)<>0,VLOOKUP($B255,ObData!$A$1:$F$300,6,0),\"\")","v":""},{"$f":"IF(VLOOKUP($B255,ObData!$A$1:$F$300,5,0)<>0,VLOOKUP($B255,ObData!$A$1:$F$300,5,0),\"\")","v":""}]
[{"$f":"IFERROR(IF(A255+1>MAX(ObData!B:B),\"\",A255+1),\"\")","v":""},"",{"$f":"IF(VLOOKUP($B256,ObData!$A$1:$F$300,3,0)<>0,VLOOKUP(B256,ObData!$A$1:$F$300,3,0),\"\")","v":""},{"$f":"IF(VLOOKUP($B256,ObData!$A$1:$F$300,4,0)<>0,VLOOKUP($B256,ObData!$A$1:$F$300,4,0),\"\")","v":""},{"$f":"IF(VLOOKUP($B256,ObData!$A$1:$F$300,6,0)<>0,VLOOKUP($B256,ObData!$A$1:$F$300,6,0),\"\")","v":""},{"$f":"IF(VLOOKUP($B256,ObData!$A$1:$F$300,5,0)<>0,VLOOKUP($B256,ObData!$A$1:$F$300,5,0),\"\")","v":""}]
[{"$f":"IFERROR(IF(A256+1>MAX(ObData!B:B),\"\",A256+1),\"\")","v":""},"",{"$f":"IF(VLOOKUP($B257,ObData!$A$1:$F$300,3,0)<>0,VLOOKUP(B257,ObData!$A$1:$F$300,3,0),\"\")","v":""},{"$f":"IF(VLOOKUP($B257,ObData!$A$1:$F$300,4,0)<>0,VLOOKUP($B257,ObData!$A$1:$F$300,4,0),\"\")","v":""},{"$f":"IF(VLOOKUP($B257,ObData!$A$1:$F$300,6,0)<>0,VLOOKUP($B257,ObData!$A$1:$F$300,6,0),\"\")","v":""},{"$f":"IF(VLOOKUP($B257,ObData!$A$1:$F$300,5,0)<>0,VLOOKUP($B257,ObData!$A$1:$F$300,5,0),\"\")","v":""}]
[{"$f":"IFERROR(IF(A257+1>MAX(ObData!B:B),\"\",A257+1),\"\")","v":""},"",{"$f":"IF(VLOOKUP($B258,ObData!$A$1:$F$300,3,0)<>0,VLOOKUP(B258,ObData!$A$1:$F$300,3,0),\"\")","v":""},{"$f":"IF(VLOOKUP($B258,ObData!$A$1:$F$300,4,0)<>0,VLOOKUP($B258,ObData!$A$1:$F$300,4,0),\"\")","v":""},{"$f":"IF(VLOOKUP($B258,ObData!$A$1:$F$300,6,0)<>0,VLOOKUP($B258,ObData!$A$1:$F$300,6,0),\"\")","v":""},{"$f":"IF(VLOOKUP($B258,ObData!$A$1:$F$300,5,0)<>0,VLOOKUP($B258,ObData!$A$1:$F$300,5,0),\"\")","v":""}]
[{"$f":"IFERROR(IF(A258+1>MAX(ObData!B:B),\"\",A258+1),\"\")","v":""},{"$f":"IF(A259<>\"\",\"Observation \"&A259,\"\")","v":""},{"$f":"IF(VLOOKUP($B259,ObData!$A$1:$F$300,3,0)<>0,VLOOKUP(B259,ObData!$A$1:$F$300,3,0),\"\")","v":""},{"$f":"IF(VLOOKUP($B259,ObData!$A$1:$F$300,4,0)<>0,VLOOKUP($B259,ObData!$A$1:$F$300,4,0),\"\")","v":""},{"$f":"IF(VLOOKUP($B259,ObData!$A$1:$F$300,6,0)<>0,VLOOKUP($B259,ObData!$A$1:$F$300,6,0),\"\")","v":""},{"$f":"IF(VLOOKUP($B259,ObData!$A$1:$F$300,5,0)<>0,VLOOKUP($B259,ObData!$A$1:$F$300,5,0),\"\")","v":""}]
[{"$f":"IFERROR(IF(A259+1>MAX(ObData!B:B),\"\",A259+1),\"\")","v":""},"",{"$f":"IF(VLOOKUP($B260,ObData!$A$1:$F$300,3,0)<>0,VLOOKUP(B260,ObData!$A$1:$F$300,3,0),\"\")","v":""},{"$f":"IF(VLOOKUP($B260,ObData!$A$1:$F$300,4,0)<>0,VLOOKUP($B260,ObData!$A$1:$F$300,4,0),\"\")","v":""},{"$f":"IF(VLOOKUP($B260,ObData!$A$1:$F$300,6,0)<>0,VLOOKUP($B260,ObData!$A$1:$F$300,6,0),\"\")","v":""},{"$f":"IF(VLOOKUP($B260,ObData!$A$1:$F$300,5,0)<>0,VLOOKUP($B260,ObData!$A$1:$F$300,5,0),\"\")","v":""}]
[{"$f":"IFERROR(IF(A260+1>MAX(ObData!B:B),\"\",A260+1),\"\")","v":""},"",{"$f":"IF(VLOOKUP($B261,ObData!$A$1:$F$300,3,0)<>0,VLOOKUP(B261,ObData!$A$1:$F$300,3,0),\"\")","v":""},{"$f":"IF(VLOOKUP($B261,ObData!$A$1:$F$300,4,0)<>0,VLOOKUP($B261,ObData!$A$1:$F$300,4,0),\"\")","v":""},{"$f":"IF(VLOOKUP($B261,ObData!$A$1:$F$300,6,0)<>0,VLOOKUP($B261,ObData!$A$1:$F$300,6,0),\"\")","v":""},{"$f":"IF(VLOOKUP($B261,ObData!$A$1:$F$300,5,0)<>0,VLOOKUP($B261,ObData!$A$1:$F$300,5,0),\"\")","v":""}]
[{"$f":"IFERROR(IF(A261+1>MAX(ObData!B:B),\"\",A261+1),\"\")","v":""},"",{"$f":"IF(VLOOKUP($B262,ObData!$A$1:$F$300,3,0)<>0,VLOOKUP(B262,ObData!$A$1:$F$300,3,0),\"\")","v":""},{"$f":"IF(VLOOKUP($B262,ObData!$A$1:$F$300,4,0)<>0,VLOOKUP($B262,ObData!$A$1:$F$300,4,0),\"\")","v":""},{"$f":"IF(VLOOKUP($B262,ObData!$A$1:$F$300,6,0)<>0,VLOOKUP($B262,ObData!$A$1:$F$300,6,0),\"\")","v":""},{"$f":"IF(VLOOKUP($B262,ObData!$A$1:$F$300,5,0)<>0,VLOOKUP($B262,ObData!$A$1:$F$300,5,0),\"\")","v":""}]
[{"$f":"IFERROR(IF(A262+1>MAX(ObData!B:B),\"\",A262+1),\"\")","v":""},"",{"$f":"IF(VLOOKUP($B263,ObData!$A$1:$F$300,3,0)<>0,VLOOKUP(B263,ObData!$A$1:$F$300,3,0),\"\")","v":""},{"$f":"IF(VLOOKUP($B263,ObData!$A$1:$F$300,4,0)<>0,VLOOKUP($B263,ObData!$A$1:$F$300,4,0),\"\")","v":""},{"$f":"IF(VLOOKUP($B263,ObData!$A$1:$F$300,6,0)<>0,VLOOKUP($B263,ObData!$A$1:$F$300,6,0),\"\")","v":""},{"$f":"IF(VLOOKUP($B263,ObData!$A$1:$F$300,5,0)<>0,VLOOKUP($B263,ObData!$A$1:$F$300,5,0),\"\")","v":""}]
[{"$f":"IFERROR(IF(A263+1>MAX(ObData!B:B),\"\",A263+1),\"\")","v":""},"",{"$f":"IF(VLOOKUP($B264,ObData!$A$1:$F$300,3,0)<>0,VLOOKUP(B264,ObData!$A$1:$F$300,3,0),\"\")","v":""},{"$f":"IF(VLOOKUP($B264,ObData!$A$1:$F$300,4,0)<>0,VLOOKUP($B264,ObData!$A$1:$F$300,4,0),\"\")","v":""},{"$f":"IF(VLOOKUP($B264,ObData!$A$1:$F$300,6,0)<>0,VLOOKUP($B264,ObData!$A$1:$F$300,6,0),\"\")","v":""},{"$f":"IF(VLOOKUP($B264,ObData!$A$1:$F$300,5,0)<>0,VLOOKUP($B264,ObData!$A$1:$F$300,5,0),\"\")","v":""}]
[{"$f":"IFERROR(IF(A264+1>MAX(ObData!B:B),\"\",A264+1),\"\")","v":""},"",{"$f":"IF(VLOOKUP($B265,ObData!$A$1:$F$300,3,0)<>0,VLOOKUP(B265,ObData!$A$1:$F$300,3,0),\"\")","v":""},{"$f":"IF(VLOOKUP($B265,ObData!$A$1:$F$300,4,0)<>0,VLOOKUP($B265,ObData!$A$1:$F$300,4,0),\"\")","v":""},{"$f":"IF(VLOOKUP($B265,ObData!$A$1:$F$300,6,0)<>0,VLOOKUP($B265,ObData!$A$1:$F$300,6,0),\"\")","v":""},{"$f":"IF(VLOOKUP($B265,ObData!$A$1:$F$300,5,0)<>0,VLOOKUP($B265,ObData!$A$1:$F$300,5,0),\"\")","v":""}]
[{"$f":"IFERROR(IF(A265+1>MAX(ObData!B:B),\"\",A265+1),\"\")","v":""},"",{"$f":"IF(VLOOKUP($B266,ObData!$A$1:$F$300,3,0)<>0,VLOOKUP(B266,ObData!$A$1:$F$300,3,0),\"\")","v":""},{"$f":"IF(VLOOKUP($B266,ObData!$A$1:$F$300,4,0)<>0,VLOOKUP($B266,ObData!$A$1:$F$300,4,0),\"\")","v":""},{"$f":"IF(VLOOKUP($B266,ObData!$A$1:$F$300,6,0)<>0,VLOOKUP($B266,ObData!$A$1:$F$300,6,0),\"\")","v":""},{"$f":"IF(VLOOKUP($B266,ObData!$A$1:$F$300,5,0)<>0,VLOOKUP($B266,ObData!$A$1:$F$300,5,0),\"\")","v":""}]
[{"$f":"IFERROR(IF(A266+1>MAX(ObData!B:B),\"\",A266+1),\"\")","v":""},"",{"$f":"IF(VLOOKUP($B267,ObData!$A$1:$F$300,3,0)<>0,VLOOKUP(B267,ObData!$A$1:$F$300,3,0),\"\")","v":""},{"$f":"IF(VLOOKUP($B267,ObData!$A$1:$F$300,4,0)<>0,VLOOKUP($B267,ObData!$A$1:$F$300,4,0),\"\")","v":""},{"$f":"IF(VLOOKUP($B267,ObData!$A$1:$F$300,6,0)<>0,VLOOKUP($B267,ObData!$A$1:$F$300,6,0),\"\")","v":""},{"$f":"IF(VLOOKUP($B267,ObData!$A$1:$F$300,5,0)<>0,VLOOKUP($B267,ObData!$A$1:$F$300,5,0),\"\")","v":""}]
[{"$f":"IFERROR(IF(A267+1>MAX(ObData!B:B),\"\",A267+1),\"\")","v":""},"",{"$f":"IF(VLOOKUP($B268,ObData!$A$1:$F$300,3,0)<>0,VLOOKUP(B268,ObData!$A$1:$F$300,3,0),\"\")","v":""},{"$f":"IF(VLOOKUP($B268,ObData!$A$1:$F$300,4,0)<>0,VLOOKUP($B268,ObData!$A$1:$F$300,4,0),\"\")","v":""},{"$f":"IF(VLOOKUP($B268,ObData!$A$1:$F$300,6,0)<>0,VLOOKUP($B268,ObData!$A$1:$F$300,6,0),\"\")","v":""},{"$f":"IF(VLOOKUP($B268,ObData!$A$1:$F$300,5,0)<>0,VLOOKUP($B268,ObData!$A$1:$F$300,5,0),\"\")","v":""}]
[{"$f":"IFERROR(IF(A268+1>MAX(ObData!B:B),\"\",A268+1),\"\")","v":""},"",{"$f":"IF(VLOOKUP($B269,ObData!$A$1:$F$300,3,0)<>0,VLOOKUP(B269,ObData!$A$1:$F$300,3,0),\"\")","v":""},{"$f":"IF(VLOOKUP($B269,ObData!$A$1:$F$300,4,0)<>0,VLOOKUP($B269,ObData!$A$1:$F$300,4,0),\"\")","v":""},{"$f":"IF(VLOOKUP($B269,ObData!$A$1:$F$300,6,0)<>0,VLOOKUP($B269,ObData!$A$1:$F$300,6,0),\"\")","v":""},{"$f":"IF(VLOOKUP($B269,ObData!$A$1:$F$300,5,0)<>0,VLOOKUP($B269,ObData!$A$1:$F$300,5,0),\"\")","v":""}]
[{"$f":"IFERROR(IF(A269+1>MAX(ObData!B:B),\"\",A269+1),\"\")","v":""},"",{"$f":"IF(VLOOKUP($B270,ObData!$A$1:$F$300,3,0)<>0,VLOOKUP(B270,ObData!$A$1:$F$300,3,0),\"\")","v":""},{"$f":"IF(VLOOKUP($B270,ObData!$A$1:$F$300,4,0)<>0,VLOOKUP($B270,ObData!$A$1:$F$300,4,0),\"\")","v":""},{"$f":"IF(VLOOKUP($B270,ObData!$A$1:$F$300,6,0)<>0,VLOOKUP($B270,ObData!$A$1:$F$300,6,0),\"\")","v":""},{"$f":"IF(VLOOKUP($B270,ObData!$A$1:$F$300,5,0)<>0,VLOOKUP($B270,ObData!$A$1:$F$300,5,0),\"\")","v":""}]
[{"$f":"IFERROR(IF(A270+1>MAX(ObData!B:B),\"\",A270+1),\"\")","v":""},"",{"$f":"IF(VLOOKUP($B271,ObData!$A$1:$F$300,3,0)<>0,VLOOKUP(B271,ObData!$A$1:$F$300,3,0),\"\")","v":""},{"$f":"IF(VLOOKUP($B271,ObData!$A$1:$F$300,4,0)<>0,VLOOKUP($B271,ObData!$A$1:$F$300,4,0),\"\")","v":""},{"$f":"IF(VLOOKUP($B271,ObData!$A$1:$F$300,6,0)<>0,VLOOKUP($B271,ObData!$A$1:$F$300,6,0),\"\")","v":""},{"$f":"IF(VLOOKUP($B271,ObData!$A$1:$F$300,5,0)<>0,VLOOKUP($B271,ObData!$A$1:$F$300,5,0),\"\")","v":""}]
[{"$f":"IFERROR(IF(A271+1>MAX(ObData!B:B),\"\",A271+1),\"\")","v":""},"",{"$f":"IF(VLOOKUP($B272,ObData!$A$1:$F$300,3,0)<>0,VLOOKUP(B272,ObData!$A$1:$F$300,3,0),\"\")","v":""},{"$f":"IF(VLOOKUP($B272,ObData!$A$1:$F$300,4,0)<>0,VLOOKUP($B272,ObData!$A$1:$F$300,4,0),\"\")","v":""},{"$f":"IF(VLOOKUP($B272,ObData!$A$1:$F$300,6,0)<>0,VLOOKUP($B272,ObData!$A$1:$F$300,6,0),\"\")","v":""},{"$f":"IF(VLOOKUP($B272,ObData!$A$1:$F$300,5,0)<>0,VLOOKUP($B272,ObData!$A$1:$F$300,5,0),\"\")","v":""}]
[{"$f":"IFERROR(IF(A272+1>MAX(ObData!B:B),\"\",A272+1),\"\")","v":""},"",{"$f":"IF(VLOOKUP($B273,ObData!$A$1:$F$300,3,0)<>0,VLOOKUP(B273,ObData!$A$1:$F$300,3,0),\"\")","v":""},{"$f":"IF(VLOOKUP($B273,ObData!$A$1:$F$300,4,0)<>0,VLOOKUP($B273,ObData!$A$1:$F$300,4,0),\"\")","v":""},{"$f":"IF(VLOOKUP($B273,ObData!$A$1:$F$300,6,0)<>0,VLOOKUP($B273,ObData!$A$1:$F$300,6,0),\"\")","v":""},{"$f":"IF(VLOOKUP($B273,ObData!$A$1:$F$300,5,0)<>0,VLOOKUP($B273,ObData!$A$1:$F$300,5,0),\"\")","v":""}]
[{"$f":"IFERROR(IF(A273+1>MAX(ObData!B:B),\"\",A273+1),\"\")","v":""},"",{"$f":"IF(VLOOKUP($B274,ObData!$A$1:$F$300,3,0)<>0,VLOOKUP(B274,ObData!$A$1:$F$300,3,0),\"\")","v":""},{"$f":"IF(VLOOKUP($B274,ObData!$A$1:$F$300,4,0)<>0,VLOOKUP($B274,ObData!$A$1:$F$300,4,0),\"\")","v":""},{"$f":"IF(VLOOKUP($B274,ObData!$A$1:$F$300,6,0)<>0,VLOOKUP($B274,ObData!$A$1:$F$300,6,0),\"\")","v":""},{"$f":"IF(VLOOKUP($B274,ObData!$A$1:$F$300,5,0)<>0,VLOOKUP($B274,ObData!$A$1:$F$300,5,0),\"\")","v":""}]
[{"$f":"IFERROR(IF(A274+1>MAX(ObData!B:B),\"\",A274+1),\"\")","v":""},"",{"$f":"IF(VLOOKUP($B275,ObData!$A$1:$F$300,3,0)<>0,VLOOKUP(B275,ObData!$A$1:$F$300,3,0),\"\")","v":""},{"$f":"IF(VLOOKUP($B275,ObData!$A$1:$F$300,4,0)<>0,VLOOKUP($B275,ObData!$A$1:$F$300,4,0),\"\")","v":""},{"$f":"IF(VLOOKUP($B275,ObData!$A$1:$F$300,6,0)<>0,VLOOKUP($B275,ObData!$A$1:$F$300,6,0),\"\")","v":""},{"$f":"IF(VLOOKUP($B275,ObData!$A$1:$F$300,5,0)<>0,VLOOKUP($B275,ObData!$A$1:$F$300,5,0),\"\")","v":""}]
[{"$f":"IFERROR(IF(A275+1>MAX(ObData!B:B),\"\",A275+1),\"\")","v":""},"",{"$f":"IF(VLOOKUP($B276,ObData!$A$1:$F$300,3,0)<>0,VLOOKUP(B276,ObData!$A$1:$F$300,3,0),\"\")","v":""},{"$f":"IF(VLOOKUP($B276,ObData!$A$1:$F$300,4,0)<>0,VLOOKUP($B276,ObData!$A$1:$F$300,4,0),\"\")","v":""},{"$f":"IF(VLOOKUP($B276,ObData!$A$1:$F$300,6,0)<>0,VLOOKUP($B276,ObData!$A$1:$F$300,6,0),\"\")","v":""},{"$f":"IF(VLOOKUP($B276,ObData!$A$1:$F$300,5,0)<>0,VLOOKUP($B276,ObData!$A$1:$F$300,5,0),\"\")","v":""}]
[{"$f":"IFERROR(IF(A276+1>MAX(ObData!B:B),\"\",A276+1),\"\")","v":""},"",{"$f":"IF(VLOOKUP($B277,ObData!$A$1:$F$300,3,0)<>0,VLOOKUP(B277,ObData!$A$1:$F$300,3,0),\"\")","v":""},{"$f":"IF(VLOOKUP($B277,ObData!$A$1:$F$300,4,0)<>0,VLOOKUP($B277,ObData!$A$1:$F$300,4,0),\"\")","v":""},{"$f":"IF(VLOOKUP($B277,ObData!$A$1:$F$300,6,0)<>0,VLOOKUP($B277,ObData!$A$1:$F$300,6,0),\"\")","v":""},{"$f":"IF(VLOOKUP($B277,ObData!$A$1:$F$300,5,0)<>0,VLOOKUP($B277,ObData!$A$1:$F$300,5,0),\"\")","v":""}]
[{"$f":"IFERROR(IF(A277+1>MAX(ObData!B:B),\"\",A277+1),\"\")","v":""},"",{"$f":"IF(VLOOKUP($B278,ObData!$A$1:$F$300,3,0)<>0,VLOOKUP(B278,ObData!$A$1:$F$300,3,0),\"\")","v":""},{"$f":"IF(VLOOKUP($B278,ObData!$A$1:$F$300,4,0)<>0,VLOOKUP($B278,ObData!$A$1:$F$300,4,0),\"\")","v":""},{"$f":"IF(VLOOKUP($B278,ObData!$A$1:$F$300,6,0)<>0,VLOOKUP($B278,ObData!$A$1:$F$300,6,0),\"\")","v":""},{"$f":"IF(VLOOKUP($B278,ObData!$A$1:$F$300,5,0)<>0,VLOOKUP($B278,ObData!$A$1:$F$300,5,0),\"\")","v":""}]
[{"$f":"IFERROR(IF(A278+1>MAX(ObData!B:B),\"\",A278+1),\"\")","v":""},"",{"$f":"IF(VLOOKUP($B279,ObData!$A$1:$F$300,3,0)<>0,VLOOKUP(B279,ObData!$A$1:$F$300,3,0),\"\")","v":""},{"$f":"IF(VLOOKUP($B279,ObData!$A$1:$F$300,4,0)<>0,VLOOKUP($B279,ObData!$A$1:$F$300,4,0),\"\")","v":""},{"$f":"IF(VLOOKUP($B279,ObData!$A$1:$F$300,6,0)<>0,VLOOKUP($B279,ObData!$A$1:$F$300,6,0),\"\")","v":""},{"$f":"IF(VLOOKUP($B279,ObData!$A$1:$F$300,5,0)<>0,VLOOKUP($B279,ObData!$A$1:$F$300,5,0),\"\")","v":""}]
[{"$f":"IFERROR(IF(A279+1>MAX(ObData!B:B),\"\",A279+1),\"\")","v":""},"",{"$f":"IF(VLOOKUP($B280,ObData!$A$1:$F$300,3,0)<>0,VLOOKUP(B280,ObData!$A$1:$F$300,3,0),\"\")","v":""},{"$f":"IF(VLOOKUP($B280,ObData!$A$1:$F$300,4,0)<>0,VLOOKUP($B280,ObData!$A$1:$F$300,4,0),\"\")","v":""},{"$f":"IF(VLOOKUP($B280,ObData!$A$1:$F$300,6,0)<>0,VLOOKUP($B280,ObData!$A$1:$F$300,6,0),\"\")","v":""},{"$f":"IF(VLOOKUP($B280,ObData!$A$1:$F$300,5,0)<>0,VLOOKUP($B280,ObData!$A$1:$F$300,5,0),\"\")","v":""}]
[{"$f":"IFERROR(IF(A280+1>MAX(ObData!B:B),\"\",A280+1),\"\")","v":""},"",{"$f":"IF(VLOOKUP($B281,ObData!$A$1:$F$300,3,0)<>0,VLOOKUP(B281,ObData!$A$1:$F$300,3,0),\"\")","v":""},{"$f":"IF(VLOOKUP($B281,ObData!$A$1:$F$300,4,0)<>0,VLOOKUP($B281,ObData!$A$1:$F$300,4,0),\"\")","v":""},{"$f":"IF(VLOOKUP($B281,ObData!$A$1:$F$300,6,0)<>0,VLOOKUP($B281,ObData!$A$1:$F$300,6,0),\"\")","v":""},{"$f":"IF(VLOOKUP($B281,ObData!$A$1:$F$300,5,0)<>0,VLOOKUP($B281,ObData!$A$1:$F$300,5,0),\"\")","v":""}]
[{"$f":"IFERROR(IF(A281+1>MAX(ObData!B:B),\"\",A281+1),\"\")","v":""},"",{"$f":"IF(VLOOKUP($B282,ObData!$A$1:$F$300,3,0)<>0,VLOOKUP(B282,ObData!$A$1:$F$300,3,0),\"\")","v":""},{"$f":"IF(VLOOKUP($B282,ObData!$A$1:$F$300,4,0)<>0,VLOOKUP($B282,ObData!$A$1:$F$300,4,0),\"\")","v":""},{"$f":"IF(VLOOKUP($B282,ObData!$A$1:$F$300,6,0)<>0,VLOOKUP($B282,ObData!$A$1:$F$300,6,0),\"\")","v":""},{"$f":"IF(VLOOKUP($B282,ObData!$A$1:$F$300,5,0)<>0,VLOOKUP($B282,ObData!$A$1:$F$300,5,0),\"\")","v":""}]
[{"$f":"IFERROR(IF(A282+1>MAX(ObData!B:B),\"\",A282+1),\"\")","v":""},"",{"$f":"IF(VLOOKUP($B283,ObData!$A$1:$F$300,3,0)<>0,VLOOKUP(B283,ObData!$A$1:$F$300,3,0),\"\")","v":""},{"$f":"IF(VLOOKUP($B283,ObData!$A$1:$F$300,4,0)<>0,VLOOKUP($B283,ObData!$A$1:$F$300,4,0),\"\")","v":""},{"$f":"IF(VLOOKUP($B283,ObData!$A$1:$F$300,6,0)<>0,VLOOKUP($B283,ObData!$A$1:$F$300,6,0),\"\")","v":""},{"$f":"IF(VLOOKUP($B283,ObData!$A$1:$F$300,5,0)<>0,VLOOKUP($B283,ObData!$A$1:$F$300,5,0),\"\")","v":""}]
[{"$f":"IFERROR(IF(A283+1>MAX(ObData!B:B),\"\",A283+1),\"\")","v":""},"",{"$f":"IF(VLOOKUP($B284,ObData!$A$1:$F$300,3,0)<>0,VLOOKUP(B284,ObData!$A$1:$F$300,3,0),\"\")","v":""},{"$f":"IF(VLOOKUP($B284,ObData!$A$1:$F$300,4,0)<>0,VLOOKUP($B284,ObData!$A$1:$F$300,4,0),\"\")","v":""},{"$f":"IF(VLOOKUP($B284,ObData!$A$1:$F$300,6,0)<>0,VLOOKUP($B284,ObData!$A$1:$F$300,6,0),\"\")","v":""},{"$f":"IF(VLOOKUP($B284,ObData!$A$1:$F$300,5,0)<>0,VLOOKUP($B284,ObData!$A$1:$F$300,5,0),\"\")","v":""}]
[{"$f":"IFERROR(IF(A284+1>MAX(ObData!B:B),\"\",A284+1),\"\")","v":""},"",{"$f":"IF(VLOOKUP($B285,ObData!$A$1:$F$300,3,0)<>0,VLOOKUP(B285,ObData!$A$1:$F$300,3,0),\"\")","v":""},{"$f":"IF(VLOOKUP($B285,ObData!$A$1:$F$300,4,0)<>0,VLOOKUP($B285,ObData!$A$1:$F$300,4,0),\"\")","v":""},{"$f":"IF(VLOOKUP($B285,ObData!$A$1:$F$300,6,0)<>0,VLOOKUP($B285,ObData!$A$1:$F$300,6,0),\"\")","v":""},{"$f":"IF(VLOOKUP($B285,ObData!$A$1:$F$300,5,0)<>0,VLOOKUP($B285,ObData!$A$1:$F$300,5,0),\"\")","v":""}]
[{"$f":"IFERROR(IF(A285+1>MAX(ObData!B:B),\"\",A285+1),\"\")","v":""},"",{"$f":"IF(VLOOKUP($B286,ObData!$A$1:$F$300,3,0)<>0,VLOOKUP(B286,ObData!$A$1:$F$300,3,0),\"\")","v":""},{"$f":"IF(VLOOKUP($B286,ObData!$A$1:$F$300,4,0)<>0,VLOOKUP($B286,ObData!$A$1:$F$300,4,0),\"\")","v":""},{"$f":"IF(VLOOKUP($B286,ObData!$A$1:$F$300,6,0)<>0,VLOOKUP($B286,ObData!$A$1:$F$300,6,0),\"\")","v":""},{"$f":"IF(VLOOKUP($B286,ObData!$A$1:$F$300,5,0)<>0,VLOOKUP($B286,ObData!$A$1:$F$300,5,0),\"\")","v":""}]
[{"$f":"IFERROR(IF(A286+1>MAX(ObData!B:B),\"\",A286+1),\"\")","v":""},"",{"$f":"IF(VLOOKUP($B287,ObData!$A$1:$F$300,3,0)<>0,VLOOKUP(B287,ObData!$A$1:$F$300,3,0),\"\")","v":""},{"$f":"IF(VLOOKUP($B287,ObData!$A$1:$F$300,4,0)<>0,VLOOKUP($B287,ObData!$A$1:$F$300,4,0),\"\")","v":""},{"$f":"IF(VLOOKUP($B287,ObData!$A$1:$F$300,6,0)<>0,VLOOKUP($B287,ObData!$A$1:$F$300,6,0),\"\")","v":""},{"$f":"IF(VLOOKUP($B287,ObData!$A$1:$F$300,5,0)<>0,VLOOKUP($B287,ObData!$A$1:$F$300,5,0),\"\")","v":""}]
[{"$f":"IFERROR(IF(A287+1>MAX(ObData!B:B),\"\",A287+1),\"\")","v":""},"",{"$f":"IF(VLOOKUP($B288,ObData!$A$1:$F$300,3,0)<>0,VLOOKUP(B288,ObData!$A$1:$F$300,3,0),\"\")","v":""},{"$f":"IF(VLOOKUP($B288,ObData!$A$1:$F$300,4,0)<>0,VLOOKUP($B288,ObData!$A$1:$F$300,4,0),\"\")","v":""},{"$f":"IF(VLOOKUP($B288,ObData!$A$1:$F$300,6,0)<>0,VLOOKUP($B288,ObData!$A$1:$F$300,6,0),\"\")","v":""},{"$f":"IF(VLOOKUP($B288,ObData!$A$1:$F$300,5,0)<>0,VLOOKUP($B288,ObData!$A$1:$F$300,5,0),\"\")","v":""}]
[{"$f":"IFERROR(IF(A288+1>MAX(ObData!B:B),\"\",A288+1),\"\")","v":""},"",{"$f":"IF(VLOOKUP($B289,ObData!$A$1:$F$300,3,0)<>0,VLOOKUP(B289,ObData!$A$1:$F$300,3,0),\"\")","v":""},{"$f":"IF(VLOOKUP($B289,ObData!$A$1:$F$300,4,0)<>0,VLOOKUP($B289,ObData!$A$1:$F$300,4,0),\"\")","v":""},{"$f":"IF(VLOOKUP($B289,ObData!$A$1:$F$300,6,0)<>0,VLOOKUP($B289,ObData!$A$1:$F$300,6,0),\"\")","v":""},{"$f":"IF(VLOOKUP($B289,ObData!$A$1:$F$300,5,0)<>0,VLOOKUP($B289,ObData!$A$1:$F$300,5,0),\"\")","v":""}]
[{"$f":"IFERROR(IF(A289+1>MAX(ObData!B:B),\"\",A289+1),\"\")","v":""},"",{"$f":"IF(VLOOKUP($B290,ObData!$A$1:$F$300,3,0)<>0,VLOOKUP(B290,ObData!$A$1:$F$300,3,0),\"\")","v":""},{"$f":"IF(VLOOKUP($B290,ObData!$A$1:$F$300,4,0)<>0,VLOOKUP($B290,ObData!$A$1:$F$300,4,0),\"\")","v":""},{"$f":"IF(VLOOKUP($B290,ObData!$A$1:$F$300,6,0)<>0,VLOOKUP($B290,ObData!$A$1:$F$300,6,0),\"\")","v":""},{"$f":"IF(VLOOKUP($B290,ObData!$A$1:$F$300,5,0)<>0,VLOOKUP($B290,ObData!$A$1:$F$300,5,0),\"\")","v":""}]
[{"$f":"IFERROR(IF(A290+1>MAX(ObData!B:B),\"\",A290+1),\"\")","v":""},"",{"$f":"IF(VLOOKUP($B291,ObData!$A$1:$F$300,3,0)<>0,VLOOKUP(B291,ObData!$A$1:$F$300,3,0),\"\")","v":""},{"$f":"IF(VLOOKUP($B291,ObData!$A$1:$F$300,4,0)<>0,VLOOKUP($B291,ObData!$A$1:$F$300,4,0),\"\")","v":""},{"$f":"IF(VLOOKUP($B291,ObData!$A$1:$F$300,6,0)<>0,VLOOKUP($B291,ObData!$A$1:$F$300,6,0),\"\")","v":""},{"$f":"IF(VLOOKUP($B291,ObData!$A$1:$F$300,5,0)<>0,VLOOKUP($B291,ObData!$A$1:$F$300,5,0),\"\")","v":""}]
[{"$f":"IFERROR(IF(A291+1>MAX(ObData!B:B),\"\",A291+1),\"\")","v":""},"",{"$f":"IF(VLOOKUP($B292,ObData!$A$1:$F$300,3,0)<>0,VLOOKUP(B292,ObData!$A$1:$F$300,3,0),\"\")","v":""},{"$f":"IF(VLOOKUP($B292,ObData!$A$1:$F$300,4,0)<>0,VLOOKUP($B292,ObData!$A$1:$F$300,4,0),\"\")","v":""},{"$f":"IF(VLOOKUP($B292,ObData!$A$1:$F$300,6,0)<>0,VLOOKUP($B292,ObData!$A$1:$F$300,6,0),\"\")","v":""},{"$f":"IF(VLOOKUP($B292,ObData!$A$1:$F$300,5,0)<>0,VLOOKUP($B292,ObData!$A$1:$F$300,5,0),\"\")","v":""}]
[{"$f":"IFERROR(IF(A292+1>MAX(ObData!B:B),\"\",A292+1),\"\")","v":""},"",{"$f":"IF(VLOOKUP($B293,ObData!$A$1:$F$300,3,0)<>0,VLOOKUP(B293,ObData!$A$1:$F$300,3,0),\"\")","v":""},{"$f":"IF(VLOOKUP($B293,ObData!$A$1:$F$300,4,0)<>0,VLOOKUP($B293,ObData!$A$1:$F$300,4,0),\"\")","v":""},{"$f":"IF(VLOOKUP($B293,ObData!$A$1:$F$300,6,0)<>0,VLOOKUP($B293,ObData!$A$1:$F$300,6,0),\"\")","v":""},{"$f":"IF(VLOOKUP($B293,ObData!$A$1:$F$300,5,0)<>0,VLOOKUP($B293,ObData!$A$1:$F$300,5,0),\"\")","v":""}]
[{"$f":"IFERROR(IF(A293+1>MAX(ObData!B:B),\"\",A293+1),\"\")","v":""},"",{"$f":"IF(VLOOKUP($B294,ObData!$A$1:$F$300,3,0)<>0,VLOOKUP(B294,ObData!$A$1:$F$300,3,0),\"\")","v":""},{"$f":"IF(VLOOKUP($B294,ObData!$A$1:$F$300,4,0)<>0,VLOOKUP($B294,ObData!$A$1:$F$300,4,0),\"\")","v":""},{"$f":"IF(VLOOKUP($B294,ObData!$A$1:$F$300,6,0)<>0,VLOOKUP($B294,ObData!$A$1:$F$300,6,0),\"\")","v":""},{"$f":"IF(VLOOKUP($B294,ObData!$A$1:$F$300,5,0)<>0,VLOOKUP($B294,ObData!$A$1:$F$300,5,0),\"\")","v":""}]
[{"$f":"IFERROR(IF(A294+1>MAX(ObData!B:B),\"\",A294+1),\"\")","v":""},"",{"$f":"IF(VLOOKUP($B295,ObData!$A$1:$F$300,3,0)<>0,VLOOKUP(B295,ObData!$A$1:$F$300,3,0),\"\")","v":""},{"$f":"IF(VLOOKUP($B295,ObData!$A$1:$F$300,4,0)<>0,VLOOKUP($B295,ObData!$A$1:$F$300,4,0),\"\")","v":""},{"$f":"IF(VLOOKUP($B295,ObData!$A$1:$F$300,6,0)<>0,VLOOKUP($B295,ObData!$A$1:$F$300,6,0),\"\")","v":""},{"$f":"IF(VLOOKUP($B295,ObData!$A$1:$F$300,5,0)<>0,VLOOKUP($B295,ObData!$A$1:$F$300,5,0),\"\")","v":""}]
[{"$f":"IFERROR(IF(A295+1>MAX(ObData!B:B),\"\",A295+1),\"\")","v":""},"",{"$f":"IF(VLOOKUP($B296,ObData!$A$1:$F$300,3,0)<>0,VLOOKUP(B296,ObData!$A$1:$F$300,3,0),\"\")","v":""},{"$f":"IF(VLOOKUP($B296,ObData!$A$1:$F$300,4,0)<>0,VLOOKUP($B296,ObData!$A$1:$F$300,4,0),\"\")","v":""},{"$f":"IF(VLOOKUP($B296,ObData!$A$1:$F$300,6,0)<>0,VLOOKUP($B296,ObData!$A$1:$F$300,6,0),\"\")","v":""},{"$f":"IF(VLOOKUP($B296,ObData!$A$1:$F$300,5,0)<>0,VLOOKUP($B296,ObData!$A$1:$F$300,5,0),\"\")","v":""}]
[{"$f":"IFERROR(IF(A296+1>MAX(ObData!B:B),\"\",A296+1),\"\")","v":""},"",{"$f":"IF(VLOOKUP($B297,ObData!$A$1:$F$300,3,0)<>0,VLOOKUP(B297,ObData!$A$1:$F$300,3,0),\"\")","v":""},{"$f":"IF(VLOOKUP($B297,ObData!$A$1:$F$300,4,0)<>0,VLOOKUP($B297,ObData!$A$1:$F$300,4,0),\"\")","v":""},{"$f":"IF(VLOOKUP($B297,ObData!$A$1:$F$300,6,0)<>0,VLOOKUP($B297,ObData!$A$1:$F$300,6,0),\"\")","v":""},{"$f":"IF(VLOOKUP($B297,ObData!$A$1:$F$300,5,0)<>0,VLOOKUP($B297,ObData!$A$1:$F$300,5,0),\"\")","v":""}]
[{"$f":"IFERROR(IF(A297+1>MAX(ObData!B:B),\"\",A297+1),\"\")","v":""},"",{"$f":"IF(VLOOKUP($B298,ObData!$A$1:$F$300,3,0)<>0,VLOOKUP(B298,ObData!$A$1:$F$300,3,0),\"\")","v":""},{"$f":"IF(VLOOKUP($B298,ObData!$A$1:$F$300,4,0)<>0,VLOOKUP($B298,ObData!$A$1:$F$300,4,0),\"\")","v":""},{"$f":"IF(VLOOKUP($B298,ObData!$A$1:$F$300,6,0)<>0,VLOOKUP($B298,ObData!$A$1:$F$300,6,0),\"\")","v":""},{"$f":"IF(VLOOKUP($B298,ObData!$A$1:$F$300,5,0)<>0,VLOOKUP($B298,ObData!$A$1:$F$300,5,0),\"\")","v":""}]
[{"$f":"IFERROR(IF(A298+1>MAX(ObData!B:B),\"\",A298+1),\"\")","v":""},"",{"$f":"IF(VLOOKUP($B299,ObData!$A$1:$F$300,3,0)<>0,VLOOKUP(B299,ObData!$A$1:$F$300,3,0),\"\")","v":""},{"$f":"IF(VLOOKUP($B299,ObData!$A$1:$F$300,4,0)<>0,VLOOKUP($B299,ObData!$A$1:$F$300,4,0),\"\")","v":""},{"$f":"IF(VLOOKUP($B299,ObData!$A$1:$F$300,6,0)<>0,VLOOKUP($B299,ObData!$A$1:$F$300,6,0),\"\")","v":""},{"$f":"IF(VLOOKUP($B299,ObData!$A$1:$F$300,5,0)<>0,VLOOKUP($B299,ObData!$A$1:$F$300,5,0),\"\")","v":""}]
[{"$f":"IFERROR(IF(A299+1>MAX(ObData!B:B),\"\",A299+1),\"\")","v":""},"",{"$f":"IF(VLOOKUP($B300,ObData!$A$1:$F$300,3,0)<>0,VLOOKUP(B300,ObData!$A$1:$F$300,3,0),\"\")","v":""},{"$f":"IF(VLOOKUP($B300,ObData!$A$1:$F$300,4,0)<>0,VLOOKUP($B300,ObData!$A$1:$F$300,4,0),\"\")","v":""},{"$f":"IF(VLOOKUP($B300,ObData!$A$1:$F$300,6,0)<>0,VLOOKUP($B300,ObData!$A$1:$F$300,6,0),\"\")","v":""},{"$f":"IF(VLOOKUP($B300,ObData!$A$1:$F$300,5,0)<>0,VLOOKUP($B300,ObData!$A$1:$F$300,5,0),\"\")","v":""}]

{"sheet":"Printable","index":12,"n_rows":16,"n_cols":12,"rows_kept":16,"cut":false,"hidden":true,"merged":[[19,3,19,4],[20,3,20,4],[21,3,21,4],[3,11,3,12],[15,3,15,4],[16,3,16,4],[21,10,21,11],[5,7,5,8],[5,10,5,11],[5,1,5,2],[6,1,6,2],[7,1,7,2],[8,1,8,2],[17,3,17,4],[30,6,30,7],[31,6,31,7],[23,3,23,4],[15,6,15,7],[16,6,16,7],[17,6,17,7],[18,6,18,7],[19,6,19,7],[25,6,25,7],[20,6,20,7],[21,6,21,7],[22,6,22,7],[23,6,23,7],[24,6,24,7],[22,3,22,4],[18,3,18,4],[28,8,28,9],[29,8,29,9],[32,6,32,7],[15,8,15,9],[16,8,16,9],[17,8,17,9],[18,8,18,9],[19,8,19,9],[20,8,20,9],[21,8,21,9],[22,8,22,9],[23,8,23,9],[26,6,26,7],[27,6,27,7],[28,6,28,7],[29,6,29,7],[26,8,26,9],[27,8,27,9],[16,10,16,11],[17,10,17,11],[18,10,18,11],[19,10,19,11],[20,10,20,11],[31,8,31,9],[32,8,32,9],[15,10,15,11],[33,3,33,4],[32,10,32,11],[22,10,22,11],[23,10,23,11],[24,10,24,11],[25,10,25,11],[26,10,26,11],[27,10,27,11],[28,10,28,11],[29,10,29,11],[30,10,30,11],[24,8,24,9],[25,8,25,9],[1,2,1,10],[33,6,33,7],[24,3,24,4],[25,3,25,4],[26,3,26,4],[27,3,27,4],[28,3,28,4],[29,3,29,4],[30,3,30,4],[31,3,31,4],[32,3,32,4],[33,10,33,11],[33,8,33,9],[31,10,31,11],[5,4,5,5],[30,8,30,9]]}
[]
[null,null,{"$f":"IF('Behavior Log'!D5=\"\",\"\",'Behavior Log'!D5&\"'s Behavior Tracker\")","v":"Brock 's Behavior Tracker"}]
[]
[null,null,"Setting:______________________",null,null,"Date:______________________",null,"Start time: ______________",null,"End Time: ________________"]
[]
[null,"Target Behaviors",null,null,"Class Activity",null,null,"Antecedent",null,null,"Consequence"]
[{"$f":"IF(OR(B7<>\"\",E7<>\"\",H7<>\"\",K7<>\"\"),1,0)","v":1},{"$f":"IF('Behavior Log'!D11<>\"\",COUNTA($B$7:$B7)&\". \"&'Behavior Log'!D11,\"\")","v":"1. refusal to follow directions "},null,1,{"$f":"IF(OFFSET(Settings!$D$6,Printable!$D7-1,)<>\"\",Printable!$D7&\". \"&OFFSET(Settings!$D$6,Printable!$D7-1,),\"\")","v":"1. Teacher talking, class listening"},{"$f":"IF(OFFSET(Settings!$D$6,Printable!$D7,)<>\"\",Printable!$D7+1&\". \"&OFFSET(Settings!$D$6,Printable!$D7,),\"\")","v":"2. Independent work without manipulatives"},null,{"$f":"IF(OFFSET(Settings!$E$6,Printable!$D7-1,)<>\"\",Printable!$D7&\". \"&OFFSET(Settings!$E$6,Printable!$D7-1,),\"\")","v":"1. Transition to a new task"},{"$f":"IF(OFFSET(Settings!$E$6,Printable!$D7,)<>\"\",Printable!$D7+1&\". \"&OFFSET(Settings!$E$6,Printable!$D7,),\"\")","v":"2. Interaction with peers"},null,{"$f":"IF(OFFSET(Settings!$F$6,Printable!$D7-1,)<>\"\",Printable!$D7&\". \"&OFFSET(Settings!$F$6,Printable!$D7-1,),\"\")","v":"1. Ignored"},{"$f":"IF(OFFSET(Settings!$F$6,Printable!$D7,)<>\"\",Printable!$D7+1&\". \"&OFFSET(Settings!$F$6,Printable!$D7,),\"\")","v":"2. Verbal warning"}]
[{"$f":"IF(OR(E8<>\"\",H8<>\"\",K8<>\"\"),1,0)","v":1},{"$f":"IF('Behavior Log'!D12<>\"\",COUNTA($B$7:$B8)&\". \"&'Behavior Log'!D12,\"\")","v":"2. disengage from classroom activities "},null,3,{"$f":"IF(OFFSET(Settings!$D$6,Printable!$D8-1,)<>\"\",Printable!$D8&\". \"&OFFSET(Settings!$D$6,Printable!$D8-1,),\"\")","v":"3. Work with peers"},{"$f":"IF(OFFSET(Settings!$D$6,Printable!$D8,)<>\"\",Printable!$D8+1&\". \"&OFFSET(Settings!$D$6,Printable!$D8,),\"\")","v":"4. Independent work with manipulatives"},null,{"$f":"IF(OFFSET(Settings!$E$6,Printable!$D8-1,)<>\"\",Printable!$D8&\". \"&OFFSET(Settings!$E$6,Printable!$D8-1,),\"\")","v":"3. Redirection from adult"},{"$f":"IF(OFFSET(Settings!$E$6,Printable!$D8,)<>\"\",Printable!$D8+1&\". \"&OFFSET(Settings!$E$6,Printable!$D8,),\"\")","v":"4. Given independent work"},null,{"$f":"IF(OFFSET(Settings!$F$6,Printable!$D8-1,)<>\"\",Printable!$D8&\". \"&OFFSET(Settings!$F$6,Printable!$D8-1,),\"\")","v":"3. Public Clip Move"},{"$f":"IF(OFFSET(Settings!$F$6,Printable!$D8,)<>\"\",Printable!$D8+1&\". \"&OFFSET(Settings!$F$6,Printable!$D8,),\"\")","v":"4. Sent out of class"}]
[1,"3. Off-task during independent work time",null,5,{"$f":"IF(OFFSET(Settings!$D$6,Printable!$D9-1,)<>\"\",Printable!$D9&\". \"&OFFSET(Settings!$D$6,Printable!$D9-1,),\"\")","v":"5. Large group instruction (20-30 students)"},{"$f":"IF(OFFSET(Settings!$D$6,Printable!$D9,)<>\"\",Printable!$D9+1&\". \"&OFFSET(Settings!$D$6,Printable!$D9,),\"\")","v":"6. Medium group instruction (10 - 19 students"},null,{"$f":"IF(OFFSET(Settings!$E$6,Printable!$D9-1,)<>\"\",Printable!$D9&\". \"&OFFSET(Settings!$E$6,Printable!$D9-1,),\"\")","v":"5. Lack of Peer attention"},{"$f":"IF(OFFSET(Settings!$E$6,Printable!$D9,)<>\"\",Printable!$D9+1&\". \"&OFFSET(Settings!$E$6,Printable!$D9,),\"\")","v":"6. Lack of Adult attention"},null,{"$f":"IF(OFFSET(Settings!$F$6,Printable!$D9-1,)<>\"\",Printable!$D9&\". \"&OFFSET(Settings!$F$6,Printable!$D9-1,),\"\")","v":"5. Peer laughter"},{"$f":"IF(OFFSET(Settings!$F$6,Printable!$D9,)<>\"\",Printable!$D9+1&\". \"&OFFSET(Settings!$F$6,Printable!$D9,),\"\")","v":"6. Short time out or break"}]
[1,null,null,7,{"$f":"IF(OFFSET(Settings!$D$6,Printable!$D10-1,)<>\"\",Printable!$D10&\". \"&OFFSET(Settings!$D$6,Printable!$D10-1,),\"\")","v":"7. Small group instruction (Less than 10 students)"},{"$f":"IF(OFFSET(Settings!$D$6,Printable!$D10,)<>\"\",Printable!$D10+1&\". \"&OFFSET(Settings!$D$6,Printable!$D10,),\"\")","v":""},null,{"$f":"IF(OFFSET(Settings!$E$6,Printable!$D10-1,)<>\"\",Printable!$D10&\". \"&OFFSET(Settings!$E$6,Printable!$D10-1,),\"\")","v":"7. Given difficult assignment"},{"$f":"IF(OFFSET(Settings!$E$6,Printable!$D10,)<>\"\",Printable!$D10+1&\". \"&OFFSET(Settings!$E$6,Printable!$D10,),\"\")","v":""},null,{"$f":"IF(OFFSET(Settings!$F$6,Printable!$D10-1,)<>\"\",Printable!$D10&\". \"&OFFSET(Settings!$F$6,Printable!$D10-1,),\"\")","v":"7. Seat moved"},{"$f":"IF(OFFSET(Settings!$F$6,Printable!$D10,)<>\"\",Printable!$D10+1&\". \"&OFFSET(Settings!$F$6,Printable!$D10,),\"\")","v":"8. Private Clip Move"}]
[1,null,null,9,{"$f":"IF(OFFSET(Settings!$D$6,Printable!$D11-1,)<>\"\",Printable!$D11&\". \"&OFFSET(Settings!$D$6,Printable!$D11-1,),\"\")","v":""},{"$f":"IF(OFFSET(Settings!$D$6,Printable!$D11,)<>\"\",Printable!$D11+1&\". \"&OFFSET(Settings!$D$6,Printable!$D11,),\"\")","v":""},null,{"$f":"IF(OFFSET(Settings!$E$6,Printable!$D11-1,)<>\"\",Printable!$D11&\". \"&OFFSET(Settings!$E$6,Printable!$D11-1,),\"\")","v":""},{"$f":"IF(OFFSET(Settings!$E$6,Printable!$D11,)<>\"\",Printable!$D11+1&\". \"&OFFSET(Settings!$E$6,Printable!$D11,),\"\")","v":""},null,{"$f":"IF(OFFSET(Settings!$F$6,Printable!$D11-1,)<>\"\",Printable!$D11&\". \"&OFFSET(Settings!$F$6,Printable!$D11-1,),\"\")","v":"9. Administrator Conference"},{"$f":"IF(OFFSET(Settings!$F$6,Printable!$D11,)<>\"\",Printable!$D11+1&\". \"&OFFSET(Settings!$F$6,Printable!$D11,),\"\")","v":""}]
[0,null,null,11,{"$f":"IF(OFFSET(Settings!$D$6,Printable!$D12-1,)<>\"\",Printable!$D12&\". \"&OFFSET(Settings!$D$6,Printable!$D12-1,),\"\")","v":""},{"$f":"IF(OFFSET(Settings!$D$6,Printable!$D12,)<>\"\",Printable!$D12+1&\". \"&OFFSET(Settings!$D$6,Printable!$D12,),\"\")","v":""},null,{"$f":"IF(OFFSET(Settings!$E$6,Printable!$D12-1,)<>\"\",Printable!$D12&\". \"&OFFSET(Settings!$E$6,Printable!$D12-1,),\"\")","v":""},{"$f":"IF(OFFSET(Settings!$E$6,Printable!$D12,)<>\"\",Printable!$D12+1&\". \"&OFFSET(Settings!$E$6,Printable!$D12,),\"\")","v":""},null,{"$f":"IF(OFFSET(Settings!$F$6,Printable!$D12-1,)<>\"\",Printable!$D12&\". \"&OFFSET(Settings!$F$6,Printable!$D12-1,),\"\")","v":""},{"$f":"IF(OFFSET(Settings!$F$6,Printable!$D12,)<>\"\",Printable!$D12+1&\". \"&OFFSET(Settings!$F$6,Printable!$D12,),\"\")","v":""}]
[0,null,null,13,{"$f":"IF(OFFSET(Settings!$D$6,Printable!$D13-1,)<>\"\",Printable!$D13&\". \"&OFFSET(Settings!$D$6,Printable!$D13-1,),\"\")","v":""},{"$f":"IF(OFFSET(Settings!$D$6,Printable!$D13,)<>\"\",Printable!$D13+1&\". \"&OFFSET(Settings!$D$6,Printable!$D13,),\"\")","v":""},null,{"$f":"IF(OFFSET(Settings!$E$6,Printable!$D13-1,)<>\"\",Printable!$D13&\". \"&OFFSET(Settings!$E$6,Printable!$D13-1,),\"\")","v":""},{"$f":"IF(OFFSET(Settings!$E$6,Printable!$D13,)<>\"\",Printable!$D13+1&\". \"&OFFSET(Settings!$E$6,Printable!$D13,),\"\")","v":""},null,{"$f":"IF(OFFSET(Settings!$F$6,Printable!$D13-1,)<>\"\",Printable!$D13&\". \"&OFFSET(Settings!$F$6,Printable!$D13-1,),\"\")","v":""},{"$f":"IF(OFFSET(Settings!$F$6,Printable!$D13,)<>\"\",Printable!$D13+1&\". \"&OFFSET(Settings!$F$6,Printable!$D13,),\"\")","v":""}]
[0]
[]
[null,"Start  Time","End Time","Behavior",null,"Class Activity","Antecedent",null,"Consequence",null,"Notes"]